{"text_format":"1","workbook":"xlsx","n_sheets":5,"sheets":["INFORMATION","INPUT ","RESULTS","Data","Releaser list "],"not_rendered":{"charts":0,"images":10,"macros":1,"external_links":0,"defined_names":6,"comments":2,"pivot_tables":0},"unopened":[],"bounds":{"document_bytes":16777216,"sheet_cells":100000,"rows_first":2000,"rows_last":500,"rows_between":2000,"halvings":0,"cell_chars":16384,"cell_head_chars":4096},"cells_cut":0,"cells_raw":0,"read":"whole","date_system":"1900"}

{"sheet":"INFORMATION","index":0,"n_rows":18,"n_cols":3,"rows_kept":18,"cut":false,"hidden":false,"merged":[]}
[]
[]
[]
[]
[]
[null,null,"ANY ISSUES SHOULD BE COMMUNICATED TO IAN SHORTLEY "]
[]
[null,null,"ian.shortley@volvo.com"]
[null,null,"TEL. +44 (0)7771 806 659"]
[]
[]
[null,null,"This Excel file is intended a support  tool only  "]
[null,null,"Data files can get out of date, or corrupted, We suggest that you cross check your results"]
[null,null,"You are ultimately responsibility for your account accuracy "]
[]
[null,null,"BECAUSE THERE ARE OFTEN UPDATES TO THE CATALOGUE PLEASE  ENSURE THAT YOU ARE WORKING WITH THE LATEST COPY "]
[null,null,"TERMINALS / DEPOTS AND INTERNAL USERS PLEASE CHECK ON TEAMPLACE "]
[null,null,"CUSTOMERS ,USERS & RELEASERS PLEASE CONTACT YOUR VLC REPRESENTATIVE "]

{"sheet":"INPUT ","index":1,"n_rows":123,"n_cols":15,"rows_kept":123,"cut":false,"hidden":false,"merged":[[5,4,5,5],[5,10,5,12],[5,13,5,14],[6,4,6,5],[6,10,6,12],[6,13,6,14],[12,10,12,14],[7,10,7,12],[8,10,8,12],[8,13,8,14],[9,3,10,3],[9,4,9,6],[9,14,10,14],[10,4,10,6],[10,10,10,11],[10,12,10,13]]}
[]
[]
[]
[]
[]
[null,null,null,null,"S-LOC NUMBER",null,"DELIVERY NUMBER ",null,"COMPANY",null,"RECEIVING LOCATION ",null,null,"S-LOC  NUMBER"]
[null,null,null,null,null,null,null,null,{"$f":"IF(E7=0,\"\",IF(EXACT($E$7,LOOKUP($E$7,'Releaser list '!B2:B15000)),LOOKUP($E$7,'Releaser list '!B2:B15000,'Releaser list '!C2:C15000),\"\"))","v":""}]
[null,null,null,null,"DATE",null,"TRAILER NUMBER",null,"LOCATION ",null,"UNLOADED / LOADED BY ",null,null,"SIGNED"]
[null,null,null,"VERSION",null,null,null,null,{"$f":"IF(E7=0,\"\",IF(EXACT($E$7,LOOKUP($E$7,'Releaser list '!B2:B15000)),LOOKUP($E$7,'Releaser list '!B2:B15000,'Releaser list '!D2:D15000),\"\"))","v":""}]
[null,null,null,70,"HAULIER",null,null,null,"DRIVERS NAME / SIGNATURE",null,"START TIME",null,"END TIME"]
[]
[]
[null,null,null,null,null,null,null,null,null,null,"LOCATION ( WAREHOUSE ADMIN )"]
[null,null,null,"OLD/SHORT EMB Number","RECEIVED BUNDLE QTY","Extra Pieces","FULL BUNDLE Number ",null,"DESCRIPTION",null,"MAIN","WASH","REPAIR","BLOCKED","SCRAP"]
[]
[null,null,null,0,1,null,{"$f":"IF(D16=0,\"0\",IF(EXACT($D16,LOOKUP($D16,Data!$B$3:$B$10177)),LOOKUP($D16,Data!$B$3:$B$10177,Data!$A$3:$A$10177),\"0\"))","v":"0"},null,{"$f":"IF(D16=0,\"0\",IF(EXACT($D16,LOOKUP($D16,Data!$B$3:$B$10177)),LOOKUP($D16,Data!$B$3:$B$10177,Data!$E$3:$E$10177),\"0\"))","v":"0"}]
[null,null,1,null,null,null,{"$f":"IF(D17>0,IF(D17<19999,D17+9900010000,D17+9899990000),1)","v":1},null,{"$f":"IF(G17>9900000000,LOOKUP(G17-9900010000,RESULTS!D$16:$D$644,RESULTS!$E$16:$E$644),\"-\")","v":"-"}]
[null,null,2,null,null,null,1,null,{"$f":"IF(G18>9900000000,LOOKUP(G18-9900010000,RESULTS!D$16:$D$644,RESULTS!$E$16:$E$644),\"-\")","v":"-"}]
[null,null,3,null,null,null,1,null,{"$f":"IF(G19>9900000000,LOOKUP(G19-9900010000,RESULTS!D$16:$D$644,RESULTS!$E$16:$E$644),\"-\")","v":"-"}]
[null,null,4,null,null,null,1,null,{"$f":"IF(G20>9900000000,LOOKUP(G20-9900010000,RESULTS!D$16:$D$644,RESULTS!$E$16:$E$644),\"-\")","v":"-"}]
[null,null,5,null,null,null,1,null,{"$f":"IF(G21>9900000000,LOOKUP(G21-9900010000,RESULTS!D$16:$D$644,RESULTS!$E$16:$E$644),\"-\")","v":"-"}]
[null,null,6,null,null,null,1,null,{"$f":"IF(G22>9900000000,LOOKUP(G22-9900010000,RESULTS!D$16:$D$644,RESULTS!$E$16:$E$644),\"-\")","v":"-"}]
[null,null,7,null,null,null,1,null,{"$f":"IF(G23>9900000000,LOOKUP(G23-9900010000,RESULTS!D$16:$D$644,RESULTS!$E$16:$E$644),\"-\")","v":"-"}]
[null,null,8,null,null,null,1,null,{"$f":"IF(G24>9900000000,LOOKUP(G24-9900010000,RESULTS!D$16:$D$644,RESULTS!$E$16:$E$644),\"-\")","v":"-"}]
[null,null,9,null,null,null,1,null,{"$f":"IF(G25>9900000000,LOOKUP(G25-9900010000,RESULTS!D$16:$D$644,RESULTS!$E$16:$E$644),\"-\")","v":"-"}]
[null,null,10,null,null,null,1,null,{"$f":"IF(G26>9900000000,LOOKUP(G26-9900010000,RESULTS!D$16:$D$644,RESULTS!$E$16:$E$644),\"-\")","v":"-"}]
[null,null,11,null,null,null,1,null,{"$f":"IF(G27>9900000000,LOOKUP(G27-9900010000,RESULTS!D$16:$D$644,RESULTS!$E$16:$E$644),\"-\")","v":"-"}]
[null,null,12,null,null,null,1,null,{"$f":"IF(G28>9900000000,LOOKUP(G28-9900010000,RESULTS!D$16:$D$644,RESULTS!$E$16:$E$644),\"-\")","v":"-"}]
[null,null,13,null,null,null,1,null,{"$f":"IF(G29>9900000000,LOOKUP(G29-9900010000,RESULTS!D$16:$D$644,RESULTS!$E$16:$E$644),\"-\")","v":"-"}]
[null,null,14,null,null,null,1,null,{"$f":"IF(G30>9900000000,LOOKUP(G30-9900010000,RESULTS!D$16:$D$644,RESULTS!$E$16:$E$644),\"-\")","v":"-"}]
[null,null,15,null,null,null,1,null,{"$f":"IF(G31>9900000000,LOOKUP(G31-9900010000,RESULTS!D$16:$D$644,RESULTS!$E$16:$E$644),\"-\")","v":"-"}]
[null,null,16,null,null,null,1,null,{"$f":"IF(G32>9900000000,LOOKUP(G32-9900010000,RESULTS!D$16:$D$644,RESULTS!$E$16:$E$644),\"-\")","v":"-"}]
[null,null,17,null,null,null,1,null,{"$f":"IF(G33>9900000000,LOOKUP(G33-9900010000,RESULTS!D$16:$D$644,RESULTS!$E$16:$E$644),\"-\")","v":"-"}]
[null,null,18,null,null,null,1,null,{"$f":"IF(G34>9900000000,LOOKUP(G34-9900010000,RESULTS!D$16:$D$644,RESULTS!$E$16:$E$644),\"-\")","v":"-"}]
[null,null,19,null,null,null,1,null,{"$f":"IF(G35>9900000000,LOOKUP(G35-9900010000,RESULTS!D$16:$D$644,RESULTS!$E$16:$E$644),\"-\")","v":"-"}]
[null,null,20,null,null,null,1,null,{"$f":"IF(G36>9900000000,LOOKUP(G36-9900010000,RESULTS!D$16:$D$644,RESULTS!$E$16:$E$644),\"-\")","v":"-"}]
[null,null,21,null,null,null,1,null,{"$f":"IF(G37>9900000000,LOOKUP(G37-9900010000,RESULTS!D$16:$D$644,RESULTS!$E$16:$E$644),\"-\")","v":"-"}]
[null,null,22,null,null,null,1,null,{"$f":"IF(G38>9900000000,LOOKUP(G38-9900010000,RESULTS!D$16:$D$644,RESULTS!$E$16:$E$644),\"-\")","v":"-"}]
[null,null,23,null,null,null,1,null,{"$f":"IF(G39>9900000000,LOOKUP(G39-9900010000,RESULTS!D$16:$D$644,RESULTS!$E$16:$E$644),\"-\")","v":"-"}]
[null,null,24,null,null,null,1,null,{"$f":"IF(G40>9900000000,LOOKUP(G40-9900010000,RESULTS!D$16:$D$644,RESULTS!$E$16:$E$644),\"-\")","v":"-"}]
[null,null,25,null,null,null,1,null,{"$f":"IF(G41>9900000000,LOOKUP(G41-9900010000,RESULTS!D$16:$D$644,RESULTS!$E$16:$E$644),\"-\")","v":"-"}]
[null,null,26,null,null,null,1,null,{"$f":"IF(G42>9900000000,LOOKUP(G42-9900010000,RESULTS!D$16:$D$644,RESULTS!$E$16:$E$644),\"-\")","v":"-"}]
[null,null,27,null,null,null,1,null,{"$f":"IF(G43>9900000000,LOOKUP(G43-9900010000,RESULTS!D$16:$D$644,RESULTS!$E$16:$E$644),\"-\")","v":"-"}]
[null,null,28,null,null,null,1,null,{"$f":"IF(G44>9900000000,LOOKUP(G44-9900010000,RESULTS!D$16:$D$644,RESULTS!$E$16:$E$644),\"-\")","v":"-"}]
[null,null,29,null,null,null,1,null,{"$f":"IF(G45>9900000000,LOOKUP(G45-9900010000,RESULTS!D$16:$D$644,RESULTS!$E$16:$E$644),\"-\")","v":"-"}]
[null,null,30,null,null,null,1,null,{"$f":"IF(G46>9900000000,LOOKUP(G46-9900010000,RESULTS!D$16:$D$644,RESULTS!$E$16:$E$644),\"-\")","v":"-"}]
[null,null,31,null,null,null,1,null,{"$f":"IF(G47>9900000000,LOOKUP(G47-9900010000,RESULTS!D$16:$D$644,RESULTS!$E$16:$E$644),\"-\")","v":"-"}]
[null,null,32,null,null,null,1,null,{"$f":"IF(G48>9900000000,LOOKUP(G48-9900010000,RESULTS!D$16:$D$644,RESULTS!$E$16:$E$644),\"-\")","v":"-"}]
[null,null,33,null,null,null,1,null,{"$f":"IF(G49>9900000000,LOOKUP(G49-9900010000,RESULTS!D$16:$D$644,RESULTS!$E$16:$E$644),\"-\")","v":"-"}]
[null,null,34,null,null,null,1,null,{"$f":"IF(G50>9900000000,LOOKUP(G50-9900010000,RESULTS!D$16:$D$644,RESULTS!$E$16:$E$644),\"-\")","v":"-"}]
[null,null,35,null,null,null,1,null,{"$f":"IF(G51>9900000000,LOOKUP(G51-9900010000,RESULTS!D$16:$D$644,RESULTS!$E$16:$E$644),\"-\")","v":"-"}]
[null,null,36,null,null,null,1,null,{"$f":"IF(G52>9900000000,LOOKUP(G52-9900010000,RESULTS!D$16:$D$644,RESULTS!$E$16:$E$644),\"-\")","v":"-"}]
[null,null,37,null,null,null,1,null,{"$f":"IF(G53>9900000000,LOOKUP(G53-9900010000,RESULTS!D$16:$D$644,RESULTS!$E$16:$E$644),\"-\")","v":"-"}]
[null,null,38,null,null,null,1,null,{"$f":"IF(G54>9900000000,LOOKUP(G54-9900010000,RESULTS!D$16:$D$644,RESULTS!$E$16:$E$644),\"-\")","v":"-"}]
[null,null,39,null,null,null,{"$f":"IF(D55>0,IF(D55<19999,D55+9900010000,D55+9899990000),1)","v":1},null,{"$f":"IF(G55>9900000000,LOOKUP(G55-9900010000,RESULTS!D$16:$D$644,RESULTS!$E$16:$E$644),\"-\")","v":"-"}]
[null,null,40,null,null,null,1,null,{"$f":"IF(G56>9900000000,LOOKUP(G56-9900010000,RESULTS!D$16:$D$644,RESULTS!$E$16:$E$644),\"-\")","v":"-"}]
[null,null,41,null,null,null,1,null,{"$f":"IF(G57>9900000000,LOOKUP(G57-9900010000,RESULTS!D$16:$D$644,RESULTS!$E$16:$E$644),\"-\")","v":"-"}]
[null,null,42,null,null,null,1,null,{"$f":"IF(G58>9900000000,LOOKUP(G58-9900010000,RESULTS!D$16:$D$644,RESULTS!$E$16:$E$644),\"-\")","v":"-"}]
[null,null,43,null,null,null,1,null,{"$f":"IF(G59>9900000000,LOOKUP(G59-9900010000,RESULTS!D$16:$D$644,RESULTS!$E$16:$E$644),\"-\")","v":"-"}]
[null,null,44,null,null,null,1,null,{"$f":"IF(G60>9900000000,LOOKUP(G60-9900010000,RESULTS!D$16:$D$644,RESULTS!$E$16:$E$644),\"-\")","v":"-"}]
[null,null,45,null,null,null,1,null,{"$f":"IF(G61>9900000000,LOOKUP(G61-9900010000,RESULTS!D$16:$D$644,RESULTS!$E$16:$E$644),\"-\")","v":"-"}]
[null,null,46,null,null,null,1,null,{"$f":"IF(G62>9900000000,LOOKUP(G62-9900010000,RESULTS!D$16:$D$644,RESULTS!$E$16:$E$644),\"-\")","v":"-"}]
[null,null,47,null,null,null,1,null,{"$f":"IF(G63>9900000000,LOOKUP(G63-9900010000,RESULTS!D$16:$D$644,RESULTS!$E$16:$E$644),\"-\")","v":"-"}]
[null,null,48,null,null,null,1,null,{"$f":"IF(G64>9900000000,LOOKUP(G64-9900010000,RESULTS!D$16:$D$644,RESULTS!$E$16:$E$644),\"-\")","v":"-"}]
[null,null,49,null,null,null,1,null,{"$f":"IF(G65>9900000000,LOOKUP(G65-9900010000,RESULTS!D$16:$D$644,RESULTS!$E$16:$E$644),\"-\")","v":"-"}]
[null,null,50,null,null,null,1,null,{"$f":"IF(G66>9900000000,LOOKUP(G66-9900010000,RESULTS!D$16:$D$644,RESULTS!$E$16:$E$644),\"-\")","v":"-"}]
[null,null,51,null,null,null,1,null,{"$f":"IF(G67>9900000000,LOOKUP(G67-9900010000,RESULTS!D$16:$D$644,RESULTS!$E$16:$E$644),\"-\")","v":"-"}]
[null,null,52,null,null,null,1,null,{"$f":"IF(G68>9900000000,LOOKUP(G68-9900010000,RESULTS!D$16:$D$644,RESULTS!$E$16:$E$644),\"-\")","v":"-"}]
[null,null,53,null,null,null,1,null,{"$f":"IF(G69>9900000000,LOOKUP(G69-9900010000,RESULTS!D$16:$D$644,RESULTS!$E$16:$E$644),\"-\")","v":"-"}]
[null,null,54,null,null,null,1,null,{"$f":"IF(G70>9900000000,LOOKUP(G70-9900010000,RESULTS!D$16:$D$644,RESULTS!$E$16:$E$644),\"-\")","v":"-"}]
[null,null,55,null,null,null,1,null,{"$f":"IF(G71>9900000000,LOOKUP(G71-9900010000,RESULTS!D$16:$D$644,RESULTS!$E$16:$E$644),\"-\")","v":"-"}]
[null,null,56,null,null,null,1,null,{"$f":"IF(G72>9900000000,LOOKUP(G72-9900010000,RESULTS!D$16:$D$644,RESULTS!$E$16:$E$644),\"-\")","v":"-"}]
[null,null,57,null,null,null,1,null,{"$f":"IF(G73>9900000000,LOOKUP(G73-9900010000,RESULTS!D$16:$D$644,RESULTS!$E$16:$E$644),\"-\")","v":"-"}]
[null,null,58,null,null,null,1,null,{"$f":"IF(G74>9900000000,LOOKUP(G74-9900010000,RESULTS!D$16:$D$644,RESULTS!$E$16:$E$644),\"-\")","v":"-"}]
[null,null,59,null,null,null,1,null,{"$f":"IF(G75>9900000000,LOOKUP(G75-9900010000,RESULTS!D$16:$D$644,RESULTS!$E$16:$E$644),\"-\")","v":"-"}]
[null,null,60,null,null,null,1,null,{"$f":"IF(G76>9900000000,LOOKUP(G76-9900010000,RESULTS!D$16:$D$644,RESULTS!$E$16:$E$644),\"-\")","v":"-"}]
[null,null,61,null,null,null,1,null,{"$f":"IF(G77>9900000000,LOOKUP(G77-9900010000,RESULTS!D$16:$D$644,RESULTS!$E$16:$E$644),\"-\")","v":"-"}]
[null,null,62,null,null,null,1,null,{"$f":"IF(G78>9900000000,LOOKUP(G78-9900010000,RESULTS!D$16:$D$644,RESULTS!$E$16:$E$644),\"-\")","v":"-"}]
[null,null,63,null,null,null,1,null,{"$f":"IF(G79>9900000000,LOOKUP(G79-9900010000,RESULTS!D$16:$D$644,RESULTS!$E$16:$E$644),\"-\")","v":"-"}]
[null,null,64,null,null,null,1,null,{"$f":"IF(G80>9900000000,LOOKUP(G80-9900010000,RESULTS!D$16:$D$644,RESULTS!$E$16:$E$644),\"-\")","v":"-"}]
[null,null,65,null,null,null,1,null,{"$f":"IF(G81>9900000000,LOOKUP(G81-9900010000,RESULTS!D$16:$D$644,RESULTS!$E$16:$E$644),\"-\")","v":"-"}]
[null,null,66,null,null,null,1,null,{"$f":"IF(G82>9900000000,LOOKUP(G82-9900010000,RESULTS!D$16:$D$644,RESULTS!$E$16:$E$644),\"-\")","v":"-"}]
[null,null,67,null,null,null,1,null,{"$f":"IF(G83>9900000000,LOOKUP(G83-9900010000,RESULTS!D$16:$D$644,RESULTS!$E$16:$E$644),\"-\")","v":"-"}]
[null,null,68,null,null,null,1,null,{"$f":"IF(G84>9900000000,LOOKUP(G84-9900010000,RESULTS!D$16:$D$644,RESULTS!$E$16:$E$644),\"-\")","v":"-"}]
[null,null,69,null,null,null,1,null,{"$f":"IF(G85>9900000000,LOOKUP(G85-9900010000,RESULTS!D$16:$D$644,RESULTS!$E$16:$E$644),\"-\")","v":"-"}]
[null,null,70,null,null,null,1,null,{"$f":"IF(G86>9900000000,LOOKUP(G86-9900010000,RESULTS!D$16:$D$644,RESULTS!$E$16:$E$644),\"-\")","v":"-"}]
[null,null,71,null,null,null,{"$f":"IF(D87>0,IF(D87<19999,D87+9900010000,D87+9899990000),1)","v":1},null,{"$f":"IF(G87>9900000000,LOOKUP(G87-9900010000,RESULTS!D$16:$D$644,RESULTS!$E$16:$E$644),\"-\")","v":"-"}]
[null,null,72,null,null,null,1,null,{"$f":"IF(G88>9900000000,LOOKUP(G88-9900010000,RESULTS!D$16:$D$644,RESULTS!$E$16:$E$644),\"-\")","v":"-"}]
[null,null,73,null,null,null,1,null,{"$f":"IF(G89>9900000000,LOOKUP(G89-9900010000,RESULTS!D$16:$D$644,RESULTS!$E$16:$E$644),\"-\")","v":"-"}]
[null,null,74,null,null,null,1,null,{"$f":"IF(G90>9900000000,LOOKUP(G90-9900010000,RESULTS!D$16:$D$644,RESULTS!$E$16:$E$644),\"-\")","v":"-"}]
[null,null,75,null,null,null,1,null,{"$f":"IF(G91>9900000000,LOOKUP(G91-9900010000,RESULTS!D$16:$D$644,RESULTS!$E$16:$E$644),\"-\")","v":"-"}]
[null,null,76,null,null,null,1,null,{"$f":"IF(G92>9900000000,LOOKUP(G92-9900010000,RESULTS!D$16:$D$644,RESULTS!$E$16:$E$644),\"-\")","v":"-"}]
[null,null,77,null,null,null,1,null,{"$f":"IF(G93>9900000000,LOOKUP(G93-9900010000,RESULTS!D$16:$D$644,RESULTS!$E$16:$E$644),\"-\")","v":"-"}]
[null,null,78,null,null,null,1,null,{"$f":"IF(G94>9900000000,LOOKUP(G94-9900010000,RESULTS!D$16:$D$644,RESULTS!$E$16:$E$644),\"-\")","v":"-"}]
[null,null,79,null,null,null,1,null,{"$f":"IF(G95>9900000000,LOOKUP(G95-9900010000,RESULTS!D$16:$D$644,RESULTS!$E$16:$E$644),\"-\")","v":"-"}]
[null,null,80,null,null,null,1,null,{"$f":"IF(G96>9900000000,LOOKUP(G96-9900010000,RESULTS!D$16:$D$644,RESULTS!$E$16:$E$644),\"-\")","v":"-"}]
[null,null,81,null,null,null,1,null,{"$f":"IF(G97>9900000000,LOOKUP(G97-9900010000,RESULTS!D$16:$D$644,RESULTS!$E$16:$E$644),\"-\")","v":"-"}]
[null,null,82,null,null,null,1,null,{"$f":"IF(G98>9900000000,LOOKUP(G98-9900010000,RESULTS!D$16:$D$644,RESULTS!$E$16:$E$644),\"-\")","v":"-"}]
[null,null,83,null,null,null,1,null,{"$f":"IF(G99>9900000000,LOOKUP(G99-9900010000,RESULTS!D$16:$D$644,RESULTS!$E$16:$E$644),\"-\")","v":"-"}]
[null,null,84,null,null,null,1,null,{"$f":"IF(G100>9900000000,LOOKUP(G100-9900010000,RESULTS!D$16:$D$644,RESULTS!$E$16:$E$644),\"-\")","v":"-"}]
[null,null,85,null,null,null,1,null,{"$f":"IF(G101>9900000000,LOOKUP(G101-9900010000,RESULTS!D$16:$D$644,RESULTS!$E$16:$E$644),\"-\")","v":"-"}]
[null,null,86,null,null,null,1,null,{"$f":"IF(G102>9900000000,LOOKUP(G102-9900010000,RESULTS!D$16:$D$644,RESULTS!$E$16:$E$644),\"-\")","v":"-"}]
[null,null,87,null,null,null,1,null,{"$f":"IF(G103>9900000000,LOOKUP(G103-9900010000,RESULTS!D$16:$D$644,RESULTS!$E$16:$E$644),\"-\")","v":"-"}]
[null,null,88,null,null,null,1,null,{"$f":"IF(G104>9900000000,LOOKUP(G104-9900010000,RESULTS!D$16:$D$644,RESULTS!$E$16:$E$644),\"-\")","v":"-"}]
[null,null,89,null,null,null,1,null,{"$f":"IF(G105>9900000000,LOOKUP(G105-9900010000,RESULTS!D$16:$D$644,RESULTS!$E$16:$E$644),\"-\")","v":"-"}]
[null,null,90,null,null,null,1,null,{"$f":"IF(G106>9900000000,LOOKUP(G106-9900010000,RESULTS!D$16:$D$644,RESULTS!$E$16:$E$644),\"-\")","v":"-"}]
[null,null,91,null,null,null,1,null,{"$f":"IF(G107>9900000000,LOOKUP(G107-9900010000,RESULTS!D$16:$D$644,RESULTS!$E$16:$E$644),\"-\")","v":"-"}]
[null,null,92,null,null,null,1,null,{"$f":"IF(G108>9900000000,LOOKUP(G108-9900010000,RESULTS!D$16:$D$644,RESULTS!$E$16:$E$644),\"-\")","v":"-"}]
[null,null,93,null,null,null,1,null,{"$f":"IF(G109>9900000000,LOOKUP(G109-9900010000,RESULTS!D$16:$D$644,RESULTS!$E$16:$E$644),\"-\")","v":"-"}]
[null,null,94,null,null,null,1,null,{"$f":"IF(G110>9900000000,LOOKUP(G110-9900010000,RESULTS!D$16:$D$644,RESULTS!$E$16:$E$644),\"-\")","v":"-"}]
[null,null,95,null,null,null,1,null,{"$f":"IF(G111>9900000000,LOOKUP(G111-9900010000,RESULTS!D$16:$D$644,RESULTS!$E$16:$E$644),\"-\")","v":"-"}]
[null,null,96,null,null,null,1,null,{"$f":"IF(G112>9900000000,LOOKUP(G112-9900010000,RESULTS!D$16:$D$644,RESULTS!$E$16:$E$644),\"-\")","v":"-"}]
[null,null,97,null,null,null,1,null,{"$f":"IF(G113>9900000000,LOOKUP(G113-9900010000,RESULTS!D$16:$D$644,RESULTS!$E$16:$E$644),\"-\")","v":"-"}]
[null,null,98,null,null,null,1,null,{"$f":"IF(G114>9900000000,LOOKUP(G114-9900010000,RESULTS!D$16:$D$644,RESULTS!$E$16:$E$644),\"-\")","v":"-"}]
[null,null,99,null,null,null,1,null,{"$f":"IF(G115>9900000000,LOOKUP(G115-9900010000,RESULTS!D$16:$D$644,RESULTS!$E$16:$E$644),\"-\")","v":"-"}]
[null,null,100,null,null,null,1,null,{"$f":"IF(G116>9900000000,LOOKUP(G116-9900010000,RESULTS!D$16:$D$644,RESULTS!$E$16:$E$644),\"-\")","v":"-"}]
[null,null,null,"Total Bundles",{"$f":"SUM(E17:E116)","v":0}]
[]
[null,null,null,"NOTES"]
[]
[]
[]
[null,null,null,"VGLS INSPECTION dept. VERSION 70 updated 24/09/2025  (BY: Ian Shortley)"]

{"sheet":"RESULTS","index":2,"n_rows":665,"n_cols":25,"rows_kept":665,"cut":false,"hidden":false,"merged":[[9,23,9,24],[10,23,10,24],[10,18,10,22],[7,21,7,22],[6,21,6,22],[659,2,663,9],[659,17,663,24],[6,23,6,24],[7,23,7,24],[12,20,12,24],[658,2,658,8],[658,17,658,24],[6,18,6,20],[7,18,7,20],[9,11,9,13],[9,14,9,15],[10,11,10,13],[10,14,10,15],[650,4,656,4],[9,18,9,22]]}
[]
[]
[]
[]
[]
[]
[null,null,null,null,"DELIVERY NUMBER ",null,null,null,"TRAILER no.",null,null,null,null,null,null,null,null,null,"SENDING CUSTOMER ",null,null,"LOCATION",null,"S-LOC Number "]
[null,null,{"$f":"'INPUT '!D10","v":70},null,{"$f":"'INPUT '!G7","v":0},null,null,null,{"$f":"'INPUT '!G9","v":0},null,null,null,null,null,null,null,null,null,{"$f":"'INPUT '!I7","v":""},null,null,{"$f":"'INPUT '!I9","v":""},null,{"$f":"'INPUT '!E7","v":0}]
[]
[null,null,"DATE",null,"CHECKED BY :",null,null,null,"SIGNED",null,null,null,null,null,null,null,null,null,"RECEIVING TERMINAL ",null,null,null,null,"S-LOC Number "]
[null,null,{"$f":"'INPUT '!E9","v":"00:00:00"},null,null,null,null,null,null,null,null,null,null,null,null,null,null,null,null,null,null,null,null,{"$f":"'INPUT '!N7","v":0}]
[]
[null,null,null,null,null,null,null,null,null,null,null,null,null,null,null,null,null,null,null,null,"LOCATION ( WAREHOUSE ADMIN )"]
[null,null,"FULL Piece No.","SHORT No.","DESCRIPTION","MATERIAL","KG","SUM KG","TOTAL","Pieces","TOTAL","TOTAL","TOTAL","TOTAL","TOTAL","TOTAL","TOTAL","RECD","CHECK","STATUS","MAIN","WASH","REPAIR","SCRAP","BLOCKED"]
[null,null,9900000000,{"$f":"C15-9900000000","v":0},"ADMIN",null,null,null,{"$f":"SUM(K15:P15)","v":1},null,{"$f":"SUMIF(Data!$H$2:$H$10177,$C15,Data!$J$2:$J$10177)","v":1},{"$f":"SUMIF(Data!$K$2:$K$10177,$C15,Data!$M$2:$M$10177)","v":0},{"$f":"SUMIF(Data!$N$2:$N$10177,$C15,Data!$P$2:$P$10177)","v":0},{"$f":"SUMIF(Data!$Q$2:$R$10177,$C15,Data!$S$2:$S$10177)","v":0},{"$f":"SUMIF(Data!$T$2:$U$10177,$C15,Data!$V$2:$V$10177)","v":0},{"$f":"SUMIF(Data!$W$2:$W$10177,$C15,Data!$Y$2:$Y$10177)","v":0}]
[null,null,9900000001,{"$f":"C16-9900000000","v":1},"PALLET OF WOOD, TYPE L ","WOOD",22.288,{"$f":"G16*I16","v":0},{"$f":"SUM(J16:P16)","v":0},{"$f":"SUMIF(Data!$H$2:$H$10177,$C16,Data!$D$2:$D$10177)","v":0},{"$f":"SUMIF(Data!$H$2:$H$10177,$C16,Data!$J$2:$J$10177)","v":0},{"$f":"SUMIF(Data!$K$2:$K$10177,$C16,Data!$M$2:$M$10177)","v":0},{"$f":"SUMIF(Data!$N$2:$N$10177,$C16,Data!$P$2:$P$10177)","v":0},{"$f":"SUMIF(Data!$Q$2:$R$10177,$C16,Data!$S$2:$S$10177)","v":0},{"$f":"SUMIF(Data!$T$2:$U$10177,$C16,Data!$V$2:$V$10177)","v":0},{"$f":"SUMIF(Data!$W$2:$W$10177,$C16,Data!$Y$2:$Y$10177)","v":0}]
[null,null,9900000002,{"$f":"C17-9900000000","v":2},"PALLET OF WOOD, TYPE K ","WOOD",9.6750000000000007,0,0,{"$f":"SUMIF(Data!$H$2:$H$10177,$C17,Data!$D$2:$D$10177)","v":0},{"$f":"SUMIF(Data!$H$2:$H$10177,$C17,Data!$J$2:$J$10177)","v":0},{"$f":"SUMIF(Data!$K$2:$K$10177,$C17,Data!$M$2:$M$10177)","v":0},{"$f":"SUMIF(Data!$N$2:$N$10177,$C17,Data!$P$2:$P$10177)","v":0},{"$f":"SUMIF(Data!$Q$2:$R$10177,$C17,Data!$S$2:$S$10177)","v":0},{"$f":"SUMIF(Data!$T$2:$U$10177,$C17,Data!$V$2:$V$10177)","v":0},{"$f":"SUMIF(Data!$W$2:$W$10177,$C17,Data!$Y$2:$Y$10177)","v":0}]
[null,null,9900000005,{"$f":"C18-9900000000","v":5},"PALLET OF WOOD, TYPE F ","WOOD",40.576000000000001,0,0,{"$f":"SUMIF(Data!$H$2:$H$10177,$C18,Data!$D$2:$D$10177)","v":0},{"$f":"SUMIF(Data!$H$2:$H$10177,$C18,Data!$J$2:$J$10177)","v":0},{"$f":"SUMIF(Data!$K$2:$K$10177,$C18,Data!$M$2:$M$10177)","v":0},{"$f":"SUMIF(Data!$N$2:$N$10177,$C18,Data!$P$2:$P$10177)","v":0},{"$f":"SUMIF(Data!$Q$2:$R$10177,$C18,Data!$S$2:$S$10177)","v":0},{"$f":"SUMIF(Data!$T$2:$U$10177,$C18,Data!$V$2:$V$10177)","v":0},{"$f":"SUMIF(Data!$W$2:$W$10177,$C18,Data!$Y$2:$Y$10177)","v":0}]
[null,null,9900000006,{"$f":"C19-9900000000","v":6},"PALLET OF WOOD, TYPE G ","WOOD",27.05,0,0,{"$f":"SUMIF(Data!$H$2:$H$10177,$C19,Data!$D$2:$D$10177)","v":0},{"$f":"SUMIF(Data!$H$2:$H$10177,$C19,Data!$J$2:$J$10177)","v":0},{"$f":"SUMIF(Data!$K$2:$K$10177,$C19,Data!$M$2:$M$10177)","v":0},{"$f":"SUMIF(Data!$N$2:$N$10177,$C19,Data!$P$2:$P$10177)","v":0},{"$f":"SUMIF(Data!$Q$2:$R$10177,$C19,Data!$S$2:$S$10177)","v":0},{"$f":"SUMIF(Data!$T$2:$U$10177,$C19,Data!$V$2:$V$10177)","v":0},{"$f":"SUMIF(Data!$W$2:$W$10177,$C19,Data!$Y$2:$Y$10177)","v":0}]
[null,null,9900000009,9,"PALLET OF WOOD, TYPE H ","WOOD",32.817,0,0,{"$f":"SUMIF(Data!$H$2:$H$10177,$C20,Data!$D$2:$D$10177)","v":0},{"$f":"SUMIF(Data!$H$2:$H$10177,$C20,Data!$J$2:$J$10177)","v":0},{"$f":"SUMIF(Data!$K$2:$K$10177,$C20,Data!$M$2:$M$10177)","v":0},{"$f":"SUMIF(Data!$N$2:$N$10177,$C20,Data!$P$2:$P$10177)","v":0},{"$f":"SUMIF(Data!$Q$2:$R$10177,$C20,Data!$S$2:$S$10177)","v":0},{"$f":"SUMIF(Data!$T$2:$U$10177,$C20,Data!$V$2:$V$10177)","v":0},{"$f":"SUMIF(Data!$W$2:$W$10177,$C20,Data!$Y$2:$Y$10177)","v":0}]
[null,null,9900000021,21,"FRAME OF WOOD, TYPE L ","WOOD",8.9779999999999998,0,0,{"$f":"SUMIF(Data!$H$2:$H$10177,$C21,Data!$D$2:$D$10177)","v":0},{"$f":"SUMIF(Data!$H$2:$H$10177,$C21,Data!$J$2:$J$10177)","v":0},{"$f":"SUMIF(Data!$K$2:$K$10177,$C21,Data!$M$2:$M$10177)","v":0},{"$f":"SUMIF(Data!$N$2:$N$10177,$C21,Data!$P$2:$P$10177)","v":0},{"$f":"SUMIF(Data!$Q$2:$R$10177,$C21,Data!$S$2:$S$10177)","v":0},{"$f":"SUMIF(Data!$T$2:$U$10177,$C21,Data!$V$2:$V$10177)","v":0},{"$f":"SUMIF(Data!$W$2:$W$10177,$C21,Data!$Y$2:$Y$10177)","v":0}]
[null,null,9900000022,22,"FRAME OF WOOD, TYPE K ","WOOD",6.7480000000000002,0,0,{"$f":"SUMIF(Data!$H$2:$H$10177,$C22,Data!$D$2:$D$10177)","v":0},{"$f":"SUMIF(Data!$H$2:$H$10177,$C22,Data!$J$2:$J$10177)","v":0},{"$f":"SUMIF(Data!$K$2:$K$10177,$C22,Data!$M$2:$M$10177)","v":0},{"$f":"SUMIF(Data!$N$2:$N$10177,$C22,Data!$P$2:$P$10177)","v":0},{"$f":"SUMIF(Data!$Q$2:$R$10177,$C22,Data!$S$2:$S$10177)","v":0},{"$f":"SUMIF(Data!$T$2:$U$10177,$C22,Data!$V$2:$V$10177)","v":0},{"$f":"SUMIF(Data!$W$2:$W$10177,$C22,Data!$Y$2:$Y$10177)","v":0}]
[null,null,9900000025,25,"FRAME OF WOOD, TYPE F ","WOOD",13.093,0,0,{"$f":"SUMIF(Data!$H$2:$H$10177,$C23,Data!$D$2:$D$10177)","v":0},{"$f":"SUMIF(Data!$H$2:$H$10177,$C23,Data!$J$2:$J$10177)","v":0},{"$f":"SUMIF(Data!$K$2:$K$10177,$C23,Data!$M$2:$M$10177)","v":0},{"$f":"SUMIF(Data!$N$2:$N$10177,$C23,Data!$P$2:$P$10177)","v":0},{"$f":"SUMIF(Data!$Q$2:$R$10177,$C23,Data!$S$2:$S$10177)","v":0},{"$f":"SUMIF(Data!$T$2:$U$10177,$C23,Data!$V$2:$V$10177)","v":0},{"$f":"SUMIF(Data!$W$2:$W$10177,$C23,Data!$Y$2:$Y$10177)","v":0}]
[null,null,9900000026,26,"FRAME OF WOOD, TYPE G ","WOOD",9.8350000000000009,0,0,{"$f":"SUMIF(Data!$H$2:$H$10177,$C24,Data!$D$2:$D$10177)","v":0},{"$f":"SUMIF(Data!$H$2:$H$10177,$C24,Data!$J$2:$J$10177)","v":0},{"$f":"SUMIF(Data!$K$2:$K$10177,$C24,Data!$M$2:$M$10177)","v":0},{"$f":"SUMIF(Data!$N$2:$N$10177,$C24,Data!$P$2:$P$10177)","v":0},{"$f":"SUMIF(Data!$Q$2:$R$10177,$C24,Data!$S$2:$S$10177)","v":0},{"$f":"SUMIF(Data!$T$2:$U$10177,$C24,Data!$V$2:$V$10177)","v":0},{"$f":"SUMIF(Data!$W$2:$W$10177,$C24,Data!$Y$2:$Y$10177)","v":0}]
[null,null,9900000029,29,"FRAME OF WOOD, TYPE H ","WOOD",10.853999999999999,0,0,{"$f":"SUMIF(Data!$H$2:$H$10177,$C25,Data!$D$2:$D$10177)","v":0},{"$f":"SUMIF(Data!$H$2:$H$10177,$C25,Data!$J$2:$J$10177)","v":0},{"$f":"SUMIF(Data!$K$2:$K$10177,$C25,Data!$M$2:$M$10177)","v":0},{"$f":"SUMIF(Data!$N$2:$N$10177,$C25,Data!$P$2:$P$10177)","v":0},{"$f":"SUMIF(Data!$Q$2:$R$10177,$C25,Data!$S$2:$S$10177)","v":0},{"$f":"SUMIF(Data!$T$2:$U$10177,$C25,Data!$V$2:$V$10177)","v":0},{"$f":"SUMIF(Data!$W$2:$W$10177,$C25,Data!$Y$2:$Y$10177)","v":0}]
[null,null,9900000031,31,"SPACER OF PLYWOOD, L OUTER ","WOOD",4.5,0,0,{"$f":"SUMIF(Data!$H$2:$H$10177,$C26,Data!$D$2:$D$10177)","v":0},{"$f":"SUMIF(Data!$H$2:$H$10177,$C26,Data!$J$2:$J$10177)","v":0},{"$f":"SUMIF(Data!$K$2:$K$10177,$C26,Data!$M$2:$M$10177)","v":0},{"$f":"SUMIF(Data!$N$2:$N$10177,$C26,Data!$P$2:$P$10177)","v":0},{"$f":"SUMIF(Data!$Q$2:$R$10177,$C26,Data!$S$2:$S$10177)","v":0},{"$f":"SUMIF(Data!$T$2:$U$10177,$C26,Data!$V$2:$V$10177)","v":0},{"$f":"SUMIF(Data!$W$2:$W$10177,$C26,Data!$Y$2:$Y$10177)","v":0}]
[null,null,9900000035,35,"SPACER OF PLYWOOD, F OUTER ","WOOD",13,0,0,{"$f":"SUMIF(Data!$H$2:$H$10177,$C27,Data!$D$2:$D$10177)","v":0},{"$f":"SUMIF(Data!$H$2:$H$10177,$C27,Data!$J$2:$J$10177)","v":0},{"$f":"SUMIF(Data!$K$2:$K$10177,$C27,Data!$M$2:$M$10177)","v":0},{"$f":"SUMIF(Data!$N$2:$N$10177,$C27,Data!$P$2:$P$10177)","v":0},{"$f":"SUMIF(Data!$Q$2:$R$10177,$C27,Data!$S$2:$S$10177)","v":0},{"$f":"SUMIF(Data!$T$2:$U$10177,$C27,Data!$V$2:$V$10177)","v":0},{"$f":"SUMIF(Data!$W$2:$W$10177,$C27,Data!$Y$2:$Y$10177)","v":0}]
[null,null,9900000041,41,"SPACER OF PLYWOOD, L INNER ","WOOD",4,0,0,{"$f":"SUMIF(Data!$H$2:$H$10177,$C28,Data!$D$2:$D$10177)","v":0},{"$f":"SUMIF(Data!$H$2:$H$10177,$C28,Data!$J$2:$J$10177)","v":0},{"$f":"SUMIF(Data!$K$2:$K$10177,$C28,Data!$M$2:$M$10177)","v":0},{"$f":"SUMIF(Data!$N$2:$N$10177,$C28,Data!$P$2:$P$10177)","v":0},{"$f":"SUMIF(Data!$Q$2:$R$10177,$C28,Data!$S$2:$S$10177)","v":0},{"$f":"SUMIF(Data!$T$2:$U$10177,$C28,Data!$V$2:$V$10177)","v":0},{"$f":"SUMIF(Data!$W$2:$W$10177,$C28,Data!$Y$2:$Y$10177)","v":0}]
[null,null,9900000045,45,"SPACER OF PLYWOOD, F INNER","WOOD",11,0,0,{"$f":"SUMIF(Data!$H$2:$H$10177,$C29,Data!$D$2:$D$10177)","v":0},{"$f":"SUMIF(Data!$H$2:$H$10177,$C29,Data!$J$2:$J$10177)","v":0},{"$f":"SUMIF(Data!$K$2:$K$10177,$C29,Data!$M$2:$M$10177)","v":0},{"$f":"SUMIF(Data!$N$2:$N$10177,$C29,Data!$P$2:$P$10177)","v":0},{"$f":"SUMIF(Data!$Q$2:$R$10177,$C29,Data!$S$2:$S$10177)","v":0},{"$f":"SUMIF(Data!$T$2:$U$10177,$C29,Data!$V$2:$V$10177)","v":0},{"$f":"SUMIF(Data!$W$2:$W$10177,$C29,Data!$Y$2:$Y$10177)","v":0}]
[null,null,9900000051,51,"SPACER OF WOOD FIBRE, L OUTER ","WOOD",3,0,0,{"$f":"SUMIF(Data!$H$2:$H$10177,$C30,Data!$D$2:$D$10177)","v":0},{"$f":"SUMIF(Data!$H$2:$H$10177,$C30,Data!$J$2:$J$10177)","v":0},{"$f":"SUMIF(Data!$K$2:$K$10177,$C30,Data!$M$2:$M$10177)","v":0},{"$f":"SUMIF(Data!$N$2:$N$10177,$C30,Data!$P$2:$P$10177)","v":0},{"$f":"SUMIF(Data!$Q$2:$R$10177,$C30,Data!$S$2:$S$10177)","v":0},{"$f":"SUMIF(Data!$T$2:$U$10177,$C30,Data!$V$2:$V$10177)","v":0},{"$f":"SUMIF(Data!$W$2:$W$10177,$C30,Data!$Y$2:$Y$10177)","v":0}]
[null,null,9900000052,52,"SPACER OF WOOD FIBRE, K OUTER ","WOOD",1.5,0,0,{"$f":"SUMIF(Data!$H$2:$H$10177,$C31,Data!$D$2:$D$10177)","v":0},{"$f":"SUMIF(Data!$H$2:$H$10177,$C31,Data!$J$2:$J$10177)","v":0},{"$f":"SUMIF(Data!$K$2:$K$10177,$C31,Data!$M$2:$M$10177)","v":0},{"$f":"SUMIF(Data!$N$2:$N$10177,$C31,Data!$P$2:$P$10177)","v":0},{"$f":"SUMIF(Data!$Q$2:$R$10177,$C31,Data!$S$2:$S$10177)","v":0},{"$f":"SUMIF(Data!$T$2:$U$10177,$C31,Data!$V$2:$V$10177)","v":0},{"$f":"SUMIF(Data!$W$2:$W$10177,$C31,Data!$Y$2:$Y$10177)","v":0}]
[null,null,9900000055,55,"SPACER OF WOOD FIBRE, F OUTER ","WOOD",6,0,0,{"$f":"SUMIF(Data!$H$2:$H$10177,$C32,Data!$D$2:$D$10177)","v":0},{"$f":"SUMIF(Data!$H$2:$H$10177,$C32,Data!$J$2:$J$10177)","v":0},{"$f":"SUMIF(Data!$K$2:$K$10177,$C32,Data!$M$2:$M$10177)","v":0},{"$f":"SUMIF(Data!$N$2:$N$10177,$C32,Data!$P$2:$P$10177)","v":0},{"$f":"SUMIF(Data!$Q$2:$R$10177,$C32,Data!$S$2:$S$10177)","v":0},{"$f":"SUMIF(Data!$T$2:$U$10177,$C32,Data!$V$2:$V$10177)","v":0},{"$f":"SUMIF(Data!$W$2:$W$10177,$C32,Data!$Y$2:$Y$10177)","v":0}]
[null,null,9900000056,56,"SPACER OF WOOD FIBRE, G OUTER","WOOD",3.5,0,0,{"$f":"SUMIF(Data!$H$2:$H$10177,$C33,Data!$D$2:$D$10177)","v":0},{"$f":"SUMIF(Data!$H$2:$H$10177,$C33,Data!$J$2:$J$10177)","v":0},{"$f":"SUMIF(Data!$K$2:$K$10177,$C33,Data!$M$2:$M$10177)","v":0},{"$f":"SUMIF(Data!$N$2:$N$10177,$C33,Data!$P$2:$P$10177)","v":0},{"$f":"SUMIF(Data!$Q$2:$R$10177,$C33,Data!$S$2:$S$10177)","v":0},{"$f":"SUMIF(Data!$T$2:$U$10177,$C33,Data!$V$2:$V$10177)","v":0},{"$f":"SUMIF(Data!$W$2:$W$10177,$C33,Data!$Y$2:$Y$10177)","v":0}]
[null,null,9900000059,59,"SPACER OF WOOD FIBRE, H OUTER","WOOD",4.4000000000000004,0,0,{"$f":"SUMIF(Data!$H$2:$H$10177,$C34,Data!$D$2:$D$10177)","v":0},{"$f":"SUMIF(Data!$H$2:$H$10177,$C34,Data!$J$2:$J$10177)","v":0},{"$f":"SUMIF(Data!$K$2:$K$10177,$C34,Data!$M$2:$M$10177)","v":0},{"$f":"SUMIF(Data!$N$2:$N$10177,$C34,Data!$P$2:$P$10177)","v":0},{"$f":"SUMIF(Data!$Q$2:$R$10177,$C34,Data!$S$2:$S$10177)","v":0},{"$f":"SUMIF(Data!$T$2:$U$10177,$C34,Data!$V$2:$V$10177)","v":0},{"$f":"SUMIF(Data!$W$2:$W$10177,$C34,Data!$Y$2:$Y$10177)","v":0}]
[null,null,9900000061,61,"SPACER OF WOOD FIBRE, L INNER","SOLIDBOARD",2.0150000000000001,0,0,{"$f":"SUMIF(Data!$H$2:$H$10177,$C35,Data!$D$2:$D$10177)","v":0},{"$f":"SUMIF(Data!$H$2:$H$10177,$C35,Data!$J$2:$J$10177)","v":0},{"$f":"SUMIF(Data!$K$2:$K$10177,$C35,Data!$M$2:$M$10177)","v":0},{"$f":"SUMIF(Data!$N$2:$N$10177,$C35,Data!$P$2:$P$10177)","v":0},{"$f":"SUMIF(Data!$Q$2:$R$10177,$C35,Data!$S$2:$S$10177)","v":0},{"$f":"SUMIF(Data!$T$2:$U$10177,$C35,Data!$V$2:$V$10177)","v":0},{"$f":"SUMIF(Data!$W$2:$W$10177,$C35,Data!$Y$2:$Y$10177)","v":0}]
[null,null,9900000062,62,"SPACER OF WOOD FIBRE, K INNER","SOLIDBOARD",0.92100000000000004,0,0,{"$f":"SUMIF(Data!$H$2:$H$10177,$C36,Data!$D$2:$D$10177)","v":0},{"$f":"SUMIF(Data!$H$2:$H$10177,$C36,Data!$J$2:$J$10177)","v":0},{"$f":"SUMIF(Data!$K$2:$K$10177,$C36,Data!$M$2:$M$10177)","v":0},{"$f":"SUMIF(Data!$N$2:$N$10177,$C36,Data!$P$2:$P$10177)","v":0},{"$f":"SUMIF(Data!$Q$2:$R$10177,$C36,Data!$S$2:$S$10177)","v":0},{"$f":"SUMIF(Data!$T$2:$U$10177,$C36,Data!$V$2:$V$10177)","v":0},{"$f":"SUMIF(Data!$W$2:$W$10177,$C36,Data!$Y$2:$Y$10177)","v":0}]
[null,null,9900000065,65,"SPACER OF WOOD FIBRE, F INNER","WOOD",5.2489999999999997,0,0,{"$f":"SUMIF(Data!$H$2:$H$10177,$C37,Data!$D$2:$D$10177)","v":0},{"$f":"SUMIF(Data!$H$2:$H$10177,$C37,Data!$J$2:$J$10177)","v":0},{"$f":"SUMIF(Data!$K$2:$K$10177,$C37,Data!$M$2:$M$10177)","v":0},{"$f":"SUMIF(Data!$N$2:$N$10177,$C37,Data!$P$2:$P$10177)","v":0},{"$f":"SUMIF(Data!$Q$2:$R$10177,$C37,Data!$S$2:$S$10177)","v":0},{"$f":"SUMIF(Data!$T$2:$U$10177,$C37,Data!$V$2:$V$10177)","v":0},{"$f":"SUMIF(Data!$W$2:$W$10177,$C37,Data!$Y$2:$Y$10177)","v":0}]
[null,null,9900000066,66,"SPACER OF WOOD FIBRE, G INNER","WOOD",3.008,0,0,{"$f":"SUMIF(Data!$H$2:$H$10177,$C38,Data!$D$2:$D$10177)","v":0},{"$f":"SUMIF(Data!$H$2:$H$10177,$C38,Data!$J$2:$J$10177)","v":0},{"$f":"SUMIF(Data!$K$2:$K$10177,$C38,Data!$M$2:$M$10177)","v":0},{"$f":"SUMIF(Data!$N$2:$N$10177,$C38,Data!$P$2:$P$10177)","v":0},{"$f":"SUMIF(Data!$Q$2:$R$10177,$C38,Data!$S$2:$S$10177)","v":0},{"$f":"SUMIF(Data!$T$2:$U$10177,$C38,Data!$V$2:$V$10177)","v":0},{"$f":"SUMIF(Data!$W$2:$W$10177,$C38,Data!$Y$2:$Y$10177)","v":0}]
[null,null,9900000069,69,"SPACER OF WOOD FIBRE, H INNER","WOOD",3.4049999999999998,0,0,{"$f":"SUMIF(Data!$H$2:$H$10177,$C39,Data!$D$2:$D$10177)","v":0},{"$f":"SUMIF(Data!$H$2:$H$10177,$C39,Data!$J$2:$J$10177)","v":0},{"$f":"SUMIF(Data!$K$2:$K$10177,$C39,Data!$M$2:$M$10177)","v":0},{"$f":"SUMIF(Data!$N$2:$N$10177,$C39,Data!$P$2:$P$10177)","v":0},{"$f":"SUMIF(Data!$Q$2:$R$10177,$C39,Data!$S$2:$S$10177)","v":0},{"$f":"SUMIF(Data!$T$2:$U$10177,$C39,Data!$V$2:$V$10177)","v":0},{"$f":"SUMIF(Data!$W$2:$W$10177,$C39,Data!$Y$2:$Y$10177)","v":0}]
[null,null,9900000071,71,"LID OF PLYWOOD, TYPE L ","WOOD",5.9269999999999996,0,0,{"$f":"SUMIF(Data!$H$2:$H$10177,$C40,Data!$D$2:$D$10177)","v":0},{"$f":"SUMIF(Data!$H$2:$H$10177,$C40,Data!$J$2:$J$10177)","v":0},{"$f":"SUMIF(Data!$K$2:$K$10177,$C40,Data!$M$2:$M$10177)","v":0},{"$f":"SUMIF(Data!$N$2:$N$10177,$C40,Data!$P$2:$P$10177)","v":0},{"$f":"SUMIF(Data!$Q$2:$R$10177,$C40,Data!$S$2:$S$10177)","v":0},{"$f":"SUMIF(Data!$T$2:$U$10177,$C40,Data!$V$2:$V$10177)","v":0},{"$f":"SUMIF(Data!$W$2:$W$10177,$C40,Data!$Y$2:$Y$10177)","v":0}]
[null,null,9900000072,72,"LID OF PLYWOOD, TYPE K","WOOD",3.1829999999999998,0,0,{"$f":"SUMIF(Data!$H$2:$H$10177,$C41,Data!$D$2:$D$10177)","v":0},{"$f":"SUMIF(Data!$H$2:$H$10177,$C41,Data!$J$2:$J$10177)","v":0},{"$f":"SUMIF(Data!$K$2:$K$10177,$C41,Data!$M$2:$M$10177)","v":0},{"$f":"SUMIF(Data!$N$2:$N$10177,$C41,Data!$P$2:$P$10177)","v":0},{"$f":"SUMIF(Data!$Q$2:$R$10177,$C41,Data!$S$2:$S$10177)","v":0},{"$f":"SUMIF(Data!$T$2:$U$10177,$C41,Data!$V$2:$V$10177)","v":0},{"$f":"SUMIF(Data!$W$2:$W$10177,$C41,Data!$Y$2:$Y$10177)","v":0}]
[null,null,9900000075,75,"LID OF PLYWOOD, TYPE F ","WOOD",11.807,0,0,{"$f":"SUMIF(Data!$H$2:$H$10177,$C42,Data!$D$2:$D$10177)","v":0},{"$f":"SUMIF(Data!$H$2:$H$10177,$C42,Data!$J$2:$J$10177)","v":0},{"$f":"SUMIF(Data!$K$2:$K$10177,$C42,Data!$M$2:$M$10177)","v":0},{"$f":"SUMIF(Data!$N$2:$N$10177,$C42,Data!$P$2:$P$10177)","v":0},{"$f":"SUMIF(Data!$Q$2:$R$10177,$C42,Data!$S$2:$S$10177)","v":0},{"$f":"SUMIF(Data!$T$2:$U$10177,$C42,Data!$V$2:$V$10177)","v":0},{"$f":"SUMIF(Data!$W$2:$W$10177,$C42,Data!$Y$2:$Y$10177)","v":0}]
[null,null,9900000076,76,"LID OF PLYWOOD, TYPE G ","WOOD",6.8070000000000004,0,0,{"$f":"SUMIF(Data!$H$2:$H$10177,$C43,Data!$D$2:$D$10177)","v":0},{"$f":"SUMIF(Data!$H$2:$H$10177,$C43,Data!$J$2:$J$10177)","v":0},{"$f":"SUMIF(Data!$K$2:$K$10177,$C43,Data!$M$2:$M$10177)","v":0},{"$f":"SUMIF(Data!$N$2:$N$10177,$C43,Data!$P$2:$P$10177)","v":0},{"$f":"SUMIF(Data!$Q$2:$R$10177,$C43,Data!$S$2:$S$10177)","v":0},{"$f":"SUMIF(Data!$T$2:$U$10177,$C43,Data!$V$2:$V$10177)","v":0},{"$f":"SUMIF(Data!$W$2:$W$10177,$C43,Data!$Y$2:$Y$10177)","v":0}]
[null,null,9900000079,79,"LID OF PLYWOOD, TYPE H ","WOOD",9.0259999999999998,0,0,{"$f":"SUMIF(Data!$H$2:$H$10177,$C44,Data!$D$2:$D$10177)","v":0},{"$f":"SUMIF(Data!$H$2:$H$10177,$C44,Data!$J$2:$J$10177)","v":0},{"$f":"SUMIF(Data!$K$2:$K$10177,$C44,Data!$M$2:$M$10177)","v":0},{"$f":"SUMIF(Data!$N$2:$N$10177,$C44,Data!$P$2:$P$10177)","v":0},{"$f":"SUMIF(Data!$Q$2:$R$10177,$C44,Data!$S$2:$S$10177)","v":0},{"$f":"SUMIF(Data!$T$2:$U$10177,$C44,Data!$V$2:$V$10177)","v":0},{"$f":"SUMIF(Data!$W$2:$W$10177,$C44,Data!$Y$2:$Y$10177)","v":0}]
[null,null,9900000081,81,"SPACER OF PLASTIC, L INNER ","PLASTIC",3.036,0,0,{"$f":"SUMIF(Data!$H$2:$H$10177,$C45,Data!$D$2:$D$10177)","v":0},{"$f":"SUMIF(Data!$H$2:$H$10177,$C45,Data!$J$2:$J$10177)","v":0},{"$f":"SUMIF(Data!$K$2:$K$10177,$C45,Data!$M$2:$M$10177)","v":0},{"$f":"SUMIF(Data!$N$2:$N$10177,$C45,Data!$P$2:$P$10177)","v":0},{"$f":"SUMIF(Data!$Q$2:$R$10177,$C45,Data!$S$2:$S$10177)","v":0},{"$f":"SUMIF(Data!$T$2:$U$10177,$C45,Data!$V$2:$V$10177)","v":0},{"$f":"SUMIF(Data!$W$2:$W$10177,$C45,Data!$Y$2:$Y$10177)","v":0}]
[null,null,9900000082,82,"SPACER OF PLASTIC, K INNER  ","PLASTIC",1.2210000000000001,0,0,{"$f":"SUMIF(Data!$H$2:$H$10177,$C46,Data!$D$2:$D$10177)","v":0},{"$f":"SUMIF(Data!$H$2:$H$10177,$C46,Data!$J$2:$J$10177)","v":0},{"$f":"SUMIF(Data!$K$2:$K$10177,$C46,Data!$M$2:$M$10177)","v":0},{"$f":"SUMIF(Data!$N$2:$N$10177,$C46,Data!$P$2:$P$10177)","v":0},{"$f":"SUMIF(Data!$Q$2:$R$10177,$C46,Data!$S$2:$S$10177)","v":0},{"$f":"SUMIF(Data!$T$2:$U$10177,$C46,Data!$V$2:$V$10177)","v":0},{"$f":"SUMIF(Data!$W$2:$W$10177,$C46,Data!$Y$2:$Y$10177)","v":0}]
[null,null,9900000091,91,"LID OF PLASTIC ","PLASTIC",4.1760000000000002,0,0,{"$f":"SUMIF(Data!$H$2:$H$10177,$C47,Data!$D$2:$D$10177)","v":0},{"$f":"SUMIF(Data!$H$2:$H$10177,$C47,Data!$J$2:$J$10177)","v":0},{"$f":"SUMIF(Data!$K$2:$K$10177,$C47,Data!$M$2:$M$10177)","v":0},{"$f":"SUMIF(Data!$N$2:$N$10177,$C47,Data!$P$2:$P$10177)","v":0},{"$f":"SUMIF(Data!$Q$2:$R$10177,$C47,Data!$S$2:$S$10177)","v":0},{"$f":"SUMIF(Data!$T$2:$U$10177,$C47,Data!$V$2:$V$10177)","v":0},{"$f":"SUMIF(Data!$W$2:$W$10177,$C47,Data!$Y$2:$Y$10177)","v":0}]
[null,null,9900000092,92,"LID OF PLASTIC ","PLASTIC",2.1259999999999999,0,0,{"$f":"SUMIF(Data!$H$2:$H$10177,$C48,Data!$D$2:$D$10177)","v":0},{"$f":"SUMIF(Data!$H$2:$H$10177,$C48,Data!$J$2:$J$10177)","v":0},{"$f":"SUMIF(Data!$K$2:$K$10177,$C48,Data!$M$2:$M$10177)","v":0},{"$f":"SUMIF(Data!$N$2:$N$10177,$C48,Data!$P$2:$P$10177)","v":0},{"$f":"SUMIF(Data!$Q$2:$R$10177,$C48,Data!$S$2:$S$10177)","v":0},{"$f":"SUMIF(Data!$T$2:$U$10177,$C48,Data!$V$2:$V$10177)","v":0},{"$f":"SUMIF(Data!$W$2:$W$10177,$C48,Data!$Y$2:$Y$10177)","v":0}]
[null,null,9900000099,99,"BAG OF PLASTIC (5L) Disposable","PLASTIC",0.05,0,0,{"$f":"SUMIF(Data!$H$2:$H$10177,$C49,Data!$D$2:$D$10177)","v":0},{"$f":"SUMIF(Data!$H$2:$H$10177,$C49,Data!$J$2:$J$10177)","v":0},{"$f":"SUMIF(Data!$K$2:$K$10177,$C49,Data!$M$2:$M$10177)","v":0},{"$f":"SUMIF(Data!$N$2:$N$10177,$C49,Data!$P$2:$P$10177)","v":0},{"$f":"SUMIF(Data!$Q$2:$R$10177,$C49,Data!$S$2:$S$10177)","v":0},{"$f":"SUMIF(Data!$T$2:$U$10177,$C49,Data!$V$2:$V$10177)","v":0},{"$f":"SUMIF(Data!$W$2:$W$10177,$C49,Data!$Y$2:$Y$10177)","v":0}]
[null,null,9900000105,105,"PLASTIC BASE","PLASTIC",4,0,0,{"$f":"SUMIF(Data!$H$2:$H$10177,$C50,Data!$D$2:$D$10177)","v":0},{"$f":"SUMIF(Data!$H$2:$H$10177,$C50,Data!$J$2:$J$10177)","v":0},{"$f":"SUMIF(Data!$K$2:$K$10177,$C50,Data!$M$2:$M$10177)","v":0},{"$f":"SUMIF(Data!$N$2:$N$10177,$C50,Data!$P$2:$P$10177)","v":0},{"$f":"SUMIF(Data!$Q$2:$R$10177,$C50,Data!$S$2:$S$10177)","v":0},{"$f":"SUMIF(Data!$T$2:$U$10177,$C50,Data!$V$2:$V$10177)","v":0},{"$f":"SUMIF(Data!$W$2:$W$10177,$C50,Data!$Y$2:$Y$10177)","v":0}]
[null,null,9900000107,107,"PALLET OF WOOD","WOOD",35,0,0,{"$f":"SUMIF(Data!$H$2:$H$10177,$C51,Data!$D$2:$D$10177)","v":0},{"$f":"SUMIF(Data!$H$2:$H$10177,$C51,Data!$J$2:$J$10177)","v":0},{"$f":"SUMIF(Data!$K$2:$K$10177,$C51,Data!$M$2:$M$10177)","v":0},{"$f":"SUMIF(Data!$N$2:$N$10177,$C51,Data!$P$2:$P$10177)","v":0},{"$f":"SUMIF(Data!$Q$2:$R$10177,$C51,Data!$S$2:$S$10177)","v":0},{"$f":"SUMIF(Data!$T$2:$U$10177,$C51,Data!$V$2:$V$10177)","v":0},{"$f":"SUMIF(Data!$W$2:$W$10177,$C51,Data!$Y$2:$Y$10177)","v":0}]
[null,null,9900000110,110,"FIXING OF PLASTIC ","PLASTIC",4.5,0,0,{"$f":"SUMIF(Data!$H$2:$H$10177,$C52,Data!$D$2:$D$10177)","v":0},{"$f":"SUMIF(Data!$H$2:$H$10177,$C52,Data!$J$2:$J$10177)","v":0},{"$f":"SUMIF(Data!$K$2:$K$10177,$C52,Data!$M$2:$M$10177)","v":0},{"$f":"SUMIF(Data!$N$2:$N$10177,$C52,Data!$P$2:$P$10177)","v":0},{"$f":"SUMIF(Data!$Q$2:$R$10177,$C52,Data!$S$2:$S$10177)","v":0},{"$f":"SUMIF(Data!$T$2:$U$10177,$C52,Data!$V$2:$V$10177)","v":0},{"$f":"SUMIF(Data!$W$2:$W$10177,$C52,Data!$Y$2:$Y$10177)","v":0}]
[null,null,9900000116,116,"SPACER OF FLEX TEXTILE","PLASTIC",0.379,0,0,{"$f":"SUMIF(Data!$H$2:$H$10177,$C53,Data!$D$2:$D$10177)","v":0},{"$f":"SUMIF(Data!$H$2:$H$10177,$C53,Data!$J$2:$J$10177)","v":0},{"$f":"SUMIF(Data!$K$2:$K$10177,$C53,Data!$M$2:$M$10177)","v":0},{"$f":"SUMIF(Data!$N$2:$N$10177,$C53,Data!$P$2:$P$10177)","v":0},{"$f":"SUMIF(Data!$Q$2:$R$10177,$C53,Data!$S$2:$S$10177)","v":0},{"$f":"SUMIF(Data!$T$2:$U$10177,$C53,Data!$V$2:$V$10177)","v":0},{"$f":"SUMIF(Data!$W$2:$W$10177,$C53,Data!$Y$2:$Y$10177)","v":0}]
[null,null,9900000119,119,"SPACER OF CORR.BOARD/FOAM","COMPOSITE",0.42399999999999999,0,0,{"$f":"SUMIF(Data!$H$2:$H$10177,$C54,Data!$D$2:$D$10177)","v":0},{"$f":"SUMIF(Data!$H$2:$H$10177,$C54,Data!$J$2:$J$10177)","v":0},{"$f":"SUMIF(Data!$K$2:$K$10177,$C54,Data!$M$2:$M$10177)","v":0},{"$f":"SUMIF(Data!$N$2:$N$10177,$C54,Data!$P$2:$P$10177)","v":0},{"$f":"SUMIF(Data!$Q$2:$R$10177,$C54,Data!$S$2:$S$10177)","v":0},{"$f":"SUMIF(Data!$T$2:$U$10177,$C54,Data!$V$2:$V$10177)","v":0},{"$f":"SUMIF(Data!$W$2:$W$10177,$C54,Data!$Y$2:$Y$10177)","v":0}]
[null,null,9900000121,121,"SPACER OF FLEX TEXTILE","PLASTIC",0.35199999999999998,0,0,{"$f":"SUMIF(Data!$H$2:$H$10177,$C55,Data!$D$2:$D$10177)","v":0},{"$f":"SUMIF(Data!$H$2:$H$10177,$C55,Data!$J$2:$J$10177)","v":0},{"$f":"SUMIF(Data!$K$2:$K$10177,$C55,Data!$M$2:$M$10177)","v":0},{"$f":"SUMIF(Data!$N$2:$N$10177,$C55,Data!$P$2:$P$10177)","v":0},{"$f":"SUMIF(Data!$Q$2:$R$10177,$C55,Data!$S$2:$S$10177)","v":0},{"$f":"SUMIF(Data!$T$2:$U$10177,$C55,Data!$V$2:$V$10177)","v":0},{"$f":"SUMIF(Data!$W$2:$W$10177,$C55,Data!$Y$2:$Y$10177)","v":0}]
[null,null,9900000140,140,"PSP- KIT","PLASTIC",9.5,0,0,{"$f":"SUMIF(Data!$H$2:$H$10177,$C56,Data!$D$2:$D$10177)","v":0},{"$f":"SUMIF(Data!$H$2:$H$10177,$C56,Data!$J$2:$J$10177)","v":0},{"$f":"SUMIF(Data!$K$2:$K$10177,$C56,Data!$M$2:$M$10177)","v":0},{"$f":"SUMIF(Data!$N$2:$N$10177,$C56,Data!$P$2:$P$10177)","v":0},{"$f":"SUMIF(Data!$Q$2:$R$10177,$C56,Data!$S$2:$S$10177)","v":0},{"$f":"SUMIF(Data!$T$2:$U$10177,$C56,Data!$V$2:$V$10177)","v":0},{"$f":"SUMIF(Data!$W$2:$W$10177,$C56,Data!$Y$2:$Y$10177)","v":0}]
[null,null,9900000141,141,"PSC-PALLET","PLASTIC",26,0,0,{"$f":"SUMIF(Data!$H$2:$H$10177,$C57,Data!$D$2:$D$10177)","v":0},{"$f":"SUMIF(Data!$H$2:$H$10177,$C57,Data!$J$2:$J$10177)","v":0},{"$f":"SUMIF(Data!$K$2:$K$10177,$C57,Data!$M$2:$M$10177)","v":0},{"$f":"SUMIF(Data!$N$2:$N$10177,$C57,Data!$P$2:$P$10177)","v":0},{"$f":"SUMIF(Data!$Q$2:$R$10177,$C57,Data!$S$2:$S$10177)","v":0},{"$f":"SUMIF(Data!$T$2:$U$10177,$C57,Data!$V$2:$V$10177)","v":0},{"$f":"SUMIF(Data!$W$2:$W$10177,$C57,Data!$Y$2:$Y$10177)","v":0}]
[null,null,9900000142,142,"PSC- SLEEVE","PLASTIC",5,0,0,{"$f":"SUMIF(Data!$H$2:$H$10177,$C58,Data!$D$2:$D$10177)","v":0},{"$f":"SUMIF(Data!$H$2:$H$10177,$C58,Data!$J$2:$J$10177)","v":0},{"$f":"SUMIF(Data!$K$2:$K$10177,$C58,Data!$M$2:$M$10177)","v":0},{"$f":"SUMIF(Data!$N$2:$N$10177,$C58,Data!$P$2:$P$10177)","v":0},{"$f":"SUMIF(Data!$Q$2:$R$10177,$C58,Data!$S$2:$S$10177)","v":0},{"$f":"SUMIF(Data!$T$2:$U$10177,$C58,Data!$V$2:$V$10177)","v":0},{"$f":"SUMIF(Data!$W$2:$W$10177,$C58,Data!$Y$2:$Y$10177)","v":0}]
[null,null,9900000143,143,"PSC- LID","PLASTIC",5,0,0,{"$f":"SUMIF(Data!$H$2:$H$10177,$C59,Data!$D$2:$D$10177)","v":0},{"$f":"SUMIF(Data!$H$2:$H$10177,$C59,Data!$J$2:$J$10177)","v":0},{"$f":"SUMIF(Data!$K$2:$K$10177,$C59,Data!$M$2:$M$10177)","v":0},{"$f":"SUMIF(Data!$N$2:$N$10177,$C59,Data!$P$2:$P$10177)","v":0},{"$f":"SUMIF(Data!$Q$2:$R$10177,$C59,Data!$S$2:$S$10177)","v":0},{"$f":"SUMIF(Data!$T$2:$U$10177,$C59,Data!$V$2:$V$10177)","v":0},{"$f":"SUMIF(Data!$W$2:$W$10177,$C59,Data!$Y$2:$Y$10177)","v":0}]
[null,null,9900000153,153,"GOODS LABEL HOLDER","CARDBOARD",0.05,0,0,{"$f":"SUMIF(Data!$H$2:$H$10177,$C60,Data!$D$2:$D$10177)","v":0},{"$f":"SUMIF(Data!$H$2:$H$10177,$C60,Data!$J$2:$J$10177)","v":0},{"$f":"SUMIF(Data!$K$2:$K$10177,$C60,Data!$M$2:$M$10177)","v":0},{"$f":"SUMIF(Data!$N$2:$N$10177,$C60,Data!$P$2:$P$10177)","v":0},{"$f":"SUMIF(Data!$Q$2:$R$10177,$C60,Data!$S$2:$S$10177)","v":0},{"$f":"SUMIF(Data!$T$2:$U$10177,$C60,Data!$V$2:$V$10177)","v":0},{"$f":"SUMIF(Data!$W$2:$W$10177,$C60,Data!$Y$2:$Y$10177)","v":0}]
[null,null,9900000156,156,"BOX OF CORRUGATED BOARD","CARDBOARD",0.09,0,0,{"$f":"SUMIF(Data!$H$2:$H$10177,$C61,Data!$D$2:$D$10177)","v":0},{"$f":"SUMIF(Data!$H$2:$H$10177,$C61,Data!$J$2:$J$10177)","v":0},{"$f":"SUMIF(Data!$K$2:$K$10177,$C61,Data!$M$2:$M$10177)","v":0},{"$f":"SUMIF(Data!$N$2:$N$10177,$C61,Data!$P$2:$P$10177)","v":0},{"$f":"SUMIF(Data!$Q$2:$R$10177,$C61,Data!$S$2:$S$10177)","v":0},{"$f":"SUMIF(Data!$T$2:$U$10177,$C61,Data!$V$2:$V$10177)","v":0},{"$f":"SUMIF(Data!$W$2:$W$10177,$C61,Data!$Y$2:$Y$10177)","v":0}]
[null,null,9900000170,170,"RACK OF STEEL","METAL",84,0,0,{"$f":"SUMIF(Data!$H$2:$H$10177,$C62,Data!$D$2:$D$10177)","v":0},{"$f":"SUMIF(Data!$H$2:$H$10177,$C62,Data!$J$2:$J$10177)","v":0},{"$f":"SUMIF(Data!$K$2:$K$10177,$C62,Data!$M$2:$M$10177)","v":0},{"$f":"SUMIF(Data!$N$2:$N$10177,$C62,Data!$P$2:$P$10177)","v":0},{"$f":"SUMIF(Data!$Q$2:$R$10177,$C62,Data!$S$2:$S$10177)","v":0},{"$f":"SUMIF(Data!$T$2:$U$10177,$C62,Data!$V$2:$V$10177)","v":0},{"$f":"SUMIF(Data!$W$2:$W$10177,$C62,Data!$Y$2:$Y$10177)","v":0}]
[null,null,9900000175,175,"BATTEN OF WOOD","WOOD",1.74,0,0,{"$f":"SUMIF(Data!$H$2:$H$10177,$C63,Data!$D$2:$D$10177)","v":0},{"$f":"SUMIF(Data!$H$2:$H$10177,$C63,Data!$J$2:$J$10177)","v":0},{"$f":"SUMIF(Data!$K$2:$K$10177,$C63,Data!$M$2:$M$10177)","v":0},{"$f":"SUMIF(Data!$N$2:$N$10177,$C63,Data!$P$2:$P$10177)","v":0},{"$f":"SUMIF(Data!$Q$2:$R$10177,$C63,Data!$S$2:$S$10177)","v":0},{"$f":"SUMIF(Data!$T$2:$U$10177,$C63,Data!$V$2:$V$10177)","v":0},{"$f":"SUMIF(Data!$W$2:$W$10177,$C63,Data!$Y$2:$Y$10177)","v":0}]
[null,null,9900000176,176,"BATTEN OF WOOD","WOOD",1.74,0,0,{"$f":"SUMIF(Data!$H$2:$H$10177,$C64,Data!$D$2:$D$10177)","v":0},{"$f":"SUMIF(Data!$H$2:$H$10177,$C64,Data!$J$2:$J$10177)","v":0},{"$f":"SUMIF(Data!$K$2:$K$10177,$C64,Data!$M$2:$M$10177)","v":0},{"$f":"SUMIF(Data!$N$2:$N$10177,$C64,Data!$P$2:$P$10177)","v":0},{"$f":"SUMIF(Data!$Q$2:$R$10177,$C64,Data!$S$2:$S$10177)","v":0},{"$f":"SUMIF(Data!$T$2:$U$10177,$C64,Data!$V$2:$V$10177)","v":0},{"$f":"SUMIF(Data!$W$2:$W$10177,$C64,Data!$Y$2:$Y$10177)","v":0}]
[null,null,9900000190,190,"PALLET OF PLASTIC ","PLASTIC",21.9,0,0,{"$f":"SUMIF(Data!$H$2:$H$10177,$C65,Data!$D$2:$D$10177)","v":0},{"$f":"SUMIF(Data!$H$2:$H$10177,$C65,Data!$J$2:$J$10177)","v":0},{"$f":"SUMIF(Data!$K$2:$K$10177,$C65,Data!$M$2:$M$10177)","v":0},{"$f":"SUMIF(Data!$N$2:$N$10177,$C65,Data!$P$2:$P$10177)","v":0},{"$f":"SUMIF(Data!$Q$2:$R$10177,$C65,Data!$S$2:$S$10177)","v":0},{"$f":"SUMIF(Data!$T$2:$U$10177,$C65,Data!$V$2:$V$10177)","v":0},{"$f":"SUMIF(Data!$W$2:$W$10177,$C65,Data!$Y$2:$Y$10177)","v":0}]
[null,null,9900000191,191,"LID OF PLASTIC ","PLASTIC",4.0999999999999996,0,0,{"$f":"SUMIF(Data!$H$2:$H$10177,$C66,Data!$D$2:$D$10177)","v":0},{"$f":"SUMIF(Data!$H$2:$H$10177,$C66,Data!$J$2:$J$10177)","v":0},{"$f":"SUMIF(Data!$K$2:$K$10177,$C66,Data!$M$2:$M$10177)","v":0},{"$f":"SUMIF(Data!$N$2:$N$10177,$C66,Data!$P$2:$P$10177)","v":0},{"$f":"SUMIF(Data!$Q$2:$R$10177,$C66,Data!$S$2:$S$10177)","v":0},{"$f":"SUMIF(Data!$T$2:$U$10177,$C66,Data!$V$2:$V$10177)","v":0},{"$f":"SUMIF(Data!$W$2:$W$10177,$C66,Data!$Y$2:$Y$10177)","v":0}]
[null,null,9900000215,215,"RACK OF STEEL","METAL",126,0,0,{"$f":"SUMIF(Data!$H$2:$H$10177,$C67,Data!$D$2:$D$10177)","v":0},{"$f":"SUMIF(Data!$H$2:$H$10177,$C67,Data!$J$2:$J$10177)","v":0},{"$f":"SUMIF(Data!$K$2:$K$10177,$C67,Data!$M$2:$M$10177)","v":0},{"$f":"SUMIF(Data!$N$2:$N$10177,$C67,Data!$P$2:$P$10177)","v":0},{"$f":"SUMIF(Data!$Q$2:$R$10177,$C67,Data!$S$2:$S$10177)","v":0},{"$f":"SUMIF(Data!$T$2:$U$10177,$C67,Data!$V$2:$V$10177)","v":0},{"$f":"SUMIF(Data!$W$2:$W$10177,$C67,Data!$Y$2:$Y$10177)","v":0}]
[null,null,9900000233,233,"SUPPORT OF STEEL","METAL",9.5,0,0,{"$f":"SUMIF(Data!$H$2:$H$10177,$C68,Data!$D$2:$D$10177)","v":0},{"$f":"SUMIF(Data!$H$2:$H$10177,$C68,Data!$J$2:$J$10177)","v":0},{"$f":"SUMIF(Data!$K$2:$K$10177,$C68,Data!$M$2:$M$10177)","v":0},{"$f":"SUMIF(Data!$N$2:$N$10177,$C68,Data!$P$2:$P$10177)","v":0},{"$f":"SUMIF(Data!$Q$2:$R$10177,$C68,Data!$S$2:$S$10177)","v":0},{"$f":"SUMIF(Data!$T$2:$U$10177,$C68,Data!$V$2:$V$10177)","v":0},{"$f":"SUMIF(Data!$W$2:$W$10177,$C68,Data!$Y$2:$Y$10177)","v":0}]
[null,null,9900000234,234,"SUPPORT OF STEEL","METAL",10,0,0,{"$f":"SUMIF(Data!$H$2:$H$10177,$C69,Data!$D$2:$D$10177)","v":0},{"$f":"SUMIF(Data!$H$2:$H$10177,$C69,Data!$J$2:$J$10177)","v":0},{"$f":"SUMIF(Data!$K$2:$K$10177,$C69,Data!$M$2:$M$10177)","v":0},{"$f":"SUMIF(Data!$N$2:$N$10177,$C69,Data!$P$2:$P$10177)","v":0},{"$f":"SUMIF(Data!$Q$2:$R$10177,$C69,Data!$S$2:$S$10177)","v":0},{"$f":"SUMIF(Data!$T$2:$U$10177,$C69,Data!$V$2:$V$10177)","v":0},{"$f":"SUMIF(Data!$W$2:$W$10177,$C69,Data!$Y$2:$Y$10177)","v":0}]
[null,null,9900000236,236,"LID OF PLYWOOD","WOOD",12.141999999999999,0,0,{"$f":"SUMIF(Data!$H$2:$H$10177,$C70,Data!$D$2:$D$10177)","v":0},{"$f":"SUMIF(Data!$H$2:$H$10177,$C70,Data!$J$2:$J$10177)","v":0},{"$f":"SUMIF(Data!$K$2:$K$10177,$C70,Data!$M$2:$M$10177)","v":0},{"$f":"SUMIF(Data!$N$2:$N$10177,$C70,Data!$P$2:$P$10177)","v":0},{"$f":"SUMIF(Data!$Q$2:$R$10177,$C70,Data!$S$2:$S$10177)","v":0},{"$f":"SUMIF(Data!$T$2:$U$10177,$C70,Data!$V$2:$V$10177)","v":0},{"$f":"SUMIF(Data!$W$2:$W$10177,$C70,Data!$Y$2:$Y$10177)","v":0}]
[null,null,9900000260,260,"SPACER OF FOAM","PLASTIC",0.22,0,0,{"$f":"SUMIF(Data!$H$2:$H$10177,$C71,Data!$D$2:$D$10177)","v":0},{"$f":"SUMIF(Data!$H$2:$H$10177,$C71,Data!$J$2:$J$10177)","v":0},{"$f":"SUMIF(Data!$K$2:$K$10177,$C71,Data!$M$2:$M$10177)","v":0},{"$f":"SUMIF(Data!$N$2:$N$10177,$C71,Data!$P$2:$P$10177)","v":0},{"$f":"SUMIF(Data!$Q$2:$R$10177,$C71,Data!$S$2:$S$10177)","v":0},{"$f":"SUMIF(Data!$T$2:$U$10177,$C71,Data!$V$2:$V$10177)","v":0},{"$f":"SUMIF(Data!$W$2:$W$10177,$C71,Data!$Y$2:$Y$10177)","v":0}]
[null,null,9900000268,268,"SPACER OF CARDBOARD","CARDBOARD",0.14000000000000001,0,0,{"$f":"SUMIF(Data!$H$2:$H$10177,$C72,Data!$D$2:$D$10177)","v":0},{"$f":"SUMIF(Data!$H$2:$H$10177,$C72,Data!$J$2:$J$10177)","v":0},{"$f":"SUMIF(Data!$K$2:$K$10177,$C72,Data!$M$2:$M$10177)","v":0},{"$f":"SUMIF(Data!$N$2:$N$10177,$C72,Data!$P$2:$P$10177)","v":0},{"$f":"SUMIF(Data!$Q$2:$R$10177,$C72,Data!$S$2:$S$10177)","v":0},{"$f":"SUMIF(Data!$T$2:$U$10177,$C72,Data!$V$2:$V$10177)","v":0},{"$f":"SUMIF(Data!$W$2:$W$10177,$C72,Data!$Y$2:$Y$10177)","v":0}]
[null,null,9900000270,270,"SPACER OF WOOD","WOOD",1,0,0,{"$f":"SUMIF(Data!$H$2:$H$10177,$C73,Data!$D$2:$D$10177)","v":0},{"$f":"SUMIF(Data!$H$2:$H$10177,$C73,Data!$J$2:$J$10177)","v":0},{"$f":"SUMIF(Data!$K$2:$K$10177,$C73,Data!$M$2:$M$10177)","v":0},{"$f":"SUMIF(Data!$N$2:$N$10177,$C73,Data!$P$2:$P$10177)","v":0},{"$f":"SUMIF(Data!$Q$2:$R$10177,$C73,Data!$S$2:$S$10177)","v":0},{"$f":"SUMIF(Data!$T$2:$U$10177,$C73,Data!$V$2:$V$10177)","v":0},{"$f":"SUMIF(Data!$W$2:$W$10177,$C73,Data!$Y$2:$Y$10177)","v":0}]
[null,null,9900000274,274,"SPACER OF PLASTIC","PLASTIC",1.4,0,0,{"$f":"SUMIF(Data!$H$2:$H$10177,$C74,Data!$D$2:$D$10177)","v":0},{"$f":"SUMIF(Data!$H$2:$H$10177,$C74,Data!$J$2:$J$10177)","v":0},{"$f":"SUMIF(Data!$K$2:$K$10177,$C74,Data!$M$2:$M$10177)","v":0},{"$f":"SUMIF(Data!$N$2:$N$10177,$C74,Data!$P$2:$P$10177)","v":0},{"$f":"SUMIF(Data!$Q$2:$R$10177,$C74,Data!$S$2:$S$10177)","v":0},{"$f":"SUMIF(Data!$T$2:$U$10177,$C74,Data!$V$2:$V$10177)","v":0},{"$f":"SUMIF(Data!$W$2:$W$10177,$C74,Data!$Y$2:$Y$10177)","v":0}]
[null,null,9900000284,284,"RACK OF STEEL","METAL",265,0,0,{"$f":"SUMIF(Data!$H$2:$H$10177,$C75,Data!$D$2:$D$10177)","v":0},{"$f":"SUMIF(Data!$H$2:$H$10177,$C75,Data!$J$2:$J$10177)","v":0},{"$f":"SUMIF(Data!$K$2:$K$10177,$C75,Data!$M$2:$M$10177)","v":0},{"$f":"SUMIF(Data!$N$2:$N$10177,$C75,Data!$P$2:$P$10177)","v":0},{"$f":"SUMIF(Data!$Q$2:$R$10177,$C75,Data!$S$2:$S$10177)","v":0},{"$f":"SUMIF(Data!$T$2:$U$10177,$C75,Data!$V$2:$V$10177)","v":0},{"$f":"SUMIF(Data!$W$2:$W$10177,$C75,Data!$Y$2:$Y$10177)","v":0}]
[null,null,9900000285,285,"RACK OF STEEL","METAL",290,0,0,{"$f":"SUMIF(Data!$H$2:$H$10177,$C76,Data!$D$2:$D$10177)","v":0},{"$f":"SUMIF(Data!$H$2:$H$10177,$C76,Data!$J$2:$J$10177)","v":0},{"$f":"SUMIF(Data!$K$2:$K$10177,$C76,Data!$M$2:$M$10177)","v":0},{"$f":"SUMIF(Data!$N$2:$N$10177,$C76,Data!$P$2:$P$10177)","v":0},{"$f":"SUMIF(Data!$Q$2:$R$10177,$C76,Data!$S$2:$S$10177)","v":0},{"$f":"SUMIF(Data!$T$2:$U$10177,$C76,Data!$V$2:$V$10177)","v":0},{"$f":"SUMIF(Data!$W$2:$W$10177,$C76,Data!$Y$2:$Y$10177)","v":0}]
[null,null,9900000287,287,"RACK OF STEEL","METAL",95,0,0,{"$f":"SUMIF(Data!$H$2:$H$10177,$C77,Data!$D$2:$D$10177)","v":0},{"$f":"SUMIF(Data!$H$2:$H$10177,$C77,Data!$J$2:$J$10177)","v":0},{"$f":"SUMIF(Data!$K$2:$K$10177,$C77,Data!$M$2:$M$10177)","v":0},{"$f":"SUMIF(Data!$N$2:$N$10177,$C77,Data!$P$2:$P$10177)","v":0},{"$f":"SUMIF(Data!$Q$2:$R$10177,$C77,Data!$S$2:$S$10177)","v":0},{"$f":"SUMIF(Data!$T$2:$U$10177,$C77,Data!$V$2:$V$10177)","v":0},{"$f":"SUMIF(Data!$W$2:$W$10177,$C77,Data!$Y$2:$Y$10177)","v":0}]
[null,null,9900000288,288,"FIXING SPACER OF STEEL/ALU","METAL",3.35,0,0,{"$f":"SUMIF(Data!$H$2:$H$10177,$C78,Data!$D$2:$D$10177)","v":0},{"$f":"SUMIF(Data!$H$2:$H$10177,$C78,Data!$J$2:$J$10177)","v":0},{"$f":"SUMIF(Data!$K$2:$K$10177,$C78,Data!$M$2:$M$10177)","v":0},{"$f":"SUMIF(Data!$N$2:$N$10177,$C78,Data!$P$2:$P$10177)","v":0},{"$f":"SUMIF(Data!$Q$2:$R$10177,$C78,Data!$S$2:$S$10177)","v":0},{"$f":"SUMIF(Data!$T$2:$U$10177,$C78,Data!$V$2:$V$10177)","v":0},{"$f":"SUMIF(Data!$W$2:$W$10177,$C78,Data!$Y$2:$Y$10177)","v":0}]
[null,null,9900000291,291,"PLASTIC CONTAINER FSC","PLASTIC",45.73,0,0,{"$f":"SUMIF(Data!$H$2:$H$10177,$C79,Data!$D$2:$D$10177)","v":0},{"$f":"SUMIF(Data!$H$2:$H$10177,$C79,Data!$J$2:$J$10177)","v":0},{"$f":"SUMIF(Data!$K$2:$K$10177,$C79,Data!$M$2:$M$10177)","v":0},{"$f":"SUMIF(Data!$N$2:$N$10177,$C79,Data!$P$2:$P$10177)","v":0},{"$f":"SUMIF(Data!$Q$2:$R$10177,$C79,Data!$S$2:$S$10177)","v":0},{"$f":"SUMIF(Data!$T$2:$U$10177,$C79,Data!$V$2:$V$10177)","v":0},{"$f":"SUMIF(Data!$W$2:$W$10177,$C79,Data!$Y$2:$Y$10177)","v":0}]
[null,null,9900000292,292,"PLASTIC CONTAINER FLC","PLASTIC",65.971000000000004,{"$f":"G80*I80","v":0},{"$f":"SUM(J80:P80)","v":0},{"$f":"SUMIF(Data!$H$2:$H$10177,$C80,Data!$D$2:$D$10177)","v":0},{"$f":"SUMIF(Data!$H$2:$H$10177,$C80,Data!$J$2:$J$10177)","v":0},{"$f":"SUMIF(Data!$K$2:$K$10177,$C80,Data!$M$2:$M$10177)","v":0},{"$f":"SUMIF(Data!$N$2:$N$10177,$C80,Data!$P$2:$P$10177)","v":0},{"$f":"SUMIF(Data!$Q$2:$R$10177,$C80,Data!$S$2:$S$10177)","v":0},{"$f":"SUMIF(Data!$T$2:$U$10177,$C80,Data!$V$2:$V$10177)","v":0},{"$f":"SUMIF(Data!$W$2:$W$10177,$C80,Data!$Y$2:$Y$10177)","v":0}]
[null,null,9900000293,293,"PLASTIC CONTAINER FHC","PLASTIC",93.091999999999999,0,0,{"$f":"SUMIF(Data!$H$2:$H$10177,$C81,Data!$D$2:$D$10177)","v":0},{"$f":"SUMIF(Data!$H$2:$H$10177,$C81,Data!$J$2:$J$10177)","v":0},{"$f":"SUMIF(Data!$K$2:$K$10177,$C81,Data!$M$2:$M$10177)","v":0},{"$f":"SUMIF(Data!$N$2:$N$10177,$C81,Data!$P$2:$P$10177)","v":0},{"$f":"SUMIF(Data!$Q$2:$R$10177,$C81,Data!$S$2:$S$10177)","v":0},{"$f":"SUMIF(Data!$T$2:$U$10177,$C81,Data!$V$2:$V$10177)","v":0},{"$f":"SUMIF(Data!$W$2:$W$10177,$C81,Data!$Y$2:$Y$10177)","v":0}]
[null,null,9900000296,296,"DUST COVER VOLVO FXC","PLASTIC",4,0,0,{"$f":"SUMIF(Data!$H$2:$H$10177,$C82,Data!$D$2:$D$10177)","v":0},{"$f":"SUMIF(Data!$H$2:$H$10177,$C82,Data!$J$2:$J$10177)","v":0},{"$f":"SUMIF(Data!$K$2:$K$10177,$C82,Data!$M$2:$M$10177)","v":0},{"$f":"SUMIF(Data!$N$2:$N$10177,$C82,Data!$P$2:$P$10177)","v":0},{"$f":"SUMIF(Data!$Q$2:$R$10177,$C82,Data!$S$2:$S$10177)","v":0},{"$f":"SUMIF(Data!$T$2:$U$10177,$C82,Data!$V$2:$V$10177)","v":0},{"$f":"SUMIF(Data!$W$2:$W$10177,$C82,Data!$Y$2:$Y$10177)","v":0}]
[null,null,9900000297,297,"SPACER FOAM / CARD","COMPOSITE",0.41,0,0,{"$f":"SUMIF(Data!$H$2:$H$10177,$C83,Data!$D$2:$D$10177)","v":0},{"$f":"SUMIF(Data!$H$2:$H$10177,$C83,Data!$J$2:$J$10177)","v":0},{"$f":"SUMIF(Data!$K$2:$K$10177,$C83,Data!$M$2:$M$10177)","v":0},{"$f":"SUMIF(Data!$N$2:$N$10177,$C83,Data!$P$2:$P$10177)","v":0},{"$f":"SUMIF(Data!$Q$2:$R$10177,$C83,Data!$S$2:$S$10177)","v":0},{"$f":"SUMIF(Data!$T$2:$U$10177,$C83,Data!$V$2:$V$10177)","v":0},{"$f":"SUMIF(Data!$W$2:$W$10177,$C83,Data!$Y$2:$Y$10177)","v":0}]
[null,null,9900000299,299,"PLASTIC COVER FXC","PLASTIC",0.42,0,0,{"$f":"SUMIF(Data!$H$2:$H$10177,$C84,Data!$D$2:$D$10177)","v":0},{"$f":"SUMIF(Data!$H$2:$H$10177,$C84,Data!$J$2:$J$10177)","v":0},{"$f":"SUMIF(Data!$K$2:$K$10177,$C84,Data!$M$2:$M$10177)","v":0},{"$f":"SUMIF(Data!$N$2:$N$10177,$C84,Data!$P$2:$P$10177)","v":0},{"$f":"SUMIF(Data!$Q$2:$R$10177,$C84,Data!$S$2:$S$10177)","v":0},{"$f":"SUMIF(Data!$T$2:$U$10177,$C84,Data!$V$2:$V$10177)","v":0},{"$f":"SUMIF(Data!$W$2:$W$10177,$C84,Data!$Y$2:$Y$10177)","v":0}]
[null,null,9900000340,340,"SUPPORT OF CELL.PLASTIC","PLASTIC",0.06,0,0,{"$f":"SUMIF(Data!$H$2:$H$10177,$C85,Data!$D$2:$D$10177)","v":0},{"$f":"SUMIF(Data!$H$2:$H$10177,$C85,Data!$J$2:$J$10177)","v":0},{"$f":"SUMIF(Data!$K$2:$K$10177,$C85,Data!$M$2:$M$10177)","v":0},{"$f":"SUMIF(Data!$N$2:$N$10177,$C85,Data!$P$2:$P$10177)","v":0},{"$f":"SUMIF(Data!$Q$2:$R$10177,$C85,Data!$S$2:$S$10177)","v":0},{"$f":"SUMIF(Data!$T$2:$U$10177,$C85,Data!$V$2:$V$10177)","v":0},{"$f":"SUMIF(Data!$W$2:$W$10177,$C85,Data!$Y$2:$Y$10177)","v":0}]
[null,null,9900000341,341,"SUPPORT OF CELL.PLASTIC","PLASTIC",0.14000000000000001,0,0,{"$f":"SUMIF(Data!$H$2:$H$10177,$C86,Data!$D$2:$D$10177)","v":0},{"$f":"SUMIF(Data!$H$2:$H$10177,$C86,Data!$J$2:$J$10177)","v":0},{"$f":"SUMIF(Data!$K$2:$K$10177,$C86,Data!$M$2:$M$10177)","v":0},{"$f":"SUMIF(Data!$N$2:$N$10177,$C86,Data!$P$2:$P$10177)","v":0},{"$f":"SUMIF(Data!$Q$2:$R$10177,$C86,Data!$S$2:$S$10177)","v":0},{"$f":"SUMIF(Data!$T$2:$U$10177,$C86,Data!$V$2:$V$10177)","v":0},{"$f":"SUMIF(Data!$W$2:$W$10177,$C86,Data!$Y$2:$Y$10177)","v":0}]
[null,null,9900000358,358,"SPACER OF WOOD","WOOD",2,0,0,{"$f":"SUMIF(Data!$H$2:$H$10177,$C87,Data!$D$2:$D$10177)","v":0},{"$f":"SUMIF(Data!$H$2:$H$10177,$C87,Data!$J$2:$J$10177)","v":0},{"$f":"SUMIF(Data!$K$2:$K$10177,$C87,Data!$M$2:$M$10177)","v":0},{"$f":"SUMIF(Data!$N$2:$N$10177,$C87,Data!$P$2:$P$10177)","v":0},{"$f":"SUMIF(Data!$Q$2:$R$10177,$C87,Data!$S$2:$S$10177)","v":0},{"$f":"SUMIF(Data!$T$2:$U$10177,$C87,Data!$V$2:$V$10177)","v":0},{"$f":"SUMIF(Data!$W$2:$W$10177,$C87,Data!$Y$2:$Y$10177)","v":0}]
[null,null,9900000365,365,"HANGER OF STEEL","METAL",26,0,0,{"$f":"SUMIF(Data!$H$2:$H$10177,$C88,Data!$D$2:$D$10177)","v":0},{"$f":"SUMIF(Data!$H$2:$H$10177,$C88,Data!$J$2:$J$10177)","v":0},{"$f":"SUMIF(Data!$K$2:$K$10177,$C88,Data!$M$2:$M$10177)","v":0},{"$f":"SUMIF(Data!$N$2:$N$10177,$C88,Data!$P$2:$P$10177)","v":0},{"$f":"SUMIF(Data!$Q$2:$R$10177,$C88,Data!$S$2:$S$10177)","v":0},{"$f":"SUMIF(Data!$T$2:$U$10177,$C88,Data!$V$2:$V$10177)","v":0},{"$f":"SUMIF(Data!$W$2:$W$10177,$C88,Data!$Y$2:$Y$10177)","v":0}]
[null,null,9900000387,387,"RACK OF STEEL","METAL",125,0,0,{"$f":"SUMIF(Data!$H$2:$H$10177,$C89,Data!$D$2:$D$10177)","v":0},{"$f":"SUMIF(Data!$H$2:$H$10177,$C89,Data!$J$2:$J$10177)","v":0},{"$f":"SUMIF(Data!$K$2:$K$10177,$C89,Data!$M$2:$M$10177)","v":0},{"$f":"SUMIF(Data!$N$2:$N$10177,$C89,Data!$P$2:$P$10177)","v":0},{"$f":"SUMIF(Data!$Q$2:$R$10177,$C89,Data!$S$2:$S$10177)","v":0},{"$f":"SUMIF(Data!$T$2:$U$10177,$C89,Data!$V$2:$V$10177)","v":0},{"$f":"SUMIF(Data!$W$2:$W$10177,$C89,Data!$Y$2:$Y$10177)","v":0}]
[null,null,9900000394,394,"RACK OF STEEL","METAL",220,0,0,{"$f":"SUMIF(Data!$H$2:$H$10177,$C90,Data!$D$2:$D$10177)","v":0},{"$f":"SUMIF(Data!$H$2:$H$10177,$C90,Data!$J$2:$J$10177)","v":0},{"$f":"SUMIF(Data!$K$2:$K$10177,$C90,Data!$M$2:$M$10177)","v":0},{"$f":"SUMIF(Data!$N$2:$N$10177,$C90,Data!$P$2:$P$10177)","v":0},{"$f":"SUMIF(Data!$Q$2:$R$10177,$C90,Data!$S$2:$S$10177)","v":0},{"$f":"SUMIF(Data!$T$2:$U$10177,$C90,Data!$V$2:$V$10177)","v":0},{"$f":"SUMIF(Data!$W$2:$W$10177,$C90,Data!$Y$2:$Y$10177)","v":0}]
[null,null,9900000399,399,"SPACER OF PLASTIC / FOAM","PLASTIC",0.7,0,0,{"$f":"SUMIF(Data!$H$2:$H$10177,$C91,Data!$D$2:$D$10177)","v":0},{"$f":"SUMIF(Data!$H$2:$H$10177,$C91,Data!$J$2:$J$10177)","v":0},{"$f":"SUMIF(Data!$K$2:$K$10177,$C91,Data!$M$2:$M$10177)","v":0},{"$f":"SUMIF(Data!$N$2:$N$10177,$C91,Data!$P$2:$P$10177)","v":0},{"$f":"SUMIF(Data!$Q$2:$R$10177,$C91,Data!$S$2:$S$10177)","v":0},{"$f":"SUMIF(Data!$T$2:$U$10177,$C91,Data!$V$2:$V$10177)","v":0},{"$f":"SUMIF(Data!$W$2:$W$10177,$C91,Data!$Y$2:$Y$10177)","v":0}]
[null,null,9900000400,400,"COMBITAINER","METAL",117.9,0,0,{"$f":"SUMIF(Data!$H$2:$H$10177,$C92,Data!$D$2:$D$10177)","v":0},{"$f":"SUMIF(Data!$H$2:$H$10177,$C92,Data!$J$2:$J$10177)","v":0},{"$f":"SUMIF(Data!$K$2:$K$10177,$C92,Data!$M$2:$M$10177)","v":0},{"$f":"SUMIF(Data!$N$2:$N$10177,$C92,Data!$P$2:$P$10177)","v":0},{"$f":"SUMIF(Data!$Q$2:$R$10177,$C92,Data!$S$2:$S$10177)","v":0},{"$f":"SUMIF(Data!$T$2:$U$10177,$C92,Data!$V$2:$V$10177)","v":0},{"$f":"SUMIF(Data!$W$2:$W$10177,$C92,Data!$Y$2:$Y$10177)","v":0}]
[null,null,9900000402,402,"PALLET OF WOOD","WOOD",26,0,0,{"$f":"SUMIF(Data!$H$2:$H$10177,$C93,Data!$D$2:$D$10177)","v":0},{"$f":"SUMIF(Data!$H$2:$H$10177,$C93,Data!$J$2:$J$10177)","v":0},{"$f":"SUMIF(Data!$K$2:$K$10177,$C93,Data!$M$2:$M$10177)","v":0},{"$f":"SUMIF(Data!$N$2:$N$10177,$C93,Data!$P$2:$P$10177)","v":0},{"$f":"SUMIF(Data!$Q$2:$R$10177,$C93,Data!$S$2:$S$10177)","v":0},{"$f":"SUMIF(Data!$T$2:$U$10177,$C93,Data!$V$2:$V$10177)","v":0},{"$f":"SUMIF(Data!$W$2:$W$10177,$C93,Data!$Y$2:$Y$10177)","v":0}]
[null,null,9900000403,403,"FIXING SPACER OF PLASTIC","PLASTIC",10,0,0,{"$f":"SUMIF(Data!$H$2:$H$10177,$C94,Data!$D$2:$D$10177)","v":0},{"$f":"SUMIF(Data!$H$2:$H$10177,$C94,Data!$J$2:$J$10177)","v":0},{"$f":"SUMIF(Data!$K$2:$K$10177,$C94,Data!$M$2:$M$10177)","v":0},{"$f":"SUMIF(Data!$N$2:$N$10177,$C94,Data!$P$2:$P$10177)","v":0},{"$f":"SUMIF(Data!$Q$2:$R$10177,$C94,Data!$S$2:$S$10177)","v":0},{"$f":"SUMIF(Data!$T$2:$U$10177,$C94,Data!$V$2:$V$10177)","v":0},{"$f":"SUMIF(Data!$W$2:$W$10177,$C94,Data!$Y$2:$Y$10177)","v":0}]
[null,null,9900000412,{"$f":"C95-9900000000","v":412},"Combitainer","METAL",91,0,0,{"$f":"SUMIF(Data!$H$2:$H$10177,$C95,Data!$D$2:$D$10177)","v":0},{"$f":"SUMIF(Data!$H$2:$H$10177,$C95,Data!$J$2:$J$10177)","v":0},{"$f":"SUMIF(Data!$K$2:$K$10177,$C95,Data!$M$2:$M$10177)","v":0},{"$f":"SUMIF(Data!$N$2:$N$10177,$C95,Data!$P$2:$P$10177)","v":0},{"$f":"SUMIF(Data!$Q$2:$R$10177,$C95,Data!$S$2:$S$10177)","v":0},{"$f":"SUMIF(Data!$T$2:$U$10177,$C95,Data!$V$2:$V$10177)","v":0},{"$f":"SUMIF(Data!$W$2:$W$10177,$C95,Data!$Y$2:$Y$10177)","v":0}]
[null,null,9900000413,413,"RACK OF STEEL","METAL",135,0,0,{"$f":"SUMIF(Data!$H$2:$H$10177,$C96,Data!$D$2:$D$10177)","v":0},{"$f":"SUMIF(Data!$H$2:$H$10177,$C96,Data!$J$2:$J$10177)","v":0},{"$f":"SUMIF(Data!$K$2:$K$10177,$C96,Data!$M$2:$M$10177)","v":0},{"$f":"SUMIF(Data!$N$2:$N$10177,$C96,Data!$P$2:$P$10177)","v":0},{"$f":"SUMIF(Data!$Q$2:$R$10177,$C96,Data!$S$2:$S$10177)","v":0},{"$f":"SUMIF(Data!$T$2:$U$10177,$C96,Data!$V$2:$V$10177)","v":0},{"$f":"SUMIF(Data!$W$2:$W$10177,$C96,Data!$Y$2:$Y$10177)","v":0}]
[null,null,9900000415,415,"RACK OF STEEL","METAL",333,0,0,{"$f":"SUMIF(Data!$H$2:$H$10177,$C97,Data!$D$2:$D$10177)","v":0},{"$f":"SUMIF(Data!$H$2:$H$10177,$C97,Data!$J$2:$J$10177)","v":0},{"$f":"SUMIF(Data!$K$2:$K$10177,$C97,Data!$M$2:$M$10177)","v":0},{"$f":"SUMIF(Data!$N$2:$N$10177,$C97,Data!$P$2:$P$10177)","v":0},{"$f":"SUMIF(Data!$Q$2:$R$10177,$C97,Data!$S$2:$S$10177)","v":0},{"$f":"SUMIF(Data!$T$2:$U$10177,$C97,Data!$V$2:$V$10177)","v":0},{"$f":"SUMIF(Data!$W$2:$W$10177,$C97,Data!$Y$2:$Y$10177)","v":0}]
[null,null,9900000416,416,"FIXING SPACER OF PLASTIC","PLASTIC",10,0,0,{"$f":"SUMIF(Data!$H$2:$H$10177,$C98,Data!$D$2:$D$10177)","v":0},{"$f":"SUMIF(Data!$H$2:$H$10177,$C98,Data!$J$2:$J$10177)","v":0},{"$f":"SUMIF(Data!$K$2:$K$10177,$C98,Data!$M$2:$M$10177)","v":0},{"$f":"SUMIF(Data!$N$2:$N$10177,$C98,Data!$P$2:$P$10177)","v":0},{"$f":"SUMIF(Data!$Q$2:$R$10177,$C98,Data!$S$2:$S$10177)","v":0},{"$f":"SUMIF(Data!$T$2:$U$10177,$C98,Data!$V$2:$V$10177)","v":0},{"$f":"SUMIF(Data!$W$2:$W$10177,$C98,Data!$Y$2:$Y$10177)","v":0}]
[null,null,9900000419,419,"COMBITAINER SIDES (Set of 4 = 2 short, 2 long)","METAL",55,0,0,{"$f":"SUMIF(Data!$H$2:$H$10177,$C99,Data!$D$2:$D$10177)","v":0},{"$f":"SUMIF(Data!$H$2:$H$10177,$C99,Data!$J$2:$J$10177)","v":0},{"$f":"SUMIF(Data!$K$2:$K$10177,$C99,Data!$M$2:$M$10177)","v":0},{"$f":"SUMIF(Data!$N$2:$N$10177,$C99,Data!$P$2:$P$10177)","v":0},{"$f":"SUMIF(Data!$Q$2:$R$10177,$C99,Data!$S$2:$S$10177)","v":0},{"$f":"SUMIF(Data!$T$2:$U$10177,$C99,Data!$V$2:$V$10177)","v":0},{"$f":"SUMIF(Data!$W$2:$W$10177,$C99,Data!$Y$2:$Y$10177)","v":0}]
[null,null,9900000421,421,"BOX OF PLASTIC","PLASTIC",0.96,0,0,{"$f":"SUMIF(Data!$H$2:$H$10177,$C100,Data!$D$2:$D$10177)","v":0},{"$f":"SUMIF(Data!$H$2:$H$10177,$C100,Data!$J$2:$J$10177)","v":0},{"$f":"SUMIF(Data!$K$2:$K$10177,$C100,Data!$M$2:$M$10177)","v":0},{"$f":"SUMIF(Data!$N$2:$N$10177,$C100,Data!$P$2:$P$10177)","v":0},{"$f":"SUMIF(Data!$Q$2:$R$10177,$C100,Data!$S$2:$S$10177)","v":0},{"$f":"SUMIF(Data!$T$2:$U$10177,$C100,Data!$V$2:$V$10177)","v":0},{"$f":"SUMIF(Data!$W$2:$W$10177,$C100,Data!$Y$2:$Y$10177)","v":0}]
[null,null,9900000459,459,"SPACER OF CELL.PLASTIC","PLASTIC",0.1,0,0,{"$f":"SUMIF(Data!$H$2:$H$10177,$C101,Data!$D$2:$D$10177)","v":0},{"$f":"SUMIF(Data!$H$2:$H$10177,$C101,Data!$J$2:$J$10177)","v":0},{"$f":"SUMIF(Data!$K$2:$K$10177,$C101,Data!$M$2:$M$10177)","v":0},{"$f":"SUMIF(Data!$N$2:$N$10177,$C101,Data!$P$2:$P$10177)","v":0},{"$f":"SUMIF(Data!$Q$2:$R$10177,$C101,Data!$S$2:$S$10177)","v":0},{"$f":"SUMIF(Data!$T$2:$U$10177,$C101,Data!$V$2:$V$10177)","v":0},{"$f":"SUMIF(Data!$W$2:$W$10177,$C101,Data!$Y$2:$Y$10177)","v":0}]
[null,null,9900000460,460,"BOX OF PLASTIC (ESD)","PLASTIC",2.16,0,0,{"$f":"SUMIF(Data!$H$2:$H$10177,$C102,Data!$D$2:$D$10177)","v":0},{"$f":"SUMIF(Data!$H$2:$H$10177,$C102,Data!$J$2:$J$10177)","v":0},{"$f":"SUMIF(Data!$K$2:$K$10177,$C102,Data!$M$2:$M$10177)","v":0},{"$f":"SUMIF(Data!$N$2:$N$10177,$C102,Data!$P$2:$P$10177)","v":0},{"$f":"SUMIF(Data!$Q$2:$R$10177,$C102,Data!$S$2:$S$10177)","v":0},{"$f":"SUMIF(Data!$T$2:$U$10177,$C102,Data!$V$2:$V$10177)","v":0},{"$f":"SUMIF(Data!$W$2:$W$10177,$C102,Data!$Y$2:$Y$10177)","v":0}]
[null,null,9900000461,461,"LID OF PLASTIC (ESD)","PLASTIC",0.97,0,0,{"$f":"SUMIF(Data!$H$2:$H$10177,$C103,Data!$D$2:$D$10177)","v":0},{"$f":"SUMIF(Data!$H$2:$H$10177,$C103,Data!$J$2:$J$10177)","v":0},{"$f":"SUMIF(Data!$K$2:$K$10177,$C103,Data!$M$2:$M$10177)","v":0},{"$f":"SUMIF(Data!$N$2:$N$10177,$C103,Data!$P$2:$P$10177)","v":0},{"$f":"SUMIF(Data!$Q$2:$R$10177,$C103,Data!$S$2:$S$10177)","v":0},{"$f":"SUMIF(Data!$T$2:$U$10177,$C103,Data!$V$2:$V$10177)","v":0},{"$f":"SUMIF(Data!$W$2:$W$10177,$C103,Data!$Y$2:$Y$10177)","v":0}]
[null,null,9900000462,462,"BOX OF PLASTIC (ESD)","PLASTIC",1.07,0,0,{"$f":"SUMIF(Data!$H$2:$H$10177,$C104,Data!$D$2:$D$10177)","v":0},{"$f":"SUMIF(Data!$H$2:$H$10177,$C104,Data!$J$2:$J$10177)","v":0},{"$f":"SUMIF(Data!$K$2:$K$10177,$C104,Data!$M$2:$M$10177)","v":0},{"$f":"SUMIF(Data!$N$2:$N$10177,$C104,Data!$P$2:$P$10177)","v":0},{"$f":"SUMIF(Data!$Q$2:$R$10177,$C104,Data!$S$2:$S$10177)","v":0},{"$f":"SUMIF(Data!$T$2:$U$10177,$C104,Data!$V$2:$V$10177)","v":0},{"$f":"SUMIF(Data!$W$2:$W$10177,$C104,Data!$Y$2:$Y$10177)","v":0}]
[null,null,9900000463,463,"LID OF PLASTIC (ESD)","PLASTIC",0.45,0,0,{"$f":"SUMIF(Data!$H$2:$H$10177,$C105,Data!$D$2:$D$10177)","v":0},{"$f":"SUMIF(Data!$H$2:$H$10177,$C105,Data!$J$2:$J$10177)","v":0},{"$f":"SUMIF(Data!$K$2:$K$10177,$C105,Data!$M$2:$M$10177)","v":0},{"$f":"SUMIF(Data!$N$2:$N$10177,$C105,Data!$P$2:$P$10177)","v":0},{"$f":"SUMIF(Data!$Q$2:$R$10177,$C105,Data!$S$2:$S$10177)","v":0},{"$f":"SUMIF(Data!$T$2:$U$10177,$C105,Data!$V$2:$V$10177)","v":0},{"$f":"SUMIF(Data!$W$2:$W$10177,$C105,Data!$Y$2:$Y$10177)","v":0}]
[null,null,9900000464,464,"SLEEVE OF PLASTIC (ESD)","PLASTIC",4.1500000000000004,0,0,{"$f":"SUMIF(Data!$H$2:$H$10177,$C106,Data!$D$2:$D$10177)","v":0},{"$f":"SUMIF(Data!$H$2:$H$10177,$C106,Data!$J$2:$J$10177)","v":0},{"$f":"SUMIF(Data!$K$2:$K$10177,$C106,Data!$M$2:$M$10177)","v":0},{"$f":"SUMIF(Data!$N$2:$N$10177,$C106,Data!$P$2:$P$10177)","v":0},{"$f":"SUMIF(Data!$Q$2:$R$10177,$C106,Data!$S$2:$S$10177)","v":0},{"$f":"SUMIF(Data!$T$2:$U$10177,$C106,Data!$V$2:$V$10177)","v":0},{"$f":"SUMIF(Data!$W$2:$W$10177,$C106,Data!$Y$2:$Y$10177)","v":0}]
[null,null,9900000465,465,"PALLET OF PLASTIC (ESD)","PLASTIC",10,0,0,{"$f":"SUMIF(Data!$H$2:$H$10177,$C107,Data!$D$2:$D$10177)","v":0},{"$f":"SUMIF(Data!$H$2:$H$10177,$C107,Data!$J$2:$J$10177)","v":0},{"$f":"SUMIF(Data!$K$2:$K$10177,$C107,Data!$M$2:$M$10177)","v":0},{"$f":"SUMIF(Data!$N$2:$N$10177,$C107,Data!$P$2:$P$10177)","v":0},{"$f":"SUMIF(Data!$Q$2:$R$10177,$C107,Data!$S$2:$S$10177)","v":0},{"$f":"SUMIF(Data!$T$2:$U$10177,$C107,Data!$V$2:$V$10177)","v":0},{"$f":"SUMIF(Data!$W$2:$W$10177,$C107,Data!$Y$2:$Y$10177)","v":0}]
[null,null,9900000466,466,"LID OF PLASTIC (ESD)","PLASTIC",5,0,0,{"$f":"SUMIF(Data!$H$2:$H$10177,$C108,Data!$D$2:$D$10177)","v":0},{"$f":"SUMIF(Data!$H$2:$H$10177,$C108,Data!$J$2:$J$10177)","v":0},{"$f":"SUMIF(Data!$K$2:$K$10177,$C108,Data!$M$2:$M$10177)","v":0},{"$f":"SUMIF(Data!$N$2:$N$10177,$C108,Data!$P$2:$P$10177)","v":0},{"$f":"SUMIF(Data!$Q$2:$R$10177,$C108,Data!$S$2:$S$10177)","v":0},{"$f":"SUMIF(Data!$T$2:$U$10177,$C108,Data!$V$2:$V$10177)","v":0},{"$f":"SUMIF(Data!$W$2:$W$10177,$C108,Data!$Y$2:$Y$10177)","v":0}]
[null,null,9900000467,467,"SLEEVE OF PLASTIC ","PLASTIC",13.3,0,0,{"$f":"SUMIF(Data!$H$2:$H$10177,$C109,Data!$D$2:$D$10177)","v":0},{"$f":"SUMIF(Data!$H$2:$H$10177,$C109,Data!$J$2:$J$10177)","v":0},{"$f":"SUMIF(Data!$K$2:$K$10177,$C109,Data!$M$2:$M$10177)","v":0},{"$f":"SUMIF(Data!$N$2:$N$10177,$C109,Data!$P$2:$P$10177)","v":0},{"$f":"SUMIF(Data!$Q$2:$R$10177,$C109,Data!$S$2:$S$10177)","v":0},{"$f":"SUMIF(Data!$T$2:$U$10177,$C109,Data!$V$2:$V$10177)","v":0},{"$f":"SUMIF(Data!$W$2:$W$10177,$C109,Data!$Y$2:$Y$10177)","v":0}]
[null,null,9900000468,468,"PALLET OF PLASTIC","PLASTIC",41.8,0,0,{"$f":"SUMIF(Data!$H$2:$H$10177,$C110,Data!$D$2:$D$10177)","v":0},{"$f":"SUMIF(Data!$H$2:$H$10177,$C110,Data!$J$2:$J$10177)","v":0},{"$f":"SUMIF(Data!$K$2:$K$10177,$C110,Data!$M$2:$M$10177)","v":0},{"$f":"SUMIF(Data!$N$2:$N$10177,$C110,Data!$P$2:$P$10177)","v":0},{"$f":"SUMIF(Data!$Q$2:$R$10177,$C110,Data!$S$2:$S$10177)","v":0},{"$f":"SUMIF(Data!$T$2:$U$10177,$C110,Data!$V$2:$V$10177)","v":0},{"$f":"SUMIF(Data!$W$2:$W$10177,$C110,Data!$Y$2:$Y$10177)","v":0}]
[null,null,9900000469,469,"LID OF PLASTIC","PLASTIC",17.899999999999999,0,0,{"$f":"SUMIF(Data!$H$2:$H$10177,$C111,Data!$D$2:$D$10177)","v":0},{"$f":"SUMIF(Data!$H$2:$H$10177,$C111,Data!$J$2:$J$10177)","v":0},{"$f":"SUMIF(Data!$K$2:$K$10177,$C111,Data!$M$2:$M$10177)","v":0},{"$f":"SUMIF(Data!$N$2:$N$10177,$C111,Data!$P$2:$P$10177)","v":0},{"$f":"SUMIF(Data!$Q$2:$R$10177,$C111,Data!$S$2:$S$10177)","v":0},{"$f":"SUMIF(Data!$T$2:$U$10177,$C111,Data!$V$2:$V$10177)","v":0},{"$f":"SUMIF(Data!$W$2:$W$10177,$C111,Data!$Y$2:$Y$10177)","v":0}]
[null,null,9900000480,480,"COMBITAINER OF PLASTIC/STEEL","PLASTIC",14.5,0,0,{"$f":"SUMIF(Data!$H$2:$H$10177,$C112,Data!$D$2:$D$10177)","v":0},{"$f":"SUMIF(Data!$H$2:$H$10177,$C112,Data!$J$2:$J$10177)","v":0},{"$f":"SUMIF(Data!$K$2:$K$10177,$C112,Data!$M$2:$M$10177)","v":0},{"$f":"SUMIF(Data!$N$2:$N$10177,$C112,Data!$P$2:$P$10177)","v":0},{"$f":"SUMIF(Data!$Q$2:$R$10177,$C112,Data!$S$2:$S$10177)","v":0},{"$f":"SUMIF(Data!$T$2:$U$10177,$C112,Data!$V$2:$V$10177)","v":0},{"$f":"SUMIF(Data!$W$2:$W$10177,$C112,Data!$Y$2:$Y$10177)","v":0}]
[null,null,9900000482,482,"SPACER OF FOAMED PLASTIC","PLASTIC",1.21,{"$f":"G113*I113","v":0},{"$f":"SUM(J113:P113)","v":0},{"$f":"SUMIF(Data!$H$2:$H$10177,$C113,Data!$D$2:$D$10177)","v":0},{"$f":"SUMIF(Data!$H$2:$H$10177,$C113,Data!$J$2:$J$10177)","v":0},{"$f":"SUMIF(Data!$K$2:$K$10177,$C113,Data!$M$2:$M$10177)","v":0},{"$f":"SUMIF(Data!$N$2:$N$10177,$C113,Data!$P$2:$P$10177)","v":0},{"$f":"SUMIF(Data!$Q$2:$R$10177,$C113,Data!$S$2:$S$10177)","v":0},{"$f":"SUMIF(Data!$T$2:$U$10177,$C113,Data!$V$2:$V$10177)","v":0},{"$f":"SUMIF(Data!$W$2:$W$10177,$C113,Data!$Y$2:$Y$10177)","v":0}]
[null,null,9900000490,490,"RACK OF STEEL","METAL",150,0,0,{"$f":"SUMIF(Data!$H$2:$H$10177,$C114,Data!$D$2:$D$10177)","v":0},{"$f":"SUMIF(Data!$H$2:$H$10177,$C114,Data!$J$2:$J$10177)","v":0},{"$f":"SUMIF(Data!$K$2:$K$10177,$C114,Data!$M$2:$M$10177)","v":0},{"$f":"SUMIF(Data!$N$2:$N$10177,$C114,Data!$P$2:$P$10177)","v":0},{"$f":"SUMIF(Data!$Q$2:$R$10177,$C114,Data!$S$2:$S$10177)","v":0},{"$f":"SUMIF(Data!$T$2:$U$10177,$C114,Data!$V$2:$V$10177)","v":0},{"$f":"SUMIF(Data!$W$2:$W$10177,$C114,Data!$Y$2:$Y$10177)","v":0}]
[null,null,9900000500,500,"BOX OF PLASTIC","PLASTIC",0.44600000000000001,0,0,{"$f":"SUMIF(Data!$H$2:$H$10177,$C115,Data!$D$2:$D$10177)","v":0},{"$f":"SUMIF(Data!$H$2:$H$10177,$C115,Data!$J$2:$J$10177)","v":0},{"$f":"SUMIF(Data!$K$2:$K$10177,$C115,Data!$M$2:$M$10177)","v":0},{"$f":"SUMIF(Data!$N$2:$N$10177,$C115,Data!$P$2:$P$10177)","v":0},{"$f":"SUMIF(Data!$Q$2:$R$10177,$C115,Data!$S$2:$S$10177)","v":0},{"$f":"SUMIF(Data!$T$2:$U$10177,$C115,Data!$V$2:$V$10177)","v":0},{"$f":"SUMIF(Data!$W$2:$W$10177,$C115,Data!$Y$2:$Y$10177)","v":0}]
[null,null,9900000501,501,"LID OF PLASTIC (One way)","PLASTIC",0.02,0,0,{"$f":"SUMIF(Data!$H$2:$H$10177,$C116,Data!$D$2:$D$10177)","v":0},{"$f":"SUMIF(Data!$H$2:$H$10177,$C116,Data!$J$2:$J$10177)","v":0},{"$f":"SUMIF(Data!$K$2:$K$10177,$C116,Data!$M$2:$M$10177)","v":0},{"$f":"SUMIF(Data!$N$2:$N$10177,$C116,Data!$P$2:$P$10177)","v":0},{"$f":"SUMIF(Data!$Q$2:$R$10177,$C116,Data!$S$2:$S$10177)","v":0},{"$f":"SUMIF(Data!$T$2:$U$10177,$C116,Data!$V$2:$V$10177)","v":0},{"$f":"SUMIF(Data!$W$2:$W$10177,$C116,Data!$Y$2:$Y$10177)","v":0}]
[null,null,9900000520,520,"FOIL OF PLASTIC","PLASTIC",0.06,0,0,{"$f":"SUMIF(Data!$H$2:$H$10177,$C117,Data!$D$2:$D$10177)","v":0},{"$f":"SUMIF(Data!$H$2:$H$10177,$C117,Data!$J$2:$J$10177)","v":0},{"$f":"SUMIF(Data!$K$2:$K$10177,$C117,Data!$M$2:$M$10177)","v":0},{"$f":"SUMIF(Data!$N$2:$N$10177,$C117,Data!$P$2:$P$10177)","v":0},{"$f":"SUMIF(Data!$Q$2:$R$10177,$C117,Data!$S$2:$S$10177)","v":0},{"$f":"SUMIF(Data!$T$2:$U$10177,$C117,Data!$V$2:$V$10177)","v":0},{"$f":"SUMIF(Data!$W$2:$W$10177,$C117,Data!$Y$2:$Y$10177)","v":0}]
[null,null,9900000556,556,"SPACER OF FOAMED PLASTIC","PLASTIC",7.0000000000000007E-2,0,0,{"$f":"SUMIF(Data!$H$2:$H$10177,$C118,Data!$D$2:$D$10177)","v":0},{"$f":"SUMIF(Data!$H$2:$H$10177,$C118,Data!$J$2:$J$10177)","v":0},{"$f":"SUMIF(Data!$K$2:$K$10177,$C118,Data!$M$2:$M$10177)","v":0},{"$f":"SUMIF(Data!$N$2:$N$10177,$C118,Data!$P$2:$P$10177)","v":0},{"$f":"SUMIF(Data!$Q$2:$R$10177,$C118,Data!$S$2:$S$10177)","v":0},{"$f":"SUMIF(Data!$T$2:$U$10177,$C118,Data!$V$2:$V$10177)","v":0},{"$f":"SUMIF(Data!$W$2:$W$10177,$C118,Data!$Y$2:$Y$10177)","v":0}]
[null,null,9900000575,575,"BATTENS OF WOOD","WOOD",1.258,0,0,{"$f":"SUMIF(Data!$H$2:$H$10177,$C119,Data!$D$2:$D$10177)","v":0},{"$f":"SUMIF(Data!$H$2:$H$10177,$C119,Data!$J$2:$J$10177)","v":0},{"$f":"SUMIF(Data!$K$2:$K$10177,$C119,Data!$M$2:$M$10177)","v":0},{"$f":"SUMIF(Data!$N$2:$N$10177,$C119,Data!$P$2:$P$10177)","v":0},{"$f":"SUMIF(Data!$Q$2:$R$10177,$C119,Data!$S$2:$S$10177)","v":0},{"$f":"SUMIF(Data!$T$2:$U$10177,$C119,Data!$V$2:$V$10177)","v":0},{"$f":"SUMIF(Data!$W$2:$W$10177,$C119,Data!$Y$2:$Y$10177)","v":0}]
[null,null,9900000576,576,"BATTEN OF WOOD","WOOD",2.1,0,0,{"$f":"SUMIF(Data!$H$2:$H$10177,$C120,Data!$D$2:$D$10177)","v":0},{"$f":"SUMIF(Data!$H$2:$H$10177,$C120,Data!$J$2:$J$10177)","v":0},{"$f":"SUMIF(Data!$K$2:$K$10177,$C120,Data!$M$2:$M$10177)","v":0},{"$f":"SUMIF(Data!$N$2:$N$10177,$C120,Data!$P$2:$P$10177)","v":0},{"$f":"SUMIF(Data!$Q$2:$R$10177,$C120,Data!$S$2:$S$10177)","v":0},{"$f":"SUMIF(Data!$T$2:$U$10177,$C120,Data!$V$2:$V$10177)","v":0},{"$f":"SUMIF(Data!$W$2:$W$10177,$C120,Data!$Y$2:$Y$10177)","v":0}]
[null,null,9900000577,577,"BATTEN OF WOOD","WOOD",2,0,0,{"$f":"SUMIF(Data!$H$2:$H$10177,$C121,Data!$D$2:$D$10177)","v":0},{"$f":"SUMIF(Data!$H$2:$H$10177,$C121,Data!$J$2:$J$10177)","v":0},{"$f":"SUMIF(Data!$K$2:$K$10177,$C121,Data!$M$2:$M$10177)","v":0},{"$f":"SUMIF(Data!$N$2:$N$10177,$C121,Data!$P$2:$P$10177)","v":0},{"$f":"SUMIF(Data!$Q$2:$R$10177,$C121,Data!$S$2:$S$10177)","v":0},{"$f":"SUMIF(Data!$T$2:$U$10177,$C121,Data!$V$2:$V$10177)","v":0},{"$f":"SUMIF(Data!$W$2:$W$10177,$C121,Data!$Y$2:$Y$10177)","v":0}]
[null,null,9900000579,{"$f":"C122-9900000000","v":579},"BATTEN OF WOOD","WOOD",1.2,{"$f":"G122*I122","v":0},{"$f":"SUM(J122:P122)","v":0},{"$f":"SUMIF(Data!$H$2:$H$10177,$C122,Data!$D$2:$D$10177)","v":0},{"$f":"SUMIF(Data!$H$2:$H$10177,$C122,Data!$J$2:$J$10177)","v":0},{"$f":"SUMIF(Data!$K$2:$K$10177,$C122,Data!$M$2:$M$10177)","v":0},{"$f":"SUMIF(Data!$N$2:$N$10177,$C122,Data!$P$2:$P$10177)","v":0},{"$f":"SUMIF(Data!$Q$2:$R$10177,$C122,Data!$S$2:$S$10177)","v":0},{"$f":"SUMIF(Data!$T$2:$U$10177,$C122,Data!$V$2:$V$10177)","v":0},{"$f":"SUMIF(Data!$W$2:$W$10177,$C122,Data!$Y$2:$Y$10177)","v":0}]
[null,null,9900000580,{"$f":"C123-9900000000","v":580},"BATTEN OF WOOD","WOOD",2.52,{"$f":"G123*I123","v":0},{"$f":"SUM(J123:P123)","v":0},{"$f":"SUMIF(Data!$H$2:$H$10177,$C123,Data!$D$2:$D$10177)","v":0},{"$f":"SUMIF(Data!$H$2:$H$10177,$C123,Data!$J$2:$J$10177)","v":0},{"$f":"SUMIF(Data!$K$2:$K$10177,$C123,Data!$M$2:$M$10177)","v":0},{"$f":"SUMIF(Data!$N$2:$N$10177,$C123,Data!$P$2:$P$10177)","v":0},{"$f":"SUMIF(Data!$Q$2:$R$10177,$C123,Data!$S$2:$S$10177)","v":0},{"$f":"SUMIF(Data!$T$2:$U$10177,$C123,Data!$V$2:$V$10177)","v":0},{"$f":"SUMIF(Data!$W$2:$W$10177,$C123,Data!$Y$2:$Y$10177)","v":0}]
[null,null,9900000586,586,"RACK OF STEEL","METAL",115,0,0,{"$f":"SUMIF(Data!$H$2:$H$10177,$C124,Data!$D$2:$D$10177)","v":0},{"$f":"SUMIF(Data!$H$2:$H$10177,$C124,Data!$J$2:$J$10177)","v":0},{"$f":"SUMIF(Data!$K$2:$K$10177,$C124,Data!$M$2:$M$10177)","v":0},{"$f":"SUMIF(Data!$N$2:$N$10177,$C124,Data!$P$2:$P$10177)","v":0},{"$f":"SUMIF(Data!$Q$2:$R$10177,$C124,Data!$S$2:$S$10177)","v":0},{"$f":"SUMIF(Data!$T$2:$U$10177,$C124,Data!$V$2:$V$10177)","v":0},{"$f":"SUMIF(Data!$W$2:$W$10177,$C124,Data!$Y$2:$Y$10177)","v":0}]
[null,null,9900000595,595,"BATTEN OF WOOD","WOOD",2.9159999999999999,0,0,{"$f":"SUMIF(Data!$H$2:$H$10177,$C125,Data!$D$2:$D$10177)","v":0},{"$f":"SUMIF(Data!$H$2:$H$10177,$C125,Data!$J$2:$J$10177)","v":0},{"$f":"SUMIF(Data!$K$2:$K$10177,$C125,Data!$M$2:$M$10177)","v":0},{"$f":"SUMIF(Data!$N$2:$N$10177,$C125,Data!$P$2:$P$10177)","v":0},{"$f":"SUMIF(Data!$Q$2:$R$10177,$C125,Data!$S$2:$S$10177)","v":0},{"$f":"SUMIF(Data!$T$2:$U$10177,$C125,Data!$V$2:$V$10177)","v":0},{"$f":"SUMIF(Data!$W$2:$W$10177,$C125,Data!$Y$2:$Y$10177)","v":0}]
[null,null,9900000600,600,"BOX OF PLASTIC","PLASTIC",0.77200000000000002,0,0,{"$f":"SUMIF(Data!$H$2:$H$10177,$C126,Data!$D$2:$D$10177)","v":0},{"$f":"SUMIF(Data!$H$2:$H$10177,$C126,Data!$J$2:$J$10177)","v":0},{"$f":"SUMIF(Data!$K$2:$K$10177,$C126,Data!$M$2:$M$10177)","v":0},{"$f":"SUMIF(Data!$N$2:$N$10177,$C126,Data!$P$2:$P$10177)","v":0},{"$f":"SUMIF(Data!$Q$2:$R$10177,$C126,Data!$S$2:$S$10177)","v":0},{"$f":"SUMIF(Data!$T$2:$U$10177,$C126,Data!$V$2:$V$10177)","v":0},{"$f":"SUMIF(Data!$W$2:$W$10177,$C126,Data!$Y$2:$Y$10177)","v":0}]
[null,null,9900000601,601,"LID OF PLASTIC","PLASTIC",0.05,0,0,{"$f":"SUMIF(Data!$H$2:$H$10177,$C127,Data!$D$2:$D$10177)","v":0},{"$f":"SUMIF(Data!$H$2:$H$10177,$C127,Data!$J$2:$J$10177)","v":0},{"$f":"SUMIF(Data!$K$2:$K$10177,$C127,Data!$M$2:$M$10177)","v":0},{"$f":"SUMIF(Data!$N$2:$N$10177,$C127,Data!$P$2:$P$10177)","v":0},{"$f":"SUMIF(Data!$Q$2:$R$10177,$C127,Data!$S$2:$S$10177)","v":0},{"$f":"SUMIF(Data!$T$2:$U$10177,$C127,Data!$V$2:$V$10177)","v":0},{"$f":"SUMIF(Data!$W$2:$W$10177,$C127,Data!$Y$2:$Y$10177)","v":0}]
[null,null,9900000647,647,"LID OF PLYWOOD AND WOOD FIBRE","WOOD",6.4,0,0,{"$f":"SUMIF(Data!$H$2:$H$10177,$C128,Data!$D$2:$D$10177)","v":0},{"$f":"SUMIF(Data!$H$2:$H$10177,$C128,Data!$J$2:$J$10177)","v":0},{"$f":"SUMIF(Data!$K$2:$K$10177,$C128,Data!$M$2:$M$10177)","v":0},{"$f":"SUMIF(Data!$N$2:$N$10177,$C128,Data!$P$2:$P$10177)","v":0},{"$f":"SUMIF(Data!$Q$2:$R$10177,$C128,Data!$S$2:$S$10177)","v":0},{"$f":"SUMIF(Data!$T$2:$U$10177,$C128,Data!$V$2:$V$10177)","v":0},{"$f":"SUMIF(Data!$W$2:$W$10177,$C128,Data!$Y$2:$Y$10177)","v":0}]
[null,null,9900000662,662,"FIXING SPACER OF PLASTIC","PLASTIC",3.25,0,0,{"$f":"SUMIF(Data!$H$2:$H$10177,$C129,Data!$D$2:$D$10177)","v":0},{"$f":"SUMIF(Data!$H$2:$H$10177,$C129,Data!$J$2:$J$10177)","v":0},{"$f":"SUMIF(Data!$K$2:$K$10177,$C129,Data!$M$2:$M$10177)","v":0},{"$f":"SUMIF(Data!$N$2:$N$10177,$C129,Data!$P$2:$P$10177)","v":0},{"$f":"SUMIF(Data!$Q$2:$R$10177,$C129,Data!$S$2:$S$10177)","v":0},{"$f":"SUMIF(Data!$T$2:$U$10177,$C129,Data!$V$2:$V$10177)","v":0},{"$f":"SUMIF(Data!$W$2:$W$10177,$C129,Data!$Y$2:$Y$10177)","v":0}]
[null,null,9900000670,670,"LID OF PLYWOOD","WOOD",21.681000000000001,0,0,{"$f":"SUMIF(Data!$H$2:$H$10177,$C130,Data!$D$2:$D$10177)","v":0},{"$f":"SUMIF(Data!$H$2:$H$10177,$C130,Data!$J$2:$J$10177)","v":0},{"$f":"SUMIF(Data!$K$2:$K$10177,$C130,Data!$M$2:$M$10177)","v":0},{"$f":"SUMIF(Data!$N$2:$N$10177,$C130,Data!$P$2:$P$10177)","v":0},{"$f":"SUMIF(Data!$Q$2:$R$10177,$C130,Data!$S$2:$S$10177)","v":0},{"$f":"SUMIF(Data!$T$2:$U$10177,$C130,Data!$V$2:$V$10177)","v":0},{"$f":"SUMIF(Data!$W$2:$W$10177,$C130,Data!$Y$2:$Y$10177)","v":0}]
[null,null,9900000701,{"$f":"C131-9900000000","v":701},"PALLET OF WOOD","WOOD",40.548000000000002,0,0,{"$f":"SUMIF(Data!$H$2:$H$10177,$C131,Data!$D$2:$D$10177)","v":0},{"$f":"SUMIF(Data!$H$2:$H$10177,$C131,Data!$J$2:$J$10177)","v":0},{"$f":"SUMIF(Data!$K$2:$K$10177,$C131,Data!$M$2:$M$10177)","v":0},{"$f":"SUMIF(Data!$N$2:$N$10177,$C131,Data!$P$2:$P$10177)","v":0},{"$f":"SUMIF(Data!$Q$2:$R$10177,$C131,Data!$S$2:$S$10177)","v":0},{"$f":"SUMIF(Data!$T$2:$U$10177,$C131,Data!$V$2:$V$10177)","v":0},{"$f":"SUMIF(Data!$W$2:$W$10177,$C131,Data!$Y$2:$Y$10177)","v":0}]
[null,null,9900000702,{"$f":"C132-9900000000","v":702},"FRAME OF WOOD","WOOD",13.425000000000001,0,0,{"$f":"SUMIF(Data!$H$2:$H$10177,$C132,Data!$D$2:$D$10177)","v":0},{"$f":"SUMIF(Data!$H$2:$H$10177,$C132,Data!$J$2:$J$10177)","v":0},{"$f":"SUMIF(Data!$K$2:$K$10177,$C132,Data!$M$2:$M$10177)","v":0},{"$f":"SUMIF(Data!$N$2:$N$10177,$C132,Data!$P$2:$P$10177)","v":0},{"$f":"SUMIF(Data!$Q$2:$R$10177,$C132,Data!$S$2:$S$10177)","v":0},{"$f":"SUMIF(Data!$T$2:$U$10177,$C132,Data!$V$2:$V$10177)","v":0},{"$f":"SUMIF(Data!$W$2:$W$10177,$C132,Data!$Y$2:$Y$10177)","v":0}]
[null,null,9900000706,{"$f":"C133-9900000000","v":706},"LID OF PLYWOOD","WOOD",11.297000000000001,0,0,{"$f":"SUMIF(Data!$H$2:$H$10177,$C133,Data!$D$2:$D$10177)","v":0},{"$f":"SUMIF(Data!$H$2:$H$10177,$C133,Data!$J$2:$J$10177)","v":0},{"$f":"SUMIF(Data!$K$2:$K$10177,$C133,Data!$M$2:$M$10177)","v":0},{"$f":"SUMIF(Data!$N$2:$N$10177,$C133,Data!$P$2:$P$10177)","v":0},{"$f":"SUMIF(Data!$Q$2:$R$10177,$C133,Data!$S$2:$S$10177)","v":0},{"$f":"SUMIF(Data!$T$2:$U$10177,$C133,Data!$V$2:$V$10177)","v":0},{"$f":"SUMIF(Data!$W$2:$W$10177,$C133,Data!$Y$2:$Y$10177)","v":0}]
[null,null,9900000711,711,"PALLET OF WOOD","WOOD",61,{"$f":"G134*I134","v":0},{"$f":"SUM(J134:P134)","v":0},{"$f":"SUMIF(Data!$H$2:$H$10177,$C134,Data!$D$2:$D$10177)","v":0},{"$f":"SUMIF(Data!$H$2:$H$10177,$C134,Data!$J$2:$J$10177)","v":0},{"$f":"SUMIF(Data!$K$2:$K$10177,$C134,Data!$M$2:$M$10177)","v":0},{"$f":"SUMIF(Data!$N$2:$N$10177,$C134,Data!$P$2:$P$10177)","v":0},{"$f":"SUMIF(Data!$Q$2:$R$10177,$C134,Data!$S$2:$S$10177)","v":0},{"$f":"SUMIF(Data!$T$2:$U$10177,$C134,Data!$V$2:$V$10177)","v":0},{"$f":"SUMIF(Data!$W$2:$W$10177,$C134,Data!$Y$2:$Y$10177)","v":0}]
[null,null,9900000712,712,"FRAME OF WOOD","WOOD",15.5,0,0,{"$f":"SUMIF(Data!$H$2:$H$10177,$C135,Data!$D$2:$D$10177)","v":0},{"$f":"SUMIF(Data!$H$2:$H$10177,$C135,Data!$J$2:$J$10177)","v":0},{"$f":"SUMIF(Data!$K$2:$K$10177,$C135,Data!$M$2:$M$10177)","v":0},{"$f":"SUMIF(Data!$N$2:$N$10177,$C135,Data!$P$2:$P$10177)","v":0},{"$f":"SUMIF(Data!$Q$2:$R$10177,$C135,Data!$S$2:$S$10177)","v":0},{"$f":"SUMIF(Data!$T$2:$U$10177,$C135,Data!$V$2:$V$10177)","v":0},{"$f":"SUMIF(Data!$W$2:$W$10177,$C135,Data!$Y$2:$Y$10177)","v":0}]
[null,null,9900000713,713,"LID OF PLYWOOD","WOOD",17,0,0,{"$f":"SUMIF(Data!$H$2:$H$10177,$C136,Data!$D$2:$D$10177)","v":0},{"$f":"SUMIF(Data!$H$2:$H$10177,$C136,Data!$J$2:$J$10177)","v":0},{"$f":"SUMIF(Data!$K$2:$K$10177,$C136,Data!$M$2:$M$10177)","v":0},{"$f":"SUMIF(Data!$N$2:$N$10177,$C136,Data!$P$2:$P$10177)","v":0},{"$f":"SUMIF(Data!$Q$2:$R$10177,$C136,Data!$S$2:$S$10177)","v":0},{"$f":"SUMIF(Data!$T$2:$U$10177,$C136,Data!$V$2:$V$10177)","v":0},{"$f":"SUMIF(Data!$W$2:$W$10177,$C136,Data!$Y$2:$Y$10177)","v":0}]
[null,null,9900000724,724,"PALLET OF WOOD","WOOD",72,0,0,{"$f":"SUMIF(Data!$H$2:$H$10177,$C137,Data!$D$2:$D$10177)","v":0},{"$f":"SUMIF(Data!$H$2:$H$10177,$C137,Data!$J$2:$J$10177)","v":0},{"$f":"SUMIF(Data!$K$2:$K$10177,$C137,Data!$M$2:$M$10177)","v":0},{"$f":"SUMIF(Data!$N$2:$N$10177,$C137,Data!$P$2:$P$10177)","v":0},{"$f":"SUMIF(Data!$Q$2:$R$10177,$C137,Data!$S$2:$S$10177)","v":0},{"$f":"SUMIF(Data!$T$2:$U$10177,$C137,Data!$V$2:$V$10177)","v":0},{"$f":"SUMIF(Data!$W$2:$W$10177,$C137,Data!$Y$2:$Y$10177)","v":0}]
[null,null,9900000725,725,"FRAME OF WOOD","WOOD",16,0,0,{"$f":"SUMIF(Data!$H$2:$H$10177,$C138,Data!$D$2:$D$10177)","v":0},{"$f":"SUMIF(Data!$H$2:$H$10177,$C138,Data!$J$2:$J$10177)","v":0},{"$f":"SUMIF(Data!$K$2:$K$10177,$C138,Data!$M$2:$M$10177)","v":0},{"$f":"SUMIF(Data!$N$2:$N$10177,$C138,Data!$P$2:$P$10177)","v":0},{"$f":"SUMIF(Data!$Q$2:$R$10177,$C138,Data!$S$2:$S$10177)","v":0},{"$f":"SUMIF(Data!$T$2:$U$10177,$C138,Data!$V$2:$V$10177)","v":0},{"$f":"SUMIF(Data!$W$2:$W$10177,$C138,Data!$Y$2:$Y$10177)","v":0}]
[null,null,9900000726,726,"LID OF PLYWOOD  ( 2 PARTS )","WOOD",19,0,0,{"$f":"SUMIF(Data!$H$2:$H$10177,$C139,Data!$D$2:$D$10177)","v":0},{"$f":"SUMIF(Data!$H$2:$H$10177,$C139,Data!$J$2:$J$10177)","v":0},{"$f":"SUMIF(Data!$K$2:$K$10177,$C139,Data!$M$2:$M$10177)","v":0},{"$f":"SUMIF(Data!$N$2:$N$10177,$C139,Data!$P$2:$P$10177)","v":0},{"$f":"SUMIF(Data!$Q$2:$R$10177,$C139,Data!$S$2:$S$10177)","v":0},{"$f":"SUMIF(Data!$T$2:$U$10177,$C139,Data!$V$2:$V$10177)","v":0},{"$f":"SUMIF(Data!$W$2:$W$10177,$C139,Data!$Y$2:$Y$10177)","v":0}]
[null,null,9900000727,727,"SPACER OF CARDBOARD","CARDBOARD",0.75,0,0,{"$f":"SUMIF(Data!$H$2:$H$10177,$C140,Data!$D$2:$D$10177)","v":0},{"$f":"SUMIF(Data!$H$2:$H$10177,$C140,Data!$J$2:$J$10177)","v":0},{"$f":"SUMIF(Data!$K$2:$K$10177,$C140,Data!$M$2:$M$10177)","v":0},{"$f":"SUMIF(Data!$N$2:$N$10177,$C140,Data!$P$2:$P$10177)","v":0},{"$f":"SUMIF(Data!$Q$2:$R$10177,$C140,Data!$S$2:$S$10177)","v":0},{"$f":"SUMIF(Data!$T$2:$U$10177,$C140,Data!$V$2:$V$10177)","v":0},{"$f":"SUMIF(Data!$W$2:$W$10177,$C140,Data!$Y$2:$Y$10177)","v":0}]
[null,null,9900000729,729,"SPACER OF WOOD","WOOD",12,0,0,{"$f":"SUMIF(Data!$H$2:$H$10177,$C141,Data!$D$2:$D$10177)","v":0},{"$f":"SUMIF(Data!$H$2:$H$10177,$C141,Data!$J$2:$J$10177)","v":0},{"$f":"SUMIF(Data!$K$2:$K$10177,$C141,Data!$M$2:$M$10177)","v":0},{"$f":"SUMIF(Data!$N$2:$N$10177,$C141,Data!$P$2:$P$10177)","v":0},{"$f":"SUMIF(Data!$Q$2:$R$10177,$C141,Data!$S$2:$S$10177)","v":0},{"$f":"SUMIF(Data!$T$2:$U$10177,$C141,Data!$V$2:$V$10177)","v":0},{"$f":"SUMIF(Data!$W$2:$W$10177,$C141,Data!$Y$2:$Y$10177)","v":0}]
[null,null,9900000737,737,"FIXING SPACER OF PLASTIC","PLASTIC",0.15,0,0,{"$f":"SUMIF(Data!$H$2:$H$10177,$C142,Data!$D$2:$D$10177)","v":0},{"$f":"SUMIF(Data!$H$2:$H$10177,$C142,Data!$J$2:$J$10177)","v":0},{"$f":"SUMIF(Data!$K$2:$K$10177,$C142,Data!$M$2:$M$10177)","v":0},{"$f":"SUMIF(Data!$N$2:$N$10177,$C142,Data!$P$2:$P$10177)","v":0},{"$f":"SUMIF(Data!$Q$2:$R$10177,$C142,Data!$S$2:$S$10177)","v":0},{"$f":"SUMIF(Data!$T$2:$U$10177,$C142,Data!$V$2:$V$10177)","v":0},{"$f":"SUMIF(Data!$W$2:$W$10177,$C142,Data!$Y$2:$Y$10177)","v":0}]
[null,null,9900000747,747,"BATTEN OF WOOD","WOOD",2.2000000000000002,0,0,{"$f":"SUMIF(Data!$H$2:$H$10177,$C143,Data!$D$2:$D$10177)","v":0},{"$f":"SUMIF(Data!$H$2:$H$10177,$C143,Data!$J$2:$J$10177)","v":0},{"$f":"SUMIF(Data!$K$2:$K$10177,$C143,Data!$M$2:$M$10177)","v":0},{"$f":"SUMIF(Data!$N$2:$N$10177,$C143,Data!$P$2:$P$10177)","v":0},{"$f":"SUMIF(Data!$Q$2:$R$10177,$C143,Data!$S$2:$S$10177)","v":0},{"$f":"SUMIF(Data!$T$2:$U$10177,$C143,Data!$V$2:$V$10177)","v":0},{"$f":"SUMIF(Data!$W$2:$W$10177,$C143,Data!$Y$2:$Y$10177)","v":0}]
[null,null,9900020750,750,"PLASTIC BOX KIT ( Inc 751 Lid)","PLASTIC",1.52,0,0,{"$f":"SUMIF(Data!$H$2:$H$10177,$C144,Data!$D$2:$D$10177)","v":0},{"$f":"SUMIF(Data!$H$2:$H$10177,$C144,Data!$J$2:$J$10177)","v":0},{"$f":"SUMIF(Data!$K$2:$K$10177,$C144,Data!$M$2:$M$10177)","v":0},{"$f":"SUMIF(Data!$N$2:$N$10177,$C144,Data!$P$2:$P$10177)","v":0},{"$f":"SUMIF(Data!$Q$2:$R$10177,$C144,Data!$S$2:$S$10177)","v":0},{"$f":"SUMIF(Data!$T$2:$U$10177,$C144,Data!$V$2:$V$10177)","v":0},{"$f":"SUMIF(Data!$W$2:$W$10177,$C144,Data!$Y$2:$Y$10177)","v":0}]
[null,null,9900000751,751,"LID OF PLASTIC","PLASTIC",0.45,0,0,{"$f":"SUMIF(Data!$H$2:$H$10177,$C145,Data!$D$2:$D$10177)","v":0},{"$f":"SUMIF(Data!$H$2:$H$10177,$C145,Data!$J$2:$J$10177)","v":0},{"$f":"SUMIF(Data!$K$2:$K$10177,$C145,Data!$M$2:$M$10177)","v":0},{"$f":"SUMIF(Data!$N$2:$N$10177,$C145,Data!$P$2:$P$10177)","v":0},{"$f":"SUMIF(Data!$Q$2:$R$10177,$C145,Data!$S$2:$S$10177)","v":0},{"$f":"SUMIF(Data!$T$2:$U$10177,$C145,Data!$V$2:$V$10177)","v":0},{"$f":"SUMIF(Data!$W$2:$W$10177,$C145,Data!$Y$2:$Y$10177)","v":0}]
[null,null,9900020757,757,"PLASTIC BOX KIT (Inc 751 Lid )","PLASTIC",1.2,0,0,{"$f":"SUMIF(Data!$H$2:$H$10177,$C146,Data!$D$2:$D$10177)","v":0},{"$f":"SUMIF(Data!$H$2:$H$10177,$C146,Data!$J$2:$J$10177)","v":0},{"$f":"SUMIF(Data!$K$2:$K$10177,$C146,Data!$M$2:$M$10177)","v":0},{"$f":"SUMIF(Data!$N$2:$N$10177,$C146,Data!$P$2:$P$10177)","v":0},{"$f":"SUMIF(Data!$Q$2:$R$10177,$C146,Data!$S$2:$S$10177)","v":0},{"$f":"SUMIF(Data!$T$2:$U$10177,$C146,Data!$V$2:$V$10177)","v":0},{"$f":"SUMIF(Data!$W$2:$W$10177,$C146,Data!$Y$2:$Y$10177)","v":0}]
[null,null,9900000766,766,"SPACER OF FOAM (Disposable)","PLASTIC",0.01,0,0,{"$f":"SUMIF(Data!$H$2:$H$10177,$C147,Data!$D$2:$D$10177)","v":0},{"$f":"SUMIF(Data!$H$2:$H$10177,$C147,Data!$J$2:$J$10177)","v":0},{"$f":"SUMIF(Data!$K$2:$K$10177,$C147,Data!$M$2:$M$10177)","v":0},{"$f":"SUMIF(Data!$N$2:$N$10177,$C147,Data!$P$2:$P$10177)","v":0},{"$f":"SUMIF(Data!$Q$2:$R$10177,$C147,Data!$S$2:$S$10177)","v":0},{"$f":"SUMIF(Data!$T$2:$U$10177,$C147,Data!$V$2:$V$10177)","v":0},{"$f":"SUMIF(Data!$W$2:$W$10177,$C147,Data!$Y$2:$Y$10177)","v":0}]
[null,null,9900020780,780,"PLASTIC BOX KIT (Inc 781 Lid )","PLASTIC",2.91,0,0,{"$f":"SUMIF(Data!$H$2:$H$10177,$C148,Data!$D$2:$D$10177)","v":0},{"$f":"SUMIF(Data!$H$2:$H$10177,$C148,Data!$J$2:$J$10177)","v":0},{"$f":"SUMIF(Data!$K$2:$K$10177,$C148,Data!$M$2:$M$10177)","v":0},{"$f":"SUMIF(Data!$N$2:$N$10177,$C148,Data!$P$2:$P$10177)","v":0},{"$f":"SUMIF(Data!$Q$2:$R$10177,$C148,Data!$S$2:$S$10177)","v":0},{"$f":"SUMIF(Data!$T$2:$U$10177,$C148,Data!$V$2:$V$10177)","v":0},{"$f":"SUMIF(Data!$W$2:$W$10177,$C148,Data!$Y$2:$Y$10177)","v":0}]
[null,null,9900000781,781,"LID OF PLASTIC","PLASTIC",0.82,0,0,{"$f":"SUMIF(Data!$H$2:$H$10177,$C149,Data!$D$2:$D$10177)","v":0},{"$f":"SUMIF(Data!$H$2:$H$10177,$C149,Data!$J$2:$J$10177)","v":0},{"$f":"SUMIF(Data!$K$2:$K$10177,$C149,Data!$M$2:$M$10177)","v":0},{"$f":"SUMIF(Data!$N$2:$N$10177,$C149,Data!$P$2:$P$10177)","v":0},{"$f":"SUMIF(Data!$Q$2:$R$10177,$C149,Data!$S$2:$S$10177)","v":0},{"$f":"SUMIF(Data!$T$2:$U$10177,$C149,Data!$V$2:$V$10177)","v":0},{"$f":"SUMIF(Data!$W$2:$W$10177,$C149,Data!$Y$2:$Y$10177)","v":0}]
[null,null,9900020787,787,"PLASTIC BOX KIT (Inc 781 Lid )","PLASTIC",2.12,{"$f":"G150*I150","v":0},{"$f":"SUM(J150:P150)","v":0},{"$f":"SUMIF(Data!$H$2:$H$10177,$C150,Data!$D$2:$D$10177)","v":0},{"$f":"SUMIF(Data!$H$2:$H$10177,$C150,Data!$J$2:$J$10177)","v":0},{"$f":"SUMIF(Data!$K$2:$K$10177,$C150,Data!$M$2:$M$10177)","v":0},{"$f":"SUMIF(Data!$N$2:$N$10177,$C150,Data!$P$2:$P$10177)","v":0},{"$f":"SUMIF(Data!$Q$2:$R$10177,$C150,Data!$S$2:$S$10177)","v":0},{"$f":"SUMIF(Data!$T$2:$U$10177,$C150,Data!$V$2:$V$10177)","v":0},{"$f":"SUMIF(Data!$W$2:$W$10177,$C150,Data!$Y$2:$Y$10177)","v":0}]
[null,null,9900020790,790,"PLASTIC BOX KIT (Inc 791 Lid)","PLASTIC",4,0,0,{"$f":"SUMIF(Data!$H$2:$H$10177,$C151,Data!$D$2:$D$10177)","v":0},{"$f":"SUMIF(Data!$H$2:$H$10177,$C151,Data!$J$2:$J$10177)","v":0},{"$f":"SUMIF(Data!$K$2:$K$10177,$C151,Data!$M$2:$M$10177)","v":0},{"$f":"SUMIF(Data!$N$2:$N$10177,$C151,Data!$P$2:$P$10177)","v":0},{"$f":"SUMIF(Data!$Q$2:$R$10177,$C151,Data!$S$2:$S$10177)","v":0},{"$f":"SUMIF(Data!$T$2:$U$10177,$C151,Data!$V$2:$V$10177)","v":0},{"$f":"SUMIF(Data!$W$2:$W$10177,$C151,Data!$Y$2:$Y$10177)","v":0}]
[null,null,9900000791,791,"LID OF PLASTIC","PLASTIC",1.5,0,0,{"$f":"SUMIF(Data!$H$2:$H$10177,$C152,Data!$D$2:$D$10177)","v":0},{"$f":"SUMIF(Data!$H$2:$H$10177,$C152,Data!$J$2:$J$10177)","v":0},{"$f":"SUMIF(Data!$K$2:$K$10177,$C152,Data!$M$2:$M$10177)","v":0},{"$f":"SUMIF(Data!$N$2:$N$10177,$C152,Data!$P$2:$P$10177)","v":0},{"$f":"SUMIF(Data!$Q$2:$R$10177,$C152,Data!$S$2:$S$10177)","v":0},{"$f":"SUMIF(Data!$T$2:$U$10177,$C152,Data!$V$2:$V$10177)","v":0},{"$f":"SUMIF(Data!$W$2:$W$10177,$C152,Data!$Y$2:$Y$10177)","v":0}]
[null,null,9900000798,798,"SPACER OF PLASTIC","PLASTIC",3.5,0,0,{"$f":"SUMIF(Data!$H$2:$H$10177,$C153,Data!$D$2:$D$10177)","v":0},{"$f":"SUMIF(Data!$H$2:$H$10177,$C153,Data!$J$2:$J$10177)","v":0},{"$f":"SUMIF(Data!$K$2:$K$10177,$C153,Data!$M$2:$M$10177)","v":0},{"$f":"SUMIF(Data!$N$2:$N$10177,$C153,Data!$P$2:$P$10177)","v":0},{"$f":"SUMIF(Data!$Q$2:$R$10177,$C153,Data!$S$2:$S$10177)","v":0},{"$f":"SUMIF(Data!$T$2:$U$10177,$C153,Data!$V$2:$V$10177)","v":0},{"$f":"SUMIF(Data!$W$2:$W$10177,$C153,Data!$Y$2:$Y$10177)","v":0}]
[null,null,9900020800,800,"PLASTIC BOX KIT (Inc 801 Lid)","PLASTIC",2.84,0,0,{"$f":"SUMIF(Data!$H$2:$H$10177,$C154,Data!$D$2:$D$10177)","v":0},{"$f":"SUMIF(Data!$H$2:$H$10177,$C154,Data!$J$2:$J$10177)","v":0},{"$f":"SUMIF(Data!$K$2:$K$10177,$C154,Data!$M$2:$M$10177)","v":0},{"$f":"SUMIF(Data!$N$2:$N$10177,$C154,Data!$P$2:$P$10177)","v":0},{"$f":"SUMIF(Data!$Q$2:$R$10177,$C154,Data!$S$2:$S$10177)","v":0},{"$f":"SUMIF(Data!$T$2:$U$10177,$C154,Data!$V$2:$V$10177)","v":0},{"$f":"SUMIF(Data!$W$2:$W$10177,$C154,Data!$Y$2:$Y$10177)","v":0}]
[null,null,9900000801,801,"LID OF PLASTIC","PLASTIC",0.84,0,0,{"$f":"SUMIF(Data!$H$2:$H$10177,$C155,Data!$D$2:$D$10177)","v":0},{"$f":"SUMIF(Data!$H$2:$H$10177,$C155,Data!$J$2:$J$10177)","v":0},{"$f":"SUMIF(Data!$K$2:$K$10177,$C155,Data!$M$2:$M$10177)","v":0},{"$f":"SUMIF(Data!$N$2:$N$10177,$C155,Data!$P$2:$P$10177)","v":0},{"$f":"SUMIF(Data!$Q$2:$R$10177,$C155,Data!$S$2:$S$10177)","v":0},{"$f":"SUMIF(Data!$T$2:$U$10177,$C155,Data!$V$2:$V$10177)","v":0},{"$f":"SUMIF(Data!$W$2:$W$10177,$C155,Data!$Y$2:$Y$10177)","v":0}]
[null,null,9900000814,814,"COMBITAINER SIDES (Set of 4 = 2 short, 2 long)","METAL",60.009,0,0,{"$f":"SUMIF(Data!$H$2:$H$10177,$C156,Data!$D$2:$D$10177)","v":0},{"$f":"SUMIF(Data!$H$2:$H$10177,$C156,Data!$J$2:$J$10177)","v":0},{"$f":"SUMIF(Data!$K$2:$K$10177,$C156,Data!$M$2:$M$10177)","v":0},{"$f":"SUMIF(Data!$N$2:$N$10177,$C156,Data!$P$2:$P$10177)","v":0},{"$f":"SUMIF(Data!$Q$2:$R$10177,$C156,Data!$S$2:$S$10177)","v":0},{"$f":"SUMIF(Data!$T$2:$U$10177,$C156,Data!$V$2:$V$10177)","v":0},{"$f":"SUMIF(Data!$W$2:$W$10177,$C156,Data!$Y$2:$Y$10177)","v":0}]
[null,null,9900000836,836,"PALLET OF STEEL","METAL",82.019000000000005,0,0,{"$f":"SUMIF(Data!$H$2:$H$10177,$C157,Data!$D$2:$D$10177)","v":0},{"$f":"SUMIF(Data!$H$2:$H$10177,$C157,Data!$J$2:$J$10177)","v":0},{"$f":"SUMIF(Data!$K$2:$K$10177,$C157,Data!$M$2:$M$10177)","v":0},{"$f":"SUMIF(Data!$N$2:$N$10177,$C157,Data!$P$2:$P$10177)","v":0},{"$f":"SUMIF(Data!$Q$2:$R$10177,$C157,Data!$S$2:$S$10177)","v":0},{"$f":"SUMIF(Data!$T$2:$U$10177,$C157,Data!$V$2:$V$10177)","v":0},{"$f":"SUMIF(Data!$W$2:$W$10177,$C157,Data!$Y$2:$Y$10177)","v":0}]
[null,null,9900020840,840,"PLASTIC BOX KIT (Inc 841 Lid)","PLASTIC",4.63,0,0,{"$f":"SUMIF(Data!$H$2:$H$10177,$C158,Data!$D$2:$D$10177)","v":0},{"$f":"SUMIF(Data!$H$2:$H$10177,$C158,Data!$J$2:$J$10177)","v":0},{"$f":"SUMIF(Data!$K$2:$K$10177,$C158,Data!$M$2:$M$10177)","v":0},{"$f":"SUMIF(Data!$N$2:$N$10177,$C158,Data!$P$2:$P$10177)","v":0},{"$f":"SUMIF(Data!$Q$2:$R$10177,$C158,Data!$S$2:$S$10177)","v":0},{"$f":"SUMIF(Data!$T$2:$U$10177,$C158,Data!$V$2:$V$10177)","v":0},{"$f":"SUMIF(Data!$W$2:$W$10177,$C158,Data!$Y$2:$Y$10177)","v":0}]
[null,null,9900000841,841,"LID OF PLASTIC","PLASTIC",1.63,0,0,{"$f":"SUMIF(Data!$H$2:$H$10177,$C159,Data!$D$2:$D$10177)","v":0},{"$f":"SUMIF(Data!$H$2:$H$10177,$C159,Data!$J$2:$J$10177)","v":0},{"$f":"SUMIF(Data!$K$2:$K$10177,$C159,Data!$M$2:$M$10177)","v":0},{"$f":"SUMIF(Data!$N$2:$N$10177,$C159,Data!$P$2:$P$10177)","v":0},{"$f":"SUMIF(Data!$Q$2:$R$10177,$C159,Data!$S$2:$S$10177)","v":0},{"$f":"SUMIF(Data!$T$2:$U$10177,$C159,Data!$V$2:$V$10177)","v":0},{"$f":"SUMIF(Data!$W$2:$W$10177,$C159,Data!$Y$2:$Y$10177)","v":0}]
[null,null,9900000848,848,"RACK OF STEEL","METAL",85,0,0,{"$f":"SUMIF(Data!$H$2:$H$10177,$C160,Data!$D$2:$D$10177)","v":0},{"$f":"SUMIF(Data!$H$2:$H$10177,$C160,Data!$J$2:$J$10177)","v":0},{"$f":"SUMIF(Data!$K$2:$K$10177,$C160,Data!$M$2:$M$10177)","v":0},{"$f":"SUMIF(Data!$N$2:$N$10177,$C160,Data!$P$2:$P$10177)","v":0},{"$f":"SUMIF(Data!$Q$2:$R$10177,$C160,Data!$S$2:$S$10177)","v":0},{"$f":"SUMIF(Data!$T$2:$U$10177,$C160,Data!$V$2:$V$10177)","v":0},{"$f":"SUMIF(Data!$W$2:$W$10177,$C160,Data!$Y$2:$Y$10177)","v":0}]
[null,null,9900000859,{"$f":"C161-9900000000","v":859},"PLASTIC BOX ","PLASTIC",0.36,{"$f":"G161*I161","v":0},{"$f":"SUM(J161:P161)","v":0},{"$f":"SUMIF(Data!$H$2:$H$10177,$C161,Data!$D$2:$D$10177)","v":0},{"$f":"SUMIF(Data!$H$2:$H$10177,$C161,Data!$J$2:$J$10177)","v":0},{"$f":"SUMIF(Data!$K$2:$K$10177,$C161,Data!$M$2:$M$10177)","v":0},{"$f":"SUMIF(Data!$N$2:$N$10177,$C161,Data!$P$2:$P$10177)","v":0},{"$f":"SUMIF(Data!$Q$2:$R$10177,$C161,Data!$S$2:$S$10177)","v":0},{"$f":"SUMIF(Data!$T$2:$U$10177,$C161,Data!$V$2:$V$10177)","v":0},{"$f":"SUMIF(Data!$W$2:$W$10177,$C161,Data!$Y$2:$Y$10177)","v":0}]
[null,null,9900000890,890,"SPACER OF PLASTIC","PLASTIC",1.5,0,0,{"$f":"SUMIF(Data!$H$2:$H$10177,$C162,Data!$D$2:$D$10177)","v":0},{"$f":"SUMIF(Data!$H$2:$H$10177,$C162,Data!$J$2:$J$10177)","v":0},{"$f":"SUMIF(Data!$K$2:$K$10177,$C162,Data!$M$2:$M$10177)","v":0},{"$f":"SUMIF(Data!$N$2:$N$10177,$C162,Data!$P$2:$P$10177)","v":0},{"$f":"SUMIF(Data!$Q$2:$R$10177,$C162,Data!$S$2:$S$10177)","v":0},{"$f":"SUMIF(Data!$T$2:$U$10177,$C162,Data!$V$2:$V$10177)","v":0},{"$f":"SUMIF(Data!$W$2:$W$10177,$C162,Data!$Y$2:$Y$10177)","v":0}]
[null,null,9900000991,991,"LID OF PLASTIC","PLASTIC",4.5,0,0,{"$f":"SUMIF(Data!$H$2:$H$10177,$C163,Data!$D$2:$D$10177)","v":0},{"$f":"SUMIF(Data!$H$2:$H$10177,$C163,Data!$J$2:$J$10177)","v":0},{"$f":"SUMIF(Data!$K$2:$K$10177,$C163,Data!$M$2:$M$10177)","v":0},{"$f":"SUMIF(Data!$N$2:$N$10177,$C163,Data!$P$2:$P$10177)","v":0},{"$f":"SUMIF(Data!$Q$2:$R$10177,$C163,Data!$S$2:$S$10177)","v":0},{"$f":"SUMIF(Data!$T$2:$U$10177,$C163,Data!$V$2:$V$10177)","v":0},{"$f":"SUMIF(Data!$W$2:$W$10177,$C163,Data!$Y$2:$Y$10177)","v":0}]
[null,null,9900001021,1021,"PLASTIC COVER, PALLET BOX L","PLASTIC",0.28199999999999997,0,0,{"$f":"SUMIF(Data!$H$2:$H$10177,$C164,Data!$D$2:$D$10177)","v":0},{"$f":"SUMIF(Data!$H$2:$H$10177,$C164,Data!$J$2:$J$10177)","v":0},{"$f":"SUMIF(Data!$K$2:$K$10177,$C164,Data!$M$2:$M$10177)","v":0},{"$f":"SUMIF(Data!$N$2:$N$10177,$C164,Data!$P$2:$P$10177)","v":0},{"$f":"SUMIF(Data!$Q$2:$R$10177,$C164,Data!$S$2:$S$10177)","v":0},{"$f":"SUMIF(Data!$T$2:$U$10177,$C164,Data!$V$2:$V$10177)","v":0},{"$f":"SUMIF(Data!$W$2:$W$10177,$C164,Data!$Y$2:$Y$10177)","v":0}]
[null,null,9900001022,1022,"PLASTIC COVER, PALLET BOX K2","PLASTIC",0.17,0,0,{"$f":"SUMIF(Data!$H$2:$H$10177,$C165,Data!$D$2:$D$10177)","v":0},{"$f":"SUMIF(Data!$H$2:$H$10177,$C165,Data!$J$2:$J$10177)","v":0},{"$f":"SUMIF(Data!$K$2:$K$10177,$C165,Data!$M$2:$M$10177)","v":0},{"$f":"SUMIF(Data!$N$2:$N$10177,$C165,Data!$P$2:$P$10177)","v":0},{"$f":"SUMIF(Data!$Q$2:$R$10177,$C165,Data!$S$2:$S$10177)","v":0},{"$f":"SUMIF(Data!$T$2:$U$10177,$C165,Data!$V$2:$V$10177)","v":0},{"$f":"SUMIF(Data!$W$2:$W$10177,$C165,Data!$Y$2:$Y$10177)","v":0}]
[null,null,9900001025,1025,"PLASTIC COVER, PALLET BOX F2","PLASTIC",0.45,0,0,{"$f":"SUMIF(Data!$H$2:$H$10177,$C166,Data!$D$2:$D$10177)","v":0},{"$f":"SUMIF(Data!$H$2:$H$10177,$C166,Data!$J$2:$J$10177)","v":0},{"$f":"SUMIF(Data!$K$2:$K$10177,$C166,Data!$M$2:$M$10177)","v":0},{"$f":"SUMIF(Data!$N$2:$N$10177,$C166,Data!$P$2:$P$10177)","v":0},{"$f":"SUMIF(Data!$Q$2:$R$10177,$C166,Data!$S$2:$S$10177)","v":0},{"$f":"SUMIF(Data!$T$2:$U$10177,$C166,Data!$V$2:$V$10177)","v":0},{"$f":"SUMIF(Data!$W$2:$W$10177,$C166,Data!$Y$2:$Y$10177)","v":0}]
[null,null,9900001026,1026,"PLASTIC COVER, PALLET BOX G2","PLASTIC",0.28999999999999998,0,0,{"$f":"SUMIF(Data!$H$2:$H$10177,$C167,Data!$D$2:$D$10177)","v":0},{"$f":"SUMIF(Data!$H$2:$H$10177,$C167,Data!$J$2:$J$10177)","v":0},{"$f":"SUMIF(Data!$K$2:$K$10177,$C167,Data!$M$2:$M$10177)","v":0},{"$f":"SUMIF(Data!$N$2:$N$10177,$C167,Data!$P$2:$P$10177)","v":0},{"$f":"SUMIF(Data!$Q$2:$R$10177,$C167,Data!$S$2:$S$10177)","v":0},{"$f":"SUMIF(Data!$T$2:$U$10177,$C167,Data!$V$2:$V$10177)","v":0},{"$f":"SUMIF(Data!$W$2:$W$10177,$C167,Data!$Y$2:$Y$10177)","v":0}]
[null,null,9900001029,1029,"PLASTIC COVER, PALLET BOX H2","PLASTIC",0.33,0,0,{"$f":"SUMIF(Data!$H$2:$H$10177,$C168,Data!$D$2:$D$10177)","v":0},{"$f":"SUMIF(Data!$H$2:$H$10177,$C168,Data!$J$2:$J$10177)","v":0},{"$f":"SUMIF(Data!$K$2:$K$10177,$C168,Data!$M$2:$M$10177)","v":0},{"$f":"SUMIF(Data!$N$2:$N$10177,$C168,Data!$P$2:$P$10177)","v":0},{"$f":"SUMIF(Data!$Q$2:$R$10177,$C168,Data!$S$2:$S$10177)","v":0},{"$f":"SUMIF(Data!$T$2:$U$10177,$C168,Data!$V$2:$V$10177)","v":0},{"$f":"SUMIF(Data!$W$2:$W$10177,$C168,Data!$Y$2:$Y$10177)","v":0}]
[null,null,9900001031,1031,"PLASTIC COVER, PALLET BOX L3","PLASTIC",0.318,0,0,{"$f":"SUMIF(Data!$H$2:$H$10177,$C169,Data!$D$2:$D$10177)","v":0},{"$f":"SUMIF(Data!$H$2:$H$10177,$C169,Data!$J$2:$J$10177)","v":0},{"$f":"SUMIF(Data!$K$2:$K$10177,$C169,Data!$M$2:$M$10177)","v":0},{"$f":"SUMIF(Data!$N$2:$N$10177,$C169,Data!$P$2:$P$10177)","v":0},{"$f":"SUMIF(Data!$Q$2:$R$10177,$C169,Data!$S$2:$S$10177)","v":0},{"$f":"SUMIF(Data!$T$2:$U$10177,$C169,Data!$V$2:$V$10177)","v":0},{"$f":"SUMIF(Data!$W$2:$W$10177,$C169,Data!$Y$2:$Y$10177)","v":0}]
[null,null,9900001041,1041,"PLASTIC COVER, PALLET BOX L4","PLASTIC",0.37,0,0,{"$f":"SUMIF(Data!$H$2:$H$10177,$C170,Data!$D$2:$D$10177)","v":0},{"$f":"SUMIF(Data!$H$2:$H$10177,$C170,Data!$J$2:$J$10177)","v":0},{"$f":"SUMIF(Data!$K$2:$K$10177,$C170,Data!$M$2:$M$10177)","v":0},{"$f":"SUMIF(Data!$N$2:$N$10177,$C170,Data!$P$2:$P$10177)","v":0},{"$f":"SUMIF(Data!$Q$2:$R$10177,$C170,Data!$S$2:$S$10177)","v":0},{"$f":"SUMIF(Data!$T$2:$U$10177,$C170,Data!$V$2:$V$10177)","v":0},{"$f":"SUMIF(Data!$W$2:$W$10177,$C170,Data!$Y$2:$Y$10177)","v":0}]
[null,null,9900001046,1046,"PLASTIC COVER, PALLET BOX G4","PLASTIC",0.41,0,0,{"$f":"SUMIF(Data!$H$2:$H$10177,$C171,Data!$D$2:$D$10177)","v":0},{"$f":"SUMIF(Data!$H$2:$H$10177,$C171,Data!$J$2:$J$10177)","v":0},{"$f":"SUMIF(Data!$K$2:$K$10177,$C171,Data!$M$2:$M$10177)","v":0},{"$f":"SUMIF(Data!$N$2:$N$10177,$C171,Data!$P$2:$P$10177)","v":0},{"$f":"SUMIF(Data!$Q$2:$R$10177,$C171,Data!$S$2:$S$10177)","v":0},{"$f":"SUMIF(Data!$T$2:$U$10177,$C171,Data!$V$2:$V$10177)","v":0},{"$f":"SUMIF(Data!$W$2:$W$10177,$C171,Data!$Y$2:$Y$10177)","v":0}]
[null,null,9900001055,1055,"RACK OF STEEL","METAL",130,0,0,{"$f":"SUMIF(Data!$H$2:$H$10177,$C172,Data!$D$2:$D$10177)","v":0},{"$f":"SUMIF(Data!$H$2:$H$10177,$C172,Data!$J$2:$J$10177)","v":0},{"$f":"SUMIF(Data!$K$2:$K$10177,$C172,Data!$M$2:$M$10177)","v":0},{"$f":"SUMIF(Data!$N$2:$N$10177,$C172,Data!$P$2:$P$10177)","v":0},{"$f":"SUMIF(Data!$Q$2:$R$10177,$C172,Data!$S$2:$S$10177)","v":0},{"$f":"SUMIF(Data!$T$2:$U$10177,$C172,Data!$V$2:$V$10177)","v":0},{"$f":"SUMIF(Data!$W$2:$W$10177,$C172,Data!$Y$2:$Y$10177)","v":0}]
[null,null,9900001107,1107,"FIXING SPACER OF PLASTIC","PLASTIC",3.4,0,0,{"$f":"SUMIF(Data!$H$2:$H$10177,$C173,Data!$D$2:$D$10177)","v":0},{"$f":"SUMIF(Data!$H$2:$H$10177,$C173,Data!$J$2:$J$10177)","v":0},{"$f":"SUMIF(Data!$K$2:$K$10177,$C173,Data!$M$2:$M$10177)","v":0},{"$f":"SUMIF(Data!$N$2:$N$10177,$C173,Data!$P$2:$P$10177)","v":0},{"$f":"SUMIF(Data!$Q$2:$R$10177,$C173,Data!$S$2:$S$10177)","v":0},{"$f":"SUMIF(Data!$T$2:$U$10177,$C173,Data!$V$2:$V$10177)","v":0},{"$f":"SUMIF(Data!$W$2:$W$10177,$C173,Data!$Y$2:$Y$10177)","v":0}]
[null,null,9900001109,1109,"RACK OF STEEL","METAL",225,0,0,{"$f":"SUMIF(Data!$H$2:$H$10177,$C174,Data!$D$2:$D$10177)","v":0},{"$f":"SUMIF(Data!$H$2:$H$10177,$C174,Data!$J$2:$J$10177)","v":0},{"$f":"SUMIF(Data!$K$2:$K$10177,$C174,Data!$M$2:$M$10177)","v":0},{"$f":"SUMIF(Data!$N$2:$N$10177,$C174,Data!$P$2:$P$10177)","v":0},{"$f":"SUMIF(Data!$Q$2:$R$10177,$C174,Data!$S$2:$S$10177)","v":0},{"$f":"SUMIF(Data!$T$2:$U$10177,$C174,Data!$V$2:$V$10177)","v":0},{"$f":"SUMIF(Data!$W$2:$W$10177,$C174,Data!$Y$2:$Y$10177)","v":0}]
[null,null,9900001113,1113,"RACK OF STEEL","METAL",236,0,0,{"$f":"SUMIF(Data!$H$2:$H$10177,$C175,Data!$D$2:$D$10177)","v":0},{"$f":"SUMIF(Data!$H$2:$H$10177,$C175,Data!$J$2:$J$10177)","v":0},{"$f":"SUMIF(Data!$K$2:$K$10177,$C175,Data!$M$2:$M$10177)","v":0},{"$f":"SUMIF(Data!$N$2:$N$10177,$C175,Data!$P$2:$P$10177)","v":0},{"$f":"SUMIF(Data!$Q$2:$R$10177,$C175,Data!$S$2:$S$10177)","v":0},{"$f":"SUMIF(Data!$T$2:$U$10177,$C175,Data!$V$2:$V$10177)","v":0},{"$f":"SUMIF(Data!$W$2:$W$10177,$C175,Data!$Y$2:$Y$10177)","v":0}]
[null,null,9900001114,1114,"RACK OF STEEL","METAL",258,0,0,{"$f":"SUMIF(Data!$H$2:$H$10177,$C176,Data!$D$2:$D$10177)","v":0},{"$f":"SUMIF(Data!$H$2:$H$10177,$C176,Data!$J$2:$J$10177)","v":0},{"$f":"SUMIF(Data!$K$2:$K$10177,$C176,Data!$M$2:$M$10177)","v":0},{"$f":"SUMIF(Data!$N$2:$N$10177,$C176,Data!$P$2:$P$10177)","v":0},{"$f":"SUMIF(Data!$Q$2:$R$10177,$C176,Data!$S$2:$S$10177)","v":0},{"$f":"SUMIF(Data!$T$2:$U$10177,$C176,Data!$V$2:$V$10177)","v":0},{"$f":"SUMIF(Data!$W$2:$W$10177,$C176,Data!$Y$2:$Y$10177)","v":0}]
[null,null,9900001120,1120,"SUPPORT OF STEEL","METAL",5.5,0,0,{"$f":"SUMIF(Data!$H$2:$H$10177,$C177,Data!$D$2:$D$10177)","v":0},{"$f":"SUMIF(Data!$H$2:$H$10177,$C177,Data!$J$2:$J$10177)","v":0},{"$f":"SUMIF(Data!$K$2:$K$10177,$C177,Data!$M$2:$M$10177)","v":0},{"$f":"SUMIF(Data!$N$2:$N$10177,$C177,Data!$P$2:$P$10177)","v":0},{"$f":"SUMIF(Data!$Q$2:$R$10177,$C177,Data!$S$2:$S$10177)","v":0},{"$f":"SUMIF(Data!$T$2:$U$10177,$C177,Data!$V$2:$V$10177)","v":0},{"$f":"SUMIF(Data!$W$2:$W$10177,$C177,Data!$Y$2:$Y$10177)","v":0}]
[null,null,9900001121,1121,"SUPPORT OF STEEL","METAL",5.5,0,0,{"$f":"SUMIF(Data!$H$2:$H$10177,$C178,Data!$D$2:$D$10177)","v":0},{"$f":"SUMIF(Data!$H$2:$H$10177,$C178,Data!$J$2:$J$10177)","v":0},{"$f":"SUMIF(Data!$K$2:$K$10177,$C178,Data!$M$2:$M$10177)","v":0},{"$f":"SUMIF(Data!$N$2:$N$10177,$C178,Data!$P$2:$P$10177)","v":0},{"$f":"SUMIF(Data!$Q$2:$R$10177,$C178,Data!$S$2:$S$10177)","v":0},{"$f":"SUMIF(Data!$T$2:$U$10177,$C178,Data!$V$2:$V$10177)","v":0},{"$f":"SUMIF(Data!$W$2:$W$10177,$C178,Data!$Y$2:$Y$10177)","v":0}]
[null,null,9900001124,1124,"FIXING SPACER OF PLASTIC","PLASTIC",3.4,0,0,{"$f":"SUMIF(Data!$H$2:$H$10177,$C179,Data!$D$2:$D$10177)","v":0},{"$f":"SUMIF(Data!$H$2:$H$10177,$C179,Data!$J$2:$J$10177)","v":0},{"$f":"SUMIF(Data!$K$2:$K$10177,$C179,Data!$M$2:$M$10177)","v":0},{"$f":"SUMIF(Data!$N$2:$N$10177,$C179,Data!$P$2:$P$10177)","v":0},{"$f":"SUMIF(Data!$Q$2:$R$10177,$C179,Data!$S$2:$S$10177)","v":0},{"$f":"SUMIF(Data!$T$2:$U$10177,$C179,Data!$V$2:$V$10177)","v":0},{"$f":"SUMIF(Data!$W$2:$W$10177,$C179,Data!$Y$2:$Y$10177)","v":0}]
[null,null,9900001136,1136,"RACK OF STEEL","METAL",265,0,0,{"$f":"SUMIF(Data!$H$2:$H$10177,$C180,Data!$D$2:$D$10177)","v":0},{"$f":"SUMIF(Data!$H$2:$H$10177,$C180,Data!$J$2:$J$10177)","v":0},{"$f":"SUMIF(Data!$K$2:$K$10177,$C180,Data!$M$2:$M$10177)","v":0},{"$f":"SUMIF(Data!$N$2:$N$10177,$C180,Data!$P$2:$P$10177)","v":0},{"$f":"SUMIF(Data!$Q$2:$R$10177,$C180,Data!$S$2:$S$10177)","v":0},{"$f":"SUMIF(Data!$T$2:$U$10177,$C180,Data!$V$2:$V$10177)","v":0},{"$f":"SUMIF(Data!$W$2:$W$10177,$C180,Data!$Y$2:$Y$10177)","v":0}]
[null,null,9900001171,1171,"LID OF PLASTIC","PLASTIC",250,0,0,{"$f":"SUMIF(Data!$H$2:$H$10177,$C181,Data!$D$2:$D$10177)","v":0},{"$f":"SUMIF(Data!$H$2:$H$10177,$C181,Data!$J$2:$J$10177)","v":0},{"$f":"SUMIF(Data!$K$2:$K$10177,$C181,Data!$M$2:$M$10177)","v":0},{"$f":"SUMIF(Data!$N$2:$N$10177,$C181,Data!$P$2:$P$10177)","v":0},{"$f":"SUMIF(Data!$Q$2:$R$10177,$C181,Data!$S$2:$S$10177)","v":0},{"$f":"SUMIF(Data!$T$2:$U$10177,$C181,Data!$V$2:$V$10177)","v":0},{"$f":"SUMIF(Data!$W$2:$W$10177,$C181,Data!$Y$2:$Y$10177)","v":0}]
[null,null,9900001180,{"$f":"C182-9900000000","v":1180},"RACK OF STEEL","METAL",242,{"$f":"G182*I182","v":0},{"$f":"SUM(J182:P182)","v":0},{"$f":"SUMIF(Data!$H$2:$H$10177,$C182,Data!$D$2:$D$10177)","v":0},{"$f":"SUMIF(Data!$H$2:$H$10177,$C182,Data!$J$2:$J$10177)","v":0},{"$f":"SUMIF(Data!$K$2:$K$10177,$C182,Data!$M$2:$M$10177)","v":0},{"$f":"SUMIF(Data!$N$2:$N$10177,$C182,Data!$P$2:$P$10177)","v":0},{"$f":"SUMIF(Data!$Q$2:$R$10177,$C182,Data!$S$2:$S$10177)","v":0},{"$f":"SUMIF(Data!$T$2:$U$10177,$C182,Data!$V$2:$V$10177)","v":0},{"$f":"SUMIF(Data!$W$2:$W$10177,$C182,Data!$Y$2:$Y$10177)","v":0}]
[null,null,9900001200,1200,"BOX OF PLASTIC","PLASTIC",5,0,0,{"$f":"SUMIF(Data!$H$2:$H$10177,$C183,Data!$D$2:$D$10177)","v":0},{"$f":"SUMIF(Data!$H$2:$H$10177,$C183,Data!$J$2:$J$10177)","v":0},{"$f":"SUMIF(Data!$K$2:$K$10177,$C183,Data!$M$2:$M$10177)","v":0},{"$f":"SUMIF(Data!$N$2:$N$10177,$C183,Data!$P$2:$P$10177)","v":0},{"$f":"SUMIF(Data!$Q$2:$R$10177,$C183,Data!$S$2:$S$10177)","v":0},{"$f":"SUMIF(Data!$T$2:$U$10177,$C183,Data!$V$2:$V$10177)","v":0},{"$f":"SUMIF(Data!$W$2:$W$10177,$C183,Data!$Y$2:$Y$10177)","v":0}]
[null,null,9900001373,1373,"Rack Of Steel","METAL",158,0,0,{"$f":"SUMIF(Data!$H$2:$H$10177,$C184,Data!$D$2:$D$10177)","v":0},{"$f":"SUMIF(Data!$H$2:$H$10177,$C184,Data!$J$2:$J$10177)","v":0},{"$f":"SUMIF(Data!$K$2:$K$10177,$C184,Data!$M$2:$M$10177)","v":0},{"$f":"SUMIF(Data!$N$2:$N$10177,$C184,Data!$P$2:$P$10177)","v":0},{"$f":"SUMIF(Data!$Q$2:$R$10177,$C184,Data!$S$2:$S$10177)","v":0},{"$f":"SUMIF(Data!$T$2:$U$10177,$C184,Data!$V$2:$V$10177)","v":0},{"$f":"SUMIF(Data!$W$2:$W$10177,$C184,Data!$Y$2:$Y$10177)","v":0}]
[null,null,9900001396,1396,"SPACER OF PLASTIC","PLASTIC",0.2,0,0,{"$f":"SUMIF(Data!$H$2:$H$10177,$C185,Data!$D$2:$D$10177)","v":0},{"$f":"SUMIF(Data!$H$2:$H$10177,$C185,Data!$J$2:$J$10177)","v":0},{"$f":"SUMIF(Data!$K$2:$K$10177,$C185,Data!$M$2:$M$10177)","v":0},{"$f":"SUMIF(Data!$N$2:$N$10177,$C185,Data!$P$2:$P$10177)","v":0},{"$f":"SUMIF(Data!$Q$2:$R$10177,$C185,Data!$S$2:$S$10177)","v":0},{"$f":"SUMIF(Data!$T$2:$U$10177,$C185,Data!$V$2:$V$10177)","v":0},{"$f":"SUMIF(Data!$W$2:$W$10177,$C185,Data!$Y$2:$Y$10177)","v":0}]
[null,null,9900001397,1397,"SPACER OF PLASTIC","PLASTIC",0.1,0,0,{"$f":"SUMIF(Data!$H$2:$H$10177,$C186,Data!$D$2:$D$10177)","v":0},{"$f":"SUMIF(Data!$H$2:$H$10177,$C186,Data!$J$2:$J$10177)","v":0},{"$f":"SUMIF(Data!$K$2:$K$10177,$C186,Data!$M$2:$M$10177)","v":0},{"$f":"SUMIF(Data!$N$2:$N$10177,$C186,Data!$P$2:$P$10177)","v":0},{"$f":"SUMIF(Data!$Q$2:$R$10177,$C186,Data!$S$2:$S$10177)","v":0},{"$f":"SUMIF(Data!$T$2:$U$10177,$C186,Data!$V$2:$V$10177)","v":0},{"$f":"SUMIF(Data!$W$2:$W$10177,$C186,Data!$Y$2:$Y$10177)","v":0}]
[null,null,9900001408,1408,"BOX OF PLASTIC","PLASTIC",1.33,0,0,{"$f":"SUMIF(Data!$H$2:$H$10177,$C187,Data!$D$2:$D$10177)","v":0},{"$f":"SUMIF(Data!$H$2:$H$10177,$C187,Data!$J$2:$J$10177)","v":0},{"$f":"SUMIF(Data!$K$2:$K$10177,$C187,Data!$M$2:$M$10177)","v":0},{"$f":"SUMIF(Data!$N$2:$N$10177,$C187,Data!$P$2:$P$10177)","v":0},{"$f":"SUMIF(Data!$Q$2:$R$10177,$C187,Data!$S$2:$S$10177)","v":0},{"$f":"SUMIF(Data!$T$2:$U$10177,$C187,Data!$V$2:$V$10177)","v":0},{"$f":"SUMIF(Data!$W$2:$W$10177,$C187,Data!$Y$2:$Y$10177)","v":0}]
[null,null,9900001414,1414,"INSERT OF PLASTIC","PLASTIC",0.3,0,0,{"$f":"SUMIF(Data!$H$2:$H$10177,$C188,Data!$D$2:$D$10177)","v":0},{"$f":"SUMIF(Data!$H$2:$H$10177,$C188,Data!$J$2:$J$10177)","v":0},{"$f":"SUMIF(Data!$K$2:$K$10177,$C188,Data!$M$2:$M$10177)","v":0},{"$f":"SUMIF(Data!$N$2:$N$10177,$C188,Data!$P$2:$P$10177)","v":0},{"$f":"SUMIF(Data!$Q$2:$R$10177,$C188,Data!$S$2:$S$10177)","v":0},{"$f":"SUMIF(Data!$T$2:$U$10177,$C188,Data!$V$2:$V$10177)","v":0},{"$f":"SUMIF(Data!$W$2:$W$10177,$C188,Data!$Y$2:$Y$10177)","v":0}]
[null,null,9900001415,1415,"RACK OF STEEL","METAL",282,0,0,{"$f":"SUMIF(Data!$H$2:$H$10177,$C189,Data!$D$2:$D$10177)","v":0},{"$f":"SUMIF(Data!$H$2:$H$10177,$C189,Data!$J$2:$J$10177)","v":0},{"$f":"SUMIF(Data!$K$2:$K$10177,$C189,Data!$M$2:$M$10177)","v":0},{"$f":"SUMIF(Data!$N$2:$N$10177,$C189,Data!$P$2:$P$10177)","v":0},{"$f":"SUMIF(Data!$Q$2:$R$10177,$C189,Data!$S$2:$S$10177)","v":0},{"$f":"SUMIF(Data!$T$2:$U$10177,$C189,Data!$V$2:$V$10177)","v":0},{"$f":"SUMIF(Data!$W$2:$W$10177,$C189,Data!$Y$2:$Y$10177)","v":0}]
[null,null,9900001416,{"$f":"C190-9900000000","v":1416},"BATTEN OF WOOD","WOOD",13,0,0,{"$f":"SUMIF(Data!$H$2:$H$10177,$C190,Data!$D$2:$D$10177)","v":0},{"$f":"SUMIF(Data!$H$2:$H$10177,$C190,Data!$J$2:$J$10177)","v":0},{"$f":"SUMIF(Data!$K$2:$K$10177,$C190,Data!$M$2:$M$10177)","v":0},{"$f":"SUMIF(Data!$N$2:$N$10177,$C190,Data!$P$2:$P$10177)","v":0},{"$f":"SUMIF(Data!$Q$2:$R$10177,$C190,Data!$S$2:$S$10177)","v":0},{"$f":"SUMIF(Data!$T$2:$U$10177,$C190,Data!$V$2:$V$10177)","v":0},{"$f":"SUMIF(Data!$W$2:$W$10177,$C190,Data!$Y$2:$Y$10177)","v":0}]
[null,null,9900001420,{"$f":"C191-9900000000","v":1420},"RACK OF STEEL","METAL",205,{"$f":"G191*I191","v":0},{"$f":"SUM(J191:P191)","v":0},{"$f":"SUMIF(Data!$H$2:$H$10177,$C191,Data!$D$2:$D$10177)","v":0},{"$f":"SUMIF(Data!$H$2:$H$10177,$C191,Data!$J$2:$J$10177)","v":0},{"$f":"SUMIF(Data!$K$2:$K$10177,$C191,Data!$M$2:$M$10177)","v":0},{"$f":"SUMIF(Data!$N$2:$N$10177,$C191,Data!$P$2:$P$10177)","v":0},{"$f":"SUMIF(Data!$Q$2:$R$10177,$C191,Data!$S$2:$S$10177)","v":0},{"$f":"SUMIF(Data!$T$2:$U$10177,$C191,Data!$V$2:$V$10177)","v":0},{"$f":"SUMIF(Data!$W$2:$W$10177,$C191,Data!$Y$2:$Y$10177)","v":0}]
[null,null,9900001424,1424,"RACK OF STEEL","METAL",84,0,0,{"$f":"SUMIF(Data!$H$2:$H$10177,$C192,Data!$D$2:$D$10177)","v":0},{"$f":"SUMIF(Data!$H$2:$H$10177,$C192,Data!$J$2:$J$10177)","v":0},{"$f":"SUMIF(Data!$K$2:$K$10177,$C192,Data!$M$2:$M$10177)","v":0},{"$f":"SUMIF(Data!$N$2:$N$10177,$C192,Data!$P$2:$P$10177)","v":0},{"$f":"SUMIF(Data!$Q$2:$R$10177,$C192,Data!$S$2:$S$10177)","v":0},{"$f":"SUMIF(Data!$T$2:$U$10177,$C192,Data!$V$2:$V$10177)","v":0},{"$f":"SUMIF(Data!$W$2:$W$10177,$C192,Data!$Y$2:$Y$10177)","v":0}]
[null,null,9900001425,1425,"FIXING SPACER OF PLASTIC","PLASTIC",0.22,0,0,{"$f":"SUMIF(Data!$H$2:$H$10177,$C193,Data!$D$2:$D$10177)","v":0},{"$f":"SUMIF(Data!$H$2:$H$10177,$C193,Data!$J$2:$J$10177)","v":0},{"$f":"SUMIF(Data!$K$2:$K$10177,$C193,Data!$M$2:$M$10177)","v":0},{"$f":"SUMIF(Data!$N$2:$N$10177,$C193,Data!$P$2:$P$10177)","v":0},{"$f":"SUMIF(Data!$Q$2:$R$10177,$C193,Data!$S$2:$S$10177)","v":0},{"$f":"SUMIF(Data!$T$2:$U$10177,$C193,Data!$V$2:$V$10177)","v":0},{"$f":"SUMIF(Data!$W$2:$W$10177,$C193,Data!$Y$2:$Y$10177)","v":0}]
[null,null,9900001427,1427,"FIXING SPACER OF PLASTIC","PLASTIC",1.87,0,0,{"$f":"SUMIF(Data!$H$2:$H$10177,$C194,Data!$D$2:$D$10177)","v":0},{"$f":"SUMIF(Data!$H$2:$H$10177,$C194,Data!$J$2:$J$10177)","v":0},{"$f":"SUMIF(Data!$K$2:$K$10177,$C194,Data!$M$2:$M$10177)","v":0},{"$f":"SUMIF(Data!$N$2:$N$10177,$C194,Data!$P$2:$P$10177)","v":0},{"$f":"SUMIF(Data!$Q$2:$R$10177,$C194,Data!$S$2:$S$10177)","v":0},{"$f":"SUMIF(Data!$T$2:$U$10177,$C194,Data!$V$2:$V$10177)","v":0},{"$f":"SUMIF(Data!$W$2:$W$10177,$C194,Data!$Y$2:$Y$10177)","v":0}]
[null,null,9900001445,1445,"FIXING SPACER OF PLASTIC","PLASTIC",5,0,0,{"$f":"SUMIF(Data!$H$2:$H$10177,$C195,Data!$D$2:$D$10177)","v":0},{"$f":"SUMIF(Data!$H$2:$H$10177,$C195,Data!$J$2:$J$10177)","v":0},{"$f":"SUMIF(Data!$K$2:$K$10177,$C195,Data!$M$2:$M$10177)","v":0},{"$f":"SUMIF(Data!$N$2:$N$10177,$C195,Data!$P$2:$P$10177)","v":0},{"$f":"SUMIF(Data!$Q$2:$R$10177,$C195,Data!$S$2:$S$10177)","v":0},{"$f":"SUMIF(Data!$T$2:$U$10177,$C195,Data!$V$2:$V$10177)","v":0},{"$f":"SUMIF(Data!$W$2:$W$10177,$C195,Data!$Y$2:$Y$10177)","v":0}]
[null,null,9900001447,1447,"FIXING SPACER OF PLASTIC","PLASTIC",5,0,0,{"$f":"SUMIF(Data!$H$2:$H$10177,$C196,Data!$D$2:$D$10177)","v":0},{"$f":"SUMIF(Data!$H$2:$H$10177,$C196,Data!$J$2:$J$10177)","v":0},{"$f":"SUMIF(Data!$K$2:$K$10177,$C196,Data!$M$2:$M$10177)","v":0},{"$f":"SUMIF(Data!$N$2:$N$10177,$C196,Data!$P$2:$P$10177)","v":0},{"$f":"SUMIF(Data!$Q$2:$R$10177,$C196,Data!$S$2:$S$10177)","v":0},{"$f":"SUMIF(Data!$T$2:$U$10177,$C196,Data!$V$2:$V$10177)","v":0},{"$f":"SUMIF(Data!$W$2:$W$10177,$C196,Data!$Y$2:$Y$10177)","v":0}]
[null,null,9900001455,1455,"RACK OF STEEL","METAL",0,0,0,{"$f":"SUMIF(Data!$H$2:$H$10177,$C197,Data!$D$2:$D$10177)","v":0},{"$f":"SUMIF(Data!$H$2:$H$10177,$C197,Data!$J$2:$J$10177)","v":0},{"$f":"SUMIF(Data!$K$2:$K$10177,$C197,Data!$M$2:$M$10177)","v":0},{"$f":"SUMIF(Data!$N$2:$N$10177,$C197,Data!$P$2:$P$10177)","v":0},{"$f":"SUMIF(Data!$Q$2:$R$10177,$C197,Data!$S$2:$S$10177)","v":0},{"$f":"SUMIF(Data!$T$2:$U$10177,$C197,Data!$V$2:$V$10177)","v":0},{"$f":"SUMIF(Data!$W$2:$W$10177,$C197,Data!$Y$2:$Y$10177)","v":0}]
[null,null,9900001458,1458,"FIXING INSERT OF PLASTIC","PLASTIC",0.6,0,0,{"$f":"SUMIF(Data!$H$2:$H$10177,$C198,Data!$D$2:$D$10177)","v":0},{"$f":"SUMIF(Data!$H$2:$H$10177,$C198,Data!$J$2:$J$10177)","v":0},{"$f":"SUMIF(Data!$K$2:$K$10177,$C198,Data!$M$2:$M$10177)","v":0},{"$f":"SUMIF(Data!$N$2:$N$10177,$C198,Data!$P$2:$P$10177)","v":0},{"$f":"SUMIF(Data!$Q$2:$R$10177,$C198,Data!$S$2:$S$10177)","v":0},{"$f":"SUMIF(Data!$T$2:$U$10177,$C198,Data!$V$2:$V$10177)","v":0},{"$f":"SUMIF(Data!$W$2:$W$10177,$C198,Data!$Y$2:$Y$10177)","v":0}]
[null,null,9900001462,1462,"SPACER OF PLASTIC","PLASTIC",0.25,0,0,{"$f":"SUMIF(Data!$H$2:$H$10177,$C199,Data!$D$2:$D$10177)","v":0},{"$f":"SUMIF(Data!$H$2:$H$10177,$C199,Data!$J$2:$J$10177)","v":0},{"$f":"SUMIF(Data!$K$2:$K$10177,$C199,Data!$M$2:$M$10177)","v":0},{"$f":"SUMIF(Data!$N$2:$N$10177,$C199,Data!$P$2:$P$10177)","v":0},{"$f":"SUMIF(Data!$Q$2:$R$10177,$C199,Data!$S$2:$S$10177)","v":0},{"$f":"SUMIF(Data!$T$2:$U$10177,$C199,Data!$V$2:$V$10177)","v":0},{"$f":"SUMIF(Data!$W$2:$W$10177,$C199,Data!$Y$2:$Y$10177)","v":0}]
[null,null,9900001463,1463,"SPACER OF WOOD","WOOD",1.22,0,0,{"$f":"SUMIF(Data!$H$2:$H$10177,$C200,Data!$D$2:$D$10177)","v":0},{"$f":"SUMIF(Data!$H$2:$H$10177,$C200,Data!$J$2:$J$10177)","v":0},{"$f":"SUMIF(Data!$K$2:$K$10177,$C200,Data!$M$2:$M$10177)","v":0},{"$f":"SUMIF(Data!$N$2:$N$10177,$C200,Data!$P$2:$P$10177)","v":0},{"$f":"SUMIF(Data!$Q$2:$R$10177,$C200,Data!$S$2:$S$10177)","v":0},{"$f":"SUMIF(Data!$T$2:$U$10177,$C200,Data!$V$2:$V$10177)","v":0},{"$f":"SUMIF(Data!$W$2:$W$10177,$C200,Data!$Y$2:$Y$10177)","v":0}]
[null,null,9900001464,1464,"SPACER OF WOOD","WOOD",0.93,0,0,{"$f":"SUMIF(Data!$H$2:$H$10177,$C201,Data!$D$2:$D$10177)","v":0},{"$f":"SUMIF(Data!$H$2:$H$10177,$C201,Data!$J$2:$J$10177)","v":0},{"$f":"SUMIF(Data!$K$2:$K$10177,$C201,Data!$M$2:$M$10177)","v":0},{"$f":"SUMIF(Data!$N$2:$N$10177,$C201,Data!$P$2:$P$10177)","v":0},{"$f":"SUMIF(Data!$Q$2:$R$10177,$C201,Data!$S$2:$S$10177)","v":0},{"$f":"SUMIF(Data!$T$2:$U$10177,$C201,Data!$V$2:$V$10177)","v":0},{"$f":"SUMIF(Data!$W$2:$W$10177,$C201,Data!$Y$2:$Y$10177)","v":0}]
[null,null,9900001475,{"$f":"C202-9900000000","v":1475},"FIXING SPACER OF PLASTIC","PLASTIC",3.6,{"$f":"G202*I202","v":0},{"$f":"SUM(J202:P202)","v":0},{"$f":"SUMIF(Data!$H$2:$H$10177,$C202,Data!$D$2:$D$10177)","v":0},{"$f":"SUMIF(Data!$H$2:$H$10177,$C202,Data!$J$2:$J$10177)","v":0},{"$f":"SUMIF(Data!$K$2:$K$10177,$C202,Data!$M$2:$M$10177)","v":0},{"$f":"SUMIF(Data!$N$2:$N$10177,$C202,Data!$P$2:$P$10177)","v":0},{"$f":"SUMIF(Data!$Q$2:$R$10177,$C202,Data!$S$2:$S$10177)","v":0},{"$f":"SUMIF(Data!$T$2:$U$10177,$C202,Data!$V$2:$V$10177)","v":0},{"$f":"SUMIF(Data!$W$2:$W$10177,$C202,Data!$Y$2:$Y$10177)","v":0}]
[null,null,9900001476,1476,"FIXING SPACER OF PLASTIC","PLASTIC",3.6,0,0,{"$f":"SUMIF(Data!$H$2:$H$10177,$C203,Data!$D$2:$D$10177)","v":0},{"$f":"SUMIF(Data!$H$2:$H$10177,$C203,Data!$J$2:$J$10177)","v":0},{"$f":"SUMIF(Data!$K$2:$K$10177,$C203,Data!$M$2:$M$10177)","v":0},{"$f":"SUMIF(Data!$N$2:$N$10177,$C203,Data!$P$2:$P$10177)","v":0},{"$f":"SUMIF(Data!$Q$2:$R$10177,$C203,Data!$S$2:$S$10177)","v":0},{"$f":"SUMIF(Data!$T$2:$U$10177,$C203,Data!$V$2:$V$10177)","v":0},{"$f":"SUMIF(Data!$W$2:$W$10177,$C203,Data!$Y$2:$Y$10177)","v":0}]
[null,null,9900001477,{"$f":"C204-9900000000","v":1477},"FIXING SPACER OF PLASTIC","PLASTIC",3.6,0,0,{"$f":"SUMIF(Data!$H$2:$H$10177,$C204,Data!$D$2:$D$10177)","v":0},{"$f":"SUMIF(Data!$H$2:$H$10177,$C204,Data!$J$2:$J$10177)","v":0},{"$f":"SUMIF(Data!$K$2:$K$10177,$C204,Data!$M$2:$M$10177)","v":0},{"$f":"SUMIF(Data!$N$2:$N$10177,$C204,Data!$P$2:$P$10177)","v":0},{"$f":"SUMIF(Data!$Q$2:$R$10177,$C204,Data!$S$2:$S$10177)","v":0},{"$f":"SUMIF(Data!$T$2:$U$10177,$C204,Data!$V$2:$V$10177)","v":0},{"$f":"SUMIF(Data!$W$2:$W$10177,$C204,Data!$Y$2:$Y$10177)","v":0}]
[null,null,9900001479,{"$f":"C205-9900000000","v":1479},"RACK OF STEEL","METAL",120,0,0,{"$f":"SUMIF(Data!$H$2:$H$10177,$C205,Data!$D$2:$D$10177)","v":0},{"$f":"SUMIF(Data!$H$2:$H$10177,$C205,Data!$J$2:$J$10177)","v":0},{"$f":"SUMIF(Data!$K$2:$K$10177,$C205,Data!$M$2:$M$10177)","v":0},{"$f":"SUMIF(Data!$N$2:$N$10177,$C205,Data!$P$2:$P$10177)","v":0},{"$f":"SUMIF(Data!$Q$2:$R$10177,$C205,Data!$S$2:$S$10177)","v":0},{"$f":"SUMIF(Data!$T$2:$U$10177,$C205,Data!$V$2:$V$10177)","v":0},{"$f":"SUMIF(Data!$W$2:$W$10177,$C205,Data!$Y$2:$Y$10177)","v":0}]
[null,null,9900001480,{"$f":"C206-9900000000","v":1480},"RACK OF STEEL","METAL",92,0,0,{"$f":"SUMIF(Data!$H$2:$H$10177,$C206,Data!$D$2:$D$10177)","v":0},{"$f":"SUMIF(Data!$H$2:$H$10177,$C206,Data!$J$2:$J$10177)","v":0},{"$f":"SUMIF(Data!$K$2:$K$10177,$C206,Data!$M$2:$M$10177)","v":0},{"$f":"SUMIF(Data!$N$2:$N$10177,$C206,Data!$P$2:$P$10177)","v":0},{"$f":"SUMIF(Data!$Q$2:$R$10177,$C206,Data!$S$2:$S$10177)","v":0},{"$f":"SUMIF(Data!$T$2:$U$10177,$C206,Data!$V$2:$V$10177)","v":0},{"$f":"SUMIF(Data!$W$2:$W$10177,$C206,Data!$Y$2:$Y$10177)","v":0}]
[null,null,9900001481,1481,"FIXING SPACER OF PLASTIC","PLASTIC",4.7,0,0,{"$f":"SUMIF(Data!$H$2:$H$10177,$C207,Data!$D$2:$D$10177)","v":0},{"$f":"SUMIF(Data!$H$2:$H$10177,$C207,Data!$J$2:$J$10177)","v":0},{"$f":"SUMIF(Data!$K$2:$K$10177,$C207,Data!$M$2:$M$10177)","v":0},{"$f":"SUMIF(Data!$N$2:$N$10177,$C207,Data!$P$2:$P$10177)","v":0},{"$f":"SUMIF(Data!$Q$2:$R$10177,$C207,Data!$S$2:$S$10177)","v":0},{"$f":"SUMIF(Data!$T$2:$U$10177,$C207,Data!$V$2:$V$10177)","v":0},{"$f":"SUMIF(Data!$W$2:$W$10177,$C207,Data!$Y$2:$Y$10177)","v":0}]
[null,null,9900001482,{"$f":"C208-9900000000","v":1482},"RACK OF STEEL","METAL",84,{"$f":"G208*I208","v":0},{"$f":"SUM(J208:P208)","v":0},{"$f":"SUMIF(Data!$H$2:$H$10177,$C208,Data!$D$2:$D$10177)","v":0},{"$f":"SUMIF(Data!$H$2:$H$10177,$C208,Data!$J$2:$J$10177)","v":0},{"$f":"SUMIF(Data!$K$2:$K$10177,$C208,Data!$M$2:$M$10177)","v":0},{"$f":"SUMIF(Data!$N$2:$N$10177,$C208,Data!$P$2:$P$10177)","v":0},{"$f":"SUMIF(Data!$Q$2:$R$10177,$C208,Data!$S$2:$S$10177)","v":0},{"$f":"SUMIF(Data!$T$2:$U$10177,$C208,Data!$V$2:$V$10177)","v":0},{"$f":"SUMIF(Data!$W$2:$W$10177,$C208,Data!$Y$2:$Y$10177)","v":0}]
[null,null,9900001483,1483,"FIXING SPACER OF PLASTIC","PLASTIC",6.2,0,0,{"$f":"SUMIF(Data!$H$2:$H$10177,$C209,Data!$D$2:$D$10177)","v":0},{"$f":"SUMIF(Data!$H$2:$H$10177,$C209,Data!$J$2:$J$10177)","v":0},{"$f":"SUMIF(Data!$K$2:$K$10177,$C209,Data!$M$2:$M$10177)","v":0},{"$f":"SUMIF(Data!$N$2:$N$10177,$C209,Data!$P$2:$P$10177)","v":0},{"$f":"SUMIF(Data!$Q$2:$R$10177,$C209,Data!$S$2:$S$10177)","v":0},{"$f":"SUMIF(Data!$T$2:$U$10177,$C209,Data!$V$2:$V$10177)","v":0},{"$f":"SUMIF(Data!$W$2:$W$10177,$C209,Data!$Y$2:$Y$10177)","v":0}]
[null,null,9900001486,1486,"FIXING SPACER OF PLASTIC","PLASTIC",2.34,0,0,{"$f":"SUMIF(Data!$H$2:$H$10177,$C210,Data!$D$2:$D$10177)","v":0},{"$f":"SUMIF(Data!$H$2:$H$10177,$C210,Data!$J$2:$J$10177)","v":0},{"$f":"SUMIF(Data!$K$2:$K$10177,$C210,Data!$M$2:$M$10177)","v":0},{"$f":"SUMIF(Data!$N$2:$N$10177,$C210,Data!$P$2:$P$10177)","v":0},{"$f":"SUMIF(Data!$Q$2:$R$10177,$C210,Data!$S$2:$S$10177)","v":0},{"$f":"SUMIF(Data!$T$2:$U$10177,$C210,Data!$V$2:$V$10177)","v":0},{"$f":"SUMIF(Data!$W$2:$W$10177,$C210,Data!$Y$2:$Y$10177)","v":0}]
[null,null,9900001487,1487,"PALLET BOX OF WOOD","WOOD",45,0,0,{"$f":"SUMIF(Data!$H$2:$H$10177,$C211,Data!$D$2:$D$10177)","v":0},{"$f":"SUMIF(Data!$H$2:$H$10177,$C211,Data!$J$2:$J$10177)","v":0},{"$f":"SUMIF(Data!$K$2:$K$10177,$C211,Data!$M$2:$M$10177)","v":0},{"$f":"SUMIF(Data!$N$2:$N$10177,$C211,Data!$P$2:$P$10177)","v":0},{"$f":"SUMIF(Data!$Q$2:$R$10177,$C211,Data!$S$2:$S$10177)","v":0},{"$f":"SUMIF(Data!$T$2:$U$10177,$C211,Data!$V$2:$V$10177)","v":0},{"$f":"SUMIF(Data!$W$2:$W$10177,$C211,Data!$Y$2:$Y$10177)","v":0}]
[null,null,9900001489,1489,"HANGER OF STEEL","METAL",12,0,0,{"$f":"SUMIF(Data!$H$2:$H$10177,$C212,Data!$D$2:$D$10177)","v":0},{"$f":"SUMIF(Data!$H$2:$H$10177,$C212,Data!$J$2:$J$10177)","v":0},{"$f":"SUMIF(Data!$K$2:$K$10177,$C212,Data!$M$2:$M$10177)","v":0},{"$f":"SUMIF(Data!$N$2:$N$10177,$C212,Data!$P$2:$P$10177)","v":0},{"$f":"SUMIF(Data!$Q$2:$R$10177,$C212,Data!$S$2:$S$10177)","v":0},{"$f":"SUMIF(Data!$T$2:$U$10177,$C212,Data!$V$2:$V$10177)","v":0},{"$f":"SUMIF(Data!$W$2:$W$10177,$C212,Data!$Y$2:$Y$10177)","v":0}]
[null,null,9900001490,1490,"HANGER OF STEEL","METAL",75,0,0,{"$f":"SUMIF(Data!$H$2:$H$10177,$C213,Data!$D$2:$D$10177)","v":0},{"$f":"SUMIF(Data!$H$2:$H$10177,$C213,Data!$J$2:$J$10177)","v":0},{"$f":"SUMIF(Data!$K$2:$K$10177,$C213,Data!$M$2:$M$10177)","v":0},{"$f":"SUMIF(Data!$N$2:$N$10177,$C213,Data!$P$2:$P$10177)","v":0},{"$f":"SUMIF(Data!$Q$2:$R$10177,$C213,Data!$S$2:$S$10177)","v":0},{"$f":"SUMIF(Data!$T$2:$U$10177,$C213,Data!$V$2:$V$10177)","v":0},{"$f":"SUMIF(Data!$W$2:$W$10177,$C213,Data!$Y$2:$Y$10177)","v":0}]
[null,null,9900001495,1495,"FIXING SPACER OF PLASTIC","PLASTIC",5,0,0,{"$f":"SUMIF(Data!$H$2:$H$10177,$C214,Data!$D$2:$D$10177)","v":0},{"$f":"SUMIF(Data!$H$2:$H$10177,$C214,Data!$J$2:$J$10177)","v":0},{"$f":"SUMIF(Data!$K$2:$K$10177,$C214,Data!$M$2:$M$10177)","v":0},{"$f":"SUMIF(Data!$N$2:$N$10177,$C214,Data!$P$2:$P$10177)","v":0},{"$f":"SUMIF(Data!$Q$2:$R$10177,$C214,Data!$S$2:$S$10177)","v":0},{"$f":"SUMIF(Data!$T$2:$U$10177,$C214,Data!$V$2:$V$10177)","v":0},{"$f":"SUMIF(Data!$W$2:$W$10177,$C214,Data!$Y$2:$Y$10177)","v":0}]
[null,null,9900001498,1498,"FIXING SPACER OF PLASTIC","PLASTIC",0.13,0,0,{"$f":"SUMIF(Data!$H$2:$H$10177,$C215,Data!$D$2:$D$10177)","v":0},{"$f":"SUMIF(Data!$H$2:$H$10177,$C215,Data!$J$2:$J$10177)","v":0},{"$f":"SUMIF(Data!$K$2:$K$10177,$C215,Data!$M$2:$M$10177)","v":0},{"$f":"SUMIF(Data!$N$2:$N$10177,$C215,Data!$P$2:$P$10177)","v":0},{"$f":"SUMIF(Data!$Q$2:$R$10177,$C215,Data!$S$2:$S$10177)","v":0},{"$f":"SUMIF(Data!$T$2:$U$10177,$C215,Data!$V$2:$V$10177)","v":0},{"$f":"SUMIF(Data!$W$2:$W$10177,$C215,Data!$Y$2:$Y$10177)","v":0}]
[null,null,9900001499,1499,"FIXING SPACER OF PLASTIC","PLASTIC",5.75,0,0,{"$f":"SUMIF(Data!$H$2:$H$10177,$C216,Data!$D$2:$D$10177)","v":0},{"$f":"SUMIF(Data!$H$2:$H$10177,$C216,Data!$J$2:$J$10177)","v":0},{"$f":"SUMIF(Data!$K$2:$K$10177,$C216,Data!$M$2:$M$10177)","v":0},{"$f":"SUMIF(Data!$N$2:$N$10177,$C216,Data!$P$2:$P$10177)","v":0},{"$f":"SUMIF(Data!$Q$2:$R$10177,$C216,Data!$S$2:$S$10177)","v":0},{"$f":"SUMIF(Data!$T$2:$U$10177,$C216,Data!$V$2:$V$10177)","v":0},{"$f":"SUMIF(Data!$W$2:$W$10177,$C216,Data!$Y$2:$Y$10177)","v":0}]
[null,null,9900001500,1500,"FIXING SPACER OF WOOD","WOOD",1.1399999999999999,0,0,{"$f":"SUMIF(Data!$H$2:$H$10177,$C217,Data!$D$2:$D$10177)","v":0},{"$f":"SUMIF(Data!$H$2:$H$10177,$C217,Data!$J$2:$J$10177)","v":0},{"$f":"SUMIF(Data!$K$2:$K$10177,$C217,Data!$M$2:$M$10177)","v":0},{"$f":"SUMIF(Data!$N$2:$N$10177,$C217,Data!$P$2:$P$10177)","v":0},{"$f":"SUMIF(Data!$Q$2:$R$10177,$C217,Data!$S$2:$S$10177)","v":0},{"$f":"SUMIF(Data!$T$2:$U$10177,$C217,Data!$V$2:$V$10177)","v":0},{"$f":"SUMIF(Data!$W$2:$W$10177,$C217,Data!$Y$2:$Y$10177)","v":0}]
[null,null,9900001501,1501,"FIXING SPACER OF PLASTIC","PLASTIC",1.1399999999999999,0,0,{"$f":"SUMIF(Data!$H$2:$H$10177,$C218,Data!$D$2:$D$10177)","v":0},{"$f":"SUMIF(Data!$H$2:$H$10177,$C218,Data!$J$2:$J$10177)","v":0},{"$f":"SUMIF(Data!$K$2:$K$10177,$C218,Data!$M$2:$M$10177)","v":0},{"$f":"SUMIF(Data!$N$2:$N$10177,$C218,Data!$P$2:$P$10177)","v":0},{"$f":"SUMIF(Data!$Q$2:$R$10177,$C218,Data!$S$2:$S$10177)","v":0},{"$f":"SUMIF(Data!$T$2:$U$10177,$C218,Data!$V$2:$V$10177)","v":0},{"$f":"SUMIF(Data!$W$2:$W$10177,$C218,Data!$Y$2:$Y$10177)","v":0}]
[null,null,9900001502,1502,"FIXING SPACER OF PLASTIC","PLASTIC",5.79,{"$f":"G219*I219","v":0},{"$f":"SUM(J219:P219)","v":0},{"$f":"SUMIF(Data!$H$2:$H$10177,$C219,Data!$D$2:$D$10177)","v":0},{"$f":"SUMIF(Data!$H$2:$H$10177,$C219,Data!$J$2:$J$10177)","v":0},{"$f":"SUMIF(Data!$K$2:$K$10177,$C219,Data!$M$2:$M$10177)","v":0},{"$f":"SUMIF(Data!$N$2:$N$10177,$C219,Data!$P$2:$P$10177)","v":0},{"$f":"SUMIF(Data!$Q$2:$R$10177,$C219,Data!$S$2:$S$10177)","v":0},{"$f":"SUMIF(Data!$T$2:$U$10177,$C219,Data!$V$2:$V$10177)","v":0},{"$f":"SUMIF(Data!$W$2:$W$10177,$C219,Data!$Y$2:$Y$10177)","v":0}]
[null,null,9900001505,1505,"FIXING SPACER OF PLASTIC","PLASTIC",3,0,0,{"$f":"SUMIF(Data!$H$2:$H$10177,$C220,Data!$D$2:$D$10177)","v":0},{"$f":"SUMIF(Data!$H$2:$H$10177,$C220,Data!$J$2:$J$10177)","v":0},{"$f":"SUMIF(Data!$K$2:$K$10177,$C220,Data!$M$2:$M$10177)","v":0},{"$f":"SUMIF(Data!$N$2:$N$10177,$C220,Data!$P$2:$P$10177)","v":0},{"$f":"SUMIF(Data!$Q$2:$R$10177,$C220,Data!$S$2:$S$10177)","v":0},{"$f":"SUMIF(Data!$T$2:$U$10177,$C220,Data!$V$2:$V$10177)","v":0},{"$f":"SUMIF(Data!$W$2:$W$10177,$C220,Data!$Y$2:$Y$10177)","v":0}]
[null,null,9900001506,1506,"FIXING SPACER OF PLASTIC","PLASTIC",3,0,0,{"$f":"SUMIF(Data!$H$2:$H$10177,$C221,Data!$D$2:$D$10177)","v":0},{"$f":"SUMIF(Data!$H$2:$H$10177,$C221,Data!$J$2:$J$10177)","v":0},{"$f":"SUMIF(Data!$K$2:$K$10177,$C221,Data!$M$2:$M$10177)","v":0},{"$f":"SUMIF(Data!$N$2:$N$10177,$C221,Data!$P$2:$P$10177)","v":0},{"$f":"SUMIF(Data!$Q$2:$R$10177,$C221,Data!$S$2:$S$10177)","v":0},{"$f":"SUMIF(Data!$T$2:$U$10177,$C221,Data!$V$2:$V$10177)","v":0},{"$f":"SUMIF(Data!$W$2:$W$10177,$C221,Data!$Y$2:$Y$10177)","v":0}]
[null,null,9900001508,1508,"FIXING SPACER OF PLASTIC","PLASTIC",3,0,0,{"$f":"SUMIF(Data!$H$2:$H$10177,$C222,Data!$D$2:$D$10177)","v":0},{"$f":"SUMIF(Data!$H$2:$H$10177,$C222,Data!$J$2:$J$10177)","v":0},{"$f":"SUMIF(Data!$K$2:$K$10177,$C222,Data!$M$2:$M$10177)","v":0},{"$f":"SUMIF(Data!$N$2:$N$10177,$C222,Data!$P$2:$P$10177)","v":0},{"$f":"SUMIF(Data!$Q$2:$R$10177,$C222,Data!$S$2:$S$10177)","v":0},{"$f":"SUMIF(Data!$T$2:$U$10177,$C222,Data!$V$2:$V$10177)","v":0},{"$f":"SUMIF(Data!$W$2:$W$10177,$C222,Data!$Y$2:$Y$10177)","v":0}]
[null,null,9900001509,1509,"FIXING SPACER OF PLASTIC","PLASTIC",3,0,0,{"$f":"SUMIF(Data!$H$2:$H$10177,$C223,Data!$D$2:$D$10177)","v":0},{"$f":"SUMIF(Data!$H$2:$H$10177,$C223,Data!$J$2:$J$10177)","v":0},{"$f":"SUMIF(Data!$K$2:$K$10177,$C223,Data!$M$2:$M$10177)","v":0},{"$f":"SUMIF(Data!$N$2:$N$10177,$C223,Data!$P$2:$P$10177)","v":0},{"$f":"SUMIF(Data!$Q$2:$R$10177,$C223,Data!$S$2:$S$10177)","v":0},{"$f":"SUMIF(Data!$T$2:$U$10177,$C223,Data!$V$2:$V$10177)","v":0},{"$f":"SUMIF(Data!$W$2:$W$10177,$C223,Data!$Y$2:$Y$10177)","v":0}]
[null,null,9900001511,1511,"FIXING SPACER OF PLASTIC","PLASTIC",4,0,0,{"$f":"SUMIF(Data!$H$2:$H$10177,$C224,Data!$D$2:$D$10177)","v":0},{"$f":"SUMIF(Data!$H$2:$H$10177,$C224,Data!$J$2:$J$10177)","v":0},{"$f":"SUMIF(Data!$K$2:$K$10177,$C224,Data!$M$2:$M$10177)","v":0},{"$f":"SUMIF(Data!$N$2:$N$10177,$C224,Data!$P$2:$P$10177)","v":0},{"$f":"SUMIF(Data!$Q$2:$R$10177,$C224,Data!$S$2:$S$10177)","v":0},{"$f":"SUMIF(Data!$T$2:$U$10177,$C224,Data!$V$2:$V$10177)","v":0},{"$f":"SUMIF(Data!$W$2:$W$10177,$C224,Data!$Y$2:$Y$10177)","v":0}]
[null,null,9900001512,1512,"FIXING SPACER OF PLASTIC","PLASTIC",3,0,0,{"$f":"SUMIF(Data!$H$2:$H$10177,$C225,Data!$D$2:$D$10177)","v":0},{"$f":"SUMIF(Data!$H$2:$H$10177,$C225,Data!$J$2:$J$10177)","v":0},{"$f":"SUMIF(Data!$K$2:$K$10177,$C225,Data!$M$2:$M$10177)","v":0},{"$f":"SUMIF(Data!$N$2:$N$10177,$C225,Data!$P$2:$P$10177)","v":0},{"$f":"SUMIF(Data!$Q$2:$R$10177,$C225,Data!$S$2:$S$10177)","v":0},{"$f":"SUMIF(Data!$T$2:$U$10177,$C225,Data!$V$2:$V$10177)","v":0},{"$f":"SUMIF(Data!$W$2:$W$10177,$C225,Data!$Y$2:$Y$10177)","v":0}]
[null,null,9900001520,1520,"FIXING SPACER OF WOOD","WOOD",0.95,0,0,{"$f":"SUMIF(Data!$H$2:$H$10177,$C226,Data!$D$2:$D$10177)","v":0},{"$f":"SUMIF(Data!$H$2:$H$10177,$C226,Data!$J$2:$J$10177)","v":0},{"$f":"SUMIF(Data!$K$2:$K$10177,$C226,Data!$M$2:$M$10177)","v":0},{"$f":"SUMIF(Data!$N$2:$N$10177,$C226,Data!$P$2:$P$10177)","v":0},{"$f":"SUMIF(Data!$Q$2:$R$10177,$C226,Data!$S$2:$S$10177)","v":0},{"$f":"SUMIF(Data!$T$2:$U$10177,$C226,Data!$V$2:$V$10177)","v":0},{"$f":"SUMIF(Data!$W$2:$W$10177,$C226,Data!$Y$2:$Y$10177)","v":0}]
[null,null,9900001521,1521,"FIXING SPACER OF PLASTIC","PLASTIC",0.2,0,0,{"$f":"SUMIF(Data!$H$2:$H$10177,$C227,Data!$D$2:$D$10177)","v":0},{"$f":"SUMIF(Data!$H$2:$H$10177,$C227,Data!$J$2:$J$10177)","v":0},{"$f":"SUMIF(Data!$K$2:$K$10177,$C227,Data!$M$2:$M$10177)","v":0},{"$f":"SUMIF(Data!$N$2:$N$10177,$C227,Data!$P$2:$P$10177)","v":0},{"$f":"SUMIF(Data!$Q$2:$R$10177,$C227,Data!$S$2:$S$10177)","v":0},{"$f":"SUMIF(Data!$T$2:$U$10177,$C227,Data!$V$2:$V$10177)","v":0},{"$f":"SUMIF(Data!$W$2:$W$10177,$C227,Data!$Y$2:$Y$10177)","v":0}]
[null,null,9900001522,1522,"BATTEN OF WOOD","WOOD",3.0409999999999999,0,0,{"$f":"SUMIF(Data!$H$2:$H$10177,$C228,Data!$D$2:$D$10177)","v":0},{"$f":"SUMIF(Data!$H$2:$H$10177,$C228,Data!$J$2:$J$10177)","v":0},{"$f":"SUMIF(Data!$K$2:$K$10177,$C228,Data!$M$2:$M$10177)","v":0},{"$f":"SUMIF(Data!$N$2:$N$10177,$C228,Data!$P$2:$P$10177)","v":0},{"$f":"SUMIF(Data!$Q$2:$R$10177,$C228,Data!$S$2:$S$10177)","v":0},{"$f":"SUMIF(Data!$T$2:$U$10177,$C228,Data!$V$2:$V$10177)","v":0},{"$f":"SUMIF(Data!$W$2:$W$10177,$C228,Data!$Y$2:$Y$10177)","v":0}]
[null,null,9900001523,1523,"BATTEN OF WOOD","WOOD",1.2829999999999999,0,0,{"$f":"SUMIF(Data!$H$2:$H$10177,$C229,Data!$D$2:$D$10177)","v":0},{"$f":"SUMIF(Data!$H$2:$H$10177,$C229,Data!$J$2:$J$10177)","v":0},{"$f":"SUMIF(Data!$K$2:$K$10177,$C229,Data!$M$2:$M$10177)","v":0},{"$f":"SUMIF(Data!$N$2:$N$10177,$C229,Data!$P$2:$P$10177)","v":0},{"$f":"SUMIF(Data!$Q$2:$R$10177,$C229,Data!$S$2:$S$10177)","v":0},{"$f":"SUMIF(Data!$T$2:$U$10177,$C229,Data!$V$2:$V$10177)","v":0},{"$f":"SUMIF(Data!$W$2:$W$10177,$C229,Data!$Y$2:$Y$10177)","v":0}]
[null,null,9900001527,1527,"SPACER OF PLASTIC","PLASTIC",0.38,0,0,{"$f":"SUMIF(Data!$H$2:$H$10177,$C230,Data!$D$2:$D$10177)","v":0},{"$f":"SUMIF(Data!$H$2:$H$10177,$C230,Data!$J$2:$J$10177)","v":0},{"$f":"SUMIF(Data!$K$2:$K$10177,$C230,Data!$M$2:$M$10177)","v":0},{"$f":"SUMIF(Data!$N$2:$N$10177,$C230,Data!$P$2:$P$10177)","v":0},{"$f":"SUMIF(Data!$Q$2:$R$10177,$C230,Data!$S$2:$S$10177)","v":0},{"$f":"SUMIF(Data!$T$2:$U$10177,$C230,Data!$V$2:$V$10177)","v":0},{"$f":"SUMIF(Data!$W$2:$W$10177,$C230,Data!$Y$2:$Y$10177)","v":0}]
[null,null,9900001528,1528,"FIXING SPACER OF PLASTIC","PLASTIC",0.95,0,0,{"$f":"SUMIF(Data!$H$2:$H$10177,$C231,Data!$D$2:$D$10177)","v":0},{"$f":"SUMIF(Data!$H$2:$H$10177,$C231,Data!$J$2:$J$10177)","v":0},{"$f":"SUMIF(Data!$K$2:$K$10177,$C231,Data!$M$2:$M$10177)","v":0},{"$f":"SUMIF(Data!$N$2:$N$10177,$C231,Data!$P$2:$P$10177)","v":0},{"$f":"SUMIF(Data!$Q$2:$R$10177,$C231,Data!$S$2:$S$10177)","v":0},{"$f":"SUMIF(Data!$T$2:$U$10177,$C231,Data!$V$2:$V$10177)","v":0},{"$f":"SUMIF(Data!$W$2:$W$10177,$C231,Data!$Y$2:$Y$10177)","v":0}]
[null,null,9900001529,1529,"FIXING SPACER OF PLASTIC","PLASTIC",0.95,0,0,{"$f":"SUMIF(Data!$H$2:$H$10177,$C232,Data!$D$2:$D$10177)","v":0},{"$f":"SUMIF(Data!$H$2:$H$10177,$C232,Data!$J$2:$J$10177)","v":0},{"$f":"SUMIF(Data!$K$2:$K$10177,$C232,Data!$M$2:$M$10177)","v":0},{"$f":"SUMIF(Data!$N$2:$N$10177,$C232,Data!$P$2:$P$10177)","v":0},{"$f":"SUMIF(Data!$Q$2:$R$10177,$C232,Data!$S$2:$S$10177)","v":0},{"$f":"SUMIF(Data!$T$2:$U$10177,$C232,Data!$V$2:$V$10177)","v":0},{"$f":"SUMIF(Data!$W$2:$W$10177,$C232,Data!$Y$2:$Y$10177)","v":0}]
[null,null,9900001530,1530,"FIXING SPACER OF PLASTIC","PLASTIC",0.11,0,0,{"$f":"SUMIF(Data!$H$2:$H$10177,$C233,Data!$D$2:$D$10177)","v":0},{"$f":"SUMIF(Data!$H$2:$H$10177,$C233,Data!$J$2:$J$10177)","v":0},{"$f":"SUMIF(Data!$K$2:$K$10177,$C233,Data!$M$2:$M$10177)","v":0},{"$f":"SUMIF(Data!$N$2:$N$10177,$C233,Data!$P$2:$P$10177)","v":0},{"$f":"SUMIF(Data!$Q$2:$R$10177,$C233,Data!$S$2:$S$10177)","v":0},{"$f":"SUMIF(Data!$T$2:$U$10177,$C233,Data!$V$2:$V$10177)","v":0},{"$f":"SUMIF(Data!$W$2:$W$10177,$C233,Data!$Y$2:$Y$10177)","v":0}]
[null,null,9900001534,1534,"FIXING SPACER OF PLASTIC","PLASTIC",3.8,0,0,{"$f":"SUMIF(Data!$H$2:$H$10177,$C234,Data!$D$2:$D$10177)","v":0},{"$f":"SUMIF(Data!$H$2:$H$10177,$C234,Data!$J$2:$J$10177)","v":0},{"$f":"SUMIF(Data!$K$2:$K$10177,$C234,Data!$M$2:$M$10177)","v":0},{"$f":"SUMIF(Data!$N$2:$N$10177,$C234,Data!$P$2:$P$10177)","v":0},{"$f":"SUMIF(Data!$Q$2:$R$10177,$C234,Data!$S$2:$S$10177)","v":0},{"$f":"SUMIF(Data!$T$2:$U$10177,$C234,Data!$V$2:$V$10177)","v":0},{"$f":"SUMIF(Data!$W$2:$W$10177,$C234,Data!$Y$2:$Y$10177)","v":0}]
[null,null,9900001539,1539,"FIXING SPACER OF PLASTIC","PLASTIC",3,0,0,{"$f":"SUMIF(Data!$H$2:$H$10177,$C235,Data!$D$2:$D$10177)","v":0},{"$f":"SUMIF(Data!$H$2:$H$10177,$C235,Data!$J$2:$J$10177)","v":0},{"$f":"SUMIF(Data!$K$2:$K$10177,$C235,Data!$M$2:$M$10177)","v":0},{"$f":"SUMIF(Data!$N$2:$N$10177,$C235,Data!$P$2:$P$10177)","v":0},{"$f":"SUMIF(Data!$Q$2:$R$10177,$C235,Data!$S$2:$S$10177)","v":0},{"$f":"SUMIF(Data!$T$2:$U$10177,$C235,Data!$V$2:$V$10177)","v":0},{"$f":"SUMIF(Data!$W$2:$W$10177,$C235,Data!$Y$2:$Y$10177)","v":0}]
[null,null,9900001540,1540,"FIXING SPACER OF PLASTIC","PLASTIC",3,0,0,{"$f":"SUMIF(Data!$H$2:$H$10177,$C236,Data!$D$2:$D$10177)","v":0},{"$f":"SUMIF(Data!$H$2:$H$10177,$C236,Data!$J$2:$J$10177)","v":0},{"$f":"SUMIF(Data!$K$2:$K$10177,$C236,Data!$M$2:$M$10177)","v":0},{"$f":"SUMIF(Data!$N$2:$N$10177,$C236,Data!$P$2:$P$10177)","v":0},{"$f":"SUMIF(Data!$Q$2:$R$10177,$C236,Data!$S$2:$S$10177)","v":0},{"$f":"SUMIF(Data!$T$2:$U$10177,$C236,Data!$V$2:$V$10177)","v":0},{"$f":"SUMIF(Data!$W$2:$W$10177,$C236,Data!$Y$2:$Y$10177)","v":0}]
[null,null,9900001541,1541,"FIXING SPACER OF PLASTIC","PLASTIC",3,0,0,{"$f":"SUMIF(Data!$H$2:$H$10177,$C237,Data!$D$2:$D$10177)","v":0},{"$f":"SUMIF(Data!$H$2:$H$10177,$C237,Data!$J$2:$J$10177)","v":0},{"$f":"SUMIF(Data!$K$2:$K$10177,$C237,Data!$M$2:$M$10177)","v":0},{"$f":"SUMIF(Data!$N$2:$N$10177,$C237,Data!$P$2:$P$10177)","v":0},{"$f":"SUMIF(Data!$Q$2:$R$10177,$C237,Data!$S$2:$S$10177)","v":0},{"$f":"SUMIF(Data!$T$2:$U$10177,$C237,Data!$V$2:$V$10177)","v":0},{"$f":"SUMIF(Data!$W$2:$W$10177,$C237,Data!$Y$2:$Y$10177)","v":0}]
[null,null,9900001542,1542,"FIXING SPACER OF PLASTIC","PLASTIC",3,0,0,{"$f":"SUMIF(Data!$H$2:$H$10177,$C238,Data!$D$2:$D$10177)","v":0},{"$f":"SUMIF(Data!$H$2:$H$10177,$C238,Data!$J$2:$J$10177)","v":0},{"$f":"SUMIF(Data!$K$2:$K$10177,$C238,Data!$M$2:$M$10177)","v":0},{"$f":"SUMIF(Data!$N$2:$N$10177,$C238,Data!$P$2:$P$10177)","v":0},{"$f":"SUMIF(Data!$Q$2:$R$10177,$C238,Data!$S$2:$S$10177)","v":0},{"$f":"SUMIF(Data!$T$2:$U$10177,$C238,Data!$V$2:$V$10177)","v":0},{"$f":"SUMIF(Data!$W$2:$W$10177,$C238,Data!$Y$2:$Y$10177)","v":0}]
[null,null,9900001543,1543,"FIXING SPACER OF PLASTIC","PLASTIC",3,0,0,{"$f":"SUMIF(Data!$H$2:$H$10177,$C239,Data!$D$2:$D$10177)","v":0},{"$f":"SUMIF(Data!$H$2:$H$10177,$C239,Data!$J$2:$J$10177)","v":0},{"$f":"SUMIF(Data!$K$2:$K$10177,$C239,Data!$M$2:$M$10177)","v":0},{"$f":"SUMIF(Data!$N$2:$N$10177,$C239,Data!$P$2:$P$10177)","v":0},{"$f":"SUMIF(Data!$Q$2:$R$10177,$C239,Data!$S$2:$S$10177)","v":0},{"$f":"SUMIF(Data!$T$2:$U$10177,$C239,Data!$V$2:$V$10177)","v":0},{"$f":"SUMIF(Data!$W$2:$W$10177,$C239,Data!$Y$2:$Y$10177)","v":0}]
[null,null,9900001544,1544,"FIXING SPACER OF PLASTIC","PLASTIC",3,0,0,{"$f":"SUMIF(Data!$H$2:$H$10177,$C240,Data!$D$2:$D$10177)","v":0},{"$f":"SUMIF(Data!$H$2:$H$10177,$C240,Data!$J$2:$J$10177)","v":0},{"$f":"SUMIF(Data!$K$2:$K$10177,$C240,Data!$M$2:$M$10177)","v":0},{"$f":"SUMIF(Data!$N$2:$N$10177,$C240,Data!$P$2:$P$10177)","v":0},{"$f":"SUMIF(Data!$Q$2:$R$10177,$C240,Data!$S$2:$S$10177)","v":0},{"$f":"SUMIF(Data!$T$2:$U$10177,$C240,Data!$V$2:$V$10177)","v":0},{"$f":"SUMIF(Data!$W$2:$W$10177,$C240,Data!$Y$2:$Y$10177)","v":0}]
[null,null,9900001545,1545,"FIXING SPACER OF PLASTIC","PLASTIC",3,0,0,{"$f":"SUMIF(Data!$H$2:$H$10177,$C241,Data!$D$2:$D$10177)","v":0},{"$f":"SUMIF(Data!$H$2:$H$10177,$C241,Data!$J$2:$J$10177)","v":0},{"$f":"SUMIF(Data!$K$2:$K$10177,$C241,Data!$M$2:$M$10177)","v":0},{"$f":"SUMIF(Data!$N$2:$N$10177,$C241,Data!$P$2:$P$10177)","v":0},{"$f":"SUMIF(Data!$Q$2:$R$10177,$C241,Data!$S$2:$S$10177)","v":0},{"$f":"SUMIF(Data!$T$2:$U$10177,$C241,Data!$V$2:$V$10177)","v":0},{"$f":"SUMIF(Data!$W$2:$W$10177,$C241,Data!$Y$2:$Y$10177)","v":0}]
[null,null,9900001547,1547,"FIXING SPACER OF PLASTIC","PLASTIC",3,0,0,{"$f":"SUMIF(Data!$H$2:$H$10177,$C242,Data!$D$2:$D$10177)","v":0},{"$f":"SUMIF(Data!$H$2:$H$10177,$C242,Data!$J$2:$J$10177)","v":0},{"$f":"SUMIF(Data!$K$2:$K$10177,$C242,Data!$M$2:$M$10177)","v":0},{"$f":"SUMIF(Data!$N$2:$N$10177,$C242,Data!$P$2:$P$10177)","v":0},{"$f":"SUMIF(Data!$Q$2:$R$10177,$C242,Data!$S$2:$S$10177)","v":0},{"$f":"SUMIF(Data!$T$2:$U$10177,$C242,Data!$V$2:$V$10177)","v":0},{"$f":"SUMIF(Data!$W$2:$W$10177,$C242,Data!$Y$2:$Y$10177)","v":0}]
[null,null,9900001548,1548,"FIXING SPACER OF PLASTIC","PLASTIC",0.2,0,0,{"$f":"SUMIF(Data!$H$2:$H$10177,$C243,Data!$D$2:$D$10177)","v":0},{"$f":"SUMIF(Data!$H$2:$H$10177,$C243,Data!$J$2:$J$10177)","v":0},{"$f":"SUMIF(Data!$K$2:$K$10177,$C243,Data!$M$2:$M$10177)","v":0},{"$f":"SUMIF(Data!$N$2:$N$10177,$C243,Data!$P$2:$P$10177)","v":0},{"$f":"SUMIF(Data!$Q$2:$R$10177,$C243,Data!$S$2:$S$10177)","v":0},{"$f":"SUMIF(Data!$T$2:$U$10177,$C243,Data!$V$2:$V$10177)","v":0},{"$f":"SUMIF(Data!$W$2:$W$10177,$C243,Data!$Y$2:$Y$10177)","v":0}]
[null,null,9900001549,1549,"FIXING SPACER OF PLASTIC","PLASTIC",0.8,0,0,{"$f":"SUMIF(Data!$H$2:$H$10177,$C244,Data!$D$2:$D$10177)","v":0},{"$f":"SUMIF(Data!$H$2:$H$10177,$C244,Data!$J$2:$J$10177)","v":0},{"$f":"SUMIF(Data!$K$2:$K$10177,$C244,Data!$M$2:$M$10177)","v":0},{"$f":"SUMIF(Data!$N$2:$N$10177,$C244,Data!$P$2:$P$10177)","v":0},{"$f":"SUMIF(Data!$Q$2:$R$10177,$C244,Data!$S$2:$S$10177)","v":0},{"$f":"SUMIF(Data!$T$2:$U$10177,$C244,Data!$V$2:$V$10177)","v":0},{"$f":"SUMIF(Data!$W$2:$W$10177,$C244,Data!$Y$2:$Y$10177)","v":0}]
[null,null,9900001550,1550,"BOX OF PLASTIC","PLASTIC",7.5,0,0,{"$f":"SUMIF(Data!$H$2:$H$10177,$C245,Data!$D$2:$D$10177)","v":0},{"$f":"SUMIF(Data!$H$2:$H$10177,$C245,Data!$J$2:$J$10177)","v":0},{"$f":"SUMIF(Data!$K$2:$K$10177,$C245,Data!$M$2:$M$10177)","v":0},{"$f":"SUMIF(Data!$N$2:$N$10177,$C245,Data!$P$2:$P$10177)","v":0},{"$f":"SUMIF(Data!$Q$2:$R$10177,$C245,Data!$S$2:$S$10177)","v":0},{"$f":"SUMIF(Data!$T$2:$U$10177,$C245,Data!$V$2:$V$10177)","v":0},{"$f":"SUMIF(Data!$W$2:$W$10177,$C245,Data!$Y$2:$Y$10177)","v":0}]
[null,null,9900001551,1551,"LID OF PLASTIC","PLASTIC",3.5,0,0,{"$f":"SUMIF(Data!$H$2:$H$10177,$C246,Data!$D$2:$D$10177)","v":0},{"$f":"SUMIF(Data!$H$2:$H$10177,$C246,Data!$J$2:$J$10177)","v":0},{"$f":"SUMIF(Data!$K$2:$K$10177,$C246,Data!$M$2:$M$10177)","v":0},{"$f":"SUMIF(Data!$N$2:$N$10177,$C246,Data!$P$2:$P$10177)","v":0},{"$f":"SUMIF(Data!$Q$2:$R$10177,$C246,Data!$S$2:$S$10177)","v":0},{"$f":"SUMIF(Data!$T$2:$U$10177,$C246,Data!$V$2:$V$10177)","v":0},{"$f":"SUMIF(Data!$W$2:$W$10177,$C246,Data!$Y$2:$Y$10177)","v":0}]
[null,null,9900001552,1552,"RACK OF STEEL","METAL",145,0,0,{"$f":"SUMIF(Data!$H$2:$H$10177,$C247,Data!$D$2:$D$10177)","v":0},{"$f":"SUMIF(Data!$H$2:$H$10177,$C247,Data!$J$2:$J$10177)","v":0},{"$f":"SUMIF(Data!$K$2:$K$10177,$C247,Data!$M$2:$M$10177)","v":0},{"$f":"SUMIF(Data!$N$2:$N$10177,$C247,Data!$P$2:$P$10177)","v":0},{"$f":"SUMIF(Data!$Q$2:$R$10177,$C247,Data!$S$2:$S$10177)","v":0},{"$f":"SUMIF(Data!$T$2:$U$10177,$C247,Data!$V$2:$V$10177)","v":0},{"$f":"SUMIF(Data!$W$2:$W$10177,$C247,Data!$Y$2:$Y$10177)","v":0}]
[null,null,9900001555,1555,"FIXING SPACER OF WOOD","WOOD",0.95,0,0,{"$f":"SUMIF(Data!$H$2:$H$10177,$C248,Data!$D$2:$D$10177)","v":0},{"$f":"SUMIF(Data!$H$2:$H$10177,$C248,Data!$J$2:$J$10177)","v":0},{"$f":"SUMIF(Data!$K$2:$K$10177,$C248,Data!$M$2:$M$10177)","v":0},{"$f":"SUMIF(Data!$N$2:$N$10177,$C248,Data!$P$2:$P$10177)","v":0},{"$f":"SUMIF(Data!$Q$2:$R$10177,$C248,Data!$S$2:$S$10177)","v":0},{"$f":"SUMIF(Data!$T$2:$U$10177,$C248,Data!$V$2:$V$10177)","v":0},{"$f":"SUMIF(Data!$W$2:$W$10177,$C248,Data!$Y$2:$Y$10177)","v":0}]
[null,null,9900001558,1558,"FIXING SPACER OF PLASTIC","PLASTIC",1.8,0,0,{"$f":"SUMIF(Data!$H$2:$H$10177,$C249,Data!$D$2:$D$10177)","v":0},{"$f":"SUMIF(Data!$H$2:$H$10177,$C249,Data!$J$2:$J$10177)","v":0},{"$f":"SUMIF(Data!$K$2:$K$10177,$C249,Data!$M$2:$M$10177)","v":0},{"$f":"SUMIF(Data!$N$2:$N$10177,$C249,Data!$P$2:$P$10177)","v":0},{"$f":"SUMIF(Data!$Q$2:$R$10177,$C249,Data!$S$2:$S$10177)","v":0},{"$f":"SUMIF(Data!$T$2:$U$10177,$C249,Data!$V$2:$V$10177)","v":0},{"$f":"SUMIF(Data!$W$2:$W$10177,$C249,Data!$Y$2:$Y$10177)","v":0}]
[null,null,9900001559,1559,"LOCKING CLIP OF STEEL","METAL",0.15,0,0,{"$f":"SUMIF(Data!$H$2:$H$10177,$C250,Data!$D$2:$D$10177)","v":0},{"$f":"SUMIF(Data!$H$2:$H$10177,$C250,Data!$J$2:$J$10177)","v":0},{"$f":"SUMIF(Data!$K$2:$K$10177,$C250,Data!$M$2:$M$10177)","v":0},{"$f":"SUMIF(Data!$N$2:$N$10177,$C250,Data!$P$2:$P$10177)","v":0},{"$f":"SUMIF(Data!$Q$2:$R$10177,$C250,Data!$S$2:$S$10177)","v":0},{"$f":"SUMIF(Data!$T$2:$U$10177,$C250,Data!$V$2:$V$10177)","v":0},{"$f":"SUMIF(Data!$W$2:$W$10177,$C250,Data!$Y$2:$Y$10177)","v":0}]
[null,null,9900001560,1560,"FIXING SPACER OF PLYWOOD","WOOD",23,0,0,{"$f":"SUMIF(Data!$H$2:$H$10177,$C251,Data!$D$2:$D$10177)","v":0},{"$f":"SUMIF(Data!$H$2:$H$10177,$C251,Data!$J$2:$J$10177)","v":0},{"$f":"SUMIF(Data!$K$2:$K$10177,$C251,Data!$M$2:$M$10177)","v":0},{"$f":"SUMIF(Data!$N$2:$N$10177,$C251,Data!$P$2:$P$10177)","v":0},{"$f":"SUMIF(Data!$Q$2:$R$10177,$C251,Data!$S$2:$S$10177)","v":0},{"$f":"SUMIF(Data!$T$2:$U$10177,$C251,Data!$V$2:$V$10177)","v":0},{"$f":"SUMIF(Data!$W$2:$W$10177,$C251,Data!$Y$2:$Y$10177)","v":0}]
[null,null,9900001562,1562,"FIXING SPACER OF PLASTIC","PLASTIC",6.2,0,0,{"$f":"SUMIF(Data!$H$2:$H$10177,$C252,Data!$D$2:$D$10177)","v":0},{"$f":"SUMIF(Data!$H$2:$H$10177,$C252,Data!$J$2:$J$10177)","v":0},{"$f":"SUMIF(Data!$K$2:$K$10177,$C252,Data!$M$2:$M$10177)","v":0},{"$f":"SUMIF(Data!$N$2:$N$10177,$C252,Data!$P$2:$P$10177)","v":0},{"$f":"SUMIF(Data!$Q$2:$R$10177,$C252,Data!$S$2:$S$10177)","v":0},{"$f":"SUMIF(Data!$T$2:$U$10177,$C252,Data!$V$2:$V$10177)","v":0},{"$f":"SUMIF(Data!$W$2:$W$10177,$C252,Data!$Y$2:$Y$10177)","v":0}]
[null,null,9900001563,1563,"BOX OF PLYWOOD","WOOD",75,0,0,{"$f":"SUMIF(Data!$H$2:$H$10177,$C253,Data!$D$2:$D$10177)","v":0},{"$f":"SUMIF(Data!$H$2:$H$10177,$C253,Data!$J$2:$J$10177)","v":0},{"$f":"SUMIF(Data!$K$2:$K$10177,$C253,Data!$M$2:$M$10177)","v":0},{"$f":"SUMIF(Data!$N$2:$N$10177,$C253,Data!$P$2:$P$10177)","v":0},{"$f":"SUMIF(Data!$Q$2:$R$10177,$C253,Data!$S$2:$S$10177)","v":0},{"$f":"SUMIF(Data!$T$2:$U$10177,$C253,Data!$V$2:$V$10177)","v":0},{"$f":"SUMIF(Data!$W$2:$W$10177,$C253,Data!$Y$2:$Y$10177)","v":0}]
[null,null,9900001564,1564,"BOX OF PLYWOOD","WOOD",83,0,0,{"$f":"SUMIF(Data!$H$2:$H$10177,$C254,Data!$D$2:$D$10177)","v":0},{"$f":"SUMIF(Data!$H$2:$H$10177,$C254,Data!$J$2:$J$10177)","v":0},{"$f":"SUMIF(Data!$K$2:$K$10177,$C254,Data!$M$2:$M$10177)","v":0},{"$f":"SUMIF(Data!$N$2:$N$10177,$C254,Data!$P$2:$P$10177)","v":0},{"$f":"SUMIF(Data!$Q$2:$R$10177,$C254,Data!$S$2:$S$10177)","v":0},{"$f":"SUMIF(Data!$T$2:$U$10177,$C254,Data!$V$2:$V$10177)","v":0},{"$f":"SUMIF(Data!$W$2:$W$10177,$C254,Data!$Y$2:$Y$10177)","v":0}]
[null,null,9900001565,1565,"FIXING SPACER OF PLASTIC","PLASTIC",1.8,0,0,{"$f":"SUMIF(Data!$H$2:$H$10177,$C255,Data!$D$2:$D$10177)","v":0},{"$f":"SUMIF(Data!$H$2:$H$10177,$C255,Data!$J$2:$J$10177)","v":0},{"$f":"SUMIF(Data!$K$2:$K$10177,$C255,Data!$M$2:$M$10177)","v":0},{"$f":"SUMIF(Data!$N$2:$N$10177,$C255,Data!$P$2:$P$10177)","v":0},{"$f":"SUMIF(Data!$Q$2:$R$10177,$C255,Data!$S$2:$S$10177)","v":0},{"$f":"SUMIF(Data!$T$2:$U$10177,$C255,Data!$V$2:$V$10177)","v":0},{"$f":"SUMIF(Data!$W$2:$W$10177,$C255,Data!$Y$2:$Y$10177)","v":0}]
[null,null,9900001566,1566,"FIXING SPACER OF PLASTIC","PLASTIC",3.6,0,0,{"$f":"SUMIF(Data!$H$2:$H$10177,$C256,Data!$D$2:$D$10177)","v":0},{"$f":"SUMIF(Data!$H$2:$H$10177,$C256,Data!$J$2:$J$10177)","v":0},{"$f":"SUMIF(Data!$K$2:$K$10177,$C256,Data!$M$2:$M$10177)","v":0},{"$f":"SUMIF(Data!$N$2:$N$10177,$C256,Data!$P$2:$P$10177)","v":0},{"$f":"SUMIF(Data!$Q$2:$R$10177,$C256,Data!$S$2:$S$10177)","v":0},{"$f":"SUMIF(Data!$T$2:$U$10177,$C256,Data!$V$2:$V$10177)","v":0},{"$f":"SUMIF(Data!$W$2:$W$10177,$C256,Data!$Y$2:$Y$10177)","v":0}]
[null,null,9900001567,1567,"FIXING SPACER OF PLASTIC","PLASTIC",1.8,0,0,{"$f":"SUMIF(Data!$H$2:$H$10177,$C257,Data!$D$2:$D$10177)","v":0},{"$f":"SUMIF(Data!$H$2:$H$10177,$C257,Data!$J$2:$J$10177)","v":0},{"$f":"SUMIF(Data!$K$2:$K$10177,$C257,Data!$M$2:$M$10177)","v":0},{"$f":"SUMIF(Data!$N$2:$N$10177,$C257,Data!$P$2:$P$10177)","v":0},{"$f":"SUMIF(Data!$Q$2:$R$10177,$C257,Data!$S$2:$S$10177)","v":0},{"$f":"SUMIF(Data!$T$2:$U$10177,$C257,Data!$V$2:$V$10177)","v":0},{"$f":"SUMIF(Data!$W$2:$W$10177,$C257,Data!$Y$2:$Y$10177)","v":0}]
[null,null,9900001568,1568,"FIXING SPACER OF PLASTIC","PLASTIC",6,0,0,{"$f":"SUMIF(Data!$H$2:$H$10177,$C258,Data!$D$2:$D$10177)","v":0},{"$f":"SUMIF(Data!$H$2:$H$10177,$C258,Data!$J$2:$J$10177)","v":0},{"$f":"SUMIF(Data!$K$2:$K$10177,$C258,Data!$M$2:$M$10177)","v":0},{"$f":"SUMIF(Data!$N$2:$N$10177,$C258,Data!$P$2:$P$10177)","v":0},{"$f":"SUMIF(Data!$Q$2:$R$10177,$C258,Data!$S$2:$S$10177)","v":0},{"$f":"SUMIF(Data!$T$2:$U$10177,$C258,Data!$V$2:$V$10177)","v":0},{"$f":"SUMIF(Data!$W$2:$W$10177,$C258,Data!$Y$2:$Y$10177)","v":0}]
[null,null,9900001569,1569,"FIXING SPACER OF PLASTIC","PLASTIC",1.8,0,0,{"$f":"SUMIF(Data!$H$2:$H$10177,$C259,Data!$D$2:$D$10177)","v":0},{"$f":"SUMIF(Data!$H$2:$H$10177,$C259,Data!$J$2:$J$10177)","v":0},{"$f":"SUMIF(Data!$K$2:$K$10177,$C259,Data!$M$2:$M$10177)","v":0},{"$f":"SUMIF(Data!$N$2:$N$10177,$C259,Data!$P$2:$P$10177)","v":0},{"$f":"SUMIF(Data!$Q$2:$R$10177,$C259,Data!$S$2:$S$10177)","v":0},{"$f":"SUMIF(Data!$T$2:$U$10177,$C259,Data!$V$2:$V$10177)","v":0},{"$f":"SUMIF(Data!$W$2:$W$10177,$C259,Data!$Y$2:$Y$10177)","v":0}]
[null,null,9900001570,1570,"BATTEN OF WOOD","WOOD",1.4,0,0,{"$f":"SUMIF(Data!$H$2:$H$10177,$C260,Data!$D$2:$D$10177)","v":0},{"$f":"SUMIF(Data!$H$2:$H$10177,$C260,Data!$J$2:$J$10177)","v":0},{"$f":"SUMIF(Data!$K$2:$K$10177,$C260,Data!$M$2:$M$10177)","v":0},{"$f":"SUMIF(Data!$N$2:$N$10177,$C260,Data!$P$2:$P$10177)","v":0},{"$f":"SUMIF(Data!$Q$2:$R$10177,$C260,Data!$S$2:$S$10177)","v":0},{"$f":"SUMIF(Data!$T$2:$U$10177,$C260,Data!$V$2:$V$10177)","v":0},{"$f":"SUMIF(Data!$W$2:$W$10177,$C260,Data!$Y$2:$Y$10177)","v":0}]
[null,null,9900001571,1571,"BOX OF PLASTIC","PLASTIC",8.75,0,0,{"$f":"SUMIF(Data!$H$2:$H$10177,$C261,Data!$D$2:$D$10177)","v":0},{"$f":"SUMIF(Data!$H$2:$H$10177,$C261,Data!$J$2:$J$10177)","v":0},{"$f":"SUMIF(Data!$K$2:$K$10177,$C261,Data!$M$2:$M$10177)","v":0},{"$f":"SUMIF(Data!$N$2:$N$10177,$C261,Data!$P$2:$P$10177)","v":0},{"$f":"SUMIF(Data!$Q$2:$R$10177,$C261,Data!$S$2:$S$10177)","v":0},{"$f":"SUMIF(Data!$T$2:$U$10177,$C261,Data!$V$2:$V$10177)","v":0},{"$f":"SUMIF(Data!$W$2:$W$10177,$C261,Data!$Y$2:$Y$10177)","v":0}]
[null,null,9900001572,1572,"BOX OF PLASTIC","PLASTIC",8.75,0,0,{"$f":"SUMIF(Data!$H$2:$H$10177,$C262,Data!$D$2:$D$10177)","v":0},{"$f":"SUMIF(Data!$H$2:$H$10177,$C262,Data!$J$2:$J$10177)","v":0},{"$f":"SUMIF(Data!$K$2:$K$10177,$C262,Data!$M$2:$M$10177)","v":0},{"$f":"SUMIF(Data!$N$2:$N$10177,$C262,Data!$P$2:$P$10177)","v":0},{"$f":"SUMIF(Data!$Q$2:$R$10177,$C262,Data!$S$2:$S$10177)","v":0},{"$f":"SUMIF(Data!$T$2:$U$10177,$C262,Data!$V$2:$V$10177)","v":0},{"$f":"SUMIF(Data!$W$2:$W$10177,$C262,Data!$Y$2:$Y$10177)","v":0}]
[null,null,9900001573,1573,"BOX OF PLASTIC","PLASTIC",12,0,0,{"$f":"SUMIF(Data!$H$2:$H$10177,$C263,Data!$D$2:$D$10177)","v":0},{"$f":"SUMIF(Data!$H$2:$H$10177,$C263,Data!$J$2:$J$10177)","v":0},{"$f":"SUMIF(Data!$K$2:$K$10177,$C263,Data!$M$2:$M$10177)","v":0},{"$f":"SUMIF(Data!$N$2:$N$10177,$C263,Data!$P$2:$P$10177)","v":0},{"$f":"SUMIF(Data!$Q$2:$R$10177,$C263,Data!$S$2:$S$10177)","v":0},{"$f":"SUMIF(Data!$T$2:$U$10177,$C263,Data!$V$2:$V$10177)","v":0},{"$f":"SUMIF(Data!$W$2:$W$10177,$C263,Data!$Y$2:$Y$10177)","v":0}]
[null,null,9900001574,1574,"FIXING SPACER OF WOOD","WOOD",3.5,0,0,{"$f":"SUMIF(Data!$H$2:$H$10177,$C264,Data!$D$2:$D$10177)","v":0},{"$f":"SUMIF(Data!$H$2:$H$10177,$C264,Data!$J$2:$J$10177)","v":0},{"$f":"SUMIF(Data!$K$2:$K$10177,$C264,Data!$M$2:$M$10177)","v":0},{"$f":"SUMIF(Data!$N$2:$N$10177,$C264,Data!$P$2:$P$10177)","v":0},{"$f":"SUMIF(Data!$Q$2:$R$10177,$C264,Data!$S$2:$S$10177)","v":0},{"$f":"SUMIF(Data!$T$2:$U$10177,$C264,Data!$V$2:$V$10177)","v":0},{"$f":"SUMIF(Data!$W$2:$W$10177,$C264,Data!$Y$2:$Y$10177)","v":0}]
[null,null,9900001575,1575,"PALLET OF WOOD","WOOD",85,0,0,{"$f":"SUMIF(Data!$H$2:$H$10177,$C265,Data!$D$2:$D$10177)","v":0},{"$f":"SUMIF(Data!$H$2:$H$10177,$C265,Data!$J$2:$J$10177)","v":0},{"$f":"SUMIF(Data!$K$2:$K$10177,$C265,Data!$M$2:$M$10177)","v":0},{"$f":"SUMIF(Data!$N$2:$N$10177,$C265,Data!$P$2:$P$10177)","v":0},{"$f":"SUMIF(Data!$Q$2:$R$10177,$C265,Data!$S$2:$S$10177)","v":0},{"$f":"SUMIF(Data!$T$2:$U$10177,$C265,Data!$V$2:$V$10177)","v":0},{"$f":"SUMIF(Data!$W$2:$W$10177,$C265,Data!$Y$2:$Y$10177)","v":0}]
[null,null,9900001576,1576,"PALLET OF WOOD","WOOD",35,0,0,{"$f":"SUMIF(Data!$H$2:$H$10177,$C266,Data!$D$2:$D$10177)","v":0},{"$f":"SUMIF(Data!$H$2:$H$10177,$C266,Data!$J$2:$J$10177)","v":0},{"$f":"SUMIF(Data!$K$2:$K$10177,$C266,Data!$M$2:$M$10177)","v":0},{"$f":"SUMIF(Data!$N$2:$N$10177,$C266,Data!$P$2:$P$10177)","v":0},{"$f":"SUMIF(Data!$Q$2:$R$10177,$C266,Data!$S$2:$S$10177)","v":0},{"$f":"SUMIF(Data!$T$2:$U$10177,$C266,Data!$V$2:$V$10177)","v":0},{"$f":"SUMIF(Data!$W$2:$W$10177,$C266,Data!$Y$2:$Y$10177)","v":0}]
[null,null,9900001577,1577,"FIXING SPACER OF STEEL","METAL",92,0,0,{"$f":"SUMIF(Data!$H$2:$H$10177,$C267,Data!$D$2:$D$10177)","v":0},{"$f":"SUMIF(Data!$H$2:$H$10177,$C267,Data!$J$2:$J$10177)","v":0},{"$f":"SUMIF(Data!$K$2:$K$10177,$C267,Data!$M$2:$M$10177)","v":0},{"$f":"SUMIF(Data!$N$2:$N$10177,$C267,Data!$P$2:$P$10177)","v":0},{"$f":"SUMIF(Data!$Q$2:$R$10177,$C267,Data!$S$2:$S$10177)","v":0},{"$f":"SUMIF(Data!$T$2:$U$10177,$C267,Data!$V$2:$V$10177)","v":0},{"$f":"SUMIF(Data!$W$2:$W$10177,$C267,Data!$Y$2:$Y$10177)","v":0}]
[null,null,9900001578,1578,"RACK OF STEEL","METAL",12,0,0,{"$f":"SUMIF(Data!$H$2:$H$10177,$C268,Data!$D$2:$D$10177)","v":0},{"$f":"SUMIF(Data!$H$2:$H$10177,$C268,Data!$J$2:$J$10177)","v":0},{"$f":"SUMIF(Data!$K$2:$K$10177,$C268,Data!$M$2:$M$10177)","v":0},{"$f":"SUMIF(Data!$N$2:$N$10177,$C268,Data!$P$2:$P$10177)","v":0},{"$f":"SUMIF(Data!$Q$2:$R$10177,$C268,Data!$S$2:$S$10177)","v":0},{"$f":"SUMIF(Data!$T$2:$U$10177,$C268,Data!$V$2:$V$10177)","v":0},{"$f":"SUMIF(Data!$W$2:$W$10177,$C268,Data!$Y$2:$Y$10177)","v":0}]
[null,null,9900001579,1579,"FIXING SPACER OF WOOD","WOOD",3,0,0,{"$f":"SUMIF(Data!$H$2:$H$10177,$C269,Data!$D$2:$D$10177)","v":0},{"$f":"SUMIF(Data!$H$2:$H$10177,$C269,Data!$J$2:$J$10177)","v":0},{"$f":"SUMIF(Data!$K$2:$K$10177,$C269,Data!$M$2:$M$10177)","v":0},{"$f":"SUMIF(Data!$N$2:$N$10177,$C269,Data!$P$2:$P$10177)","v":0},{"$f":"SUMIF(Data!$Q$2:$R$10177,$C269,Data!$S$2:$S$10177)","v":0},{"$f":"SUMIF(Data!$T$2:$U$10177,$C269,Data!$V$2:$V$10177)","v":0},{"$f":"SUMIF(Data!$W$2:$W$10177,$C269,Data!$Y$2:$Y$10177)","v":0}]
[null,null,9900001582,1582,"FIXING SPACER OF PLASTIC","PLASTIC",3.7,0,0,{"$f":"SUMIF(Data!$H$2:$H$10177,$C270,Data!$D$2:$D$10177)","v":0},{"$f":"SUMIF(Data!$H$2:$H$10177,$C270,Data!$J$2:$J$10177)","v":0},{"$f":"SUMIF(Data!$K$2:$K$10177,$C270,Data!$M$2:$M$10177)","v":0},{"$f":"SUMIF(Data!$N$2:$N$10177,$C270,Data!$P$2:$P$10177)","v":0},{"$f":"SUMIF(Data!$Q$2:$R$10177,$C270,Data!$S$2:$S$10177)","v":0},{"$f":"SUMIF(Data!$T$2:$U$10177,$C270,Data!$V$2:$V$10177)","v":0},{"$f":"SUMIF(Data!$W$2:$W$10177,$C270,Data!$Y$2:$Y$10177)","v":0}]
[null,null,9900001583,1583,"SPACER OF WOOD","WOOD",1.3,0,0,{"$f":"SUMIF(Data!$H$2:$H$10177,$C271,Data!$D$2:$D$10177)","v":0},{"$f":"SUMIF(Data!$H$2:$H$10177,$C271,Data!$J$2:$J$10177)","v":0},{"$f":"SUMIF(Data!$K$2:$K$10177,$C271,Data!$M$2:$M$10177)","v":0},{"$f":"SUMIF(Data!$N$2:$N$10177,$C271,Data!$P$2:$P$10177)","v":0},{"$f":"SUMIF(Data!$Q$2:$R$10177,$C271,Data!$S$2:$S$10177)","v":0},{"$f":"SUMIF(Data!$T$2:$U$10177,$C271,Data!$V$2:$V$10177)","v":0},{"$f":"SUMIF(Data!$W$2:$W$10177,$C271,Data!$Y$2:$Y$10177)","v":0}]
[null,null,9900001584,1584,"BATTEN OF WOOD","WOOD",1.0940000000000001,0,0,{"$f":"SUMIF(Data!$H$2:$H$10177,$C272,Data!$D$2:$D$10177)","v":0},{"$f":"SUMIF(Data!$H$2:$H$10177,$C272,Data!$J$2:$J$10177)","v":0},{"$f":"SUMIF(Data!$K$2:$K$10177,$C272,Data!$M$2:$M$10177)","v":0},{"$f":"SUMIF(Data!$N$2:$N$10177,$C272,Data!$P$2:$P$10177)","v":0},{"$f":"SUMIF(Data!$Q$2:$R$10177,$C272,Data!$S$2:$S$10177)","v":0},{"$f":"SUMIF(Data!$T$2:$U$10177,$C272,Data!$V$2:$V$10177)","v":0},{"$f":"SUMIF(Data!$W$2:$W$10177,$C272,Data!$Y$2:$Y$10177)","v":0}]
[null,null,9900001585,1585,"RACK OF STEEL","METAL",100,0,0,{"$f":"SUMIF(Data!$H$2:$H$10177,$C273,Data!$D$2:$D$10177)","v":0},{"$f":"SUMIF(Data!$H$2:$H$10177,$C273,Data!$J$2:$J$10177)","v":0},{"$f":"SUMIF(Data!$K$2:$K$10177,$C273,Data!$M$2:$M$10177)","v":0},{"$f":"SUMIF(Data!$N$2:$N$10177,$C273,Data!$P$2:$P$10177)","v":0},{"$f":"SUMIF(Data!$Q$2:$R$10177,$C273,Data!$S$2:$S$10177)","v":0},{"$f":"SUMIF(Data!$T$2:$U$10177,$C273,Data!$V$2:$V$10177)","v":0},{"$f":"SUMIF(Data!$W$2:$W$10177,$C273,Data!$Y$2:$Y$10177)","v":0}]
[null,null,9900001587,1587,"PALLET OF PLASTIC","PLASTIC",9.5,0,0,{"$f":"SUMIF(Data!$H$2:$H$10177,$C274,Data!$D$2:$D$10177)","v":0},{"$f":"SUMIF(Data!$H$2:$H$10177,$C274,Data!$J$2:$J$10177)","v":0},{"$f":"SUMIF(Data!$K$2:$K$10177,$C274,Data!$M$2:$M$10177)","v":0},{"$f":"SUMIF(Data!$N$2:$N$10177,$C274,Data!$P$2:$P$10177)","v":0},{"$f":"SUMIF(Data!$Q$2:$R$10177,$C274,Data!$S$2:$S$10177)","v":0},{"$f":"SUMIF(Data!$T$2:$U$10177,$C274,Data!$V$2:$V$10177)","v":0},{"$f":"SUMIF(Data!$W$2:$W$10177,$C274,Data!$Y$2:$Y$10177)","v":0}]
[null,null,9900001588,1588,"FIXING SPACER OF PLASTIC","PLASTIC",4.2,0,0,{"$f":"SUMIF(Data!$H$2:$H$10177,$C275,Data!$D$2:$D$10177)","v":0},{"$f":"SUMIF(Data!$H$2:$H$10177,$C275,Data!$J$2:$J$10177)","v":0},{"$f":"SUMIF(Data!$K$2:$K$10177,$C275,Data!$M$2:$M$10177)","v":0},{"$f":"SUMIF(Data!$N$2:$N$10177,$C275,Data!$P$2:$P$10177)","v":0},{"$f":"SUMIF(Data!$Q$2:$R$10177,$C275,Data!$S$2:$S$10177)","v":0},{"$f":"SUMIF(Data!$T$2:$U$10177,$C275,Data!$V$2:$V$10177)","v":0},{"$f":"SUMIF(Data!$W$2:$W$10177,$C275,Data!$Y$2:$Y$10177)","v":0}]
[null,null,9900001599,1599,"FIXING SPACER OF PLASTIC","PLASTIC",4,{"$f":"G276*I276","v":0},{"$f":"SUM(J276:P276)","v":0},{"$f":"SUMIF(Data!$H$2:$H$10177,$C276,Data!$D$2:$D$10177)","v":0},{"$f":"SUMIF(Data!$H$2:$H$10177,$C276,Data!$J$2:$J$10177)","v":0},{"$f":"SUMIF(Data!$K$2:$K$10177,$C276,Data!$M$2:$M$10177)","v":0},{"$f":"SUMIF(Data!$N$2:$N$10177,$C276,Data!$P$2:$P$10177)","v":0},{"$f":"SUMIF(Data!$Q$2:$R$10177,$C276,Data!$S$2:$S$10177)","v":0},{"$f":"SUMIF(Data!$T$2:$U$10177,$C276,Data!$V$2:$V$10177)","v":0},{"$f":"SUMIF(Data!$W$2:$W$10177,$C276,Data!$Y$2:$Y$10177)","v":0}]
[null,null,9900001600,1600,"FIXING SPACER OF PLASTIC","PLASTIC",0.78,0,0,{"$f":"SUMIF(Data!$H$2:$H$10177,$C277,Data!$D$2:$D$10177)","v":0},{"$f":"SUMIF(Data!$H$2:$H$10177,$C277,Data!$J$2:$J$10177)","v":0},{"$f":"SUMIF(Data!$K$2:$K$10177,$C277,Data!$M$2:$M$10177)","v":0},{"$f":"SUMIF(Data!$N$2:$N$10177,$C277,Data!$P$2:$P$10177)","v":0},{"$f":"SUMIF(Data!$Q$2:$R$10177,$C277,Data!$S$2:$S$10177)","v":0},{"$f":"SUMIF(Data!$T$2:$U$10177,$C277,Data!$V$2:$V$10177)","v":0},{"$f":"SUMIF(Data!$W$2:$W$10177,$C277,Data!$Y$2:$Y$10177)","v":0}]
[null,null,9900001601,1601,"PALLET BOX OF WOOD","WOOD",230,0,0,{"$f":"SUMIF(Data!$H$2:$H$10177,$C278,Data!$D$2:$D$10177)","v":0},{"$f":"SUMIF(Data!$H$2:$H$10177,$C278,Data!$J$2:$J$10177)","v":0},{"$f":"SUMIF(Data!$K$2:$K$10177,$C278,Data!$M$2:$M$10177)","v":0},{"$f":"SUMIF(Data!$N$2:$N$10177,$C278,Data!$P$2:$P$10177)","v":0},{"$f":"SUMIF(Data!$Q$2:$R$10177,$C278,Data!$S$2:$S$10177)","v":0},{"$f":"SUMIF(Data!$T$2:$U$10177,$C278,Data!$V$2:$V$10177)","v":0},{"$f":"SUMIF(Data!$W$2:$W$10177,$C278,Data!$Y$2:$Y$10177)","v":0}]
[null,null,9900001606,1606,"PALLET BOX OF WOOD","WOOD",120,0,0,{"$f":"SUMIF(Data!$H$2:$H$10177,$C279,Data!$D$2:$D$10177)","v":0},{"$f":"SUMIF(Data!$H$2:$H$10177,$C279,Data!$J$2:$J$10177)","v":0},{"$f":"SUMIF(Data!$K$2:$K$10177,$C279,Data!$M$2:$M$10177)","v":0},{"$f":"SUMIF(Data!$N$2:$N$10177,$C279,Data!$P$2:$P$10177)","v":0},{"$f":"SUMIF(Data!$Q$2:$R$10177,$C279,Data!$S$2:$S$10177)","v":0},{"$f":"SUMIF(Data!$T$2:$U$10177,$C279,Data!$V$2:$V$10177)","v":0},{"$f":"SUMIF(Data!$W$2:$W$10177,$C279,Data!$Y$2:$Y$10177)","v":0}]
[null,null,9900001608,1608,"PALLET OF STEEL","METAL",500,0,0,{"$f":"SUMIF(Data!$H$2:$H$10177,$C280,Data!$D$2:$D$10177)","v":0},{"$f":"SUMIF(Data!$H$2:$H$10177,$C280,Data!$J$2:$J$10177)","v":0},{"$f":"SUMIF(Data!$K$2:$K$10177,$C280,Data!$M$2:$M$10177)","v":0},{"$f":"SUMIF(Data!$N$2:$N$10177,$C280,Data!$P$2:$P$10177)","v":0},{"$f":"SUMIF(Data!$Q$2:$R$10177,$C280,Data!$S$2:$S$10177)","v":0},{"$f":"SUMIF(Data!$T$2:$U$10177,$C280,Data!$V$2:$V$10177)","v":0},{"$f":"SUMIF(Data!$W$2:$W$10177,$C280,Data!$Y$2:$Y$10177)","v":0}]
[null,null,9900001609,1609,"PALLET BOX OF WOOD","WOOD",64.3,0,0,{"$f":"SUMIF(Data!$H$2:$H$10177,$C281,Data!$D$2:$D$10177)","v":0},{"$f":"SUMIF(Data!$H$2:$H$10177,$C281,Data!$J$2:$J$10177)","v":0},{"$f":"SUMIF(Data!$K$2:$K$10177,$C281,Data!$M$2:$M$10177)","v":0},{"$f":"SUMIF(Data!$N$2:$N$10177,$C281,Data!$P$2:$P$10177)","v":0},{"$f":"SUMIF(Data!$Q$2:$R$10177,$C281,Data!$S$2:$S$10177)","v":0},{"$f":"SUMIF(Data!$T$2:$U$10177,$C281,Data!$V$2:$V$10177)","v":0},{"$f":"SUMIF(Data!$W$2:$W$10177,$C281,Data!$Y$2:$Y$10177)","v":0}]
[null,null,9900001610,1610,"RACK OF STEEL","METAL",630,0,0,{"$f":"SUMIF(Data!$H$2:$H$10177,$C282,Data!$D$2:$D$10177)","v":0},{"$f":"SUMIF(Data!$H$2:$H$10177,$C282,Data!$J$2:$J$10177)","v":0},{"$f":"SUMIF(Data!$K$2:$K$10177,$C282,Data!$M$2:$M$10177)","v":0},{"$f":"SUMIF(Data!$N$2:$N$10177,$C282,Data!$P$2:$P$10177)","v":0},{"$f":"SUMIF(Data!$Q$2:$R$10177,$C282,Data!$S$2:$S$10177)","v":0},{"$f":"SUMIF(Data!$T$2:$U$10177,$C282,Data!$V$2:$V$10177)","v":0},{"$f":"SUMIF(Data!$W$2:$W$10177,$C282,Data!$Y$2:$Y$10177)","v":0}]
[null,null,9900021603,1603,"FIXING SPACER KIT( 1603 & 1822)","PLASTIC",79.760000000000005,0,0,{"$f":"SUMIF(Data!$H$2:$H$10177,$C283,Data!$D$2:$D$10177)","v":0},{"$f":"SUMIF(Data!$H$2:$H$10177,$C283,Data!$J$2:$J$10177)","v":0},{"$f":"SUMIF(Data!$K$2:$K$10177,$C283,Data!$M$2:$M$10177)","v":0},{"$f":"SUMIF(Data!$N$2:$N$10177,$C283,Data!$P$2:$P$10177)","v":0},{"$f":"SUMIF(Data!$Q$2:$R$10177,$C283,Data!$S$2:$S$10177)","v":0},{"$f":"SUMIF(Data!$T$2:$U$10177,$C283,Data!$V$2:$V$10177)","v":0},{"$f":"SUMIF(Data!$W$2:$W$10177,$C283,Data!$Y$2:$Y$10177)","v":0}]
[null,null,9900021604,1604,"FIXING SPACER KIT( 1604 & 1823)","PLASTIC",79.760000000000005,{"$f":"G284*I284","v":0},{"$f":"SUM(J284:P284)","v":0},{"$f":"SUMIF(Data!$H$2:$H$10177,$C284,Data!$D$2:$D$10177)","v":0},{"$f":"SUMIF(Data!$H$2:$H$10177,$C284,Data!$J$2:$J$10177)","v":0},{"$f":"SUMIF(Data!$K$2:$K$10177,$C284,Data!$M$2:$M$10177)","v":0},{"$f":"SUMIF(Data!$N$2:$N$10177,$C284,Data!$P$2:$P$10177)","v":0},{"$f":"SUMIF(Data!$Q$2:$R$10177,$C284,Data!$S$2:$S$10177)","v":0},{"$f":"SUMIF(Data!$T$2:$U$10177,$C284,Data!$V$2:$V$10177)","v":0},{"$f":"SUMIF(Data!$W$2:$W$10177,$C284,Data!$Y$2:$Y$10177)","v":0}]
[null,null,9900001605,{"$f":"C285-9900000000","v":1605},"FIXING SPACER OF PLASTIC","PLASTIC",0.5,0,0,{"$f":"SUMIF(Data!$H$2:$H$10177,$C285,Data!$D$2:$D$10177)","v":0},{"$f":"SUMIF(Data!$H$2:$H$10177,$C285,Data!$J$2:$J$10177)","v":0},{"$f":"SUMIF(Data!$K$2:$K$10177,$C285,Data!$M$2:$M$10177)","v":0},{"$f":"SUMIF(Data!$N$2:$N$10177,$C285,Data!$P$2:$P$10177)","v":0},{"$f":"SUMIF(Data!$Q$2:$R$10177,$C285,Data!$S$2:$S$10177)","v":0},{"$f":"SUMIF(Data!$T$2:$U$10177,$C285,Data!$V$2:$V$10177)","v":0},{"$f":"SUMIF(Data!$W$2:$W$10177,$C285,Data!$Y$2:$Y$10177)","v":0}]
[null,null,9900001613,1613,"RACK OF STEEL","METAL",257,0,0,{"$f":"SUMIF(Data!$H$2:$H$10177,$C286,Data!$D$2:$D$10177)","v":0},{"$f":"SUMIF(Data!$H$2:$H$10177,$C286,Data!$J$2:$J$10177)","v":0},{"$f":"SUMIF(Data!$K$2:$K$10177,$C286,Data!$M$2:$M$10177)","v":0},{"$f":"SUMIF(Data!$N$2:$N$10177,$C286,Data!$P$2:$P$10177)","v":0},{"$f":"SUMIF(Data!$Q$2:$R$10177,$C286,Data!$S$2:$S$10177)","v":0},{"$f":"SUMIF(Data!$T$2:$U$10177,$C286,Data!$V$2:$V$10177)","v":0},{"$f":"SUMIF(Data!$W$2:$W$10177,$C286,Data!$Y$2:$Y$10177)","v":0}]
[null,null,9900001615,1615,"RACK OF STEEL","METAL",310,0,0,{"$f":"SUMIF(Data!$H$2:$H$10177,$C287,Data!$D$2:$D$10177)","v":0},{"$f":"SUMIF(Data!$H$2:$H$10177,$C287,Data!$J$2:$J$10177)","v":0},{"$f":"SUMIF(Data!$K$2:$K$10177,$C287,Data!$M$2:$M$10177)","v":0},{"$f":"SUMIF(Data!$N$2:$N$10177,$C287,Data!$P$2:$P$10177)","v":0},{"$f":"SUMIF(Data!$Q$2:$R$10177,$C287,Data!$S$2:$S$10177)","v":0},{"$f":"SUMIF(Data!$T$2:$U$10177,$C287,Data!$V$2:$V$10177)","v":0},{"$f":"SUMIF(Data!$W$2:$W$10177,$C287,Data!$Y$2:$Y$10177)","v":0}]
[null,null,9900001620,1620,"RACK OF STEEL","METAL",270,0,0,{"$f":"SUMIF(Data!$H$2:$H$10177,$C288,Data!$D$2:$D$10177)","v":0},{"$f":"SUMIF(Data!$H$2:$H$10177,$C288,Data!$J$2:$J$10177)","v":0},{"$f":"SUMIF(Data!$K$2:$K$10177,$C288,Data!$M$2:$M$10177)","v":0},{"$f":"SUMIF(Data!$N$2:$N$10177,$C288,Data!$P$2:$P$10177)","v":0},{"$f":"SUMIF(Data!$Q$2:$R$10177,$C288,Data!$S$2:$S$10177)","v":0},{"$f":"SUMIF(Data!$T$2:$U$10177,$C288,Data!$V$2:$V$10177)","v":0},{"$f":"SUMIF(Data!$W$2:$W$10177,$C288,Data!$Y$2:$Y$10177)","v":0}]
[null,null,9900001621,1621,"RACK OF STEEL","METAL",246,0,0,{"$f":"SUMIF(Data!$H$2:$H$10177,$C289,Data!$D$2:$D$10177)","v":0},{"$f":"SUMIF(Data!$H$2:$H$10177,$C289,Data!$J$2:$J$10177)","v":0},{"$f":"SUMIF(Data!$K$2:$K$10177,$C289,Data!$M$2:$M$10177)","v":0},{"$f":"SUMIF(Data!$N$2:$N$10177,$C289,Data!$P$2:$P$10177)","v":0},{"$f":"SUMIF(Data!$Q$2:$R$10177,$C289,Data!$S$2:$S$10177)","v":0},{"$f":"SUMIF(Data!$T$2:$U$10177,$C289,Data!$V$2:$V$10177)","v":0},{"$f":"SUMIF(Data!$W$2:$W$10177,$C289,Data!$Y$2:$Y$10177)","v":0}]
[null,null,9900001627,1627,"FIXING SPACER OF PLASTIC","PLASTIC",0.12,0,0,{"$f":"SUMIF(Data!$H$2:$H$10177,$C290,Data!$D$2:$D$10177)","v":0},{"$f":"SUMIF(Data!$H$2:$H$10177,$C290,Data!$J$2:$J$10177)","v":0},{"$f":"SUMIF(Data!$K$2:$K$10177,$C290,Data!$M$2:$M$10177)","v":0},{"$f":"SUMIF(Data!$N$2:$N$10177,$C290,Data!$P$2:$P$10177)","v":0},{"$f":"SUMIF(Data!$Q$2:$R$10177,$C290,Data!$S$2:$S$10177)","v":0},{"$f":"SUMIF(Data!$T$2:$U$10177,$C290,Data!$V$2:$V$10177)","v":0},{"$f":"SUMIF(Data!$W$2:$W$10177,$C290,Data!$Y$2:$Y$10177)","v":0}]
[null,null,9900001630,1630,"RACK OF STEEL","METAL",240,0,0,{"$f":"SUMIF(Data!$H$2:$H$10177,$C291,Data!$D$2:$D$10177)","v":0},{"$f":"SUMIF(Data!$H$2:$H$10177,$C291,Data!$J$2:$J$10177)","v":0},{"$f":"SUMIF(Data!$K$2:$K$10177,$C291,Data!$M$2:$M$10177)","v":0},{"$f":"SUMIF(Data!$N$2:$N$10177,$C291,Data!$P$2:$P$10177)","v":0},{"$f":"SUMIF(Data!$Q$2:$R$10177,$C291,Data!$S$2:$S$10177)","v":0},{"$f":"SUMIF(Data!$T$2:$U$10177,$C291,Data!$V$2:$V$10177)","v":0},{"$f":"SUMIF(Data!$W$2:$W$10177,$C291,Data!$Y$2:$Y$10177)","v":0}]
[null,null,9900001632,1632,"SPACER OF PLASTIC/FOAM","PLASTIC",0.21,0,0,{"$f":"SUMIF(Data!$H$2:$H$10177,$C292,Data!$D$2:$D$10177)","v":0},{"$f":"SUMIF(Data!$H$2:$H$10177,$C292,Data!$J$2:$J$10177)","v":0},{"$f":"SUMIF(Data!$K$2:$K$10177,$C292,Data!$M$2:$M$10177)","v":0},{"$f":"SUMIF(Data!$N$2:$N$10177,$C292,Data!$P$2:$P$10177)","v":0},{"$f":"SUMIF(Data!$Q$2:$R$10177,$C292,Data!$S$2:$S$10177)","v":0},{"$f":"SUMIF(Data!$T$2:$U$10177,$C292,Data!$V$2:$V$10177)","v":0},{"$f":"SUMIF(Data!$W$2:$W$10177,$C292,Data!$Y$2:$Y$10177)","v":0}]
[null,null,9900001638,1638,"FIXING SPACER OF PLASTIC","PLASTIC",0.12,0,0,{"$f":"SUMIF(Data!$H$2:$H$10177,$C293,Data!$D$2:$D$10177)","v":0},{"$f":"SUMIF(Data!$H$2:$H$10177,$C293,Data!$J$2:$J$10177)","v":0},{"$f":"SUMIF(Data!$K$2:$K$10177,$C293,Data!$M$2:$M$10177)","v":0},{"$f":"SUMIF(Data!$N$2:$N$10177,$C293,Data!$P$2:$P$10177)","v":0},{"$f":"SUMIF(Data!$Q$2:$R$10177,$C293,Data!$S$2:$S$10177)","v":0},{"$f":"SUMIF(Data!$T$2:$U$10177,$C293,Data!$V$2:$V$10177)","v":0},{"$f":"SUMIF(Data!$W$2:$W$10177,$C293,Data!$Y$2:$Y$10177)","v":0}]
[null,null,9900001639,1639,"FIXING SPACER OF PLASTIC","PLASTIC",0.12,0,0,{"$f":"SUMIF(Data!$H$2:$H$10177,$C294,Data!$D$2:$D$10177)","v":0},{"$f":"SUMIF(Data!$H$2:$H$10177,$C294,Data!$J$2:$J$10177)","v":0},{"$f":"SUMIF(Data!$K$2:$K$10177,$C294,Data!$M$2:$M$10177)","v":0},{"$f":"SUMIF(Data!$N$2:$N$10177,$C294,Data!$P$2:$P$10177)","v":0},{"$f":"SUMIF(Data!$Q$2:$R$10177,$C294,Data!$S$2:$S$10177)","v":0},{"$f":"SUMIF(Data!$T$2:$U$10177,$C294,Data!$V$2:$V$10177)","v":0},{"$f":"SUMIF(Data!$W$2:$W$10177,$C294,Data!$Y$2:$Y$10177)","v":0}]
[null,null,9900001640,1640,"FIXING SPACER OF PLASTIC","PLASTIC",1.44,0,0,{"$f":"SUMIF(Data!$H$2:$H$10177,$C295,Data!$D$2:$D$10177)","v":0},{"$f":"SUMIF(Data!$H$2:$H$10177,#REF!,Data!$J$2:$J$10177)","v":0},{"$f":"SUMIF(Data!$K$2:$K$10177,#REF!,Data!$M$2:$M$10177)","v":0},{"$f":"SUMIF(Data!$N$2:$N$10177,#REF!,Data!$P$2:$P$10177)","v":0},{"$f":"SUMIF(Data!$Q$2:$R$10177,#REF!,Data!$S$2:$S$10177)","v":0},{"$f":"SUMIF(Data!$T$2:$U$10177,#REF!,Data!$V$2:$V$10177)","v":0},{"$f":"SUMIF(Data!$W$2:$W$10177,#REF!,Data!$Y$2:$Y$10177)","v":0}]
[null,null,9900001642,1642,"SPACER OF PLASTIC/FOAM","PLASTIC",0.42,0,0,{"$f":"SUMIF(Data!$H$2:$H$10177,$C296,Data!$D$2:$D$10177)","v":0},{"$f":"SUMIF(Data!$H$2:$H$10177,$C295,Data!$J$2:$J$10177)","v":0},{"$f":"SUMIF(Data!$K$2:$K$10177,$C295,Data!$M$2:$M$10177)","v":0},{"$f":"SUMIF(Data!$N$2:$N$10177,$C295,Data!$P$2:$P$10177)","v":0},{"$f":"SUMIF(Data!$Q$2:$R$10177,$C295,Data!$S$2:$S$10177)","v":0},{"$f":"SUMIF(Data!$T$2:$U$10177,$C295,Data!$V$2:$V$10177)","v":0},{"$f":"SUMIF(Data!$W$2:$W$10177,$C295,Data!$Y$2:$Y$10177)","v":0}]
[null,null,9900001644,1644,"BATTEN OF WOOD","WOOD",2.4,0,0,{"$f":"SUMIF(Data!$H$2:$H$10177,$C297,Data!$D$2:$D$10177)","v":0},{"$f":"SUMIF(Data!$H$2:$H$10177,$C297,Data!$J$2:$J$10177)","v":0},{"$f":"SUMIF(Data!$K$2:$K$10177,$C297,Data!$M$2:$M$10177)","v":0},{"$f":"SUMIF(Data!$N$2:$N$10177,$C297,Data!$P$2:$P$10177)","v":0},{"$f":"SUMIF(Data!$Q$2:$R$10177,$C297,Data!$S$2:$S$10177)","v":0},{"$f":"SUMIF(Data!$T$2:$U$10177,$C297,Data!$V$2:$V$10177)","v":0},{"$f":"SUMIF(Data!$W$2:$W$10177,$C297,Data!$Y$2:$Y$10177)","v":0}]
[null,null,9900001645,1645,"BATTEN OF WOOD","WOOD",5.0999999999999996,0,0,{"$f":"SUMIF(Data!$H$2:$H$10177,$C298,Data!$D$2:$D$10177)","v":0},{"$f":"SUMIF(Data!$H$2:$H$10177,$C298,Data!$J$2:$J$10177)","v":0},{"$f":"SUMIF(Data!$K$2:$K$10177,$C298,Data!$M$2:$M$10177)","v":0},{"$f":"SUMIF(Data!$N$2:$N$10177,$C298,Data!$P$2:$P$10177)","v":0},{"$f":"SUMIF(Data!$Q$2:$R$10177,$C298,Data!$S$2:$S$10177)","v":0},{"$f":"SUMIF(Data!$T$2:$U$10177,$C298,Data!$V$2:$V$10177)","v":0},{"$f":"SUMIF(Data!$W$2:$W$10177,$C298,Data!$Y$2:$Y$10177)","v":0}]
[null,null,9900001646,1646,"BATTEN OF WOOD","WOOD",2.1,0,0,{"$f":"SUMIF(Data!$H$2:$H$10177,$C299,Data!$D$2:$D$10177)","v":0},{"$f":"SUMIF(Data!$H$2:$H$10177,$C299,Data!$J$2:$J$10177)","v":0},{"$f":"SUMIF(Data!$K$2:$K$10177,$C299,Data!$M$2:$M$10177)","v":0},{"$f":"SUMIF(Data!$N$2:$N$10177,$C299,Data!$P$2:$P$10177)","v":0},{"$f":"SUMIF(Data!$Q$2:$R$10177,$C299,Data!$S$2:$S$10177)","v":0},{"$f":"SUMIF(Data!$T$2:$U$10177,$C299,Data!$V$2:$V$10177)","v":0},{"$f":"SUMIF(Data!$W$2:$W$10177,$C299,Data!$Y$2:$Y$10177)","v":0}]
[null,null,9900001652,1652,"FIXING SPACER OF PLASTIC","PLASTIC",1.3,0,0,{"$f":"SUMIF(Data!$H$2:$H$10177,$C300,Data!$D$2:$D$10177)","v":0},{"$f":"SUMIF(Data!$H$2:$H$10177,$C300,Data!$J$2:$J$10177)","v":0},{"$f":"SUMIF(Data!$K$2:$K$10177,$C300,Data!$M$2:$M$10177)","v":0},{"$f":"SUMIF(Data!$N$2:$N$10177,$C300,Data!$P$2:$P$10177)","v":0},{"$f":"SUMIF(Data!$Q$2:$R$10177,$C300,Data!$S$2:$S$10177)","v":0},{"$f":"SUMIF(Data!$T$2:$U$10177,$C300,Data!$V$2:$V$10177)","v":0},{"$f":"SUMIF(Data!$W$2:$W$10177,$C300,Data!$Y$2:$Y$10177)","v":0}]
[null,null,9900001654,1654,"BATTEN OF WOOD","WOOD",2.8,0,0,{"$f":"SUMIF(Data!$H$2:$H$10177,$C301,Data!$D$2:$D$10177)","v":0},{"$f":"SUMIF(Data!$H$2:$H$10177,$C301,Data!$J$2:$J$10177)","v":0},{"$f":"SUMIF(Data!$K$2:$K$10177,$C301,Data!$M$2:$M$10177)","v":0},{"$f":"SUMIF(Data!$N$2:$N$10177,$C301,Data!$P$2:$P$10177)","v":0},{"$f":"SUMIF(Data!$Q$2:$R$10177,$C301,Data!$S$2:$S$10177)","v":0},{"$f":"SUMIF(Data!$T$2:$U$10177,$C301,Data!$V$2:$V$10177)","v":0},{"$f":"SUMIF(Data!$W$2:$W$10177,$C301,Data!$Y$2:$Y$10177)","v":0}]
[null,null,9900001698,1698,"INSERT OF FOAM","PLASTIC",0.9,0,0,{"$f":"SUMIF(Data!$H$2:$H$10177,$C302,Data!$D$2:$D$10177)","v":0},{"$f":"SUMIF(Data!$H$2:$H$10177,$C302,Data!$J$2:$J$10177)","v":0},{"$f":"SUMIF(Data!$K$2:$K$10177,$C302,Data!$M$2:$M$10177)","v":0},{"$f":"SUMIF(Data!$N$2:$N$10177,$C302,Data!$P$2:$P$10177)","v":0},{"$f":"SUMIF(Data!$Q$2:$R$10177,$C302,Data!$S$2:$S$10177)","v":0},{"$f":"SUMIF(Data!$T$2:$U$10177,$C302,Data!$V$2:$V$10177)","v":0},{"$f":"SUMIF(Data!$W$2:$W$10177,$C302,Data!$Y$2:$Y$10177)","v":0}]
[null,null,9900001705,1705,"SUPPORT OF STEEL","METAL",10,0,0,{"$f":"SUMIF(Data!$H$2:$H$10177,$C303,Data!$D$2:$D$10177)","v":0},{"$f":"SUMIF(Data!$H$2:$H$10177,$C303,Data!$J$2:$J$10177)","v":0},{"$f":"SUMIF(Data!$K$2:$K$10177,$C303,Data!$M$2:$M$10177)","v":0},{"$f":"SUMIF(Data!$N$2:$N$10177,$C303,Data!$P$2:$P$10177)","v":0},{"$f":"SUMIF(Data!$Q$2:$R$10177,$C303,Data!$S$2:$S$10177)","v":0},{"$f":"SUMIF(Data!$T$2:$U$10177,$C303,Data!$V$2:$V$10177)","v":0},{"$f":"SUMIF(Data!$W$2:$W$10177,$C303,Data!$Y$2:$Y$10177)","v":0}]
[null,null,9900001715,1715,"SUPPORT OF STEEL","METAL",1.3,{"$f":"G304*I304","v":0},{"$f":"SUM(J304:P304)","v":0},{"$f":"SUMIF(Data!$H$2:$H$10177,$C304,Data!$D$2:$D$10177)","v":0},{"$f":"SUMIF(Data!$H$2:$H$10177,$C304,Data!$J$2:$J$10177)","v":0},{"$f":"SUMIF(Data!$K$2:$K$10177,$C304,Data!$M$2:$M$10177)","v":0},{"$f":"SUMIF(Data!$N$2:$N$10177,$C304,Data!$P$2:$P$10177)","v":0},{"$f":"SUMIF(Data!$Q$2:$R$10177,$C304,Data!$S$2:$S$10177)","v":0},{"$f":"SUMIF(Data!$T$2:$U$10177,$C304,Data!$V$2:$V$10177)","v":0},{"$f":"SUMIF(Data!$W$2:$W$10177,$C304,Data!$Y$2:$Y$10177)","v":0}]
[null,null,9900001716,{"$f":"C305-9900000000","v":1716},"SUPPORT OF STEEL","METAL",1,{"$f":"G305*I305","v":0},{"$f":"SUM(J305:P305)","v":0},{"$f":"SUMIF(Data!$H$2:$H$10177,$C305,Data!$D$2:$D$10177)","v":0},{"$f":"SUMIF(Data!$H$2:$H$10177,$C305,Data!$J$2:$J$10177)","v":0},{"$f":"SUMIF(Data!$K$2:$K$10177,$C305,Data!$M$2:$M$10177)","v":0},{"$f":"SUMIF(Data!$N$2:$N$10177,$C305,Data!$P$2:$P$10177)","v":0},{"$f":"SUMIF(Data!$Q$2:$R$10177,$C305,Data!$S$2:$S$10177)","v":0},{"$f":"SUMIF(Data!$T$2:$U$10177,$C305,Data!$V$2:$V$10177)","v":0},{"$f":"SUMIF(Data!$W$2:$W$10177,$C305,Data!$Y$2:$Y$10177)","v":0}]
[null,null,9900001717,1717,"SUPPORT OF STEEL","METAL",5.6529999999999996,0,0,{"$f":"SUMIF(Data!$H$2:$H$10177,$C306,Data!$D$2:$D$10177)","v":0},{"$f":"SUMIF(Data!$H$2:$H$10177,$C306,Data!$J$2:$J$10177)","v":0},{"$f":"SUMIF(Data!$K$2:$K$10177,$C306,Data!$M$2:$M$10177)","v":0},{"$f":"SUMIF(Data!$N$2:$N$10177,$C306,Data!$P$2:$P$10177)","v":0},{"$f":"SUMIF(Data!$Q$2:$R$10177,$C306,Data!$S$2:$S$10177)","v":0},{"$f":"SUMIF(Data!$T$2:$U$10177,$C306,Data!$V$2:$V$10177)","v":0},{"$f":"SUMIF(Data!$W$2:$W$10177,$C306,Data!$Y$2:$Y$10177)","v":0}]
[null,null,9900001718,{"$f":"C307-9900000000","v":1718},"SUPPORT OF STEEL","METAL",5.3609999999999998,{"$f":"G307*I307","v":0},{"$f":"SUM(J307:P307)","v":0},{"$f":"SUMIF(Data!$H$2:$H$10177,$C307,Data!$D$2:$D$10177)","v":0},{"$f":"SUMIF(Data!$H$2:$H$10177,$C307,Data!$J$2:$J$10177)","v":0},{"$f":"SUMIF(Data!$K$2:$K$10177,$C307,Data!$M$2:$M$10177)","v":0},{"$f":"SUMIF(Data!$N$2:$N$10177,$C307,Data!$P$2:$P$10177)","v":0},{"$f":"SUMIF(Data!$Q$2:$R$10177,$C307,Data!$S$2:$S$10177)","v":0},{"$f":"SUMIF(Data!$T$2:$U$10177,$C307,Data!$V$2:$V$10177)","v":0},{"$f":"SUMIF(Data!$W$2:$W$10177,$C307,Data!$Y$2:$Y$10177)","v":0}]
[null,null,9900001719,1719,"SUPPORT OF STEEL","METAL",2.8,0,0,{"$f":"SUMIF(Data!$H$2:$H$10177,$C308,Data!$D$2:$D$10177)","v":0},{"$f":"SUMIF(Data!$H$2:$H$10177,$C308,Data!$J$2:$J$10177)","v":0},{"$f":"SUMIF(Data!$K$2:$K$10177,$C308,Data!$M$2:$M$10177)","v":0},{"$f":"SUMIF(Data!$N$2:$N$10177,$C308,Data!$P$2:$P$10177)","v":0},{"$f":"SUMIF(Data!$Q$2:$R$10177,$C308,Data!$S$2:$S$10177)","v":0},{"$f":"SUMIF(Data!$T$2:$U$10177,$C308,Data!$V$2:$V$10177)","v":0},{"$f":"SUMIF(Data!$W$2:$W$10177,$C308,Data!$Y$2:$Y$10177)","v":0}]
[null,null,9900001722,1722,"SUPPORT OF STEEL","METAL",3.8,{"$f":"G309*I309","v":0},{"$f":"SUM(J309:P309)","v":0},{"$f":"SUMIF(Data!$H$2:$H$10177,$C309,Data!$D$2:$D$10177)","v":0},{"$f":"SUMIF(Data!$H$2:$H$10177,$C309,Data!$J$2:$J$10177)","v":0},{"$f":"SUMIF(Data!$K$2:$K$10177,$C309,Data!$M$2:$M$10177)","v":0},{"$f":"SUMIF(Data!$N$2:$N$10177,$C309,Data!$P$2:$P$10177)","v":0},{"$f":"SUMIF(Data!$Q$2:$R$10177,$C309,Data!$S$2:$S$10177)","v":0},{"$f":"SUMIF(Data!$T$2:$U$10177,$C309,Data!$V$2:$V$10177)","v":0},{"$f":"SUMIF(Data!$W$2:$W$10177,$C309,Data!$Y$2:$Y$10177)","v":0}]
[null,null,9900001723,1723,"SUPPORT OF STEEL","METAL",4.0999999999999996,0,0,{"$f":"SUMIF(Data!$H$2:$H$10177,$C310,Data!$D$2:$D$10177)","v":0},{"$f":"SUMIF(Data!$H$2:$H$10177,$C310,Data!$J$2:$J$10177)","v":0},{"$f":"SUMIF(Data!$K$2:$K$10177,$C310,Data!$M$2:$M$10177)","v":0},{"$f":"SUMIF(Data!$N$2:$N$10177,$C310,Data!$P$2:$P$10177)","v":0},{"$f":"SUMIF(Data!$Q$2:$R$10177,$C310,Data!$S$2:$S$10177)","v":0},{"$f":"SUMIF(Data!$T$2:$U$10177,$C310,Data!$V$2:$V$10177)","v":0},{"$f":"SUMIF(Data!$W$2:$W$10177,$C310,Data!$Y$2:$Y$10177)","v":0}]
[null,null,9900001800,1800,"RACK OF STEEL","METAL",140,0,0,{"$f":"SUMIF(Data!$H$2:$H$10177,$C311,Data!$D$2:$D$10177)","v":0},{"$f":"SUMIF(Data!$H$2:$H$10177,$C311,Data!$J$2:$J$10177)","v":0},{"$f":"SUMIF(Data!$K$2:$K$10177,$C311,Data!$M$2:$M$10177)","v":0},{"$f":"SUMIF(Data!$N$2:$N$10177,$C311,Data!$P$2:$P$10177)","v":0},{"$f":"SUMIF(Data!$Q$2:$R$10177,$C311,Data!$S$2:$S$10177)","v":0},{"$f":"SUMIF(Data!$T$2:$U$10177,$C311,Data!$V$2:$V$10177)","v":0},{"$f":"SUMIF(Data!$W$2:$W$10177,$C311,Data!$Y$2:$Y$10177)","v":0}]
[null,null,9900001805,1805,"FIXING SPACER OF PLASTIC","PLASTIC",1.4,0,0,{"$f":"SUMIF(Data!$H$2:$H$10177,$C312,Data!$D$2:$D$10177)","v":0},{"$f":"SUMIF(Data!$H$2:$H$10177,$C312,Data!$J$2:$J$10177)","v":0},{"$f":"SUMIF(Data!$K$2:$K$10177,$C312,Data!$M$2:$M$10177)","v":0},{"$f":"SUMIF(Data!$N$2:$N$10177,$C312,Data!$P$2:$P$10177)","v":0},{"$f":"SUMIF(Data!$Q$2:$R$10177,$C312,Data!$S$2:$S$10177)","v":0},{"$f":"SUMIF(Data!$T$2:$U$10177,$C312,Data!$V$2:$V$10177)","v":0},{"$f":"SUMIF(Data!$W$2:$W$10177,$C312,Data!$Y$2:$Y$10177)","v":0}]
[null,null,9900001807,{"$f":"C313-9900000000","v":1807},"FIXING SPACER OF PLASTIC","PLASTIC",1.0469999999999999,{"$f":"G313*I313","v":0},{"$f":"SUM(J313:P313)","v":0},{"$f":"SUMIF(Data!$H$2:$H$10177,$C313,Data!$D$2:$D$10177)","v":0},{"$f":"SUMIF(Data!$H$2:$H$10177,$C313,Data!$J$2:$J$10177)","v":0},{"$f":"SUMIF(Data!$K$2:$K$10177,$C313,Data!$M$2:$M$10177)","v":0},{"$f":"SUMIF(Data!$N$2:$N$10177,$C313,Data!$P$2:$P$10177)","v":0},{"$f":"SUMIF(Data!$Q$2:$R$10177,$C313,Data!$S$2:$S$10177)","v":0},{"$f":"SUMIF(Data!$T$2:$U$10177,$C313,Data!$V$2:$V$10177)","v":0},{"$f":"SUMIF(Data!$W$2:$W$10177,$C313,Data!$Y$2:$Y$10177)","v":0}]
[null,null,9900001877,1877,"RACK OF STEEL","METAL",215,0,0,{"$f":"SUMIF(Data!$H$2:$H$10177,$C314,Data!$D$2:$D$10177)","v":0},{"$f":"SUMIF(Data!$H$2:$H$10177,$C314,Data!$J$2:$J$10177)","v":0},{"$f":"SUMIF(Data!$K$2:$K$10177,$C314,Data!$M$2:$M$10177)","v":0},{"$f":"SUMIF(Data!$N$2:$N$10177,$C314,Data!$P$2:$P$10177)","v":0},{"$f":"SUMIF(Data!$Q$2:$R$10177,$C314,Data!$S$2:$S$10177)","v":0},{"$f":"SUMIF(Data!$T$2:$U$10177,$C314,Data!$V$2:$V$10177)","v":0},{"$f":"SUMIF(Data!$W$2:$W$10177,$C314,Data!$Y$2:$Y$10177)","v":0}]
[null,null,9900001879,1879,"FABRIC INSERT","PLASTIC",12,0,0,{"$f":"SUMIF(Data!$H$2:$H$10177,$C315,Data!$D$2:$D$10177)","v":0},{"$f":"SUMIF(Data!$H$2:$H$10177,$C315,Data!$J$2:$J$10177)","v":0},{"$f":"SUMIF(Data!$K$2:$K$10177,$C315,Data!$M$2:$M$10177)","v":0},{"$f":"SUMIF(Data!$N$2:$N$10177,$C315,Data!$P$2:$P$10177)","v":0},{"$f":"SUMIF(Data!$Q$2:$R$10177,$C315,Data!$S$2:$S$10177)","v":0},{"$f":"SUMIF(Data!$T$2:$U$10177,$C315,Data!$V$2:$V$10177)","v":0},{"$f":"SUMIF(Data!$W$2:$W$10177,$C315,Data!$Y$2:$Y$10177)","v":0}]
[null,null,9900001881,1881,"LID OF PLYWWOD, HIGH","WOOD",8.5,0,0,{"$f":"SUMIF(Data!$H$2:$H$10177,$C316,Data!$D$2:$D$10177)","v":0},{"$f":"SUMIF(Data!$H$2:$H$10177,$C316,Data!$J$2:$J$10177)","v":0},{"$f":"SUMIF(Data!$K$2:$K$10177,$C316,Data!$M$2:$M$10177)","v":0},{"$f":"SUMIF(Data!$N$2:$N$10177,$C316,Data!$P$2:$P$10177)","v":0},{"$f":"SUMIF(Data!$Q$2:$R$10177,$C316,Data!$S$2:$S$10177)","v":0},{"$f":"SUMIF(Data!$T$2:$U$10177,$C316,Data!$V$2:$V$10177)","v":0},{"$f":"SUMIF(Data!$W$2:$W$10177,$C316,Data!$Y$2:$Y$10177)","v":0}]
[null,null,9900001882,1882,"FIXING SPACER OF PLASTIC","PLASTIC",7,0,0,{"$f":"SUMIF(Data!$H$2:$H$10177,$C317,Data!$D$2:$D$10177)","v":0},{"$f":"SUMIF(Data!$H$2:$H$10177,$C317,Data!$J$2:$J$10177)","v":0},{"$f":"SUMIF(Data!$K$2:$K$10177,$C317,Data!$M$2:$M$10177)","v":0},{"$f":"SUMIF(Data!$N$2:$N$10177,$C317,Data!$P$2:$P$10177)","v":0},{"$f":"SUMIF(Data!$Q$2:$R$10177,$C317,Data!$S$2:$S$10177)","v":0},{"$f":"SUMIF(Data!$T$2:$U$10177,$C317,Data!$V$2:$V$10177)","v":0},{"$f":"SUMIF(Data!$W$2:$W$10177,$C317,Data!$Y$2:$Y$10177)","v":0}]
[null,null,9900001883,1883,"FIXING SPACER OF PLASTIC","PLASTIC",7,0,0,{"$f":"SUMIF(Data!$H$2:$H$10177,$C318,Data!$D$2:$D$10177)","v":0},{"$f":"SUMIF(Data!$H$2:$H$10177,$C318,Data!$J$2:$J$10177)","v":0},{"$f":"SUMIF(Data!$K$2:$K$10177,$C318,Data!$M$2:$M$10177)","v":0},{"$f":"SUMIF(Data!$N$2:$N$10177,$C318,Data!$P$2:$P$10177)","v":0},{"$f":"SUMIF(Data!$Q$2:$R$10177,$C318,Data!$S$2:$S$10177)","v":0},{"$f":"SUMIF(Data!$T$2:$U$10177,$C318,Data!$V$2:$V$10177)","v":0},{"$f":"SUMIF(Data!$W$2:$W$10177,$C318,Data!$Y$2:$Y$10177)","v":0}]
[null,null,9900001884,{"$f":"C319-9900000000","v":1884},"LID OF PLASTIC","PLASTIC",8,{"$f":"G319*I319","v":0},{"$f":"SUM(J319:P319)","v":0},{"$f":"SUMIF(Data!$H$2:$H$10177,$C319,Data!$D$2:$D$10177)","v":0},{"$f":"SUMIF(Data!$H$2:$H$10177,$C319,Data!$J$2:$J$10177)","v":0},{"$f":"SUMIF(Data!$K$2:$K$10177,$C319,Data!$M$2:$M$10177)","v":0},{"$f":"SUMIF(Data!$N$2:$N$10177,$C319,Data!$P$2:$P$10177)","v":0},{"$f":"SUMIF(Data!$Q$2:$R$10177,$C319,Data!$S$2:$S$10177)","v":0},{"$f":"SUMIF(Data!$T$2:$U$10177,$C319,Data!$V$2:$V$10177)","v":0},{"$f":"SUMIF(Data!$W$2:$W$10177,$C319,Data!$Y$2:$Y$10177)","v":0}]
[null,null,9900001886,{"$f":"C320-9900000000","v":1886},"FIXING SPACER OF PLASTIC","PLASTIC",6.6,0,0,{"$f":"SUMIF(Data!$H$2:$H$10177,$C320,Data!$D$2:$D$10177)","v":0},{"$f":"SUMIF(Data!$H$2:$H$10177,$C320,Data!$J$2:$J$10177)","v":0},{"$f":"SUMIF(Data!$K$2:$K$10177,$C320,Data!$M$2:$M$10177)","v":0},{"$f":"SUMIF(Data!$N$2:$N$10177,$C320,Data!$P$2:$P$10177)","v":0},{"$f":"SUMIF(Data!$Q$2:$R$10177,$C320,Data!$S$2:$S$10177)","v":0},{"$f":"SUMIF(Data!$T$2:$U$10177,$C320,Data!$V$2:$V$10177)","v":0},{"$f":"SUMIF(Data!$W$2:$W$10177,$C320,Data!$Y$2:$Y$10177)","v":0}]
[null,null,9900001921,1921,"FIXTURE FOR L-FRAMES","METAL",184,0,0,{"$f":"SUMIF(Data!$H$2:$H$10177,$C321,Data!$D$2:$D$10177)","v":0},{"$f":"SUMIF(Data!$H$2:$H$10177,$C321,Data!$J$2:$J$10177)","v":0},{"$f":"SUMIF(Data!$K$2:$K$10177,$C321,Data!$M$2:$M$10177)","v":0},{"$f":"SUMIF(Data!$N$2:$N$10177,$C321,Data!$P$2:$P$10177)","v":0},{"$f":"SUMIF(Data!$Q$2:$R$10177,$C321,Data!$S$2:$S$10177)","v":0},{"$f":"SUMIF(Data!$T$2:$U$10177,$C321,Data!$V$2:$V$10177)","v":0},{"$f":"SUMIF(Data!$W$2:$W$10177,$C321,Data!$Y$2:$Y$10177)","v":0}]
[null,null,9900001922,1922,"FIXTURE FOR K-FRAMES","METAL",186,0,0,{"$f":"SUMIF(Data!$H$2:$H$10177,$C322,Data!$D$2:$D$10177)","v":0},{"$f":"SUMIF(Data!$H$2:$H$10177,$C322,Data!$J$2:$J$10177)","v":0},{"$f":"SUMIF(Data!$K$2:$K$10177,$C322,Data!$M$2:$M$10177)","v":0},{"$f":"SUMIF(Data!$N$2:$N$10177,$C322,Data!$P$2:$P$10177)","v":0},{"$f":"SUMIF(Data!$Q$2:$R$10177,$C322,Data!$S$2:$S$10177)","v":0},{"$f":"SUMIF(Data!$T$2:$U$10177,$C322,Data!$V$2:$V$10177)","v":0},{"$f":"SUMIF(Data!$W$2:$W$10177,$C322,Data!$Y$2:$Y$10177)","v":0}]
[null,null,9900001925,1925,"FIXTURE FOR F-FRAMES","METAL",134,0,0,{"$f":"SUMIF(Data!$H$2:$H$10177,$C323,Data!$D$2:$D$10177)","v":0},{"$f":"SUMIF(Data!$H$2:$H$10177,$C323,Data!$J$2:$J$10177)","v":0},{"$f":"SUMIF(Data!$K$2:$K$10177,$C323,Data!$M$2:$M$10177)","v":0},{"$f":"SUMIF(Data!$N$2:$N$10177,$C323,Data!$P$2:$P$10177)","v":0},{"$f":"SUMIF(Data!$Q$2:$R$10177,$C323,Data!$S$2:$S$10177)","v":0},{"$f":"SUMIF(Data!$T$2:$U$10177,$C323,Data!$V$2:$V$10177)","v":0},{"$f":"SUMIF(Data!$W$2:$W$10177,$C323,Data!$Y$2:$Y$10177)","v":0}]
[null,null,9900001926,1926,"FIXTURE FOR G-FRAMES","METAL",176,0,0,{"$f":"SUMIF(Data!$H$2:$H$10177,$C324,Data!$D$2:$D$10177)","v":0},{"$f":"SUMIF(Data!$H$2:$H$10177,$C324,Data!$J$2:$J$10177)","v":0},{"$f":"SUMIF(Data!$K$2:$K$10177,$C324,Data!$M$2:$M$10177)","v":0},{"$f":"SUMIF(Data!$N$2:$N$10177,$C324,Data!$P$2:$P$10177)","v":0},{"$f":"SUMIF(Data!$Q$2:$R$10177,$C324,Data!$S$2:$S$10177)","v":0},{"$f":"SUMIF(Data!$T$2:$U$10177,$C324,Data!$V$2:$V$10177)","v":0},{"$f":"SUMIF(Data!$W$2:$W$10177,$C324,Data!$Y$2:$Y$10177)","v":0}]
[null,null,9900001928,1928,"FIXTURE FOR EMB 702","METAL",200,0,0,{"$f":"SUMIF(Data!$H$2:$H$10177,$C325,Data!$D$2:$D$10177)","v":0},{"$f":"SUMIF(Data!$H$2:$H$10177,$C325,Data!$J$2:$J$10177)","v":0},{"$f":"SUMIF(Data!$K$2:$K$10177,$C325,Data!$M$2:$M$10177)","v":0},{"$f":"SUMIF(Data!$N$2:$N$10177,$C325,Data!$P$2:$P$10177)","v":0},{"$f":"SUMIF(Data!$Q$2:$R$10177,$C325,Data!$S$2:$S$10177)","v":0},{"$f":"SUMIF(Data!$T$2:$U$10177,$C325,Data!$V$2:$V$10177)","v":0},{"$f":"SUMIF(Data!$W$2:$W$10177,$C325,Data!$Y$2:$Y$10177)","v":0}]
[null,null,9900001929,1929,"FIXTURE FOR H-FRAMES","METAL",182,0,0,{"$f":"SUMIF(Data!$H$2:$H$10177,$C326,Data!$D$2:$D$10177)","v":0},{"$f":"SUMIF(Data!$H$2:$H$10177,$C326,Data!$J$2:$J$10177)","v":0},{"$f":"SUMIF(Data!$K$2:$K$10177,$C326,Data!$M$2:$M$10177)","v":0},{"$f":"SUMIF(Data!$N$2:$N$10177,$C326,Data!$P$2:$P$10177)","v":0},{"$f":"SUMIF(Data!$Q$2:$R$10177,$C326,Data!$S$2:$S$10177)","v":0},{"$f":"SUMIF(Data!$T$2:$U$10177,$C326,Data!$V$2:$V$10177)","v":0},{"$f":"SUMIF(Data!$W$2:$W$10177,$C326,Data!$Y$2:$Y$10177)","v":0}]
[null,null,9900001930,1930,"HINGE LUG STRAIGHTENING TOOL","METAL",0.85,0,0,{"$f":"SUMIF(Data!$H$2:$H$10177,$C327,Data!$D$2:$D$10177)","v":0},{"$f":"SUMIF(Data!$H$2:$H$10177,$C327,Data!$J$2:$J$10177)","v":0},{"$f":"SUMIF(Data!$K$2:$K$10177,$C327,Data!$M$2:$M$10177)","v":0},{"$f":"SUMIF(Data!$N$2:$N$10177,$C327,Data!$P$2:$P$10177)","v":0},{"$f":"SUMIF(Data!$Q$2:$R$10177,$C327,Data!$S$2:$S$10177)","v":0},{"$f":"SUMIF(Data!$T$2:$U$10177,$C327,Data!$V$2:$V$10177)","v":0},{"$f":"SUMIF(Data!$W$2:$W$10177,$C327,Data!$Y$2:$Y$10177)","v":0}]
[null,null,9900001971,1971,"FIXTURE FOR L-LIDS","METAL",52,0,0,{"$f":"SUMIF(Data!$H$2:$H$10177,$C328,Data!$D$2:$D$10177)","v":0},{"$f":"SUMIF(Data!$H$2:$H$10177,$C328,Data!$J$2:$J$10177)","v":0},{"$f":"SUMIF(Data!$K$2:$K$10177,$C328,Data!$M$2:$M$10177)","v":0},{"$f":"SUMIF(Data!$N$2:$N$10177,$C328,Data!$P$2:$P$10177)","v":0},{"$f":"SUMIF(Data!$Q$2:$R$10177,$C328,Data!$S$2:$S$10177)","v":0},{"$f":"SUMIF(Data!$T$2:$U$10177,$C328,Data!$V$2:$V$10177)","v":0},{"$f":"SUMIF(Data!$W$2:$W$10177,$C328,Data!$Y$2:$Y$10177)","v":0}]
[null,null,9900001972,1972,"FIXTURE FOR K-LIDS","METAL",43,0,0,{"$f":"SUMIF(Data!$H$2:$H$10177,$C329,Data!$D$2:$D$10177)","v":0},{"$f":"SUMIF(Data!$H$2:$H$10177,$C329,Data!$J$2:$J$10177)","v":0},{"$f":"SUMIF(Data!$K$2:$K$10177,$C329,Data!$M$2:$M$10177)","v":0},{"$f":"SUMIF(Data!$N$2:$N$10177,$C329,Data!$P$2:$P$10177)","v":0},{"$f":"SUMIF(Data!$Q$2:$R$10177,$C329,Data!$S$2:$S$10177)","v":0},{"$f":"SUMIF(Data!$T$2:$U$10177,$C329,Data!$V$2:$V$10177)","v":0},{"$f":"SUMIF(Data!$W$2:$W$10177,$C329,Data!$Y$2:$Y$10177)","v":0}]
[null,null,9900001975,1975,"FIXTURE FOR F-LIDS","METAL",70,0,0,{"$f":"SUMIF(Data!$H$2:$H$10177,$C330,Data!$D$2:$D$10177)","v":0},{"$f":"SUMIF(Data!$H$2:$H$10177,$C330,Data!$J$2:$J$10177)","v":0},{"$f":"SUMIF(Data!$K$2:$K$10177,$C330,Data!$M$2:$M$10177)","v":0},{"$f":"SUMIF(Data!$N$2:$N$10177,$C330,Data!$P$2:$P$10177)","v":0},{"$f":"SUMIF(Data!$Q$2:$R$10177,$C330,Data!$S$2:$S$10177)","v":0},{"$f":"SUMIF(Data!$T$2:$U$10177,$C330,Data!$V$2:$V$10177)","v":0},{"$f":"SUMIF(Data!$W$2:$W$10177,$C330,Data!$Y$2:$Y$10177)","v":0}]
[null,null,9900001976,1976,"FIXTURE FOR G-LIDS","METAL",54,0,0,{"$f":"SUMIF(Data!$H$2:$H$10177,$C331,Data!$D$2:$D$10177)","v":0},{"$f":"SUMIF(Data!$H$2:$H$10177,$C331,Data!$J$2:$J$10177)","v":0},{"$f":"SUMIF(Data!$K$2:$K$10177,$C331,Data!$M$2:$M$10177)","v":0},{"$f":"SUMIF(Data!$N$2:$N$10177,$C331,Data!$P$2:$P$10177)","v":0},{"$f":"SUMIF(Data!$Q$2:$R$10177,$C331,Data!$S$2:$S$10177)","v":0},{"$f":"SUMIF(Data!$T$2:$U$10177,$C331,Data!$V$2:$V$10177)","v":0},{"$f":"SUMIF(Data!$W$2:$W$10177,$C331,Data!$Y$2:$Y$10177)","v":0}]
[null,null,9900002000,2000,"RACK OF STEEL","METAL",55,0,0,{"$f":"SUMIF(Data!$H$2:$H$10177,$C332,Data!$D$2:$D$10177)","v":0},{"$f":"SUMIF(Data!$H$2:$H$10177,$C332,Data!$J$2:$J$10177)","v":0},{"$f":"SUMIF(Data!$K$2:$K$10177,$C332,Data!$M$2:$M$10177)","v":0},{"$f":"SUMIF(Data!$N$2:$N$10177,$C332,Data!$P$2:$P$10177)","v":0},{"$f":"SUMIF(Data!$Q$2:$R$10177,$C332,Data!$S$2:$S$10177)","v":0},{"$f":"SUMIF(Data!$T$2:$U$10177,$C332,Data!$V$2:$V$10177)","v":0},{"$f":"SUMIF(Data!$W$2:$W$10177,$C332,Data!$Y$2:$Y$10177)","v":0}]
[null,null,9900002020,2020,"RACK OF STEEL","METAL",165,0,0,{"$f":"SUMIF(Data!$H$2:$H$10177,$C333,Data!$D$2:$D$10177)","v":0},{"$f":"SUMIF(Data!$H$2:$H$10177,$C333,Data!$J$2:$J$10177)","v":0},{"$f":"SUMIF(Data!$K$2:$K$10177,$C333,Data!$M$2:$M$10177)","v":0},{"$f":"SUMIF(Data!$N$2:$N$10177,$C333,Data!$P$2:$P$10177)","v":0},{"$f":"SUMIF(Data!$Q$2:$R$10177,$C333,Data!$S$2:$S$10177)","v":0},{"$f":"SUMIF(Data!$T$2:$U$10177,$C333,Data!$V$2:$V$10177)","v":0},{"$f":"SUMIF(Data!$W$2:$W$10177,$C333,Data!$Y$2:$Y$10177)","v":0}]
[null,null,9900002184,2184,"PALLET BOX OF PLYWOOD","WOOD",150,0,0,{"$f":"SUMIF(Data!$H$2:$H$10177,$C334,Data!$D$2:$D$10177)","v":0},{"$f":"SUMIF(Data!$H$2:$H$10177,$C334,Data!$J$2:$J$10177)","v":0},{"$f":"SUMIF(Data!$K$2:$K$10177,$C334,Data!$M$2:$M$10177)","v":0},{"$f":"SUMIF(Data!$N$2:$N$10177,$C334,Data!$P$2:$P$10177)","v":0},{"$f":"SUMIF(Data!$Q$2:$R$10177,$C334,Data!$S$2:$S$10177)","v":0},{"$f":"SUMIF(Data!$T$2:$U$10177,$C334,Data!$V$2:$V$10177)","v":0},{"$f":"SUMIF(Data!$W$2:$W$10177,$C334,Data!$Y$2:$Y$10177)","v":0}]
[null,null,9900002185,2185,"PALLET OF PLASTIC","PLASTIC",110,0,0,{"$f":"SUMIF(Data!$H$2:$H$10177,$C335,Data!$D$2:$D$10177)","v":0},{"$f":"SUMIF(Data!$H$2:$H$10177,$C335,Data!$J$2:$J$10177)","v":0},{"$f":"SUMIF(Data!$K$2:$K$10177,$C335,Data!$M$2:$M$10177)","v":0},{"$f":"SUMIF(Data!$N$2:$N$10177,$C335,Data!$P$2:$P$10177)","v":0},{"$f":"SUMIF(Data!$Q$2:$R$10177,$C335,Data!$S$2:$S$10177)","v":0},{"$f":"SUMIF(Data!$T$2:$U$10177,$C335,Data!$V$2:$V$10177)","v":0},{"$f":"SUMIF(Data!$W$2:$W$10177,$C335,Data!$Y$2:$Y$10177)","v":0}]
[null,null,9900002186,2186,"INSERT OF PLASTIC","PLASTIC",4,0,0,{"$f":"SUMIF(Data!$H$2:$H$10177,$C336,Data!$D$2:$D$10177)","v":0},{"$f":"SUMIF(Data!$H$2:$H$10177,$C336,Data!$J$2:$J$10177)","v":0},{"$f":"SUMIF(Data!$K$2:$K$10177,$C336,Data!$M$2:$M$10177)","v":0},{"$f":"SUMIF(Data!$N$2:$N$10177,$C336,Data!$P$2:$P$10177)","v":0},{"$f":"SUMIF(Data!$Q$2:$R$10177,$C336,Data!$S$2:$S$10177)","v":0},{"$f":"SUMIF(Data!$T$2:$U$10177,$C336,Data!$V$2:$V$10177)","v":0},{"$f":"SUMIF(Data!$W$2:$W$10177,$C336,Data!$Y$2:$Y$10177)","v":0}]
[null,null,9900002187,2187,"INSERT OF FABRIC","PLASTIC",1,0,0,{"$f":"SUMIF(Data!$H$2:$H$10177,$C337,Data!$D$2:$D$10177)","v":0},{"$f":"SUMIF(Data!$H$2:$H$10177,$C337,Data!$J$2:$J$10177)","v":0},{"$f":"SUMIF(Data!$K$2:$K$10177,$C337,Data!$M$2:$M$10177)","v":0},{"$f":"SUMIF(Data!$N$2:$N$10177,$C337,Data!$P$2:$P$10177)","v":0},{"$f":"SUMIF(Data!$Q$2:$R$10177,$C337,Data!$S$2:$S$10177)","v":0},{"$f":"SUMIF(Data!$T$2:$U$10177,$C337,Data!$V$2:$V$10177)","v":0},{"$f":"SUMIF(Data!$W$2:$W$10177,$C337,Data!$Y$2:$Y$10177)","v":0}]
[null,null,9900002200,2200,"RACK OF STEEL","METAL",150,0,0,{"$f":"SUMIF(Data!$H$2:$H$10177,$C338,Data!$D$2:$D$10177)","v":0},{"$f":"SUMIF(Data!$H$2:$H$10177,$C338,Data!$J$2:$J$10177)","v":0},{"$f":"SUMIF(Data!$K$2:$K$10177,$C338,Data!$M$2:$M$10177)","v":0},{"$f":"SUMIF(Data!$N$2:$N$10177,$C338,Data!$P$2:$P$10177)","v":0},{"$f":"SUMIF(Data!$Q$2:$R$10177,$C338,Data!$S$2:$S$10177)","v":0},{"$f":"SUMIF(Data!$T$2:$U$10177,$C338,Data!$V$2:$V$10177)","v":0},{"$f":"SUMIF(Data!$W$2:$W$10177,$C338,Data!$Y$2:$Y$10177)","v":0}]
[null,null,9900002201,2201,"RACK OF STEEL","METAL",140,0,0,{"$f":"SUMIF(Data!$H$2:$H$10177,$C339,Data!$D$2:$D$10177)","v":0},{"$f":"SUMIF(Data!$H$2:$H$10177,$C339,Data!$J$2:$J$10177)","v":0},{"$f":"SUMIF(Data!$K$2:$K$10177,$C339,Data!$M$2:$M$10177)","v":0},{"$f":"SUMIF(Data!$N$2:$N$10177,$C339,Data!$P$2:$P$10177)","v":0},{"$f":"SUMIF(Data!$Q$2:$R$10177,$C339,Data!$S$2:$S$10177)","v":0},{"$f":"SUMIF(Data!$T$2:$U$10177,$C339,Data!$V$2:$V$10177)","v":0},{"$f":"SUMIF(Data!$W$2:$W$10177,$C339,Data!$Y$2:$Y$10177)","v":0}]
[null,null,9900002202,2202,"RACK OF PLASTIC","PLASTIC",112,0,0,{"$f":"SUMIF(Data!$H$2:$H$10177,$C340,Data!$D$2:$D$10177)","v":0},{"$f":"SUMIF(Data!$H$2:$H$10177,$C340,Data!$J$2:$J$10177)","v":0},{"$f":"SUMIF(Data!$K$2:$K$10177,$C340,Data!$M$2:$M$10177)","v":0},{"$f":"SUMIF(Data!$N$2:$N$10177,$C340,Data!$P$2:$P$10177)","v":0},{"$f":"SUMIF(Data!$Q$2:$R$10177,$C340,Data!$S$2:$S$10177)","v":0},{"$f":"SUMIF(Data!$T$2:$U$10177,$C340,Data!$V$2:$V$10177)","v":0},{"$f":"SUMIF(Data!$W$2:$W$10177,$C340,Data!$Y$2:$Y$10177)","v":0}]
[null,null,9900002203,2203,"RACK OF STEEL","METAL",164,0,0,{"$f":"SUMIF(Data!$H$2:$H$10177,$C341,Data!$D$2:$D$10177)","v":0},{"$f":"SUMIF(Data!$H$2:$H$10177,$C341,Data!$J$2:$J$10177)","v":0},{"$f":"SUMIF(Data!$K$2:$K$10177,$C341,Data!$M$2:$M$10177)","v":0},{"$f":"SUMIF(Data!$N$2:$N$10177,$C341,Data!$P$2:$P$10177)","v":0},{"$f":"SUMIF(Data!$Q$2:$R$10177,$C341,Data!$S$2:$S$10177)","v":0},{"$f":"SUMIF(Data!$T$2:$U$10177,$C341,Data!$V$2:$V$10177)","v":0},{"$f":"SUMIF(Data!$W$2:$W$10177,$C341,Data!$Y$2:$Y$10177)","v":0}]
[null,null,9900002210,2210,"RACK OF STEEL","METAL",230,0,0,{"$f":"SUMIF(Data!$H$2:$H$10177,$C342,Data!$D$2:$D$10177)","v":0},{"$f":"SUMIF(Data!$H$2:$H$10177,$C342,Data!$J$2:$J$10177)","v":0},{"$f":"SUMIF(Data!$K$2:$K$10177,$C342,Data!$M$2:$M$10177)","v":0},{"$f":"SUMIF(Data!$N$2:$N$10177,$C342,Data!$P$2:$P$10177)","v":0},{"$f":"SUMIF(Data!$Q$2:$R$10177,$C342,Data!$S$2:$S$10177)","v":0},{"$f":"SUMIF(Data!$T$2:$U$10177,$C342,Data!$V$2:$V$10177)","v":0},{"$f":"SUMIF(Data!$W$2:$W$10177,$C342,Data!$Y$2:$Y$10177)","v":0}]
[null,null,9900002211,2211,"RACK OF STEEL","METAL",360,0,0,{"$f":"SUMIF(Data!$H$2:$H$10177,$C343,Data!$D$2:$D$10177)","v":0},{"$f":"SUMIF(Data!$H$2:$H$10177,$C343,Data!$J$2:$J$10177)","v":0},{"$f":"SUMIF(Data!$K$2:$K$10177,$C343,Data!$M$2:$M$10177)","v":0},{"$f":"SUMIF(Data!$N$2:$N$10177,$C343,Data!$P$2:$P$10177)","v":0},{"$f":"SUMIF(Data!$Q$2:$R$10177,$C343,Data!$S$2:$S$10177)","v":0},{"$f":"SUMIF(Data!$T$2:$U$10177,$C343,Data!$V$2:$V$10177)","v":0},{"$f":"SUMIF(Data!$W$2:$W$10177,$C343,Data!$Y$2:$Y$10177)","v":0}]
[null,null,9900002212,2212,"FIXING SPACER OF PLASTIC","PLASTIC",3,0,0,{"$f":"SUMIF(Data!$H$2:$H$10177,$C344,Data!$D$2:$D$10177)","v":0},{"$f":"SUMIF(Data!$H$2:$H$10177,$C344,Data!$J$2:$J$10177)","v":0},{"$f":"SUMIF(Data!$K$2:$K$10177,$C344,Data!$M$2:$M$10177)","v":0},{"$f":"SUMIF(Data!$N$2:$N$10177,$C344,Data!$P$2:$P$10177)","v":0},{"$f":"SUMIF(Data!$Q$2:$R$10177,$C344,Data!$S$2:$S$10177)","v":0},{"$f":"SUMIF(Data!$T$2:$U$10177,$C344,Data!$V$2:$V$10177)","v":0},{"$f":"SUMIF(Data!$W$2:$W$10177,$C344,Data!$Y$2:$Y$10177)","v":0}]
[null,null,9900002213,2213,"FIXING SPACER OF PLASTIC","PLASTIC",3,0,0,{"$f":"SUMIF(Data!$H$2:$H$10177,$C345,Data!$D$2:$D$10177)","v":0},{"$f":"SUMIF(Data!$H$2:$H$10177,$C345,Data!$J$2:$J$10177)","v":0},{"$f":"SUMIF(Data!$K$2:$K$10177,$C345,Data!$M$2:$M$10177)","v":0},{"$f":"SUMIF(Data!$N$2:$N$10177,$C345,Data!$P$2:$P$10177)","v":0},{"$f":"SUMIF(Data!$Q$2:$R$10177,$C345,Data!$S$2:$S$10177)","v":0},{"$f":"SUMIF(Data!$T$2:$U$10177,$C345,Data!$V$2:$V$10177)","v":0},{"$f":"SUMIF(Data!$W$2:$W$10177,$C345,Data!$Y$2:$Y$10177)","v":0}]
[null,null,9900002306,2306,"FIXING SPACER OF PLASTIC","PLASTIC",3,0,0,{"$f":"SUMIF(Data!$H$2:$H$10177,$C346,Data!$D$2:$D$10177)","v":0},{"$f":"SUMIF(Data!$H$2:$H$10177,$C346,Data!$J$2:$J$10177)","v":0},{"$f":"SUMIF(Data!$K$2:$K$10177,$C346,Data!$M$2:$M$10177)","v":0},{"$f":"SUMIF(Data!$N$2:$N$10177,$C346,Data!$P$2:$P$10177)","v":0},{"$f":"SUMIF(Data!$Q$2:$R$10177,$C346,Data!$S$2:$S$10177)","v":0},{"$f":"SUMIF(Data!$T$2:$U$10177,$C346,Data!$V$2:$V$10177)","v":0},{"$f":"SUMIF(Data!$W$2:$W$10177,$C346,Data!$Y$2:$Y$10177)","v":0}]
[null,null,9900002307,{"$f":"C347-9900000000","v":2307},"FIXING SPACER OF PLASTIC","PLASTIC",6,{"$f":"G347*I347","v":0},{"$f":"SUM(J347:P347)","v":0},{"$f":"SUMIF(Data!$H$2:$H$10177,$C347,Data!$D$2:$D$10177)","v":0},{"$f":"SUMIF(Data!$H$2:$H$10177,$C347,Data!$J$2:$J$10177)","v":0},{"$f":"SUMIF(Data!$K$2:$K$10177,$C347,Data!$M$2:$M$10177)","v":0},{"$f":"SUMIF(Data!$N$2:$N$10177,$C347,Data!$P$2:$P$10177)","v":0},{"$f":"SUMIF(Data!$Q$2:$R$10177,$C347,Data!$S$2:$S$10177)","v":0},{"$f":"SUMIF(Data!$T$2:$U$10177,$C347,Data!$V$2:$V$10177)","v":0},{"$f":"SUMIF(Data!$W$2:$W$10177,$C347,Data!$Y$2:$Y$10177)","v":0}]
[null,null,9900002700,2700,"RACK OF STEEL","METAL",183,0,0,{"$f":"SUMIF(Data!$H$2:$H$10177,$C348,Data!$D$2:$D$10177)","v":0},{"$f":"SUMIF(Data!$H$2:$H$10177,$C348,Data!$J$2:$J$10177)","v":0},{"$f":"SUMIF(Data!$K$2:$K$10177,$C348,Data!$M$2:$M$10177)","v":0},{"$f":"SUMIF(Data!$N$2:$N$10177,$C348,Data!$P$2:$P$10177)","v":0},{"$f":"SUMIF(Data!$Q$2:$R$10177,$C348,Data!$S$2:$S$10177)","v":0},{"$f":"SUMIF(Data!$T$2:$U$10177,$C348,Data!$V$2:$V$10177)","v":0},{"$f":"SUMIF(Data!$W$2:$W$10177,$C348,Data!$Y$2:$Y$10177)","v":0}]
[null,null,9900002701,2701,"RACK OF STEEL","METAL",520,0,0,{"$f":"SUMIF(Data!$H$2:$H$10177,$C349,Data!$D$2:$D$10177)","v":0},{"$f":"SUMIF(Data!$H$2:$H$10177,$C349,Data!$J$2:$J$10177)","v":0},{"$f":"SUMIF(Data!$K$2:$K$10177,$C349,Data!$M$2:$M$10177)","v":0},{"$f":"SUMIF(Data!$N$2:$N$10177,$C349,Data!$P$2:$P$10177)","v":0},{"$f":"SUMIF(Data!$Q$2:$R$10177,$C349,Data!$S$2:$S$10177)","v":0},{"$f":"SUMIF(Data!$T$2:$U$10177,$C349,Data!$V$2:$V$10177)","v":0},{"$f":"SUMIF(Data!$W$2:$W$10177,$C349,Data!$Y$2:$Y$10177)","v":0}]
[null,null,9900002702,2702,"RACK OF STEEL","METAL",420,0,0,{"$f":"SUMIF(Data!$H$2:$H$10177,$C350,Data!$D$2:$D$10177)","v":0},{"$f":"SUMIF(Data!$H$2:$H$10177,$C350,Data!$J$2:$J$10177)","v":0},{"$f":"SUMIF(Data!$K$2:$K$10177,$C350,Data!$M$2:$M$10177)","v":0},{"$f":"SUMIF(Data!$N$2:$N$10177,$C350,Data!$P$2:$P$10177)","v":0},{"$f":"SUMIF(Data!$Q$2:$R$10177,$C350,Data!$S$2:$S$10177)","v":0},{"$f":"SUMIF(Data!$T$2:$U$10177,$C350,Data!$V$2:$V$10177)","v":0},{"$f":"SUMIF(Data!$W$2:$W$10177,$C350,Data!$Y$2:$Y$10177)","v":0}]
[null,null,9900002703,2703,"RACK OF STEEL","METAL",520,0,0,{"$f":"SUMIF(Data!$H$2:$H$10177,$C351,Data!$D$2:$D$10177)","v":0},{"$f":"SUMIF(Data!$H$2:$H$10177,$C351,Data!$J$2:$J$10177)","v":0},{"$f":"SUMIF(Data!$K$2:$K$10177,$C351,Data!$M$2:$M$10177)","v":0},{"$f":"SUMIF(Data!$N$2:$N$10177,$C351,Data!$P$2:$P$10177)","v":0},{"$f":"SUMIF(Data!$Q$2:$R$10177,$C351,Data!$S$2:$S$10177)","v":0},{"$f":"SUMIF(Data!$T$2:$U$10177,$C351,Data!$V$2:$V$10177)","v":0},{"$f":"SUMIF(Data!$W$2:$W$10177,$C351,Data!$Y$2:$Y$10177)","v":0}]
[null,null,9900002704,2704,"RACK OF STEEL","METAL",340,0,0,{"$f":"SUMIF(Data!$H$2:$H$10177,$C352,Data!$D$2:$D$10177)","v":0},{"$f":"SUMIF(Data!$H$2:$H$10177,$C352,Data!$J$2:$J$10177)","v":0},{"$f":"SUMIF(Data!$K$2:$K$10177,$C352,Data!$M$2:$M$10177)","v":0},{"$f":"SUMIF(Data!$N$2:$N$10177,$C352,Data!$P$2:$P$10177)","v":0},{"$f":"SUMIF(Data!$Q$2:$R$10177,$C352,Data!$S$2:$S$10177)","v":0},{"$f":"SUMIF(Data!$T$2:$U$10177,$C352,Data!$V$2:$V$10177)","v":0},{"$f":"SUMIF(Data!$W$2:$W$10177,$C352,Data!$Y$2:$Y$10177)","v":0}]
[null,null,9900002705,2705,"RACK OF STEEL","METAL",120,0,0,{"$f":"SUMIF(Data!$H$2:$H$10177,$C353,Data!$D$2:$D$10177)","v":0},{"$f":"SUMIF(Data!$H$2:$H$10177,$C353,Data!$J$2:$J$10177)","v":0},{"$f":"SUMIF(Data!$K$2:$K$10177,$C353,Data!$M$2:$M$10177)","v":0},{"$f":"SUMIF(Data!$N$2:$N$10177,$C353,Data!$P$2:$P$10177)","v":0},{"$f":"SUMIF(Data!$Q$2:$R$10177,$C353,Data!$S$2:$S$10177)","v":0},{"$f":"SUMIF(Data!$T$2:$U$10177,$C353,Data!$V$2:$V$10177)","v":0},{"$f":"SUMIF(Data!$W$2:$W$10177,$C353,Data!$Y$2:$Y$10177)","v":0}]
[null,null,9900002706,2706,"RACK OF STEEL","METAL",500,0,0,{"$f":"SUMIF(Data!$H$2:$H$10177,$C354,Data!$D$2:$D$10177)","v":0},{"$f":"SUMIF(Data!$H$2:$H$10177,$C354,Data!$J$2:$J$10177)","v":0},{"$f":"SUMIF(Data!$K$2:$K$10177,$C354,Data!$M$2:$M$10177)","v":0},{"$f":"SUMIF(Data!$N$2:$N$10177,$C354,Data!$P$2:$P$10177)","v":0},{"$f":"SUMIF(Data!$Q$2:$R$10177,$C354,Data!$S$2:$S$10177)","v":0},{"$f":"SUMIF(Data!$T$2:$U$10177,$C354,Data!$V$2:$V$10177)","v":0},{"$f":"SUMIF(Data!$W$2:$W$10177,$C354,Data!$Y$2:$Y$10177)","v":0}]
[null,null,9900002707,2707,"RACK OF STEEL","METAL",380,0,0,{"$f":"SUMIF(Data!$H$2:$H$10177,$C355,Data!$D$2:$D$10177)","v":0},{"$f":"SUMIF(Data!$H$2:$H$10177,$C355,Data!$J$2:$J$10177)","v":0},{"$f":"SUMIF(Data!$K$2:$K$10177,$C355,Data!$M$2:$M$10177)","v":0},{"$f":"SUMIF(Data!$N$2:$N$10177,$C355,Data!$P$2:$P$10177)","v":0},{"$f":"SUMIF(Data!$Q$2:$R$10177,$C355,Data!$S$2:$S$10177)","v":0},{"$f":"SUMIF(Data!$T$2:$U$10177,$C355,Data!$V$2:$V$10177)","v":0},{"$f":"SUMIF(Data!$W$2:$W$10177,$C355,Data!$Y$2:$Y$10177)","v":0}]
[null,null,9900002708,2708,"RACK OF STEEL","METAL",227,0,0,{"$f":"SUMIF(Data!$H$2:$H$10177,$C356,Data!$D$2:$D$10177)","v":0},{"$f":"SUMIF(Data!$H$2:$H$10177,$C356,Data!$J$2:$J$10177)","v":0},{"$f":"SUMIF(Data!$K$2:$K$10177,$C356,Data!$M$2:$M$10177)","v":0},{"$f":"SUMIF(Data!$N$2:$N$10177,$C356,Data!$P$2:$P$10177)","v":0},{"$f":"SUMIF(Data!$Q$2:$R$10177,$C356,Data!$S$2:$S$10177)","v":0},{"$f":"SUMIF(Data!$T$2:$U$10177,$C356,Data!$V$2:$V$10177)","v":0},{"$f":"SUMIF(Data!$W$2:$W$10177,$C356,Data!$Y$2:$Y$10177)","v":0}]
[null,null,9900002709,2709,"RACK OF STEEL","METAL",380,0,0,{"$f":"SUMIF(Data!$H$2:$H$10177,$C357,Data!$D$2:$D$10177)","v":0},{"$f":"SUMIF(Data!$H$2:$H$10177,$C357,Data!$J$2:$J$10177)","v":0},{"$f":"SUMIF(Data!$K$2:$K$10177,$C357,Data!$M$2:$M$10177)","v":0},{"$f":"SUMIF(Data!$N$2:$N$10177,$C357,Data!$P$2:$P$10177)","v":0},{"$f":"SUMIF(Data!$Q$2:$R$10177,$C357,Data!$S$2:$S$10177)","v":0},{"$f":"SUMIF(Data!$T$2:$U$10177,$C357,Data!$V$2:$V$10177)","v":0},{"$f":"SUMIF(Data!$W$2:$W$10177,$C357,Data!$Y$2:$Y$10177)","v":0}]
[null,null,9900002710,2710,"RACK OF STEEL","METAL",440,0,0,{"$f":"SUMIF(Data!$H$2:$H$10177,$C358,Data!$D$2:$D$10177)","v":0},{"$f":"SUMIF(Data!$H$2:$H$10177,$C358,Data!$J$2:$J$10177)","v":0},{"$f":"SUMIF(Data!$K$2:$K$10177,$C358,Data!$M$2:$M$10177)","v":0},{"$f":"SUMIF(Data!$N$2:$N$10177,$C358,Data!$P$2:$P$10177)","v":0},{"$f":"SUMIF(Data!$Q$2:$R$10177,$C358,Data!$S$2:$S$10177)","v":0},{"$f":"SUMIF(Data!$T$2:$U$10177,$C358,Data!$V$2:$V$10177)","v":0},{"$f":"SUMIF(Data!$W$2:$W$10177,$C358,Data!$Y$2:$Y$10177)","v":0}]
[null,null,9900002711,2711,"RACK OF STEEL","METAL",180,{"$f":"G359*I359","v":0},{"$f":"SUM(J359:P359)","v":0},{"$f":"SUMIF(Data!$H$2:$H$10177,$C359,Data!$D$2:$D$10177)","v":0},{"$f":"SUMIF(Data!$H$2:$H$10177,$C359,Data!$J$2:$J$10177)","v":0},{"$f":"SUMIF(Data!$K$2:$K$10177,$C359,Data!$M$2:$M$10177)","v":0},{"$f":"SUMIF(Data!$N$2:$N$10177,$C359,Data!$P$2:$P$10177)","v":0},{"$f":"SUMIF(Data!$Q$2:$R$10177,$C359,Data!$S$2:$S$10177)","v":0},{"$f":"SUMIF(Data!$T$2:$U$10177,$C359,Data!$V$2:$V$10177)","v":0},{"$f":"SUMIF(Data!$W$2:$W$10177,$C359,Data!$Y$2:$Y$10177)","v":0}]
[null,null,9900002712,2712,"RACK OF STEEL","METAL",200,0,0,{"$f":"SUMIF(Data!$H$2:$H$10177,$C360,Data!$D$2:$D$10177)","v":0},{"$f":"SUMIF(Data!$H$2:$H$10177,$C360,Data!$J$2:$J$10177)","v":0},{"$f":"SUMIF(Data!$K$2:$K$10177,$C360,Data!$M$2:$M$10177)","v":0},{"$f":"SUMIF(Data!$N$2:$N$10177,$C360,Data!$P$2:$P$10177)","v":0},{"$f":"SUMIF(Data!$Q$2:$R$10177,$C360,Data!$S$2:$S$10177)","v":0},{"$f":"SUMIF(Data!$T$2:$U$10177,$C360,Data!$V$2:$V$10177)","v":0},{"$f":"SUMIF(Data!$W$2:$W$10177,$C360,Data!$Y$2:$Y$10177)","v":0}]
[null,null,9900002713,2713,"RACK OF STEEL","METAL",198,0,0,{"$f":"SUMIF(Data!$H$2:$H$10177,$C361,Data!$D$2:$D$10177)","v":0},{"$f":"SUMIF(Data!$H$2:$H$10177,$C361,Data!$J$2:$J$10177)","v":0},{"$f":"SUMIF(Data!$K$2:$K$10177,$C361,Data!$M$2:$M$10177)","v":0},{"$f":"SUMIF(Data!$N$2:$N$10177,$C361,Data!$P$2:$P$10177)","v":0},{"$f":"SUMIF(Data!$Q$2:$R$10177,$C361,Data!$S$2:$S$10177)","v":0},{"$f":"SUMIF(Data!$T$2:$U$10177,$C361,Data!$V$2:$V$10177)","v":0},{"$f":"SUMIF(Data!$W$2:$W$10177,$C361,Data!$Y$2:$Y$10177)","v":0}]
[null,null,9900002714,2714,"RACK OF STEEL","METAL",140,0,0,{"$f":"SUMIF(Data!$H$2:$H$10177,$C362,Data!$D$2:$D$10177)","v":0},{"$f":"SUMIF(Data!$H$2:$H$10177,$C362,Data!$J$2:$J$10177)","v":0},{"$f":"SUMIF(Data!$K$2:$K$10177,$C362,Data!$M$2:$M$10177)","v":0},{"$f":"SUMIF(Data!$N$2:$N$10177,$C362,Data!$P$2:$P$10177)","v":0},{"$f":"SUMIF(Data!$Q$2:$R$10177,$C362,Data!$S$2:$S$10177)","v":0},{"$f":"SUMIF(Data!$T$2:$U$10177,$C362,Data!$V$2:$V$10177)","v":0},{"$f":"SUMIF(Data!$W$2:$W$10177,$C362,Data!$Y$2:$Y$10177)","v":0}]
[null,null,9900002715,2715,"RACK OF STEEL","METAL",102,0,0,{"$f":"SUMIF(Data!$H$2:$H$10177,$C363,Data!$D$2:$D$10177)","v":0},{"$f":"SUMIF(Data!$H$2:$H$10177,$C363,Data!$J$2:$J$10177)","v":0},{"$f":"SUMIF(Data!$K$2:$K$10177,$C363,Data!$M$2:$M$10177)","v":0},{"$f":"SUMIF(Data!$N$2:$N$10177,$C363,Data!$P$2:$P$10177)","v":0},{"$f":"SUMIF(Data!$Q$2:$R$10177,$C363,Data!$S$2:$S$10177)","v":0},{"$f":"SUMIF(Data!$T$2:$U$10177,$C363,Data!$V$2:$V$10177)","v":0},{"$f":"SUMIF(Data!$W$2:$W$10177,$C363,Data!$Y$2:$Y$10177)","v":0}]
[null,null,9900002716,2716,"RACK OF STEEL","METAL",460,0,0,{"$f":"SUMIF(Data!$H$2:$H$10177,$C364,Data!$D$2:$D$10177)","v":0},{"$f":"SUMIF(Data!$H$2:$H$10177,$C364,Data!$J$2:$J$10177)","v":0},{"$f":"SUMIF(Data!$K$2:$K$10177,$C364,Data!$M$2:$M$10177)","v":0},{"$f":"SUMIF(Data!$N$2:$N$10177,$C364,Data!$P$2:$P$10177)","v":0},{"$f":"SUMIF(Data!$Q$2:$R$10177,$C364,Data!$S$2:$S$10177)","v":0},{"$f":"SUMIF(Data!$T$2:$U$10177,$C364,Data!$V$2:$V$10177)","v":0},{"$f":"SUMIF(Data!$W$2:$W$10177,$C364,Data!$Y$2:$Y$10177)","v":0}]
[null,null,9900002717,2717,"RACK OF STEEL","METAL",200,0,0,{"$f":"SUMIF(Data!$H$2:$H$10177,$C365,Data!$D$2:$D$10177)","v":0},{"$f":"SUMIF(Data!$H$2:$H$10177,$C365,Data!$J$2:$J$10177)","v":0},{"$f":"SUMIF(Data!$K$2:$K$10177,$C365,Data!$M$2:$M$10177)","v":0},{"$f":"SUMIF(Data!$N$2:$N$10177,$C365,Data!$P$2:$P$10177)","v":0},{"$f":"SUMIF(Data!$Q$2:$R$10177,$C365,Data!$S$2:$S$10177)","v":0},{"$f":"SUMIF(Data!$T$2:$U$10177,$C365,Data!$V$2:$V$10177)","v":0},{"$f":"SUMIF(Data!$W$2:$W$10177,$C365,Data!$Y$2:$Y$10177)","v":0}]
[null,null,9900002718,2718,"RACK OF STEEL","METAL",212,0,0,{"$f":"SUMIF(Data!$H$2:$H$10177,$C366,Data!$D$2:$D$10177)","v":0},{"$f":"SUMIF(Data!$H$2:$H$10177,$C366,Data!$J$2:$J$10177)","v":0},{"$f":"SUMIF(Data!$K$2:$K$10177,$C366,Data!$M$2:$M$10177)","v":0},{"$f":"SUMIF(Data!$N$2:$N$10177,$C366,Data!$P$2:$P$10177)","v":0},{"$f":"SUMIF(Data!$Q$2:$R$10177,$C366,Data!$S$2:$S$10177)","v":0},{"$f":"SUMIF(Data!$T$2:$U$10177,$C366,Data!$V$2:$V$10177)","v":0},{"$f":"SUMIF(Data!$W$2:$W$10177,$C366,Data!$Y$2:$Y$10177)","v":0}]
[null,null,9900002719,2719,"RACK OF STEEL","METAL",520,0,0,{"$f":"SUMIF(Data!$H$2:$H$10177,$C367,Data!$D$2:$D$10177)","v":0},{"$f":"SUMIF(Data!$H$2:$H$10177,$C367,Data!$J$2:$J$10177)","v":0},{"$f":"SUMIF(Data!$K$2:$K$10177,$C367,Data!$M$2:$M$10177)","v":0},{"$f":"SUMIF(Data!$N$2:$N$10177,$C367,Data!$P$2:$P$10177)","v":0},{"$f":"SUMIF(Data!$Q$2:$R$10177,$C367,Data!$S$2:$S$10177)","v":0},{"$f":"SUMIF(Data!$T$2:$U$10177,$C367,Data!$V$2:$V$10177)","v":0},{"$f":"SUMIF(Data!$W$2:$W$10177,$C367,Data!$Y$2:$Y$10177)","v":0}]
[null,null,9900002721,2721,"RACK OF STEEL","METAL",1000,0,0,{"$f":"SUMIF(Data!$H$2:$H$10177,$C368,Data!$D$2:$D$10177)","v":0},{"$f":"SUMIF(Data!$H$2:$H$10177,$C368,Data!$J$2:$J$10177)","v":0},{"$f":"SUMIF(Data!$K$2:$K$10177,$C368,Data!$M$2:$M$10177)","v":0},{"$f":"SUMIF(Data!$N$2:$N$10177,$C368,Data!$P$2:$P$10177)","v":0},{"$f":"SUMIF(Data!$Q$2:$R$10177,$C368,Data!$S$2:$S$10177)","v":0},{"$f":"SUMIF(Data!$T$2:$U$10177,$C368,Data!$V$2:$V$10177)","v":0},{"$f":"SUMIF(Data!$W$2:$W$10177,$C368,Data!$Y$2:$Y$10177)","v":0}]
[null,null,9900002722,2722,"RACK OF STEEL","METAL",390,0,0,{"$f":"SUMIF(Data!$H$2:$H$10177,$C369,Data!$D$2:$D$10177)","v":0},{"$f":"SUMIF(Data!$H$2:$H$10177,$C369,Data!$J$2:$J$10177)","v":0},{"$f":"SUMIF(Data!$K$2:$K$10177,$C369,Data!$M$2:$M$10177)","v":0},{"$f":"SUMIF(Data!$N$2:$N$10177,$C369,Data!$P$2:$P$10177)","v":0},{"$f":"SUMIF(Data!$Q$2:$R$10177,$C369,Data!$S$2:$S$10177)","v":0},{"$f":"SUMIF(Data!$T$2:$U$10177,$C369,Data!$V$2:$V$10177)","v":0},{"$f":"SUMIF(Data!$W$2:$W$10177,$C369,Data!$Y$2:$Y$10177)","v":0}]
[null,null,9900002723,2723,"RACK OF STEEL","METAL",500,0,0,{"$f":"SUMIF(Data!$H$2:$H$10177,$C370,Data!$D$2:$D$10177)","v":0},{"$f":"SUMIF(Data!$H$2:$H$10177,$C370,Data!$J$2:$J$10177)","v":0},{"$f":"SUMIF(Data!$K$2:$K$10177,$C370,Data!$M$2:$M$10177)","v":0},{"$f":"SUMIF(Data!$N$2:$N$10177,$C370,Data!$P$2:$P$10177)","v":0},{"$f":"SUMIF(Data!$Q$2:$R$10177,$C370,Data!$S$2:$S$10177)","v":0},{"$f":"SUMIF(Data!$T$2:$U$10177,$C370,Data!$V$2:$V$10177)","v":0},{"$f":"SUMIF(Data!$W$2:$W$10177,$C370,Data!$Y$2:$Y$10177)","v":0}]
[null,null,9900002724,2724,"RACK OF STEEL","METAL",950,0,0,{"$f":"SUMIF(Data!$H$2:$H$10177,$C371,Data!$D$2:$D$10177)","v":0},{"$f":"SUMIF(Data!$H$2:$H$10177,$C371,Data!$J$2:$J$10177)","v":0},{"$f":"SUMIF(Data!$K$2:$K$10177,$C371,Data!$M$2:$M$10177)","v":0},{"$f":"SUMIF(Data!$N$2:$N$10177,$C371,Data!$P$2:$P$10177)","v":0},{"$f":"SUMIF(Data!$Q$2:$R$10177,$C371,Data!$S$2:$S$10177)","v":0},{"$f":"SUMIF(Data!$T$2:$U$10177,$C371,Data!$V$2:$V$10177)","v":0},{"$f":"SUMIF(Data!$W$2:$W$10177,$C371,Data!$Y$2:$Y$10177)","v":0}]
[null,null,9900002725,2725,"RACK OF STEEL","METAL",210,0,0,{"$f":"SUMIF(Data!$H$2:$H$10177,$C372,Data!$D$2:$D$10177)","v":0},{"$f":"SUMIF(Data!$H$2:$H$10177,$C372,Data!$J$2:$J$10177)","v":0},{"$f":"SUMIF(Data!$K$2:$K$10177,$C372,Data!$M$2:$M$10177)","v":0},{"$f":"SUMIF(Data!$N$2:$N$10177,$C372,Data!$P$2:$P$10177)","v":0},{"$f":"SUMIF(Data!$Q$2:$R$10177,$C372,Data!$S$2:$S$10177)","v":0},{"$f":"SUMIF(Data!$T$2:$U$10177,$C372,Data!$V$2:$V$10177)","v":0},{"$f":"SUMIF(Data!$W$2:$W$10177,$C372,Data!$Y$2:$Y$10177)","v":0}]
[null,null,9900002726,2726,"RACK OF STEEL","METAL",260,0,0,{"$f":"SUMIF(Data!$H$2:$H$10177,$C373,Data!$D$2:$D$10177)","v":0},{"$f":"SUMIF(Data!$H$2:$H$10177,$C373,Data!$J$2:$J$10177)","v":0},{"$f":"SUMIF(Data!$K$2:$K$10177,$C373,Data!$M$2:$M$10177)","v":0},{"$f":"SUMIF(Data!$N$2:$N$10177,$C373,Data!$P$2:$P$10177)","v":0},{"$f":"SUMIF(Data!$Q$2:$R$10177,$C373,Data!$S$2:$S$10177)","v":0},{"$f":"SUMIF(Data!$T$2:$U$10177,$C373,Data!$V$2:$V$10177)","v":0},{"$f":"SUMIF(Data!$W$2:$W$10177,$C373,Data!$Y$2:$Y$10177)","v":0}]
[null,null,9900002727,2727,"RACK OF STEEL","METAL",50,0,0,{"$f":"SUMIF(Data!$H$2:$H$10177,$C374,Data!$D$2:$D$10177)","v":0},{"$f":"SUMIF(Data!$H$2:$H$10177,$C374,Data!$J$2:$J$10177)","v":0},{"$f":"SUMIF(Data!$K$2:$K$10177,$C374,Data!$M$2:$M$10177)","v":0},{"$f":"SUMIF(Data!$N$2:$N$10177,$C374,Data!$P$2:$P$10177)","v":0},{"$f":"SUMIF(Data!$Q$2:$R$10177,$C374,Data!$S$2:$S$10177)","v":0},{"$f":"SUMIF(Data!$T$2:$U$10177,$C374,Data!$V$2:$V$10177)","v":0},{"$f":"SUMIF(Data!$W$2:$W$10177,$C374,Data!$Y$2:$Y$10177)","v":0}]
[null,null,9900002728,2728,"RACK OF STEEL","METAL",80,0,0,{"$f":"SUMIF(Data!$H$2:$H$10177,$C375,Data!$D$2:$D$10177)","v":0},{"$f":"SUMIF(Data!$H$2:$H$10177,$C375,Data!$J$2:$J$10177)","v":0},{"$f":"SUMIF(Data!$K$2:$K$10177,$C375,Data!$M$2:$M$10177)","v":0},{"$f":"SUMIF(Data!$N$2:$N$10177,$C375,Data!$P$2:$P$10177)","v":0},{"$f":"SUMIF(Data!$Q$2:$R$10177,$C375,Data!$S$2:$S$10177)","v":0},{"$f":"SUMIF(Data!$T$2:$U$10177,$C375,Data!$V$2:$V$10177)","v":0},{"$f":"SUMIF(Data!$W$2:$W$10177,$C375,Data!$Y$2:$Y$10177)","v":0}]
[null,null,9900002729,2729,"RACK OF STEEL","METAL",475,0,0,{"$f":"SUMIF(Data!$H$2:$H$10177,$C376,Data!$D$2:$D$10177)","v":0},{"$f":"SUMIF(Data!$H$2:$H$10177,$C376,Data!$J$2:$J$10177)","v":0},{"$f":"SUMIF(Data!$K$2:$K$10177,$C376,Data!$M$2:$M$10177)","v":0},{"$f":"SUMIF(Data!$N$2:$N$10177,$C376,Data!$P$2:$P$10177)","v":0},{"$f":"SUMIF(Data!$Q$2:$R$10177,$C376,Data!$S$2:$S$10177)","v":0},{"$f":"SUMIF(Data!$T$2:$U$10177,$C376,Data!$V$2:$V$10177)","v":0},{"$f":"SUMIF(Data!$W$2:$W$10177,$C376,Data!$Y$2:$Y$10177)","v":0}]
[null,null,9900002730,2730,"RACK OF STEEL","METAL",55,0,0,{"$f":"SUMIF(Data!$H$2:$H$10177,$C377,Data!$D$2:$D$10177)","v":0},{"$f":"SUMIF(Data!$H$2:$H$10177,$C377,Data!$J$2:$J$10177)","v":0},{"$f":"SUMIF(Data!$K$2:$K$10177,$C377,Data!$M$2:$M$10177)","v":0},{"$f":"SUMIF(Data!$N$2:$N$10177,$C377,Data!$P$2:$P$10177)","v":0},{"$f":"SUMIF(Data!$Q$2:$R$10177,$C377,Data!$S$2:$S$10177)","v":0},{"$f":"SUMIF(Data!$T$2:$U$10177,$C377,Data!$V$2:$V$10177)","v":0},{"$f":"SUMIF(Data!$W$2:$W$10177,$C377,Data!$Y$2:$Y$10177)","v":0}]
[null,null,9900002731,2731,"RACK OF STEEL","METAL",500,0,0,{"$f":"SUMIF(Data!$H$2:$H$10177,$C378,Data!$D$2:$D$10177)","v":0},{"$f":"SUMIF(Data!$H$2:$H$10177,$C378,Data!$J$2:$J$10177)","v":0},{"$f":"SUMIF(Data!$K$2:$K$10177,$C378,Data!$M$2:$M$10177)","v":0},{"$f":"SUMIF(Data!$N$2:$N$10177,$C378,Data!$P$2:$P$10177)","v":0},{"$f":"SUMIF(Data!$Q$2:$R$10177,$C378,Data!$S$2:$S$10177)","v":0},{"$f":"SUMIF(Data!$T$2:$U$10177,$C378,Data!$V$2:$V$10177)","v":0},{"$f":"SUMIF(Data!$W$2:$W$10177,$C378,Data!$Y$2:$Y$10177)","v":0}]
[null,null,9900002732,2732,"RACK OF STEEL","METAL",500,0,0,{"$f":"SUMIF(Data!$H$2:$H$10177,$C379,Data!$D$2:$D$10177)","v":0},{"$f":"SUMIF(Data!$H$2:$H$10177,$C379,Data!$J$2:$J$10177)","v":0},{"$f":"SUMIF(Data!$K$2:$K$10177,$C379,Data!$M$2:$M$10177)","v":0},{"$f":"SUMIF(Data!$N$2:$N$10177,$C379,Data!$P$2:$P$10177)","v":0},{"$f":"SUMIF(Data!$Q$2:$R$10177,$C379,Data!$S$2:$S$10177)","v":0},{"$f":"SUMIF(Data!$T$2:$U$10177,$C379,Data!$V$2:$V$10177)","v":0},{"$f":"SUMIF(Data!$W$2:$W$10177,$C379,Data!$Y$2:$Y$10177)","v":0}]
[null,null,9900002733,2733,"RACK OF STEEL","METAL",130,0,0,{"$f":"SUMIF(Data!$H$2:$H$10177,$C380,Data!$D$2:$D$10177)","v":0},{"$f":"SUMIF(Data!$H$2:$H$10177,$C380,Data!$J$2:$J$10177)","v":0},{"$f":"SUMIF(Data!$K$2:$K$10177,$C380,Data!$M$2:$M$10177)","v":0},{"$f":"SUMIF(Data!$N$2:$N$10177,$C380,Data!$P$2:$P$10177)","v":0},{"$f":"SUMIF(Data!$Q$2:$R$10177,$C380,Data!$S$2:$S$10177)","v":0},{"$f":"SUMIF(Data!$T$2:$U$10177,$C380,Data!$V$2:$V$10177)","v":0},{"$f":"SUMIF(Data!$W$2:$W$10177,$C380,Data!$Y$2:$Y$10177)","v":0}]
[null,null,9900002734,2734,"RACK OF STEEL","METAL",95,0,0,{"$f":"SUMIF(Data!$H$2:$H$10177,$C381,Data!$D$2:$D$10177)","v":0},{"$f":"SUMIF(Data!$H$2:$H$10177,$C381,Data!$J$2:$J$10177)","v":0},{"$f":"SUMIF(Data!$K$2:$K$10177,$C381,Data!$M$2:$M$10177)","v":0},{"$f":"SUMIF(Data!$N$2:$N$10177,$C381,Data!$P$2:$P$10177)","v":0},{"$f":"SUMIF(Data!$Q$2:$R$10177,$C381,Data!$S$2:$S$10177)","v":0},{"$f":"SUMIF(Data!$T$2:$U$10177,$C381,Data!$V$2:$V$10177)","v":0},{"$f":"SUMIF(Data!$W$2:$W$10177,$C381,Data!$Y$2:$Y$10177)","v":0}]
[null,null,9900002750,2750,"RACK OF STEEL","METAL",580,0,0,{"$f":"SUMIF(Data!$H$2:$H$10177,$C382,Data!$D$2:$D$10177)","v":0},{"$f":"SUMIF(Data!$H$2:$H$10177,$C382,Data!$J$2:$J$10177)","v":0},{"$f":"SUMIF(Data!$K$2:$K$10177,$C382,Data!$M$2:$M$10177)","v":0},{"$f":"SUMIF(Data!$N$2:$N$10177,$C382,Data!$P$2:$P$10177)","v":0},{"$f":"SUMIF(Data!$Q$2:$R$10177,$C382,Data!$S$2:$S$10177)","v":0},{"$f":"SUMIF(Data!$T$2:$U$10177,$C382,Data!$V$2:$V$10177)","v":0},{"$f":"SUMIF(Data!$W$2:$W$10177,$C382,Data!$Y$2:$Y$10177)","v":0}]
[null,null,9900002792,2792,"INSERT OF PLASTIC","PLASTIC",5.6,0,0,{"$f":"SUMIF(Data!$H$2:$H$10177,$C383,Data!$D$2:$D$10177)","v":0},{"$f":"SUMIF(Data!$H$2:$H$10177,$C383,Data!$J$2:$J$10177)","v":0},{"$f":"SUMIF(Data!$K$2:$K$10177,$C383,Data!$M$2:$M$10177)","v":0},{"$f":"SUMIF(Data!$N$2:$N$10177,$C383,Data!$P$2:$P$10177)","v":0},{"$f":"SUMIF(Data!$Q$2:$R$10177,$C383,Data!$S$2:$S$10177)","v":0},{"$f":"SUMIF(Data!$T$2:$U$10177,$C383,Data!$V$2:$V$10177)","v":0},{"$f":"SUMIF(Data!$W$2:$W$10177,$C383,Data!$Y$2:$Y$10177)","v":0}]
[null,null,9900002793,2793,"LID OF PLASTIC","PLASTIC",1,0,0,{"$f":"SUMIF(Data!$H$2:$H$10177,$C384,Data!$D$2:$D$10177)","v":0},{"$f":"SUMIF(Data!$H$2:$H$10177,$C384,Data!$J$2:$J$10177)","v":0},{"$f":"SUMIF(Data!$K$2:$K$10177,$C384,Data!$M$2:$M$10177)","v":0},{"$f":"SUMIF(Data!$N$2:$N$10177,$C384,Data!$P$2:$P$10177)","v":0},{"$f":"SUMIF(Data!$Q$2:$R$10177,$C384,Data!$S$2:$S$10177)","v":0},{"$f":"SUMIF(Data!$T$2:$U$10177,$C384,Data!$V$2:$V$10177)","v":0},{"$f":"SUMIF(Data!$W$2:$W$10177,$C384,Data!$Y$2:$Y$10177)","v":0}]
[null,null,9900002799,2799,"COMBITAINER","WOOD",150,0,0,{"$f":"SUMIF(Data!$H$2:$H$10177,$C385,Data!$D$2:$D$10177)","v":0},{"$f":"SUMIF(Data!$H$2:$H$10177,$C385,Data!$J$2:$J$10177)","v":0},{"$f":"SUMIF(Data!$K$2:$K$10177,$C385,Data!$M$2:$M$10177)","v":0},{"$f":"SUMIF(Data!$N$2:$N$10177,$C385,Data!$P$2:$P$10177)","v":0},{"$f":"SUMIF(Data!$Q$2:$R$10177,$C385,Data!$S$2:$S$10177)","v":0},{"$f":"SUMIF(Data!$T$2:$U$10177,$C385,Data!$V$2:$V$10177)","v":0},{"$f":"SUMIF(Data!$W$2:$W$10177,$C385,Data!$Y$2:$Y$10177)","v":0}]
[null,null,9900002801,2801,"SUPPORT OF STEEL","METAL",3.5,{"$f":"G386*I386","v":0},{"$f":"SUM(J386:P386)","v":0},{"$f":"SUMIF(Data!$H$2:$H$10177,$C386,Data!$D$2:$D$10177)","v":0},{"$f":"SUMIF(Data!$H$2:$H$10177,$C386,Data!$J$2:$J$10177)","v":0},{"$f":"SUMIF(Data!$K$2:$K$10177,$C386,Data!$M$2:$M$10177)","v":0},{"$f":"SUMIF(Data!$N$2:$N$10177,$C386,Data!$P$2:$P$10177)","v":0},{"$f":"SUMIF(Data!$Q$2:$R$10177,$C386,Data!$S$2:$S$10177)","v":0},{"$f":"SUMIF(Data!$T$2:$U$10177,$C386,Data!$V$2:$V$10177)","v":0},{"$f":"SUMIF(Data!$W$2:$W$10177,$C386,Data!$Y$2:$Y$10177)","v":0}]
[null,null,9900002802,2802,"SUPPORT OF STEEL","METAL",3.5,0,0,{"$f":"SUMIF(Data!$H$2:$H$10177,$C387,Data!$D$2:$D$10177)","v":0},{"$f":"SUMIF(Data!$H$2:$H$10177,$C387,Data!$J$2:$J$10177)","v":0},{"$f":"SUMIF(Data!$K$2:$K$10177,$C387,Data!$M$2:$M$10177)","v":0},{"$f":"SUMIF(Data!$N$2:$N$10177,$C387,Data!$P$2:$P$10177)","v":0},{"$f":"SUMIF(Data!$Q$2:$R$10177,$C387,Data!$S$2:$S$10177)","v":0},{"$f":"SUMIF(Data!$T$2:$U$10177,$C387,Data!$V$2:$V$10177)","v":0},{"$f":"SUMIF(Data!$W$2:$W$10177,$C387,Data!$Y$2:$Y$10177)","v":0}]
[null,null,9900002814,2814,"INSERT OF FOAM","PLASTIC",0.8,0,0,{"$f":"SUMIF(Data!$H$2:$H$10177,$C388,Data!$D$2:$D$10177)","v":0},{"$f":"SUMIF(Data!$H$2:$H$10177,$C388,Data!$J$2:$J$10177)","v":0},{"$f":"SUMIF(Data!$K$2:$K$10177,$C388,Data!$M$2:$M$10177)","v":0},{"$f":"SUMIF(Data!$N$2:$N$10177,$C388,Data!$P$2:$P$10177)","v":0},{"$f":"SUMIF(Data!$Q$2:$R$10177,$C388,Data!$S$2:$S$10177)","v":0},{"$f":"SUMIF(Data!$T$2:$U$10177,$C388,Data!$V$2:$V$10177)","v":0},{"$f":"SUMIF(Data!$W$2:$W$10177,$C388,Data!$Y$2:$Y$10177)","v":0}]
[null,null,9900002815,2815,"INSERT OF FOAM","PLASTIC",0.8,0,0,{"$f":"SUMIF(Data!$H$2:$H$10177,$C389,Data!$D$2:$D$10177)","v":0},{"$f":"SUMIF(Data!$H$2:$H$10177,$C389,Data!$J$2:$J$10177)","v":0},{"$f":"SUMIF(Data!$K$2:$K$10177,$C389,Data!$M$2:$M$10177)","v":0},{"$f":"SUMIF(Data!$N$2:$N$10177,$C389,Data!$P$2:$P$10177)","v":0},{"$f":"SUMIF(Data!$Q$2:$R$10177,$C389,Data!$S$2:$S$10177)","v":0},{"$f":"SUMIF(Data!$T$2:$U$10177,$C389,Data!$V$2:$V$10177)","v":0},{"$f":"SUMIF(Data!$W$2:$W$10177,$C389,Data!$Y$2:$Y$10177)","v":0}]
[null,null,9900002816,2816,"INSERT OF FOAM","PLASTIC",0.27200000000000002,0,0,{"$f":"SUMIF(Data!$H$2:$H$10177,$C390,Data!$D$2:$D$10177)","v":0},{"$f":"SUMIF(Data!$H$2:$H$10177,$C390,Data!$J$2:$J$10177)","v":0},{"$f":"SUMIF(Data!$K$2:$K$10177,$C390,Data!$M$2:$M$10177)","v":0},{"$f":"SUMIF(Data!$N$2:$N$10177,$C390,Data!$P$2:$P$10177)","v":0},{"$f":"SUMIF(Data!$Q$2:$R$10177,$C390,Data!$S$2:$S$10177)","v":0},{"$f":"SUMIF(Data!$T$2:$U$10177,$C390,Data!$V$2:$V$10177)","v":0},{"$f":"SUMIF(Data!$W$2:$W$10177,$C390,Data!$Y$2:$Y$10177)","v":0}]
[null,null,9900002817,2817,"INSERT OF FOAM","PLASTIC",0.27200000000000002,0,0,{"$f":"SUMIF(Data!$H$2:$H$10177,$C391,Data!$D$2:$D$10177)","v":0},{"$f":"SUMIF(Data!$H$2:$H$10177,$C391,Data!$J$2:$J$10177)","v":0},{"$f":"SUMIF(Data!$K$2:$K$10177,$C391,Data!$M$2:$M$10177)","v":0},{"$f":"SUMIF(Data!$N$2:$N$10177,$C391,Data!$P$2:$P$10177)","v":0},{"$f":"SUMIF(Data!$Q$2:$R$10177,$C391,Data!$S$2:$S$10177)","v":0},{"$f":"SUMIF(Data!$T$2:$U$10177,$C391,Data!$V$2:$V$10177)","v":0},{"$f":"SUMIF(Data!$W$2:$W$10177,$C391,Data!$Y$2:$Y$10177)","v":0}]
[null,null,9900003000,3000,"INSERT OF RUBBER","RUBBER",0.43,{"$f":"G392*I392","v":0},{"$f":"SUM(J392:P392)","v":0},{"$f":"SUMIF(Data!$H$2:$H$10177,$C392,Data!$D$2:$D$10177)","v":0},{"$f":"SUMIF(Data!$H$2:$H$10177,$C392,Data!$J$2:$J$10177)","v":0},{"$f":"SUMIF(Data!$K$2:$K$10177,$C392,Data!$M$2:$M$10177)","v":0},{"$f":"SUMIF(Data!$N$2:$N$10177,$C392,Data!$P$2:$P$10177)","v":0},{"$f":"SUMIF(Data!$Q$2:$R$10177,$C392,Data!$S$2:$S$10177)","v":0},{"$f":"SUMIF(Data!$T$2:$U$10177,$C392,Data!$V$2:$V$10177)","v":0},{"$f":"SUMIF(Data!$W$2:$W$10177,$C392,Data!$Y$2:$Y$10177)","v":0}]
[null,null,9900003023,3023,"FIXING SPACER OF PLASTIC","PLASTIC",0.5,0,0,{"$f":"SUMIF(Data!$H$2:$H$10177,$C393,Data!$D$2:$D$10177)","v":0},{"$f":"SUMIF(Data!$H$2:$H$10177,$C393,Data!$J$2:$J$10177)","v":0},{"$f":"SUMIF(Data!$K$2:$K$10177,$C393,Data!$M$2:$M$10177)","v":0},{"$f":"SUMIF(Data!$N$2:$N$10177,$C393,Data!$P$2:$P$10177)","v":0},{"$f":"SUMIF(Data!$Q$2:$R$10177,$C393,Data!$S$2:$S$10177)","v":0},{"$f":"SUMIF(Data!$T$2:$U$10177,$C393,Data!$V$2:$V$10177)","v":0},{"$f":"SUMIF(Data!$W$2:$W$10177,$C393,Data!$Y$2:$Y$10177)","v":0}]
[null,null,9900003093,3093,"SUPPORT OF STEEL","METAL",0.8,0,0,{"$f":"SUMIF(Data!$H$2:$H$10177,$C394,Data!$D$2:$D$10177)","v":0},{"$f":"SUMIF(Data!$H$2:$H$10177,$C394,Data!$J$2:$J$10177)","v":0},{"$f":"SUMIF(Data!$K$2:$K$10177,$C394,Data!$M$2:$M$10177)","v":0},{"$f":"SUMIF(Data!$N$2:$N$10177,$C394,Data!$P$2:$P$10177)","v":0},{"$f":"SUMIF(Data!$Q$2:$R$10177,$C394,Data!$S$2:$S$10177)","v":0},{"$f":"SUMIF(Data!$T$2:$U$10177,$C394,Data!$V$2:$V$10177)","v":0},{"$f":"SUMIF(Data!$W$2:$W$10177,$C394,Data!$Y$2:$Y$10177)","v":0}]
[null,null,9900003099,3099,"RACK OF STEEL","METAL",89,0,0,{"$f":"SUMIF(Data!$H$2:$H$10177,$C395,Data!$D$2:$D$10177)","v":0},{"$f":"SUMIF(Data!$H$2:$H$10177,$C395,Data!$J$2:$J$10177)","v":0},{"$f":"SUMIF(Data!$K$2:$K$10177,$C395,Data!$M$2:$M$10177)","v":0},{"$f":"SUMIF(Data!$N$2:$N$10177,$C395,Data!$P$2:$P$10177)","v":0},{"$f":"SUMIF(Data!$Q$2:$R$10177,$C395,Data!$S$2:$S$10177)","v":0},{"$f":"SUMIF(Data!$T$2:$U$10177,$C395,Data!$V$2:$V$10177)","v":0},{"$f":"SUMIF(Data!$W$2:$W$10177,$C395,Data!$Y$2:$Y$10177)","v":0}]
[null,null,9900003100,3100,"RACK OF STEEL","METAL",89,0,0,{"$f":"SUMIF(Data!$H$2:$H$10177,$C396,Data!$D$2:$D$10177)","v":0},{"$f":"SUMIF(Data!$H$2:$H$10177,$C396,Data!$J$2:$J$10177)","v":0},{"$f":"SUMIF(Data!$K$2:$K$10177,$C396,Data!$M$2:$M$10177)","v":0},{"$f":"SUMIF(Data!$N$2:$N$10177,$C396,Data!$P$2:$P$10177)","v":0},{"$f":"SUMIF(Data!$Q$2:$R$10177,$C396,Data!$S$2:$S$10177)","v":0},{"$f":"SUMIF(Data!$T$2:$U$10177,$C396,Data!$V$2:$V$10177)","v":0},{"$f":"SUMIF(Data!$W$2:$W$10177,$C396,Data!$Y$2:$Y$10177)","v":0}]
[null,null,9900003101,3101,"COMBITAINER","METAL",93,0,0,{"$f":"SUMIF(Data!$H$2:$H$10177,$C397,Data!$D$2:$D$10177)","v":0},{"$f":"SUMIF(Data!$H$2:$H$10177,$C397,Data!$J$2:$J$10177)","v":0},{"$f":"SUMIF(Data!$K$2:$K$10177,$C397,Data!$M$2:$M$10177)","v":0},{"$f":"SUMIF(Data!$N$2:$N$10177,$C397,Data!$P$2:$P$10177)","v":0},{"$f":"SUMIF(Data!$Q$2:$R$10177,$C397,Data!$S$2:$S$10177)","v":0},{"$f":"SUMIF(Data!$T$2:$U$10177,$C397,Data!$V$2:$V$10177)","v":0},{"$f":"SUMIF(Data!$W$2:$W$10177,$C397,Data!$Y$2:$Y$10177)","v":0}]
[null,null,9900003103,3103,"RACK OF STEEL","METAL",105,{"$f":"G398*I398","v":0},{"$f":"SUM(J398:P398)","v":0},{"$f":"SUMIF(Data!$H$2:$H$10177,$C398,Data!$D$2:$D$10177)","v":0},{"$f":"SUMIF(Data!$H$2:$H$10177,$C398,Data!$J$2:$J$10177)","v":0},{"$f":"SUMIF(Data!$K$2:$K$10177,$C398,Data!$M$2:$M$10177)","v":0},{"$f":"SUMIF(Data!$N$2:$N$10177,$C398,Data!$P$2:$P$10177)","v":0},{"$f":"SUMIF(Data!$Q$2:$R$10177,$C398,Data!$S$2:$S$10177)","v":0},{"$f":"SUMIF(Data!$T$2:$U$10177,$C398,Data!$V$2:$V$10177)","v":0},{"$f":"SUMIF(Data!$W$2:$W$10177,$C398,Data!$Y$2:$Y$10177)","v":0}]
[null,null,9900003127,3127,"FIXING SPACER OF WOOD","WOOD",2,0,0,{"$f":"SUMIF(Data!$H$2:$H$10177,$C399,Data!$D$2:$D$10177)","v":0},{"$f":"SUMIF(Data!$H$2:$H$10177,$C399,Data!$J$2:$J$10177)","v":0},{"$f":"SUMIF(Data!$K$2:$K$10177,$C399,Data!$M$2:$M$10177)","v":0},{"$f":"SUMIF(Data!$N$2:$N$10177,$C399,Data!$P$2:$P$10177)","v":0},{"$f":"SUMIF(Data!$Q$2:$R$10177,$C399,Data!$S$2:$S$10177)","v":0},{"$f":"SUMIF(Data!$T$2:$U$10177,$C399,Data!$V$2:$V$10177)","v":0},{"$f":"SUMIF(Data!$W$2:$W$10177,$C399,Data!$Y$2:$Y$10177)","v":0}]
[null,null,9900003145,3145,"RACK OF STEEL","METAL",271,0,0,{"$f":"SUMIF(Data!$H$2:$H$10177,$C400,Data!$D$2:$D$10177)","v":0},{"$f":"SUMIF(Data!$H$2:$H$10177,$C400,Data!$J$2:$J$10177)","v":0},{"$f":"SUMIF(Data!$K$2:$K$10177,$C400,Data!$M$2:$M$10177)","v":0},{"$f":"SUMIF(Data!$N$2:$N$10177,$C400,Data!$P$2:$P$10177)","v":0},{"$f":"SUMIF(Data!$Q$2:$R$10177,$C400,Data!$S$2:$S$10177)","v":0},{"$f":"SUMIF(Data!$T$2:$U$10177,$C400,Data!$V$2:$V$10177)","v":0},{"$f":"SUMIF(Data!$W$2:$W$10177,$C400,Data!$Y$2:$Y$10177)","v":0}]
[null,null,9900003183,3183,"FIXING SPACER OF PLASTIC","PLASTIC",1.5,0,0,{"$f":"SUMIF(Data!$H$2:$H$10177,$C401,Data!$D$2:$D$10177)","v":0},{"$f":"SUMIF(Data!$H$2:$H$10177,$C401,Data!$J$2:$J$10177)","v":0},{"$f":"SUMIF(Data!$K$2:$K$10177,$C401,Data!$M$2:$M$10177)","v":0},{"$f":"SUMIF(Data!$N$2:$N$10177,$C401,Data!$P$2:$P$10177)","v":0},{"$f":"SUMIF(Data!$Q$2:$R$10177,$C401,Data!$S$2:$S$10177)","v":0},{"$f":"SUMIF(Data!$T$2:$U$10177,$C401,Data!$V$2:$V$10177)","v":0},{"$f":"SUMIF(Data!$W$2:$W$10177,$C401,Data!$Y$2:$Y$10177)","v":0}]
[null,null,9900003184,3184,"LID OF PLASTIC","PLASTIC",3,0,0,{"$f":"SUMIF(Data!$H$2:$H$10177,$C402,Data!$D$2:$D$10177)","v":0},{"$f":"SUMIF(Data!$H$2:$H$10177,$C402,Data!$J$2:$J$10177)","v":0},{"$f":"SUMIF(Data!$K$2:$K$10177,$C402,Data!$M$2:$M$10177)","v":0},{"$f":"SUMIF(Data!$N$2:$N$10177,$C402,Data!$P$2:$P$10177)","v":0},{"$f":"SUMIF(Data!$Q$2:$R$10177,$C402,Data!$S$2:$S$10177)","v":0},{"$f":"SUMIF(Data!$T$2:$U$10177,$C402,Data!$V$2:$V$10177)","v":0},{"$f":"SUMIF(Data!$W$2:$W$10177,$C402,Data!$Y$2:$Y$10177)","v":0}]
[null,null,9900003581,3581,"TRAY OF PLASTIC","PLASTIC",2.593,0,{"$f":"SUM(J403:P403)","v":0},{"$f":"SUMIF(Data!$H$2:$H$10177,$C403,Data!$D$2:$D$10177)","v":0},{"$f":"SUMIF(Data!$H$2:$H$10177,$C403,Data!$J$2:$J$10177)","v":0},{"$f":"SUMIF(Data!$K$2:$K$10177,$C403,Data!$M$2:$M$10177)","v":0},{"$f":"SUMIF(Data!$N$2:$N$10177,$C403,Data!$P$2:$P$10177)","v":0},{"$f":"SUMIF(Data!$Q$2:$R$10177,$C403,Data!$S$2:$S$10177)","v":0},{"$f":"SUMIF(Data!$T$2:$U$10177,$C403,Data!$V$2:$V$10177)","v":0},{"$f":"SUMIF(Data!$W$2:$W$10177,$C403,Data!$Y$2:$Y$10177)","v":0}]
[null,null,9900003871,3871,"SUPPORT OF STEEL","METAL",25,0,0,{"$f":"SUMIF(Data!$H$2:$H$10177,$C404,Data!$D$2:$D$10177)","v":0},{"$f":"SUMIF(Data!$H$2:$H$10177,$C404,Data!$J$2:$J$10177)","v":0},{"$f":"SUMIF(Data!$K$2:$K$10177,$C404,Data!$M$2:$M$10177)","v":0},{"$f":"SUMIF(Data!$N$2:$N$10177,$C404,Data!$P$2:$P$10177)","v":0},{"$f":"SUMIF(Data!$Q$2:$R$10177,$C404,Data!$S$2:$S$10177)","v":0},{"$f":"SUMIF(Data!$T$2:$U$10177,$C404,Data!$V$2:$V$10177)","v":0},{"$f":"SUMIF(Data!$W$2:$W$10177,$C404,Data!$Y$2:$Y$10177)","v":0}]
[null,null,9900003926,3926,"FIXING SPACER OF PLASTIC","PLASTIC",3,0,0,{"$f":"SUMIF(Data!$H$2:$H$10177,$C405,Data!$D$2:$D$10177)","v":0},{"$f":"SUMIF(Data!$H$2:$H$10177,$C405,Data!$J$2:$J$10177)","v":0},{"$f":"SUMIF(Data!$K$2:$K$10177,$C405,Data!$M$2:$M$10177)","v":0},{"$f":"SUMIF(Data!$N$2:$N$10177,$C405,Data!$P$2:$P$10177)","v":0},{"$f":"SUMIF(Data!$Q$2:$R$10177,$C405,Data!$S$2:$S$10177)","v":0},{"$f":"SUMIF(Data!$T$2:$U$10177,$C405,Data!$V$2:$V$10177)","v":0},{"$f":"SUMIF(Data!$W$2:$W$10177,$C405,Data!$Y$2:$Y$10177)","v":0}]
[null,null,9900003927,3927,"FIXING SPACER OF PLASTIC","PLASTIC",3,0,0,{"$f":"SUMIF(Data!$H$2:$H$10177,$C406,Data!$D$2:$D$10177)","v":0},{"$f":"SUMIF(Data!$H$2:$H$10177,$C406,Data!$J$2:$J$10177)","v":0},{"$f":"SUMIF(Data!$K$2:$K$10177,$C406,Data!$M$2:$M$10177)","v":0},{"$f":"SUMIF(Data!$N$2:$N$10177,$C406,Data!$P$2:$P$10177)","v":0},{"$f":"SUMIF(Data!$Q$2:$R$10177,$C406,Data!$S$2:$S$10177)","v":0},{"$f":"SUMIF(Data!$T$2:$U$10177,$C406,Data!$V$2:$V$10177)","v":0},{"$f":"SUMIF(Data!$W$2:$W$10177,$C406,Data!$Y$2:$Y$10177)","v":0}]
[null,null,9900004019,4019,"FIXING SPACER OF STEEL/TEXTILE","METAL",2,0,0,{"$f":"SUMIF(Data!$H$2:$H$10177,$C407,Data!$D$2:$D$10177)","v":0},{"$f":"SUMIF(Data!$H$2:$H$10177,$C407,Data!$J$2:$J$10177)","v":0},{"$f":"SUMIF(Data!$K$2:$K$10177,$C407,Data!$M$2:$M$10177)","v":0},{"$f":"SUMIF(Data!$N$2:$N$10177,$C407,Data!$P$2:$P$10177)","v":0},{"$f":"SUMIF(Data!$Q$2:$R$10177,$C407,Data!$S$2:$S$10177)","v":0},{"$f":"SUMIF(Data!$T$2:$U$10177,$C407,Data!$V$2:$V$10177)","v":0},{"$f":"SUMIF(Data!$W$2:$W$10177,$C407,Data!$Y$2:$Y$10177)","v":0}]
[null,null,9900004020,4020,"FIXING SPACER OF STEEL/TEXTILE","METAL",2,0,0,{"$f":"SUMIF(Data!$H$2:$H$10177,$C408,Data!$D$2:$D$10177)","v":0},{"$f":"SUMIF(Data!$H$2:$H$10177,$C408,Data!$J$2:$J$10177)","v":0},{"$f":"SUMIF(Data!$K$2:$K$10177,$C408,Data!$M$2:$M$10177)","v":0},{"$f":"SUMIF(Data!$N$2:$N$10177,$C408,Data!$P$2:$P$10177)","v":0},{"$f":"SUMIF(Data!$Q$2:$R$10177,$C408,Data!$S$2:$S$10177)","v":0},{"$f":"SUMIF(Data!$T$2:$U$10177,$C408,Data!$V$2:$V$10177)","v":0},{"$f":"SUMIF(Data!$W$2:$W$10177,$C408,Data!$Y$2:$Y$10177)","v":0}]
[null,null,9900004021,4021,"INSERT OF PLASTIC","PLASTIC",7.47,0,0,{"$f":"SUMIF(Data!$H$2:$H$10177,$C409,Data!$D$2:$D$10177)","v":0},{"$f":"SUMIF(Data!$H$2:$H$10177,$C409,Data!$J$2:$J$10177)","v":0},{"$f":"SUMIF(Data!$K$2:$K$10177,$C409,Data!$M$2:$M$10177)","v":0},{"$f":"SUMIF(Data!$N$2:$N$10177,$C409,Data!$P$2:$P$10177)","v":0},{"$f":"SUMIF(Data!$Q$2:$R$10177,$C409,Data!$S$2:$S$10177)","v":0},{"$f":"SUMIF(Data!$T$2:$U$10177,$C409,Data!$V$2:$V$10177)","v":0},{"$f":"SUMIF(Data!$W$2:$W$10177,$C409,Data!$Y$2:$Y$10177)","v":0}]
[null,null,9900004022,{"$f":"C410-9900000000","v":4022},"INSERT OF PLASTIC","PLASTIC",7.47,0,0,{"$f":"SUMIF(Data!$H$2:$H$10177,$C410,Data!$D$2:$D$10177)","v":0},{"$f":"SUMIF(Data!$H$2:$H$10177,$C410,Data!$J$2:$J$10177)","v":0},{"$f":"SUMIF(Data!$K$2:$K$10177,$C410,Data!$M$2:$M$10177)","v":0},{"$f":"SUMIF(Data!$N$2:$N$10177,$C410,Data!$P$2:$P$10177)","v":0},{"$f":"SUMIF(Data!$Q$2:$R$10177,$C410,Data!$S$2:$S$10177)","v":0},{"$f":"SUMIF(Data!$T$2:$U$10177,$C410,Data!$V$2:$V$10177)","v":0},{"$f":"SUMIF(Data!$W$2:$W$10177,$C410,Data!$Y$2:$Y$10177)","v":0}]
[null,null,9900004024,4024,"HANGER OF STEEL","METAL",1.5,0,0,{"$f":"SUMIF(Data!$H$2:$H$10177,$C411,Data!$D$2:$D$10177)","v":0},{"$f":"SUMIF(Data!$H$2:$H$10177,$C411,Data!$J$2:$J$10177)","v":0},{"$f":"SUMIF(Data!$K$2:$K$10177,$C411,Data!$M$2:$M$10177)","v":0},{"$f":"SUMIF(Data!$N$2:$N$10177,$C411,Data!$P$2:$P$10177)","v":0},{"$f":"SUMIF(Data!$Q$2:$R$10177,$C411,Data!$S$2:$S$10177)","v":0},{"$f":"SUMIF(Data!$T$2:$U$10177,$C411,Data!$V$2:$V$10177)","v":0},{"$f":"SUMIF(Data!$W$2:$W$10177,$C411,Data!$Y$2:$Y$10177)","v":0}]
[null,null,9900004152,4152,"BAG OF PLASTIC","PLASTIC",0.01,0,0,{"$f":"SUMIF(Data!$H$2:$H$10177,$C412,Data!$D$2:$D$10177)","v":0},{"$f":"SUMIF(Data!$H$2:$H$10177,$C412,Data!$J$2:$J$10177)","v":0},{"$f":"SUMIF(Data!$K$2:$K$10177,$C412,Data!$M$2:$M$10177)","v":0},{"$f":"SUMIF(Data!$N$2:$N$10177,$C412,Data!$P$2:$P$10177)","v":0},{"$f":"SUMIF(Data!$Q$2:$R$10177,$C412,Data!$S$2:$S$10177)","v":0},{"$f":"SUMIF(Data!$T$2:$U$10177,$C412,Data!$V$2:$V$10177)","v":0},{"$f":"SUMIF(Data!$W$2:$W$10177,$C412,Data!$Y$2:$Y$10177)","v":0}]
[null,null,9900004205,4205,"FIXING SPACER OF PLASTIC","PLASTIC",0.2,0,0,{"$f":"SUMIF(Data!$H$2:$H$10177,$C413,Data!$D$2:$D$10177)","v":0},{"$f":"SUMIF(Data!$H$2:$H$10177,$C413,Data!$J$2:$J$10177)","v":0},{"$f":"SUMIF(Data!$K$2:$K$10177,$C413,Data!$M$2:$M$10177)","v":0},{"$f":"SUMIF(Data!$N$2:$N$10177,$C413,Data!$P$2:$P$10177)","v":0},{"$f":"SUMIF(Data!$Q$2:$R$10177,$C413,Data!$S$2:$S$10177)","v":0},{"$f":"SUMIF(Data!$T$2:$U$10177,$C413,Data!$V$2:$V$10177)","v":0},{"$f":"SUMIF(Data!$W$2:$W$10177,$C413,Data!$Y$2:$Y$10177)","v":0}]
[null,null,9900004351,4351,"BOX INSERT","PLASTIC",0.6,0,0,{"$f":"SUMIF(Data!$H$2:$H$10177,$C414,Data!$D$2:$D$10177)","v":0},{"$f":"SUMIF(Data!$H$2:$H$10177,$C414,Data!$J$2:$J$10177)","v":0},{"$f":"SUMIF(Data!$K$2:$K$10177,$C414,Data!$M$2:$M$10177)","v":0},{"$f":"SUMIF(Data!$N$2:$N$10177,$C414,Data!$P$2:$P$10177)","v":0},{"$f":"SUMIF(Data!$Q$2:$R$10177,$C414,Data!$S$2:$S$10177)","v":0},{"$f":"SUMIF(Data!$T$2:$U$10177,$C414,Data!$V$2:$V$10177)","v":0},{"$f":"SUMIF(Data!$W$2:$W$10177,$C414,Data!$Y$2:$Y$10177)","v":0}]
[null,null,9900004356,4356,"RACK OF STEEL","METAL",250,0,0,{"$f":"SUMIF(Data!$H$2:$H$10177,$C415,Data!$D$2:$D$10177)","v":0},{"$f":"SUMIF(Data!$H$2:$H$10177,$C415,Data!$J$2:$J$10177)","v":0},{"$f":"SUMIF(Data!$K$2:$K$10177,$C415,Data!$M$2:$M$10177)","v":0},{"$f":"SUMIF(Data!$N$2:$N$10177,$C415,Data!$P$2:$P$10177)","v":0},{"$f":"SUMIF(Data!$Q$2:$R$10177,$C415,Data!$S$2:$S$10177)","v":0},{"$f":"SUMIF(Data!$T$2:$U$10177,$C415,Data!$V$2:$V$10177)","v":0},{"$f":"SUMIF(Data!$W$2:$W$10177,$C415,Data!$Y$2:$Y$10177)","v":0}]
[null,null,9900004365,4365,"FIXING SPACER OF PLASTIC","PLASTIC",0.5,0,0,{"$f":"SUMIF(Data!$H$2:$H$10177,$C416,Data!$D$2:$D$10177)","v":0},{"$f":"SUMIF(Data!$H$2:$H$10177,$C416,Data!$J$2:$J$10177)","v":0},{"$f":"SUMIF(Data!$K$2:$K$10177,$C416,Data!$M$2:$M$10177)","v":0},{"$f":"SUMIF(Data!$N$2:$N$10177,$C416,Data!$P$2:$P$10177)","v":0},{"$f":"SUMIF(Data!$Q$2:$R$10177,$C416,Data!$S$2:$S$10177)","v":0},{"$f":"SUMIF(Data!$T$2:$U$10177,$C416,Data!$V$2:$V$10177)","v":0},{"$f":"SUMIF(Data!$W$2:$W$10177,$C416,Data!$Y$2:$Y$10177)","v":0}]
[null,null,9900004370,4370,"FIXING SPACER OF PLASTIC","PLASTIC",0.87,0,0,{"$f":"SUMIF(Data!$H$2:$H$10177,$C417,Data!$D$2:$D$10177)","v":0},{"$f":"SUMIF(Data!$H$2:$H$10177,$C417,Data!$J$2:$J$10177)","v":0},{"$f":"SUMIF(Data!$K$2:$K$10177,$C417,Data!$M$2:$M$10177)","v":0},{"$f":"SUMIF(Data!$N$2:$N$10177,$C417,Data!$P$2:$P$10177)","v":0},{"$f":"SUMIF(Data!$Q$2:$R$10177,$C417,Data!$S$2:$S$10177)","v":0},{"$f":"SUMIF(Data!$T$2:$U$10177,$C417,Data!$V$2:$V$10177)","v":0},{"$f":"SUMIF(Data!$W$2:$W$10177,$C417,Data!$Y$2:$Y$10177)","v":0}]
[null,null,9900004378,4378,"FIXING SPACER OF PLASTIC","PLASTIC",3,0,0,{"$f":"SUMIF(Data!$H$2:$H$10177,$C418,Data!$D$2:$D$10177)","v":0},{"$f":"SUMIF(Data!$H$2:$H$10177,$C418,Data!$J$2:$J$10177)","v":0},{"$f":"SUMIF(Data!$K$2:$K$10177,$C418,Data!$M$2:$M$10177)","v":0},{"$f":"SUMIF(Data!$N$2:$N$10177,$C418,Data!$P$2:$P$10177)","v":0},{"$f":"SUMIF(Data!$Q$2:$R$10177,$C418,Data!$S$2:$S$10177)","v":0},{"$f":"SUMIF(Data!$T$2:$U$10177,$C418,Data!$V$2:$V$10177)","v":0},{"$f":"SUMIF(Data!$W$2:$W$10177,$C418,Data!$Y$2:$Y$10177)","v":0}]
[null,null,9900004381,4381,"FIXING SPACER OF PLASTIC","PLASTIC",3,0,0,{"$f":"SUMIF(Data!$H$2:$H$10177,$C419,Data!$D$2:$D$10177)","v":0},{"$f":"SUMIF(Data!$H$2:$H$10177,$C419,Data!$J$2:$J$10177)","v":0},{"$f":"SUMIF(Data!$K$2:$K$10177,$C419,Data!$M$2:$M$10177)","v":0},{"$f":"SUMIF(Data!$N$2:$N$10177,$C419,Data!$P$2:$P$10177)","v":0},{"$f":"SUMIF(Data!$Q$2:$R$10177,$C419,Data!$S$2:$S$10177)","v":0},{"$f":"SUMIF(Data!$T$2:$U$10177,$C419,Data!$V$2:$V$10177)","v":0},{"$f":"SUMIF(Data!$W$2:$W$10177,$C419,Data!$Y$2:$Y$10177)","v":0}]
[null,null,9900004387,4387,"FIXING SPACER OF PLASTIC","PLASTIC",0.25,0,0,{"$f":"SUMIF(Data!$H$2:$H$10177,$C420,Data!$D$2:$D$10177)","v":0},{"$f":"SUMIF(Data!$H$2:$H$10177,$C420,Data!$J$2:$J$10177)","v":0},{"$f":"SUMIF(Data!$K$2:$K$10177,$C420,Data!$M$2:$M$10177)","v":0},{"$f":"SUMIF(Data!$N$2:$N$10177,$C420,Data!$P$2:$P$10177)","v":0},{"$f":"SUMIF(Data!$Q$2:$R$10177,$C420,Data!$S$2:$S$10177)","v":0},{"$f":"SUMIF(Data!$T$2:$U$10177,$C420,Data!$V$2:$V$10177)","v":0},{"$f":"SUMIF(Data!$W$2:$W$10177,$C420,Data!$Y$2:$Y$10177)","v":0}]
[null,null,9900004388,4388,"FIXING SPACER OF PLASTIC","PLASTIC",3,0,0,{"$f":"SUMIF(Data!$H$2:$H$10177,$C421,Data!$D$2:$D$10177)","v":0},{"$f":"SUMIF(Data!$H$2:$H$10177,$C421,Data!$J$2:$J$10177)","v":0},{"$f":"SUMIF(Data!$K$2:$K$10177,$C421,Data!$M$2:$M$10177)","v":0},{"$f":"SUMIF(Data!$N$2:$N$10177,$C421,Data!$P$2:$P$10177)","v":0},{"$f":"SUMIF(Data!$Q$2:$R$10177,$C421,Data!$S$2:$S$10177)","v":0},{"$f":"SUMIF(Data!$T$2:$U$10177,$C421,Data!$V$2:$V$10177)","v":0},{"$f":"SUMIF(Data!$W$2:$W$10177,$C421,Data!$Y$2:$Y$10177)","v":0}]
[null,null,9900004390,4390,"FIXING SPACER OF PLASTIC","PLASTIC",5.5,0,0,{"$f":"SUMIF(Data!$H$2:$H$10177,$C422,Data!$D$2:$D$10177)","v":0},{"$f":"SUMIF(Data!$H$2:$H$10177,$C422,Data!$J$2:$J$10177)","v":0},{"$f":"SUMIF(Data!$K$2:$K$10177,$C422,Data!$M$2:$M$10177)","v":0},{"$f":"SUMIF(Data!$N$2:$N$10177,$C422,Data!$P$2:$P$10177)","v":0},{"$f":"SUMIF(Data!$Q$2:$R$10177,$C422,Data!$S$2:$S$10177)","v":0},{"$f":"SUMIF(Data!$T$2:$U$10177,$C422,Data!$V$2:$V$10177)","v":0},{"$f":"SUMIF(Data!$W$2:$W$10177,$C422,Data!$Y$2:$Y$10177)","v":0}]
[null,null,9900004391,4391,"FIXING SPACER OF PLASTIC","PLASTIC",2.9,0,0,{"$f":"SUMIF(Data!$H$2:$H$10177,$C423,Data!$D$2:$D$10177)","v":0},{"$f":"SUMIF(Data!$H$2:$H$10177,$C423,Data!$J$2:$J$10177)","v":0},{"$f":"SUMIF(Data!$K$2:$K$10177,$C423,Data!$M$2:$M$10177)","v":0},{"$f":"SUMIF(Data!$N$2:$N$10177,$C423,Data!$P$2:$P$10177)","v":0},{"$f":"SUMIF(Data!$Q$2:$R$10177,$C423,Data!$S$2:$S$10177)","v":0},{"$f":"SUMIF(Data!$T$2:$U$10177,$C423,Data!$V$2:$V$10177)","v":0},{"$f":"SUMIF(Data!$W$2:$W$10177,$C423,Data!$Y$2:$Y$10177)","v":0}]
[null,null,9900004398,4398,"FIXING SPACER OF PLASTIC","PLASTIC",3,0,0,{"$f":"SUMIF(Data!$H$2:$H$10177,$C424,Data!$D$2:$D$10177)","v":0},{"$f":"SUMIF(Data!$H$2:$H$10177,$C424,Data!$J$2:$J$10177)","v":0},{"$f":"SUMIF(Data!$K$2:$K$10177,$C424,Data!$M$2:$M$10177)","v":0},{"$f":"SUMIF(Data!$N$2:$N$10177,$C424,Data!$P$2:$P$10177)","v":0},{"$f":"SUMIF(Data!$Q$2:$R$10177,$C424,Data!$S$2:$S$10177)","v":0},{"$f":"SUMIF(Data!$T$2:$U$10177,$C424,Data!$V$2:$V$10177)","v":0},{"$f":"SUMIF(Data!$W$2:$W$10177,$C424,Data!$Y$2:$Y$10177)","v":0}]
[null,null,9900004399,4399,"TOP FRAME OF WOOD","WOOD",9,{"$f":"G425*I425","v":0},{"$f":"SUM(J425:P425)","v":0},{"$f":"SUMIF(Data!$H$2:$H$10177,$C425,Data!$D$2:$D$10177)","v":0},{"$f":"SUMIF(Data!$H$2:$H$10177,$C425,Data!$J$2:$J$10177)","v":0},{"$f":"SUMIF(Data!$K$2:$K$10177,$C425,Data!$M$2:$M$10177)","v":0},{"$f":"SUMIF(Data!$N$2:$N$10177,$C425,Data!$P$2:$P$10177)","v":0},{"$f":"SUMIF(Data!$Q$2:$R$10177,$C425,Data!$S$2:$S$10177)","v":0},{"$f":"SUMIF(Data!$T$2:$U$10177,$C425,Data!$V$2:$V$10177)","v":0},{"$f":"SUMIF(Data!$W$2:$W$10177,$C425,Data!$Y$2:$Y$10177)","v":0}]
[null,null,9900004400,4400,"PALLET OF WOOD","WOOD",20.3,{"$f":"G426*I426","v":0},{"$f":"SUM(J426:P426)","v":0},{"$f":"SUMIF(Data!$H$2:$H$10177,$C426,Data!$D$2:$D$10177)","v":0},{"$f":"SUMIF(Data!$H$2:$H$10177,$C426,Data!$J$2:$J$10177)","v":0},{"$f":"SUMIF(Data!$K$2:$K$10177,$C426,Data!$M$2:$M$10177)","v":0},{"$f":"SUMIF(Data!$N$2:$N$10177,$C426,Data!$P$2:$P$10177)","v":0},{"$f":"SUMIF(Data!$Q$2:$R$10177,$C426,Data!$S$2:$S$10177)","v":0},{"$f":"SUMIF(Data!$T$2:$U$10177,$C426,Data!$V$2:$V$10177)","v":0},{"$f":"SUMIF(Data!$W$2:$W$10177,$C426,Data!$Y$2:$Y$10177)","v":0}]
[null,null,9900004401,{"$f":"C427-9900000000","v":4401},"FIXING SPACER OF PLASTIC","PLASTIC",6.5,{"$f":"G427*I427","v":0},{"$f":"SUM(J427:P427)","v":0},{"$f":"SUMIF(Data!$H$2:$H$10177,$C427,Data!$D$2:$D$10177)","v":0},{"$f":"SUMIF(Data!$H$2:$H$10177,$C427,Data!$J$2:$J$10177)","v":0},{"$f":"SUMIF(Data!$K$2:$K$10177,$C427,Data!$M$2:$M$10177)","v":0},{"$f":"SUMIF(Data!$N$2:$N$10177,$C427,Data!$P$2:$P$10177)","v":0},{"$f":"SUMIF(Data!$Q$2:$R$10177,$C427,Data!$S$2:$S$10177)","v":0},{"$f":"SUMIF(Data!$T$2:$U$10177,$C427,Data!$V$2:$V$10177)","v":0},{"$f":"SUMIF(Data!$W$2:$W$10177,$C427,Data!$Y$2:$Y$10177)","v":0}]
[null,null,9900004402,4402,"LID OF PLASTIC","PLASTIC",6.5,{"$f":"G428*I428","v":0},{"$f":"SUM(J428:P428)","v":0},{"$f":"SUMIF(Data!$H$2:$H$10177,$C428,Data!$D$2:$D$10177)","v":0},{"$f":"SUMIF(Data!$H$2:$H$10177,$C428,Data!$J$2:$J$10177)","v":0},{"$f":"SUMIF(Data!$K$2:$K$10177,$C428,Data!$M$2:$M$10177)","v":0},{"$f":"SUMIF(Data!$N$2:$N$10177,$C428,Data!$P$2:$P$10177)","v":0},{"$f":"SUMIF(Data!$Q$2:$R$10177,$C428,Data!$S$2:$S$10177)","v":0},{"$f":"SUMIF(Data!$T$2:$U$10177,$C428,Data!$V$2:$V$10177)","v":0},{"$f":"SUMIF(Data!$W$2:$W$10177,$C428,Data!$Y$2:$Y$10177)","v":0}]
[null,null,9900004403,4403,"PALLET OF WOOD","WOOD",23.2,0,0,{"$f":"SUMIF(Data!$H$2:$H$10177,$C429,Data!$D$2:$D$10177)","v":0},{"$f":"SUMIF(Data!$H$2:$H$10177,$C429,Data!$J$2:$J$10177)","v":0},{"$f":"SUMIF(Data!$K$2:$K$10177,$C429,Data!$M$2:$M$10177)","v":0},{"$f":"SUMIF(Data!$N$2:$N$10177,$C429,Data!$P$2:$P$10177)","v":0},{"$f":"SUMIF(Data!$Q$2:$R$10177,$C429,Data!$S$2:$S$10177)","v":0},{"$f":"SUMIF(Data!$T$2:$U$10177,$C429,Data!$V$2:$V$10177)","v":0},{"$f":"SUMIF(Data!$W$2:$W$10177,$C429,Data!$Y$2:$Y$10177)","v":0}]
[null,null,9900004404,4404,"FIXING SPACER OF PLASTIC","PLASTIC",7.5,{"$f":"G430*I430","v":0},{"$f":"SUM(J430:P430)","v":0},{"$f":"SUMIF(Data!$H$2:$H$10177,$C430,Data!$D$2:$D$10177)","v":0},{"$f":"SUMIF(Data!$H$2:$H$10177,$C430,Data!$J$2:$J$10177)","v":0},{"$f":"SUMIF(Data!$K$2:$K$10177,$C430,Data!$M$2:$M$10177)","v":0},{"$f":"SUMIF(Data!$N$2:$N$10177,$C430,Data!$P$2:$P$10177)","v":0},{"$f":"SUMIF(Data!$Q$2:$R$10177,$C430,Data!$S$2:$S$10177)","v":0},{"$f":"SUMIF(Data!$T$2:$U$10177,$C430,Data!$V$2:$V$10177)","v":0},{"$f":"SUMIF(Data!$W$2:$W$10177,$C430,Data!$Y$2:$Y$10177)","v":0}]
[null,null,9900004405,4405,"LID OF PLASTIC","PLASTIC",7.5,{"$f":"G431*I431","v":0},{"$f":"SUM(J431:P431)","v":0},{"$f":"SUMIF(Data!$H$2:$H$10177,$C431,Data!$D$2:$D$10177)","v":0},{"$f":"SUMIF(Data!$H$2:$H$10177,$C431,Data!$J$2:$J$10177)","v":0},{"$f":"SUMIF(Data!$K$2:$K$10177,$C431,Data!$M$2:$M$10177)","v":0},{"$f":"SUMIF(Data!$N$2:$N$10177,$C431,Data!$P$2:$P$10177)","v":0},{"$f":"SUMIF(Data!$Q$2:$R$10177,$C431,Data!$S$2:$S$10177)","v":0},{"$f":"SUMIF(Data!$T$2:$U$10177,$C431,Data!$V$2:$V$10177)","v":0},{"$f":"SUMIF(Data!$W$2:$W$10177,$C431,Data!$Y$2:$Y$10177)","v":0}]
[null,null,9900004406,4406,"PALLET OF WOOD","WOOD",26.6,0,0,{"$f":"SUMIF(Data!$H$2:$H$10177,$C432,Data!$D$2:$D$10177)","v":0},{"$f":"SUMIF(Data!$H$2:$H$10177,$C432,Data!$J$2:$J$10177)","v":0},{"$f":"SUMIF(Data!$K$2:$K$10177,$C432,Data!$M$2:$M$10177)","v":0},{"$f":"SUMIF(Data!$N$2:$N$10177,$C432,Data!$P$2:$P$10177)","v":0},{"$f":"SUMIF(Data!$Q$2:$R$10177,$C432,Data!$S$2:$S$10177)","v":0},{"$f":"SUMIF(Data!$T$2:$U$10177,$C432,Data!$V$2:$V$10177)","v":0},{"$f":"SUMIF(Data!$W$2:$W$10177,$C432,Data!$Y$2:$Y$10177)","v":0}]
[null,null,9900004407,{"$f":"C433-9900000000","v":4407},"FIXING SPACER OF PLASTIC","PLASTIC",9,{"$f":"G433*I433","v":0},{"$f":"SUM(J433:P433)","v":0},{"$f":"SUMIF(Data!$H$2:$H$10177,$C433,Data!$D$2:$D$10177)","v":0},{"$f":"SUMIF(Data!$H$2:$H$10177,$C433,Data!$J$2:$J$10177)","v":0},{"$f":"SUMIF(Data!$K$2:$K$10177,$C433,Data!$M$2:$M$10177)","v":0},{"$f":"SUMIF(Data!$N$2:$N$10177,$C433,Data!$P$2:$P$10177)","v":0},{"$f":"SUMIF(Data!$Q$2:$R$10177,$C433,Data!$S$2:$S$10177)","v":0},{"$f":"SUMIF(Data!$T$2:$U$10177,$C433,Data!$V$2:$V$10177)","v":0},{"$f":"SUMIF(Data!$W$2:$W$10177,$C433,Data!$Y$2:$Y$10177)","v":0}]
[null,null,9900004408,4408,"LID OF PLASTIC","PLASTIC",8.5,0,0,{"$f":"SUMIF(Data!$H$2:$H$10177,$C434,Data!$D$2:$D$10177)","v":0},{"$f":"SUMIF(Data!$H$2:$H$10177,$C434,Data!$J$2:$J$10177)","v":0},{"$f":"SUMIF(Data!$K$2:$K$10177,$C434,Data!$M$2:$M$10177)","v":0},{"$f":"SUMIF(Data!$N$2:$N$10177,$C434,Data!$P$2:$P$10177)","v":0},{"$f":"SUMIF(Data!$Q$2:$R$10177,$C434,Data!$S$2:$S$10177)","v":0},{"$f":"SUMIF(Data!$T$2:$U$10177,$C434,Data!$V$2:$V$10177)","v":0},{"$f":"SUMIF(Data!$W$2:$W$10177,$C434,Data!$Y$2:$Y$10177)","v":0}]
[null,null,9900004448,4448,"FIXING SPACER OF STEEL","METAL",0.49,0,0,{"$f":"SUMIF(Data!$H$2:$H$10177,$C435,Data!$D$2:$D$10177)","v":0},{"$f":"SUMIF(Data!$H$2:$H$10177,$C435,Data!$J$2:$J$10177)","v":0},{"$f":"SUMIF(Data!$K$2:$K$10177,$C435,Data!$M$2:$M$10177)","v":0},{"$f":"SUMIF(Data!$N$2:$N$10177,$C435,Data!$P$2:$P$10177)","v":0},{"$f":"SUMIF(Data!$Q$2:$R$10177,$C435,Data!$S$2:$S$10177)","v":0},{"$f":"SUMIF(Data!$T$2:$U$10177,$C435,Data!$V$2:$V$10177)","v":0},{"$f":"SUMIF(Data!$W$2:$W$10177,$C435,Data!$Y$2:$Y$10177)","v":0}]
[null,null,9900004450,4450,"FIXING SPACER OF PLASTIC","PLASTIC",0.22,0,0,{"$f":"SUMIF(Data!$H$2:$H$10177,$C436,Data!$D$2:$D$10177)","v":0},{"$f":"SUMIF(Data!$H$2:$H$10177,$C436,Data!$J$2:$J$10177)","v":0},{"$f":"SUMIF(Data!$K$2:$K$10177,$C436,Data!$M$2:$M$10177)","v":0},{"$f":"SUMIF(Data!$N$2:$N$10177,$C436,Data!$P$2:$P$10177)","v":0},{"$f":"SUMIF(Data!$Q$2:$R$10177,$C436,Data!$S$2:$S$10177)","v":0},{"$f":"SUMIF(Data!$T$2:$U$10177,$C436,Data!$V$2:$V$10177)","v":0},{"$f":"SUMIF(Data!$W$2:$W$10177,$C436,Data!$Y$2:$Y$10177)","v":0}]
[null,null,9900004451,4451,"FIXING SPACER OF PLASTIC","PLASTIC",3.5,0,0,{"$f":"SUMIF(Data!$H$2:$H$10177,$C437,Data!$D$2:$D$10177)","v":0},{"$f":"SUMIF(Data!$H$2:$H$10177,$C437,Data!$J$2:$J$10177)","v":0},{"$f":"SUMIF(Data!$K$2:$K$10177,$C437,Data!$M$2:$M$10177)","v":0},{"$f":"SUMIF(Data!$N$2:$N$10177,$C437,Data!$P$2:$P$10177)","v":0},{"$f":"SUMIF(Data!$Q$2:$R$10177,$C437,Data!$S$2:$S$10177)","v":0},{"$f":"SUMIF(Data!$T$2:$U$10177,$C437,Data!$V$2:$V$10177)","v":0},{"$f":"SUMIF(Data!$W$2:$W$10177,$C437,Data!$Y$2:$Y$10177)","v":0}]
[null,null,9900004452,4452,"FIXING SPACER OF PLASTIC","PLASTIC",3.85,{"$f":"G438*I438","v":0},{"$f":"SUM(J438:P438)","v":0},{"$f":"SUMIF(Data!$H$2:$H$10177,$C438,Data!$D$2:$D$10177)","v":0},{"$f":"SUMIF(Data!$H$2:$H$10177,$C438,Data!$J$2:$J$10177)","v":0},{"$f":"SUMIF(Data!$K$2:$K$10177,$C438,Data!$M$2:$M$10177)","v":0},{"$f":"SUMIF(Data!$N$2:$N$10177,$C438,Data!$P$2:$P$10177)","v":0},{"$f":"SUMIF(Data!$Q$2:$R$10177,$C438,Data!$S$2:$S$10177)","v":0},{"$f":"SUMIF(Data!$T$2:$U$10177,$C438,Data!$V$2:$V$10177)","v":0},{"$f":"SUMIF(Data!$W$2:$W$10177,$C438,Data!$Y$2:$Y$10177)","v":0}]
[null,null,9900004453,4453,"FIXING SPACER OF PLASTIC","PLASTIC",3.85,0,0,{"$f":"SUMIF(Data!$H$2:$H$10177,$C439,Data!$D$2:$D$10177)","v":0},{"$f":"SUMIF(Data!$H$2:$H$10177,$C439,Data!$J$2:$J$10177)","v":0},{"$f":"SUMIF(Data!$K$2:$K$10177,$C439,Data!$M$2:$M$10177)","v":0},{"$f":"SUMIF(Data!$N$2:$N$10177,$C439,Data!$P$2:$P$10177)","v":0},{"$f":"SUMIF(Data!$Q$2:$R$10177,$C439,Data!$S$2:$S$10177)","v":0},{"$f":"SUMIF(Data!$T$2:$U$10177,$C439,Data!$V$2:$V$10177)","v":0},{"$f":"SUMIF(Data!$W$2:$W$10177,$C439,Data!$Y$2:$Y$10177)","v":0}]
[null,null,9900004454,4454,"FIXING SPACER OF PLASTIC","PLASTIC",3.85,0,0,{"$f":"SUMIF(Data!$H$2:$H$10177,$C440,Data!$D$2:$D$10177)","v":0},{"$f":"SUMIF(Data!$H$2:$H$10177,$C440,Data!$J$2:$J$10177)","v":0},{"$f":"SUMIF(Data!$K$2:$K$10177,$C440,Data!$M$2:$M$10177)","v":0},{"$f":"SUMIF(Data!$N$2:$N$10177,$C440,Data!$P$2:$P$10177)","v":0},{"$f":"SUMIF(Data!$Q$2:$R$10177,$C440,Data!$S$2:$S$10177)","v":0},{"$f":"SUMIF(Data!$T$2:$U$10177,$C440,Data!$V$2:$V$10177)","v":0},{"$f":"SUMIF(Data!$W$2:$W$10177,$C440,Data!$Y$2:$Y$10177)","v":0}]
[null,null,9900004455,4455,"FIXING SPACER OF PLASTIC","PLASTIC",3.85,0,0,{"$f":"SUMIF(Data!$H$2:$H$10177,$C441,Data!$D$2:$D$10177)","v":0},{"$f":"SUMIF(Data!$H$2:$H$10177,$C441,Data!$J$2:$J$10177)","v":0},{"$f":"SUMIF(Data!$K$2:$K$10177,$C441,Data!$M$2:$M$10177)","v":0},{"$f":"SUMIF(Data!$N$2:$N$10177,$C441,Data!$P$2:$P$10177)","v":0},{"$f":"SUMIF(Data!$Q$2:$R$10177,$C441,Data!$S$2:$S$10177)","v":0},{"$f":"SUMIF(Data!$T$2:$U$10177,$C441,Data!$V$2:$V$10177)","v":0},{"$f":"SUMIF(Data!$W$2:$W$10177,$C441,Data!$Y$2:$Y$10177)","v":0}]
[null,null,9900004456,4456,"FIXING SPACER OF PLASTIC","PLASTIC",4.55,0,0,{"$f":"SUMIF(Data!$H$2:$H$10177,$C442,Data!$D$2:$D$10177)","v":0},{"$f":"SUMIF(Data!$H$2:$H$10177,$C442,Data!$J$2:$J$10177)","v":0},{"$f":"SUMIF(Data!$K$2:$K$10177,$C442,Data!$M$2:$M$10177)","v":0},{"$f":"SUMIF(Data!$N$2:$N$10177,$C442,Data!$P$2:$P$10177)","v":0},{"$f":"SUMIF(Data!$Q$2:$R$10177,$C442,Data!$S$2:$S$10177)","v":0},{"$f":"SUMIF(Data!$T$2:$U$10177,$C442,Data!$V$2:$V$10177)","v":0},{"$f":"SUMIF(Data!$W$2:$W$10177,$C442,Data!$Y$2:$Y$10177)","v":0}]
[null,null,9900004457,4457,"FIXING SPACER OF PLASTIC","PLASTIC",4.55,0,0,{"$f":"SUMIF(Data!$H$2:$H$10177,$C443,Data!$D$2:$D$10177)","v":0},{"$f":"SUMIF(Data!$H$2:$H$10177,$C443,Data!$J$2:$J$10177)","v":0},{"$f":"SUMIF(Data!$K$2:$K$10177,$C443,Data!$M$2:$M$10177)","v":0},{"$f":"SUMIF(Data!$N$2:$N$10177,$C443,Data!$P$2:$P$10177)","v":0},{"$f":"SUMIF(Data!$Q$2:$R$10177,$C443,Data!$S$2:$S$10177)","v":0},{"$f":"SUMIF(Data!$T$2:$U$10177,$C443,Data!$V$2:$V$10177)","v":0},{"$f":"SUMIF(Data!$W$2:$W$10177,$C443,Data!$Y$2:$Y$10177)","v":0}]
[null,null,9900004458,{"$f":"C444-9900000000","v":4458},"FIXING SPACER OF PLASTIC","PLASTIC",3.85,{"$f":"G444*I444","v":0},{"$f":"SUM(J444:P444)","v":0},{"$f":"SUMIF(Data!$H$2:$H$10177,$C444,Data!$D$2:$D$10177)","v":0},{"$f":"SUMIF(Data!$H$2:$H$10177,$C444,Data!$J$2:$J$10177)","v":0},{"$f":"SUMIF(Data!$K$2:$K$10177,$C444,Data!$M$2:$M$10177)","v":0},{"$f":"SUMIF(Data!$N$2:$N$10177,$C444,Data!$P$2:$P$10177)","v":0},{"$f":"SUMIF(Data!$Q$2:$R$10177,$C444,Data!$S$2:$S$10177)","v":0},{"$f":"SUMIF(Data!$T$2:$U$10177,$C444,Data!$V$2:$V$10177)","v":0},{"$f":"SUMIF(Data!$W$2:$W$10177,$C444,Data!$Y$2:$Y$10177)","v":0}]
[null,null,9900004459,4459,"FIXING SPACER OF PLASTIC","PLASTIC",4.5,0,0,{"$f":"SUMIF(Data!$H$2:$H$10177,$C445,Data!$D$2:$D$10177)","v":0},{"$f":"SUMIF(Data!$H$2:$H$10177,$C445,Data!$J$2:$J$10177)","v":0},{"$f":"SUMIF(Data!$K$2:$K$10177,$C445,Data!$M$2:$M$10177)","v":0},{"$f":"SUMIF(Data!$N$2:$N$10177,$C445,Data!$P$2:$P$10177)","v":0},{"$f":"SUMIF(Data!$Q$2:$R$10177,$C445,Data!$S$2:$S$10177)","v":0},{"$f":"SUMIF(Data!$T$2:$U$10177,$C445,Data!$V$2:$V$10177)","v":0},{"$f":"SUMIF(Data!$W$2:$W$10177,$C445,Data!$Y$2:$Y$10177)","v":0}]
[null,null,9900004461,{"$f":"C446-9900000000","v":4461},"FIXING SPACER OF PLASTIC","PLASTIC",3.1,{"$f":"G446*I446","v":0},{"$f":"SUM(J446:P446)","v":0},{"$f":"SUMIF(Data!$H$2:$H$10177,$C446,Data!$D$2:$D$10177)","v":0},{"$f":"SUMIF(Data!$H$2:$H$10177,$C446,Data!$J$2:$J$10177)","v":0},{"$f":"SUMIF(Data!$K$2:$K$10177,$C446,Data!$M$2:$M$10177)","v":0},{"$f":"SUMIF(Data!$N$2:$N$10177,$C446,Data!$P$2:$P$10177)","v":0},{"$f":"SUMIF(Data!$Q$2:$R$10177,$C446,Data!$S$2:$S$10177)","v":0},{"$f":"SUMIF(Data!$T$2:$U$10177,$C446,Data!$V$2:$V$10177)","v":0},{"$f":"SUMIF(Data!$W$2:$W$10177,$C446,Data!$Y$2:$Y$10177)","v":0}]
[null,null,9900004460,4460,"RACK OF STEEL","METAL",145,0,0,{"$f":"SUMIF(Data!$H$2:$H$10177,$C447,Data!$D$2:$D$10177)","v":0},{"$f":"SUMIF(Data!$H$2:$H$10177,$C447,Data!$J$2:$J$10177)","v":0},{"$f":"SUMIF(Data!$K$2:$K$10177,$C447,Data!$M$2:$M$10177)","v":0},{"$f":"SUMIF(Data!$N$2:$N$10177,$C447,Data!$P$2:$P$10177)","v":0},{"$f":"SUMIF(Data!$Q$2:$R$10177,$C447,Data!$S$2:$S$10177)","v":0},{"$f":"SUMIF(Data!$T$2:$U$10177,$C447,Data!$V$2:$V$10177)","v":0},{"$f":"SUMIF(Data!$W$2:$W$10177,$C447,Data!$Y$2:$Y$10177)","v":0}]
[null,null,9900004462,4462,"RACK OF STEEL","METAL",140,0,0,{"$f":"SUMIF(Data!$H$2:$H$10177,$C448,Data!$D$2:$D$10177)","v":0},{"$f":"SUMIF(Data!$H$2:$H$10177,$C448,Data!$J$2:$J$10177)","v":0},{"$f":"SUMIF(Data!$K$2:$K$10177,$C448,Data!$M$2:$M$10177)","v":0},{"$f":"SUMIF(Data!$N$2:$N$10177,$C448,Data!$P$2:$P$10177)","v":0},{"$f":"SUMIF(Data!$Q$2:$R$10177,$C448,Data!$S$2:$S$10177)","v":0},{"$f":"SUMIF(Data!$T$2:$U$10177,$C448,Data!$V$2:$V$10177)","v":0},{"$f":"SUMIF(Data!$W$2:$W$10177,$C448,Data!$Y$2:$Y$10177)","v":0}]
[null,null,9900004464,4464,"FIXING SPACER OF PLASTIC","PLASTIC",10,0,0,{"$f":"SUMIF(Data!$H$2:$H$10177,$C449,Data!$D$2:$D$10177)","v":0},{"$f":"SUMIF(Data!$H$2:$H$10177,$C449,Data!$J$2:$J$10177)","v":0},{"$f":"SUMIF(Data!$K$2:$K$10177,$C449,Data!$M$2:$M$10177)","v":0},{"$f":"SUMIF(Data!$N$2:$N$10177,$C449,Data!$P$2:$P$10177)","v":0},{"$f":"SUMIF(Data!$Q$2:$R$10177,$C449,Data!$S$2:$S$10177)","v":0},{"$f":"SUMIF(Data!$T$2:$U$10177,$C449,Data!$V$2:$V$10177)","v":0},{"$f":"SUMIF(Data!$W$2:$W$10177,$C449,Data!$Y$2:$Y$10177)","v":0}]
[null,null,9900004465,4465,"FIXING SPACER OF WOOD","WOOD",0.55000000000000004,0,0,{"$f":"SUMIF(Data!$H$2:$H$10177,$C450,Data!$D$2:$D$10177)","v":0},{"$f":"SUMIF(Data!$H$2:$H$10177,$C450,Data!$J$2:$J$10177)","v":0},{"$f":"SUMIF(Data!$K$2:$K$10177,$C450,Data!$M$2:$M$10177)","v":0},{"$f":"SUMIF(Data!$N$2:$N$10177,$C450,Data!$P$2:$P$10177)","v":0},{"$f":"SUMIF(Data!$Q$2:$R$10177,$C450,Data!$S$2:$S$10177)","v":0},{"$f":"SUMIF(Data!$T$2:$U$10177,$C450,Data!$V$2:$V$10177)","v":0},{"$f":"SUMIF(Data!$W$2:$W$10177,$C450,Data!$Y$2:$Y$10177)","v":0}]
[null,null,9900004466,4466,"FIXING SPACER OF PLASTIC","PLASTIC",7.5,0,0,{"$f":"SUMIF(Data!$H$2:$H$10177,$C451,Data!$D$2:$D$10177)","v":0},{"$f":"SUMIF(Data!$H$2:$H$10177,$C451,Data!$J$2:$J$10177)","v":0},{"$f":"SUMIF(Data!$K$2:$K$10177,$C451,Data!$M$2:$M$10177)","v":0},{"$f":"SUMIF(Data!$N$2:$N$10177,$C451,Data!$P$2:$P$10177)","v":0},{"$f":"SUMIF(Data!$Q$2:$R$10177,$C451,Data!$S$2:$S$10177)","v":0},{"$f":"SUMIF(Data!$T$2:$U$10177,$C451,Data!$V$2:$V$10177)","v":0},{"$f":"SUMIF(Data!$W$2:$W$10177,$C451,Data!$Y$2:$Y$10177)","v":0}]
[null,null,9900004467,4467,"FIXING SPACER OF PLASTIC","PLASTIC",1,0,0,{"$f":"SUMIF(Data!$H$2:$H$10177,$C452,Data!$D$2:$D$10177)","v":0},{"$f":"SUMIF(Data!$H$2:$H$10177,$C452,Data!$J$2:$J$10177)","v":0},{"$f":"SUMIF(Data!$K$2:$K$10177,$C452,Data!$M$2:$M$10177)","v":0},{"$f":"SUMIF(Data!$N$2:$N$10177,$C452,Data!$P$2:$P$10177)","v":0},{"$f":"SUMIF(Data!$Q$2:$R$10177,$C452,Data!$S$2:$S$10177)","v":0},{"$f":"SUMIF(Data!$T$2:$U$10177,$C452,Data!$V$2:$V$10177)","v":0},{"$f":"SUMIF(Data!$W$2:$W$10177,$C452,Data!$Y$2:$Y$10177)","v":0}]
[null,null,9900004468,4468,"FIXING SPACER OF PLASTIC","PLASTIC",4.55,0,0,{"$f":"SUMIF(Data!$H$2:$H$10177,$C453,Data!$D$2:$D$10177)","v":0},{"$f":"SUMIF(Data!$H$2:$H$10177,$C453,Data!$J$2:$J$10177)","v":0},{"$f":"SUMIF(Data!$K$2:$K$10177,$C453,Data!$M$2:$M$10177)","v":0},{"$f":"SUMIF(Data!$N$2:$N$10177,$C453,Data!$P$2:$P$10177)","v":0},{"$f":"SUMIF(Data!$Q$2:$R$10177,$C453,Data!$S$2:$S$10177)","v":0},{"$f":"SUMIF(Data!$T$2:$U$10177,$C453,Data!$V$2:$V$10177)","v":0},{"$f":"SUMIF(Data!$W$2:$W$10177,$C453,Data!$Y$2:$Y$10177)","v":0}]
[null,null,9900004469,4469,"FIXING SPACER OF PLASTIC","PLASTIC",6,0,0,{"$f":"SUMIF(Data!$H$2:$H$10177,$C454,Data!$D$2:$D$10177)","v":0},{"$f":"SUMIF(Data!$H$2:$H$10177,$C454,Data!$J$2:$J$10177)","v":0},{"$f":"SUMIF(Data!$K$2:$K$10177,$C454,Data!$M$2:$M$10177)","v":0},{"$f":"SUMIF(Data!$N$2:$N$10177,$C454,Data!$P$2:$P$10177)","v":0},{"$f":"SUMIF(Data!$Q$2:$R$10177,$C454,Data!$S$2:$S$10177)","v":0},{"$f":"SUMIF(Data!$T$2:$U$10177,$C454,Data!$V$2:$V$10177)","v":0},{"$f":"SUMIF(Data!$W$2:$W$10177,$C454,Data!$Y$2:$Y$10177)","v":0}]
[null,null,9900004472,4472,"FIXING SPACER OF PLASTIC","PLASTIC",8,0,0,{"$f":"SUMIF(Data!$H$2:$H$10177,$C455,Data!$D$2:$D$10177)","v":0},{"$f":"SUMIF(Data!$H$2:$H$10177,$C455,Data!$J$2:$J$10177)","v":0},{"$f":"SUMIF(Data!$K$2:$K$10177,$C455,Data!$M$2:$M$10177)","v":0},{"$f":"SUMIF(Data!$N$2:$N$10177,$C455,Data!$P$2:$P$10177)","v":0},{"$f":"SUMIF(Data!$Q$2:$R$10177,$C455,Data!$S$2:$S$10177)","v":0},{"$f":"SUMIF(Data!$T$2:$U$10177,$C455,Data!$V$2:$V$10177)","v":0},{"$f":"SUMIF(Data!$W$2:$W$10177,$C455,Data!$Y$2:$Y$10177)","v":0}]
[null,null,9900004473,4473,"FIXING SPACER OF PLASTIC","PLASTIC",8,0,0,{"$f":"SUMIF(Data!$H$2:$H$10177,$C456,Data!$D$2:$D$10177)","v":0},{"$f":"SUMIF(Data!$H$2:$H$10177,$C456,Data!$J$2:$J$10177)","v":0},{"$f":"SUMIF(Data!$K$2:$K$10177,$C456,Data!$M$2:$M$10177)","v":0},{"$f":"SUMIF(Data!$N$2:$N$10177,$C456,Data!$P$2:$P$10177)","v":0},{"$f":"SUMIF(Data!$Q$2:$R$10177,$C456,Data!$S$2:$S$10177)","v":0},{"$f":"SUMIF(Data!$T$2:$U$10177,$C456,Data!$V$2:$V$10177)","v":0},{"$f":"SUMIF(Data!$W$2:$W$10177,$C456,Data!$Y$2:$Y$10177)","v":0}]
[null,null,9900004481,4481,"RACK OF STEEL","METAL",158,0,0,{"$f":"SUMIF(Data!$H$2:$H$10177,$C457,Data!$D$2:$D$10177)","v":0},{"$f":"SUMIF(Data!$H$2:$H$10177,$C457,Data!$J$2:$J$10177)","v":0},{"$f":"SUMIF(Data!$K$2:$K$10177,$C457,Data!$M$2:$M$10177)","v":0},{"$f":"SUMIF(Data!$N$2:$N$10177,$C457,Data!$P$2:$P$10177)","v":0},{"$f":"SUMIF(Data!$Q$2:$R$10177,$C457,Data!$S$2:$S$10177)","v":0},{"$f":"SUMIF(Data!$T$2:$U$10177,$C457,Data!$V$2:$V$10177)","v":0},{"$f":"SUMIF(Data!$W$2:$W$10177,$C457,Data!$Y$2:$Y$10177)","v":0}]
[null,null,9900004485,4485,"FIXING SPACER OF PLASTIC","PLASTIC",5,0,0,{"$f":"SUMIF(Data!$H$2:$H$10177,$C458,Data!$D$2:$D$10177)","v":0},{"$f":"SUMIF(Data!$H$2:$H$10177,$C458,Data!$J$2:$J$10177)","v":0},{"$f":"SUMIF(Data!$K$2:$K$10177,$C458,Data!$M$2:$M$10177)","v":0},{"$f":"SUMIF(Data!$N$2:$N$10177,$C458,Data!$P$2:$P$10177)","v":0},{"$f":"SUMIF(Data!$Q$2:$R$10177,$C458,Data!$S$2:$S$10177)","v":0},{"$f":"SUMIF(Data!$T$2:$U$10177,$C458,Data!$V$2:$V$10177)","v":0},{"$f":"SUMIF(Data!$W$2:$W$10177,$C458,Data!$Y$2:$Y$10177)","v":0}]
[null,null,9900004487,4487,"FIXING SPACER OF WOOD","WOOD",5,0,0,{"$f":"SUMIF(Data!$H$2:$H$10177,$C459,Data!$D$2:$D$10177)","v":0},{"$f":"SUMIF(Data!$H$2:$H$10177,$C459,Data!$J$2:$J$10177)","v":0},{"$f":"SUMIF(Data!$K$2:$K$10177,$C459,Data!$M$2:$M$10177)","v":0},{"$f":"SUMIF(Data!$N$2:$N$10177,$C459,Data!$P$2:$P$10177)","v":0},{"$f":"SUMIF(Data!$Q$2:$R$10177,$C459,Data!$S$2:$S$10177)","v":0},{"$f":"SUMIF(Data!$T$2:$U$10177,$C459,Data!$V$2:$V$10177)","v":0},{"$f":"SUMIF(Data!$W$2:$W$10177,$C459,Data!$Y$2:$Y$10177)","v":0}]
[null,null,9900004490,4490,"RACK OF STEEL","METAL",229,0,0,{"$f":"SUMIF(Data!$H$2:$H$10177,$C460,Data!$D$2:$D$10177)","v":0},{"$f":"SUMIF(Data!$H$2:$H$10177,$C460,Data!$J$2:$J$10177)","v":0},{"$f":"SUMIF(Data!$K$2:$K$10177,$C460,Data!$M$2:$M$10177)","v":0},{"$f":"SUMIF(Data!$N$2:$N$10177,$C460,Data!$P$2:$P$10177)","v":0},{"$f":"SUMIF(Data!$Q$2:$R$10177,$C460,Data!$S$2:$S$10177)","v":0},{"$f":"SUMIF(Data!$T$2:$U$10177,$C460,Data!$V$2:$V$10177)","v":0},{"$f":"SUMIF(Data!$W$2:$W$10177,$C460,Data!$Y$2:$Y$10177)","v":0}]
[null,null,9900004494,4494,"FIXING SPACER OF PLASTIC","PLASTIC",8,0,0,{"$f":"SUMIF(Data!$H$2:$H$10177,$C461,Data!$D$2:$D$10177)","v":0},{"$f":"SUMIF(Data!$H$2:$H$10177,$C461,Data!$J$2:$J$10177)","v":0},{"$f":"SUMIF(Data!$K$2:$K$10177,$C461,Data!$M$2:$M$10177)","v":0},{"$f":"SUMIF(Data!$N$2:$N$10177,$C461,Data!$P$2:$P$10177)","v":0},{"$f":"SUMIF(Data!$Q$2:$R$10177,$C461,Data!$S$2:$S$10177)","v":0},{"$f":"SUMIF(Data!$T$2:$U$10177,$C461,Data!$V$2:$V$10177)","v":0},{"$f":"SUMIF(Data!$W$2:$W$10177,$C461,Data!$Y$2:$Y$10177)","v":0}]
[null,null,9900004495,4495,"FIXING SPACER OF WOOD","WOOD",35,0,0,{"$f":"SUMIF(Data!$H$2:$H$10177,$C462,Data!$D$2:$D$10177)","v":0},{"$f":"SUMIF(Data!$H$2:$H$10177,$C462,Data!$J$2:$J$10177)","v":0},{"$f":"SUMIF(Data!$K$2:$K$10177,$C462,Data!$M$2:$M$10177)","v":0},{"$f":"SUMIF(Data!$N$2:$N$10177,$C462,Data!$P$2:$P$10177)","v":0},{"$f":"SUMIF(Data!$Q$2:$R$10177,$C462,Data!$S$2:$S$10177)","v":0},{"$f":"SUMIF(Data!$T$2:$U$10177,$C462,Data!$V$2:$V$10177)","v":0},{"$f":"SUMIF(Data!$W$2:$W$10177,$C462,Data!$Y$2:$Y$10177)","v":0}]
[null,null,9900004496,4496,"FIXING SPACER OF PLASTIC","PLASTIC",8,0,0,{"$f":"SUMIF(Data!$H$2:$H$10177,$C463,Data!$D$2:$D$10177)","v":0},{"$f":"SUMIF(Data!$H$2:$H$10177,$C463,Data!$J$2:$J$10177)","v":0},{"$f":"SUMIF(Data!$K$2:$K$10177,$C463,Data!$M$2:$M$10177)","v":0},{"$f":"SUMIF(Data!$N$2:$N$10177,$C463,Data!$P$2:$P$10177)","v":0},{"$f":"SUMIF(Data!$Q$2:$R$10177,$C463,Data!$S$2:$S$10177)","v":0},{"$f":"SUMIF(Data!$T$2:$U$10177,$C463,Data!$V$2:$V$10177)","v":0},{"$f":"SUMIF(Data!$W$2:$W$10177,$C463,Data!$Y$2:$Y$10177)","v":0}]
[null,null,9900004497,4497,"FIXING SPACER OF PLASTIC","PLASTIC",8,0,0,{"$f":"SUMIF(Data!$H$2:$H$10177,$C464,Data!$D$2:$D$10177)","v":0},{"$f":"SUMIF(Data!$H$2:$H$10177,$C464,Data!$J$2:$J$10177)","v":0},{"$f":"SUMIF(Data!$K$2:$K$10177,$C464,Data!$M$2:$M$10177)","v":0},{"$f":"SUMIF(Data!$N$2:$N$10177,$C464,Data!$P$2:$P$10177)","v":0},{"$f":"SUMIF(Data!$Q$2:$R$10177,$C464,Data!$S$2:$S$10177)","v":0},{"$f":"SUMIF(Data!$T$2:$U$10177,$C464,Data!$V$2:$V$10177)","v":0},{"$f":"SUMIF(Data!$W$2:$W$10177,$C464,Data!$Y$2:$Y$10177)","v":0}]
[null,null,9900004498,4498,"FIXING SPACER OF PLASTIC","PLASTIC",0.2,0,0,{"$f":"SUMIF(Data!$H$2:$H$10177,$C465,Data!$D$2:$D$10177)","v":0},{"$f":"SUMIF(Data!$H$2:$H$10177,$C465,Data!$J$2:$J$10177)","v":0},{"$f":"SUMIF(Data!$K$2:$K$10177,$C465,Data!$M$2:$M$10177)","v":0},{"$f":"SUMIF(Data!$N$2:$N$10177,$C465,Data!$P$2:$P$10177)","v":0},{"$f":"SUMIF(Data!$Q$2:$R$10177,$C465,Data!$S$2:$S$10177)","v":0},{"$f":"SUMIF(Data!$T$2:$U$10177,$C465,Data!$V$2:$V$10177)","v":0},{"$f":"SUMIF(Data!$W$2:$W$10177,$C465,Data!$Y$2:$Y$10177)","v":0}]
[null,null,9900004499,4499,"RACK OF STEEL","METAL",105,0,0,{"$f":"SUMIF(Data!$H$2:$H$10177,$C466,Data!$D$2:$D$10177)","v":0},{"$f":"SUMIF(Data!$H$2:$H$10177,$C466,Data!$J$2:$J$10177)","v":0},{"$f":"SUMIF(Data!$K$2:$K$10177,$C466,Data!$M$2:$M$10177)","v":0},{"$f":"SUMIF(Data!$N$2:$N$10177,$C466,Data!$P$2:$P$10177)","v":0},{"$f":"SUMIF(Data!$Q$2:$R$10177,$C466,Data!$S$2:$S$10177)","v":0},{"$f":"SUMIF(Data!$T$2:$U$10177,$C466,Data!$V$2:$V$10177)","v":0},{"$f":"SUMIF(Data!$W$2:$W$10177,$C466,Data!$Y$2:$Y$10177)","v":0}]
[null,null,9900004512,4512,"RACK OF STEEL","METAL",136,0,0,{"$f":"SUMIF(Data!$H$2:$H$10177,$C467,Data!$D$2:$D$10177)","v":0},{"$f":"SUMIF(Data!$H$2:$H$10177,$C467,Data!$J$2:$J$10177)","v":0},{"$f":"SUMIF(Data!$K$2:$K$10177,$C467,Data!$M$2:$M$10177)","v":0},{"$f":"SUMIF(Data!$N$2:$N$10177,$C467,Data!$P$2:$P$10177)","v":0},{"$f":"SUMIF(Data!$Q$2:$R$10177,$C467,Data!$S$2:$S$10177)","v":0},{"$f":"SUMIF(Data!$T$2:$U$10177,$C467,Data!$V$2:$V$10177)","v":0},{"$f":"SUMIF(Data!$W$2:$W$10177,$C467,Data!$Y$2:$Y$10177)","v":0}]
[null,null,9900004514,4514,"RACK OF STEEL","METAL",544.29999999999995,0,0,{"$f":"SUMIF(Data!$H$2:$H$10177,$C468,Data!$D$2:$D$10177)","v":0},{"$f":"SUMIF(Data!$H$2:$H$10177,$C468,Data!$J$2:$J$10177)","v":0},{"$f":"SUMIF(Data!$K$2:$K$10177,$C468,Data!$M$2:$M$10177)","v":0},{"$f":"SUMIF(Data!$N$2:$N$10177,$C468,Data!$P$2:$P$10177)","v":0},{"$f":"SUMIF(Data!$Q$2:$R$10177,$C468,Data!$S$2:$S$10177)","v":0},{"$f":"SUMIF(Data!$T$2:$U$10177,$C468,Data!$V$2:$V$10177)","v":0},{"$f":"SUMIF(Data!$W$2:$W$10177,$C468,Data!$Y$2:$Y$10177)","v":0}]
[null,null,9900004520,4520,"RACK OF STEEL","METAL",122,0,0,{"$f":"SUMIF(Data!$H$2:$H$10177,$C469,Data!$D$2:$D$10177)","v":0},{"$f":"SUMIF(Data!$H$2:$H$10177,$C469,Data!$J$2:$J$10177)","v":0},{"$f":"SUMIF(Data!$K$2:$K$10177,$C469,Data!$M$2:$M$10177)","v":0},{"$f":"SUMIF(Data!$N$2:$N$10177,$C469,Data!$P$2:$P$10177)","v":0},{"$f":"SUMIF(Data!$Q$2:$R$10177,$C469,Data!$S$2:$S$10177)","v":0},{"$f":"SUMIF(Data!$T$2:$U$10177,$C469,Data!$V$2:$V$10177)","v":0},{"$f":"SUMIF(Data!$W$2:$W$10177,$C469,Data!$Y$2:$Y$10177)","v":0}]
[null,null,9900004521,4521,"SUPPORT OF STEEL","METAL",7.71,0,0,{"$f":"SUMIF(Data!$H$2:$H$10177,$C470,Data!$D$2:$D$10177)","v":0},{"$f":"SUMIF(Data!$H$2:$H$10177,$C470,Data!$J$2:$J$10177)","v":0},{"$f":"SUMIF(Data!$K$2:$K$10177,$C470,Data!$M$2:$M$10177)","v":0},{"$f":"SUMIF(Data!$N$2:$N$10177,$C470,Data!$P$2:$P$10177)","v":0},{"$f":"SUMIF(Data!$Q$2:$R$10177,$C470,Data!$S$2:$S$10177)","v":0},{"$f":"SUMIF(Data!$T$2:$U$10177,$C470,Data!$V$2:$V$10177)","v":0},{"$f":"SUMIF(Data!$W$2:$W$10177,$C470,Data!$Y$2:$Y$10177)","v":0}]
[null,null,9900004932,4932,"SPACER OF PLYWOOD","WOOD",4,0,0,{"$f":"SUMIF(Data!$H$2:$H$10177,$C471,Data!$D$2:$D$10177)","v":0},{"$f":"SUMIF(Data!$H$2:$H$10177,$C471,Data!$J$2:$J$10177)","v":0},{"$f":"SUMIF(Data!$K$2:$K$10177,$C471,Data!$M$2:$M$10177)","v":0},{"$f":"SUMIF(Data!$N$2:$N$10177,$C471,Data!$P$2:$P$10177)","v":0},{"$f":"SUMIF(Data!$Q$2:$R$10177,$C471,Data!$S$2:$S$10177)","v":0},{"$f":"SUMIF(Data!$T$2:$U$10177,$C471,Data!$V$2:$V$10177)","v":0},{"$f":"SUMIF(Data!$W$2:$W$10177,$C471,Data!$Y$2:$Y$10177)","v":0}]
[null,null,9900004935,4935,"FIXING SPACER OF PLASTIC","PLASTIC",2,0,0,{"$f":"SUMIF(Data!$H$2:$H$10177,$C472,Data!$D$2:$D$10177)","v":0},{"$f":"SUMIF(Data!$H$2:$H$10177,$C472,Data!$J$2:$J$10177)","v":0},{"$f":"SUMIF(Data!$K$2:$K$10177,$C472,Data!$M$2:$M$10177)","v":0},{"$f":"SUMIF(Data!$N$2:$N$10177,$C472,Data!$P$2:$P$10177)","v":0},{"$f":"SUMIF(Data!$Q$2:$R$10177,$C472,Data!$S$2:$S$10177)","v":0},{"$f":"SUMIF(Data!$T$2:$U$10177,$C472,Data!$V$2:$V$10177)","v":0},{"$f":"SUMIF(Data!$W$2:$W$10177,$C472,Data!$Y$2:$Y$10177)","v":0}]
[null,null,9900004936,{"$f":"C473-9900000000","v":4936},"FIXING SPACER OF PLASTIC","PLASTIC",2,{"$f":"G473*I473","v":0},{"$f":"SUM(J473:P473)","v":0},{"$f":"SUMIF(Data!$H$2:$H$10177,$C473,Data!$D$2:$D$10177)","v":0},{"$f":"SUMIF(Data!$H$2:$H$10177,$C473,Data!$J$2:$J$10177)","v":0},{"$f":"SUMIF(Data!$K$2:$K$10177,$C473,Data!$M$2:$M$10177)","v":0},{"$f":"SUMIF(Data!$N$2:$N$10177,$C473,Data!$P$2:$P$10177)","v":0},{"$f":"SUMIF(Data!$Q$2:$R$10177,$C473,Data!$S$2:$S$10177)","v":0},{"$f":"SUMIF(Data!$T$2:$U$10177,$C473,Data!$V$2:$V$10177)","v":0},{"$f":"SUMIF(Data!$W$2:$W$10177,$C473,Data!$Y$2:$Y$10177)","v":0}]
[null,null,9900004946,4946,"FIXING SPACER OF PLASTIC","PLASTIC",1,0,0,{"$f":"SUMIF(Data!$H$2:$H$10177,$C474,Data!$D$2:$D$10177)","v":0},{"$f":"SUMIF(Data!$H$2:$H$10177,$C474,Data!$J$2:$J$10177)","v":0},{"$f":"SUMIF(Data!$K$2:$K$10177,$C474,Data!$M$2:$M$10177)","v":0},{"$f":"SUMIF(Data!$N$2:$N$10177,$C474,Data!$P$2:$P$10177)","v":0},{"$f":"SUMIF(Data!$Q$2:$R$10177,$C474,Data!$S$2:$S$10177)","v":0},{"$f":"SUMIF(Data!$T$2:$U$10177,$C474,Data!$V$2:$V$10177)","v":0},{"$f":"SUMIF(Data!$W$2:$W$10177,$C474,Data!$Y$2:$Y$10177)","v":0}]
[null,null,9900004947,4947,"FIXING SPACER OF PLASTIC","PLASTIC",3.5,0,0,{"$f":"SUMIF(Data!$H$2:$H$10177,$C475,Data!$D$2:$D$10177)","v":0},{"$f":"SUMIF(Data!$H$2:$H$10177,$C475,Data!$J$2:$J$10177)","v":0},{"$f":"SUMIF(Data!$K$2:$K$10177,$C475,Data!$M$2:$M$10177)","v":0},{"$f":"SUMIF(Data!$N$2:$N$10177,$C475,Data!$P$2:$P$10177)","v":0},{"$f":"SUMIF(Data!$Q$2:$R$10177,$C475,Data!$S$2:$S$10177)","v":0},{"$f":"SUMIF(Data!$T$2:$U$10177,$C475,Data!$V$2:$V$10177)","v":0},{"$f":"SUMIF(Data!$W$2:$W$10177,$C475,Data!$Y$2:$Y$10177)","v":0}]
[null,null,9900004948,4948,"FIXING SPACER OF PLASTIC","PLASTIC",5.45,0,0,{"$f":"SUMIF(Data!$H$2:$H$10177,$C476,Data!$D$2:$D$10177)","v":0},{"$f":"SUMIF(Data!$H$2:$H$10177,$C476,Data!$J$2:$J$10177)","v":0},{"$f":"SUMIF(Data!$K$2:$K$10177,$C476,Data!$M$2:$M$10177)","v":0},{"$f":"SUMIF(Data!$N$2:$N$10177,$C476,Data!$P$2:$P$10177)","v":0},{"$f":"SUMIF(Data!$Q$2:$R$10177,$C476,Data!$S$2:$S$10177)","v":0},{"$f":"SUMIF(Data!$T$2:$U$10177,$C476,Data!$V$2:$V$10177)","v":0},{"$f":"SUMIF(Data!$W$2:$W$10177,$C476,Data!$Y$2:$Y$10177)","v":0}]
[null,null,9900004974,4974,"RACK OF STEEL","METAL",40,0,0,{"$f":"SUMIF(Data!$H$2:$H$10177,$C477,Data!$D$2:$D$10177)","v":0},{"$f":"SUMIF(Data!$H$2:$H$10177,$C477,Data!$J$2:$J$10177)","v":0},{"$f":"SUMIF(Data!$K$2:$K$10177,$C477,Data!$M$2:$M$10177)","v":0},{"$f":"SUMIF(Data!$N$2:$N$10177,$C477,Data!$P$2:$P$10177)","v":0},{"$f":"SUMIF(Data!$Q$2:$R$10177,$C477,Data!$S$2:$S$10177)","v":0},{"$f":"SUMIF(Data!$T$2:$U$10177,$C477,Data!$V$2:$V$10177)","v":0},{"$f":"SUMIF(Data!$W$2:$W$10177,$C477,Data!$Y$2:$Y$10177)","v":0}]
[null,null,9900004977,4977,"FIXING SPACER OF PLASTIC","PLASTIC",11.5,0,0,{"$f":"SUMIF(Data!$H$2:$H$10177,$C478,Data!$D$2:$D$10177)","v":0},{"$f":"SUMIF(Data!$H$2:$H$10177,$C478,Data!$J$2:$J$10177)","v":0},{"$f":"SUMIF(Data!$K$2:$K$10177,$C478,Data!$M$2:$M$10177)","v":0},{"$f":"SUMIF(Data!$N$2:$N$10177,$C478,Data!$P$2:$P$10177)","v":0},{"$f":"SUMIF(Data!$Q$2:$R$10177,$C478,Data!$S$2:$S$10177)","v":0},{"$f":"SUMIF(Data!$T$2:$U$10177,$C478,Data!$V$2:$V$10177)","v":0},{"$f":"SUMIF(Data!$W$2:$W$10177,$C478,Data!$Y$2:$Y$10177)","v":0}]
[null,null,9900004978,{"$f":"C479-9900000000","v":4978},"FIXING SPACER OF PLASTIC","PLASTIC",11.5,{"$f":"G479*I479","v":0},{"$f":"SUM(J479:P479)","v":0},{"$f":"SUMIF(Data!$H$2:$H$10177,$C479,Data!$D$2:$D$10177)","v":0},{"$f":"SUMIF(Data!$H$2:$H$10177,$C479,Data!$J$2:$J$10177)","v":0},{"$f":"SUMIF(Data!$K$2:$K$10177,$C479,Data!$M$2:$M$10177)","v":0},{"$f":"SUMIF(Data!$N$2:$N$10177,$C479,Data!$P$2:$P$10177)","v":0},{"$f":"SUMIF(Data!$Q$2:$R$10177,$C479,Data!$S$2:$S$10177)","v":0},{"$f":"SUMIF(Data!$T$2:$U$10177,$C479,Data!$V$2:$V$10177)","v":0},{"$f":"SUMIF(Data!$W$2:$W$10177,$C479,Data!$Y$2:$Y$10177)","v":0}]
[null,null,9900004980,4980,"BOX OF PLASTIC","PLASTIC",1.25,0,0,{"$f":"SUMIF(Data!$H$2:$H$10177,$C480,Data!$D$2:$D$10177)","v":0},{"$f":"SUMIF(Data!$H$2:$H$10177,$C480,Data!$J$2:$J$10177)","v":0},{"$f":"SUMIF(Data!$K$2:$K$10177,$C480,Data!$M$2:$M$10177)","v":0},{"$f":"SUMIF(Data!$N$2:$N$10177,$C480,Data!$P$2:$P$10177)","v":0},{"$f":"SUMIF(Data!$Q$2:$R$10177,$C480,Data!$S$2:$S$10177)","v":0},{"$f":"SUMIF(Data!$T$2:$U$10177,$C480,Data!$V$2:$V$10177)","v":0},{"$f":"SUMIF(Data!$W$2:$W$10177,$C480,Data!$Y$2:$Y$10177)","v":0}]
[null,null,9900004981,4981,"LID OF PLASTIC","PLASTIC",0.36,0,0,{"$f":"SUMIF(Data!$H$2:$H$10177,$C481,Data!$D$2:$D$10177)","v":0},{"$f":"SUMIF(Data!$H$2:$H$10177,$C481,Data!$J$2:$J$10177)","v":0},{"$f":"SUMIF(Data!$K$2:$K$10177,$C481,Data!$M$2:$M$10177)","v":0},{"$f":"SUMIF(Data!$N$2:$N$10177,$C481,Data!$P$2:$P$10177)","v":0},{"$f":"SUMIF(Data!$Q$2:$R$10177,$C481,Data!$S$2:$S$10177)","v":0},{"$f":"SUMIF(Data!$T$2:$U$10177,$C481,Data!$V$2:$V$10177)","v":0},{"$f":"SUMIF(Data!$W$2:$W$10177,$C481,Data!$Y$2:$Y$10177)","v":0}]
[null,null,9900004982,4982,"BOX OF PLASTIC","PLASTIC",2.0499999999999998,0,0,{"$f":"SUMIF(Data!$H$2:$H$10177,$C482,Data!$D$2:$D$10177)","v":0},{"$f":"SUMIF(Data!$H$2:$H$10177,$C482,Data!$J$2:$J$10177)","v":0},{"$f":"SUMIF(Data!$K$2:$K$10177,$C482,Data!$M$2:$M$10177)","v":0},{"$f":"SUMIF(Data!$N$2:$N$10177,$C482,Data!$P$2:$P$10177)","v":0},{"$f":"SUMIF(Data!$Q$2:$R$10177,$C482,Data!$S$2:$S$10177)","v":0},{"$f":"SUMIF(Data!$T$2:$U$10177,$C482,Data!$V$2:$V$10177)","v":0},{"$f":"SUMIF(Data!$W$2:$W$10177,$C482,Data!$Y$2:$Y$10177)","v":0}]
[null,null,9900004983,4983,"LID OF PLASTIC","PLASTIC",0.84,0,0,{"$f":"SUMIF(Data!$H$2:$H$10177,$C483,Data!$D$2:$D$10177)","v":0},{"$f":"SUMIF(Data!$H$2:$H$10177,$C483,Data!$J$2:$J$10177)","v":0},{"$f":"SUMIF(Data!$K$2:$K$10177,$C483,Data!$M$2:$M$10177)","v":0},{"$f":"SUMIF(Data!$N$2:$N$10177,$C483,Data!$P$2:$P$10177)","v":0},{"$f":"SUMIF(Data!$Q$2:$R$10177,$C483,Data!$S$2:$S$10177)","v":0},{"$f":"SUMIF(Data!$T$2:$U$10177,$C483,Data!$V$2:$V$10177)","v":0},{"$f":"SUMIF(Data!$W$2:$W$10177,$C483,Data!$Y$2:$Y$10177)","v":0}]
[null,null,9900004984,4984,"BOX OF PLASTIC","PLASTIC",0.46,0,0,{"$f":"SUMIF(Data!$H$2:$H$10177,$C484,Data!$D$2:$D$10177)","v":0},{"$f":"SUMIF(Data!$H$2:$H$10177,$C484,Data!$J$2:$J$10177)","v":0},{"$f":"SUMIF(Data!$K$2:$K$10177,$C484,Data!$M$2:$M$10177)","v":0},{"$f":"SUMIF(Data!$N$2:$N$10177,$C484,Data!$P$2:$P$10177)","v":0},{"$f":"SUMIF(Data!$Q$2:$R$10177,$C484,Data!$S$2:$S$10177)","v":0},{"$f":"SUMIF(Data!$T$2:$U$10177,$C484,Data!$V$2:$V$10177)","v":0},{"$f":"SUMIF(Data!$W$2:$W$10177,$C484,Data!$Y$2:$Y$10177)","v":0}]
[null,null,9900004985,4985,"BOX OF PLASTIC","PLASTIC",0.78,0,0,{"$f":"SUMIF(Data!$H$2:$H$10177,$C485,Data!$D$2:$D$10177)","v":0},{"$f":"SUMIF(Data!$H$2:$H$10177,$C485,Data!$J$2:$J$10177)","v":0},{"$f":"SUMIF(Data!$K$2:$K$10177,$C485,Data!$M$2:$M$10177)","v":0},{"$f":"SUMIF(Data!$N$2:$N$10177,$C485,Data!$P$2:$P$10177)","v":0},{"$f":"SUMIF(Data!$Q$2:$R$10177,$C485,Data!$S$2:$S$10177)","v":0},{"$f":"SUMIF(Data!$T$2:$U$10177,$C485,Data!$V$2:$V$10177)","v":0},{"$f":"SUMIF(Data!$W$2:$W$10177,$C485,Data!$Y$2:$Y$10177)","v":0}]
[null,null,9900004986,4986,"BOX OF PLASTIC","PLASTIC",0.25,0,0,{"$f":"SUMIF(Data!$H$2:$H$10177,$C486,Data!$D$2:$D$10177)","v":0},{"$f":"SUMIF(Data!$H$2:$H$10177,$C486,Data!$J$2:$J$10177)","v":0},{"$f":"SUMIF(Data!$K$2:$K$10177,$C486,Data!$M$2:$M$10177)","v":0},{"$f":"SUMIF(Data!$N$2:$N$10177,$C486,Data!$P$2:$P$10177)","v":0},{"$f":"SUMIF(Data!$Q$2:$R$10177,$C486,Data!$S$2:$S$10177)","v":0},{"$f":"SUMIF(Data!$T$2:$U$10177,$C486,Data!$V$2:$V$10177)","v":0},{"$f":"SUMIF(Data!$W$2:$W$10177,$C486,Data!$Y$2:$Y$10177)","v":0}]
[null,null,9900005022,5022,"FIXING SPACER OF PLASTIC","PLASTIC",0.3,0,0,{"$f":"SUMIF(Data!$H$2:$H$10177,$C487,Data!$D$2:$D$10177)","v":0},{"$f":"SUMIF(Data!$H$2:$H$10177,$C487,Data!$J$2:$J$10177)","v":0},{"$f":"SUMIF(Data!$K$2:$K$10177,$C487,Data!$M$2:$M$10177)","v":0},{"$f":"SUMIF(Data!$N$2:$N$10177,$C487,Data!$P$2:$P$10177)","v":0},{"$f":"SUMIF(Data!$Q$2:$R$10177,$C487,Data!$S$2:$S$10177)","v":0},{"$f":"SUMIF(Data!$T$2:$U$10177,$C487,Data!$V$2:$V$10177)","v":0},{"$f":"SUMIF(Data!$W$2:$W$10177,$C487,Data!$Y$2:$Y$10177)","v":0}]
[null,null,9900005101,5101,"RACK OF STEEL","METAL",383,{"$f":"G488*I488","v":0},{"$f":"SUM(J488:P488)","v":0},{"$f":"SUMIF(Data!$H$2:$H$10177,$C488,Data!$D$2:$D$10177)","v":0},{"$f":"SUMIF(Data!$H$2:$H$10177,$C488,Data!$J$2:$J$10177)","v":0},{"$f":"SUMIF(Data!$K$2:$K$10177,$C488,Data!$M$2:$M$10177)","v":0},{"$f":"SUMIF(Data!$N$2:$N$10177,$C488,Data!$P$2:$P$10177)","v":0},{"$f":"SUMIF(Data!$Q$2:$R$10177,$C488,Data!$S$2:$S$10177)","v":0},{"$f":"SUMIF(Data!$T$2:$U$10177,$C488,Data!$V$2:$V$10177)","v":0},{"$f":"SUMIF(Data!$W$2:$W$10177,$C488,Data!$Y$2:$Y$10177)","v":0}]
[null,null,9900005719,5719,"FIXING SPACER OF PLASTIC","PLASTIC",1,0,0,{"$f":"SUMIF(Data!$H$2:$H$10177,$C489,Data!$D$2:$D$10177)","v":0},{"$f":"SUMIF(Data!$H$2:$H$10177,$C489,Data!$J$2:$J$10177)","v":0},{"$f":"SUMIF(Data!$K$2:$K$10177,$C489,Data!$M$2:$M$10177)","v":0},{"$f":"SUMIF(Data!$N$2:$N$10177,$C489,Data!$P$2:$P$10177)","v":0},{"$f":"SUMIF(Data!$Q$2:$R$10177,$C489,Data!$S$2:$S$10177)","v":0},{"$f":"SUMIF(Data!$T$2:$U$10177,$C489,Data!$V$2:$V$10177)","v":0},{"$f":"SUMIF(Data!$W$2:$W$10177,$C489,Data!$Y$2:$Y$10177)","v":0}]
[null,null,9900006000,6000,"RACK OF STEEL","METAL",130,0,0,{"$f":"SUMIF(Data!$H$2:$H$10177,$C490,Data!$D$2:$D$10177)","v":0},{"$f":"SUMIF(Data!$H$2:$H$10177,$C490,Data!$J$2:$J$10177)","v":0},{"$f":"SUMIF(Data!$K$2:$K$10177,$C490,Data!$M$2:$M$10177)","v":0},{"$f":"SUMIF(Data!$N$2:$N$10177,$C490,Data!$P$2:$P$10177)","v":0},{"$f":"SUMIF(Data!$Q$2:$R$10177,$C490,Data!$S$2:$S$10177)","v":0},{"$f":"SUMIF(Data!$T$2:$U$10177,$C490,Data!$V$2:$V$10177)","v":0},{"$f":"SUMIF(Data!$W$2:$W$10177,$C490,Data!$Y$2:$Y$10177)","v":0}]
[null,null,9900006001,{"$f":"C491-9900000000","v":6001},"RACK OF STEEL","METAL",132,{"$f":"G491*I491","v":0},{"$f":"SUM(J491:P491)","v":0},{"$f":"SUMIF(Data!$H$2:$H$10177,$C491,Data!$D$2:$D$10177)","v":0},{"$f":"SUMIF(Data!$H$2:$H$10177,$C491,Data!$J$2:$J$10177)","v":0},{"$f":"SUMIF(Data!$K$2:$K$10177,$C491,Data!$M$2:$M$10177)","v":0},{"$f":"SUMIF(Data!$N$2:$N$10177,$C491,Data!$P$2:$P$10177)","v":0},{"$f":"SUMIF(Data!$Q$2:$R$10177,$C491,Data!$S$2:$S$10177)","v":0},{"$f":"SUMIF(Data!$T$2:$U$10177,$C491,Data!$V$2:$V$10177)","v":0},{"$f":"SUMIF(Data!$W$2:$W$10177,$C491,Data!$Y$2:$Y$10177)","v":0}]
[null,null,9900006016,6016,"FIXING SPACER OF WOOD","WOOD",6,0,0,{"$f":"SUMIF(Data!$H$2:$H$10177,$C492,Data!$D$2:$D$10177)","v":0},{"$f":"SUMIF(Data!$H$2:$H$10177,$C492,Data!$J$2:$J$10177)","v":0},{"$f":"SUMIF(Data!$K$2:$K$10177,$C492,Data!$M$2:$M$10177)","v":0},{"$f":"SUMIF(Data!$N$2:$N$10177,$C492,Data!$P$2:$P$10177)","v":0},{"$f":"SUMIF(Data!$Q$2:$R$10177,$C492,Data!$S$2:$S$10177)","v":0},{"$f":"SUMIF(Data!$T$2:$U$10177,$C492,Data!$V$2:$V$10177)","v":0},{"$f":"SUMIF(Data!$W$2:$W$10177,$C492,Data!$Y$2:$Y$10177)","v":0}]
[null,null,9900006017,6017,"FIXING SPACER OF WOOD","WOOD",3,0,0,{"$f":"SUMIF(Data!$H$2:$H$10177,$C493,Data!$D$2:$D$10177)","v":0},{"$f":"SUMIF(Data!$H$2:$H$10177,$C493,Data!$J$2:$J$10177)","v":0},{"$f":"SUMIF(Data!$K$2:$K$10177,$C493,Data!$M$2:$M$10177)","v":0},{"$f":"SUMIF(Data!$N$2:$N$10177,$C493,Data!$P$2:$P$10177)","v":0},{"$f":"SUMIF(Data!$Q$2:$R$10177,$C493,Data!$S$2:$S$10177)","v":0},{"$f":"SUMIF(Data!$T$2:$U$10177,$C493,Data!$V$2:$V$10177)","v":0},{"$f":"SUMIF(Data!$W$2:$W$10177,$C493,Data!$Y$2:$Y$10177)","v":0}]
[null,null,9900006018,6018,"FIXING SPACER OF PLASTIC","PLASTIC",4,0,0,{"$f":"SUMIF(Data!$H$2:$H$10177,$C494,Data!$D$2:$D$10177)","v":0},{"$f":"SUMIF(Data!$H$2:$H$10177,$C494,Data!$J$2:$J$10177)","v":0},{"$f":"SUMIF(Data!$K$2:$K$10177,$C494,Data!$M$2:$M$10177)","v":0},{"$f":"SUMIF(Data!$N$2:$N$10177,$C494,Data!$P$2:$P$10177)","v":0},{"$f":"SUMIF(Data!$Q$2:$R$10177,$C494,Data!$S$2:$S$10177)","v":0},{"$f":"SUMIF(Data!$T$2:$U$10177,$C494,Data!$V$2:$V$10177)","v":0},{"$f":"SUMIF(Data!$W$2:$W$10177,$C494,Data!$Y$2:$Y$10177)","v":0}]
[null,null,9900006019,6019,"FIXING SPACER OF PLASTIC","PLASTIC",4,0,0,{"$f":"SUMIF(Data!$H$2:$H$10177,$C495,Data!$D$2:$D$10177)","v":0},{"$f":"SUMIF(Data!$H$2:$H$10177,$C495,Data!$J$2:$J$10177)","v":0},{"$f":"SUMIF(Data!$K$2:$K$10177,$C495,Data!$M$2:$M$10177)","v":0},{"$f":"SUMIF(Data!$N$2:$N$10177,$C495,Data!$P$2:$P$10177)","v":0},{"$f":"SUMIF(Data!$Q$2:$R$10177,$C495,Data!$S$2:$S$10177)","v":0},{"$f":"SUMIF(Data!$T$2:$U$10177,$C495,Data!$V$2:$V$10177)","v":0},{"$f":"SUMIF(Data!$W$2:$W$10177,$C495,Data!$Y$2:$Y$10177)","v":0}]
[null,null,9900006021,6021,"SPACER OF PLASTIC","PLASTIC",2.8,0,0,{"$f":"SUMIF(Data!$H$2:$H$10177,$C496,Data!$D$2:$D$10177)","v":0},{"$f":"SUMIF(Data!$H$2:$H$10177,$C496,Data!$J$2:$J$10177)","v":0},{"$f":"SUMIF(Data!$K$2:$K$10177,$C496,Data!$M$2:$M$10177)","v":0},{"$f":"SUMIF(Data!$N$2:$N$10177,$C496,Data!$P$2:$P$10177)","v":0},{"$f":"SUMIF(Data!$Q$2:$R$10177,$C496,Data!$S$2:$S$10177)","v":0},{"$f":"SUMIF(Data!$T$2:$U$10177,$C496,Data!$V$2:$V$10177)","v":0},{"$f":"SUMIF(Data!$W$2:$W$10177,$C496,Data!$Y$2:$Y$10177)","v":0}]
[null,null,9900006100,6100,"PALLET OF WOOD (EUR)","WOOD",22,0,0,{"$f":"SUMIF(Data!$H$2:$H$10177,$C497,Data!$D$2:$D$10177)","v":0},{"$f":"SUMIF(Data!$H$2:$H$10177,$C497,Data!$J$2:$J$10177)","v":0},{"$f":"SUMIF(Data!$K$2:$K$10177,$C497,Data!$M$2:$M$10177)","v":0},{"$f":"SUMIF(Data!$N$2:$N$10177,$C497,Data!$P$2:$P$10177)","v":0},{"$f":"SUMIF(Data!$Q$2:$R$10177,$C497,Data!$S$2:$S$10177)","v":0},{"$f":"SUMIF(Data!$T$2:$U$10177,$C497,Data!$V$2:$V$10177)","v":0},{"$f":"SUMIF(Data!$W$2:$W$10177,$C497,Data!$Y$2:$Y$10177)","v":0}]
[null,null,9900006101,6101,"PALLET OF WOOD (1/2 EUR)","WOOD",10,0,0,{"$f":"SUMIF(Data!$H$2:$H$10177,$C498,Data!$D$2:$D$10177)","v":0},{"$f":"SUMIF(Data!$H$2:$H$10177,$C498,Data!$J$2:$J$10177)","v":0},{"$f":"SUMIF(Data!$K$2:$K$10177,$C498,Data!$M$2:$M$10177)","v":0},{"$f":"SUMIF(Data!$N$2:$N$10177,$C498,Data!$P$2:$P$10177)","v":0},{"$f":"SUMIF(Data!$Q$2:$R$10177,$C498,Data!$S$2:$S$10177)","v":0},{"$f":"SUMIF(Data!$T$2:$U$10177,$C498,Data!$V$2:$V$10177)","v":0},{"$f":"SUMIF(Data!$W$2:$W$10177,$C498,Data!$Y$2:$Y$10177)","v":0}]
[null,null,9900006102,6102,"FRAME OF WOOD (EUR)","WOOD",10,0,0,{"$f":"SUMIF(Data!$H$2:$H$10177,$C499,Data!$D$2:$D$10177)","v":0},{"$f":"SUMIF(Data!$H$2:$H$10177,$C499,Data!$J$2:$J$10177)","v":0},{"$f":"SUMIF(Data!$K$2:$K$10177,$C499,Data!$M$2:$M$10177)","v":0},{"$f":"SUMIF(Data!$N$2:$N$10177,$C499,Data!$P$2:$P$10177)","v":0},{"$f":"SUMIF(Data!$Q$2:$R$10177,$C499,Data!$S$2:$S$10177)","v":0},{"$f":"SUMIF(Data!$T$2:$U$10177,$C499,Data!$V$2:$V$10177)","v":0},{"$f":"SUMIF(Data!$W$2:$W$10177,$C499,Data!$Y$2:$Y$10177)","v":0}]
[null,null,9900006103,6103,"FRAME OF WOOD (1/2 EUR)","WOOD",7.5,0,0,{"$f":"SUMIF(Data!$H$2:$H$10177,$C500,Data!$D$2:$D$10177)","v":0},{"$f":"SUMIF(Data!$H$2:$H$10177,$C500,Data!$J$2:$J$10177)","v":0},{"$f":"SUMIF(Data!$K$2:$K$10177,$C500,Data!$M$2:$M$10177)","v":0},{"$f":"SUMIF(Data!$N$2:$N$10177,$C500,Data!$P$2:$P$10177)","v":0},{"$f":"SUMIF(Data!$Q$2:$R$10177,$C500,Data!$S$2:$S$10177)","v":0},{"$f":"SUMIF(Data!$T$2:$U$10177,$C500,Data!$V$2:$V$10177)","v":0},{"$f":"SUMIF(Data!$W$2:$W$10177,$C500,Data!$Y$2:$Y$10177)","v":0}]
[null,null,9900006104,6104,"LID OF WOOD (EUR)","WOOD",5.5,{"$f":"G501*I501","v":0},{"$f":"SUM(J501:P501)","v":0},{"$f":"SUMIF(Data!$H$2:$H$10177,$C501,Data!$D$2:$D$10177)","v":0},{"$f":"SUMIF(Data!$H$2:$H$10177,$C501,Data!$J$2:$J$10177)","v":0},{"$f":"SUMIF(Data!$K$2:$K$10177,$C501,Data!$M$2:$M$10177)","v":0},{"$f":"SUMIF(Data!$N$2:$N$10177,$C501,Data!$P$2:$P$10177)","v":0},{"$f":"SUMIF(Data!$Q$2:$R$10177,$C501,Data!$S$2:$S$10177)","v":0},{"$f":"SUMIF(Data!$T$2:$U$10177,$C501,Data!$V$2:$V$10177)","v":0},{"$f":"SUMIF(Data!$W$2:$W$10177,$C501,Data!$Y$2:$Y$10177)","v":0}]
[null,null,9900006166,6166,"RACK OF STEEL","METAL",170,0,0,{"$f":"SUMIF(Data!$H$2:$H$10177,$C502,Data!$D$2:$D$10177)","v":0},{"$f":"SUMIF(Data!$H$2:$H$10177,$C502,Data!$J$2:$J$10177)","v":0},{"$f":"SUMIF(Data!$K$2:$K$10177,$C502,Data!$M$2:$M$10177)","v":0},{"$f":"SUMIF(Data!$N$2:$N$10177,$C502,Data!$P$2:$P$10177)","v":0},{"$f":"SUMIF(Data!$Q$2:$R$10177,$C502,Data!$S$2:$S$10177)","v":0},{"$f":"SUMIF(Data!$T$2:$U$10177,$C502,Data!$V$2:$V$10177)","v":0},{"$f":"SUMIF(Data!$W$2:$W$10177,$C502,Data!$Y$2:$Y$10177)","v":0}]
[null,null,9900006189,6189,"FIXING SPACER OF PLASTIC","PLASTIC",5,0,0,{"$f":"SUMIF(Data!$H$2:$H$10177,$C503,Data!$D$2:$D$10177)","v":0},{"$f":"SUMIF(Data!$H$2:$H$10177,$C503,Data!$J$2:$J$10177)","v":0},{"$f":"SUMIF(Data!$K$2:$K$10177,$C503,Data!$M$2:$M$10177)","v":0},{"$f":"SUMIF(Data!$N$2:$N$10177,$C503,Data!$P$2:$P$10177)","v":0},{"$f":"SUMIF(Data!$Q$2:$R$10177,$C503,Data!$S$2:$S$10177)","v":0},{"$f":"SUMIF(Data!$T$2:$U$10177,$C503,Data!$V$2:$V$10177)","v":0},{"$f":"SUMIF(Data!$W$2:$W$10177,$C503,Data!$Y$2:$Y$10177)","v":0}]
[null,null,9900006193,6193,"FIXING SPACER OF PLASTIC","PLASTIC",5,0,0,{"$f":"SUMIF(Data!$H$2:$H$10177,$C504,Data!$D$2:$D$10177)","v":0},{"$f":"SUMIF(Data!$H$2:$H$10177,$C504,Data!$J$2:$J$10177)","v":0},{"$f":"SUMIF(Data!$K$2:$K$10177,$C504,Data!$M$2:$M$10177)","v":0},{"$f":"SUMIF(Data!$N$2:$N$10177,$C504,Data!$P$2:$P$10177)","v":0},{"$f":"SUMIF(Data!$Q$2:$R$10177,$C504,Data!$S$2:$S$10177)","v":0},{"$f":"SUMIF(Data!$T$2:$U$10177,$C504,Data!$V$2:$V$10177)","v":0},{"$f":"SUMIF(Data!$W$2:$W$10177,$C504,Data!$Y$2:$Y$10177)","v":0}]
[null,null,9900006194,6194,"FIXING SPACER OF PLASTIC","PLASTIC",15,0,0,{"$f":"SUMIF(Data!$H$2:$H$10177,$C505,Data!$D$2:$D$10177)","v":0},{"$f":"SUMIF(Data!$H$2:$H$10177,$C505,Data!$J$2:$J$10177)","v":0},{"$f":"SUMIF(Data!$K$2:$K$10177,$C505,Data!$M$2:$M$10177)","v":0},{"$f":"SUMIF(Data!$N$2:$N$10177,$C505,Data!$P$2:$P$10177)","v":0},{"$f":"SUMIF(Data!$Q$2:$R$10177,$C505,Data!$S$2:$S$10177)","v":0},{"$f":"SUMIF(Data!$T$2:$U$10177,$C505,Data!$V$2:$V$10177)","v":0},{"$f":"SUMIF(Data!$W$2:$W$10177,$C505,Data!$Y$2:$Y$10177)","v":0}]
[null,null,9900006196,{"$f":"C506-9900000000","v":6196},"FIXING SPACER OF PLASTIC","PLASTIC",9.5,{"$f":"G506*I506","v":0},{"$f":"SUM(J506:P506)","v":0},{"$f":"SUMIF(Data!$H$2:$H$10177,$C506,Data!$D$2:$D$10177)","v":0},{"$f":"SUMIF(Data!$H$2:$H$10177,$C506,Data!$J$2:$J$10177)","v":0},{"$f":"SUMIF(Data!$K$2:$K$10177,$C506,Data!$M$2:$M$10177)","v":0},{"$f":"SUMIF(Data!$N$2:$N$10177,$C506,Data!$P$2:$P$10177)","v":0},{"$f":"SUMIF(Data!$Q$2:$R$10177,$C506,Data!$S$2:$S$10177)","v":0},{"$f":"SUMIF(Data!$T$2:$U$10177,$C506,Data!$V$2:$V$10177)","v":0},{"$f":"SUMIF(Data!$W$2:$W$10177,$C506,Data!$Y$2:$Y$10177)","v":0}]
[null,null,9900006197,6197,"FIXING SPACER OF PLASTIC","PLASTIC",9.5,{"$f":"G507*I507","v":0},{"$f":"SUM(J507:P507)","v":0},{"$f":"SUMIF(Data!$H$2:$H$10177,$C507,Data!$D$2:$D$10177)","v":0},{"$f":"SUMIF(Data!$H$2:$H$10177,$C507,Data!$J$2:$J$10177)","v":0},{"$f":"SUMIF(Data!$K$2:$K$10177,$C507,Data!$M$2:$M$10177)","v":0},{"$f":"SUMIF(Data!$N$2:$N$10177,$C507,Data!$P$2:$P$10177)","v":0},{"$f":"SUMIF(Data!$Q$2:$R$10177,$C507,Data!$S$2:$S$10177)","v":0},{"$f":"SUMIF(Data!$T$2:$U$10177,$C507,Data!$V$2:$V$10177)","v":0},{"$f":"SUMIF(Data!$W$2:$W$10177,$C507,Data!$Y$2:$Y$10177)","v":0}]
[null,null,9900006481,6481,"FIXING SPACER OF WOOD","WOOD",12,0,0,{"$f":"SUMIF(Data!$H$2:$H$10177,$C508,Data!$D$2:$D$10177)","v":0},{"$f":"SUMIF(Data!$H$2:$H$10177,$C508,Data!$J$2:$J$10177)","v":0},{"$f":"SUMIF(Data!$K$2:$K$10177,$C508,Data!$M$2:$M$10177)","v":0},{"$f":"SUMIF(Data!$N$2:$N$10177,$C508,Data!$P$2:$P$10177)","v":0},{"$f":"SUMIF(Data!$Q$2:$R$10177,$C508,Data!$S$2:$S$10177)","v":0},{"$f":"SUMIF(Data!$T$2:$U$10177,$C508,Data!$V$2:$V$10177)","v":0},{"$f":"SUMIF(Data!$W$2:$W$10177,$C508,Data!$Y$2:$Y$10177)","v":0}]
[null,null,9900006500,6500,"GM INSERT","PLASTIC",0,0,0,{"$f":"SUMIF(Data!$H$2:$H$10177,$C509,Data!$D$2:$D$10177)","v":0},{"$f":"SUMIF(Data!$H$2:$H$10177,$C509,Data!$J$2:$J$10177)","v":0},{"$f":"SUMIF(Data!$K$2:$K$10177,$C509,Data!$M$2:$M$10177)","v":0},{"$f":"SUMIF(Data!$N$2:$N$10177,$C509,Data!$P$2:$P$10177)","v":0},{"$f":"SUMIF(Data!$Q$2:$R$10177,$C509,Data!$S$2:$S$10177)","v":0},{"$f":"SUMIF(Data!$T$2:$U$10177,$C509,Data!$V$2:$V$10177)","v":0},{"$f":"SUMIF(Data!$W$2:$W$10177,$C509,Data!$Y$2:$Y$10177)","v":0}]
[null,null,9900006501,6501,"GM INSERT","PLASTIC",0,0,0,{"$f":"SUMIF(Data!$H$2:$H$10177,$C510,Data!$D$2:$D$10177)","v":0},{"$f":"SUMIF(Data!$H$2:$H$10177,$C510,Data!$J$2:$J$10177)","v":0},{"$f":"SUMIF(Data!$K$2:$K$10177,$C510,Data!$M$2:$M$10177)","v":0},{"$f":"SUMIF(Data!$N$2:$N$10177,$C510,Data!$P$2:$P$10177)","v":0},{"$f":"SUMIF(Data!$Q$2:$R$10177,$C510,Data!$S$2:$S$10177)","v":0},{"$f":"SUMIF(Data!$T$2:$U$10177,$C510,Data!$V$2:$V$10177)","v":0},{"$f":"SUMIF(Data!$W$2:$W$10177,$C510,Data!$Y$2:$Y$10177)","v":0}]
[null,null,9900006502,6502,"GM INSERT","PLASTIC",0,{"$f":"G511*I511","v":0},{"$f":"SUM(J511:P511)","v":0},{"$f":"SUMIF(Data!$H$2:$H$10177,$C511,Data!$D$2:$D$10177)","v":0},{"$f":"SUMIF(Data!$H$2:$H$10177,$C511,Data!$J$2:$J$10177)","v":0},{"$f":"SUMIF(Data!$K$2:$K$10177,$C511,Data!$M$2:$M$10177)","v":0},{"$f":"SUMIF(Data!$N$2:$N$10177,$C511,Data!$P$2:$P$10177)","v":0},{"$f":"SUMIF(Data!$Q$2:$R$10177,$C511,Data!$S$2:$S$10177)","v":0},{"$f":"SUMIF(Data!$T$2:$U$10177,$C511,Data!$V$2:$V$10177)","v":0},{"$f":"SUMIF(Data!$W$2:$W$10177,$C511,Data!$Y$2:$Y$10177)","v":0}]
[null,null,9900006503,{"$f":"C512-9900000000","v":6503},"GM INSERT","PLASTIC",0,0,0,{"$f":"SUMIF(Data!$H$2:$H$10177,$C512,Data!$D$2:$D$10177)","v":0},{"$f":"SUMIF(Data!$H$2:$H$10177,$C512,Data!$J$2:$J$10177)","v":0},{"$f":"SUMIF(Data!$K$2:$K$10177,$C512,Data!$M$2:$M$10177)","v":0},{"$f":"SUMIF(Data!$N$2:$N$10177,$C512,Data!$P$2:$P$10177)","v":0},{"$f":"SUMIF(Data!$Q$2:$R$10177,$C512,Data!$S$2:$S$10177)","v":0},{"$f":"SUMIF(Data!$T$2:$U$10177,$C512,Data!$V$2:$V$10177)","v":0},{"$f":"SUMIF(Data!$W$2:$W$10177,$C512,Data!$Y$2:$Y$10177)","v":0}]
[null,null,9900006504,6504,"GM INSERT","PLASTIC",0,0,0,{"$f":"SUMIF(Data!$H$2:$H$10177,$C513,Data!$D$2:$D$10177)","v":0},{"$f":"SUMIF(Data!$H$2:$H$10177,$C513,Data!$J$2:$J$10177)","v":0},{"$f":"SUMIF(Data!$K$2:$K$10177,$C513,Data!$M$2:$M$10177)","v":0},{"$f":"SUMIF(Data!$N$2:$N$10177,$C513,Data!$P$2:$P$10177)","v":0},{"$f":"SUMIF(Data!$Q$2:$R$10177,$C513,Data!$S$2:$S$10177)","v":0},{"$f":"SUMIF(Data!$T$2:$U$10177,$C513,Data!$V$2:$V$10177)","v":0},{"$f":"SUMIF(Data!$W$2:$W$10177,$C513,Data!$Y$2:$Y$10177)","v":0}]
[null,null,9900006505,6505,"GM INSERT","PLASTIC",0,0,0,{"$f":"SUMIF(Data!$H$2:$H$10177,$C514,Data!$D$2:$D$10177)","v":0},{"$f":"SUMIF(Data!$H$2:$H$10177,$C514,Data!$J$2:$J$10177)","v":0},{"$f":"SUMIF(Data!$K$2:$K$10177,$C514,Data!$M$2:$M$10177)","v":0},{"$f":"SUMIF(Data!$N$2:$N$10177,$C514,Data!$P$2:$P$10177)","v":0},{"$f":"SUMIF(Data!$Q$2:$R$10177,$C514,Data!$S$2:$S$10177)","v":0},{"$f":"SUMIF(Data!$T$2:$U$10177,$C514,Data!$V$2:$V$10177)","v":0},{"$f":"SUMIF(Data!$W$2:$W$10177,$C514,Data!$Y$2:$Y$10177)","v":0}]
[null,null,9900006507,6507,"GM INSERT","PLASTIC",0,0,0,{"$f":"SUMIF(Data!$H$2:$H$10177,$C515,Data!$D$2:$D$10177)","v":0},{"$f":"SUMIF(Data!$H$2:$H$10177,$C515,Data!$J$2:$J$10177)","v":0},{"$f":"SUMIF(Data!$K$2:$K$10177,$C515,Data!$M$2:$M$10177)","v":0},{"$f":"SUMIF(Data!$N$2:$N$10177,$C515,Data!$P$2:$P$10177)","v":0},{"$f":"SUMIF(Data!$Q$2:$R$10177,$C515,Data!$S$2:$S$10177)","v":0},{"$f":"SUMIF(Data!$T$2:$U$10177,$C515,Data!$V$2:$V$10177)","v":0},{"$f":"SUMIF(Data!$W$2:$W$10177,$C515,Data!$Y$2:$Y$10177)","v":0}]
[null,null,9900006508,6508,"GM INSERT","PLASTIC",0,0,0,{"$f":"SUMIF(Data!$H$2:$H$10177,$C516,Data!$D$2:$D$10177)","v":0},{"$f":"SUMIF(Data!$H$2:$H$10177,$C516,Data!$J$2:$J$10177)","v":0},{"$f":"SUMIF(Data!$K$2:$K$10177,$C516,Data!$M$2:$M$10177)","v":0},{"$f":"SUMIF(Data!$N$2:$N$10177,$C516,Data!$P$2:$P$10177)","v":0},{"$f":"SUMIF(Data!$Q$2:$R$10177,$C516,Data!$S$2:$S$10177)","v":0},{"$f":"SUMIF(Data!$T$2:$U$10177,$C516,Data!$V$2:$V$10177)","v":0},{"$f":"SUMIF(Data!$W$2:$W$10177,$C516,Data!$Y$2:$Y$10177)","v":0}]
[null,null,9900006510,6510,"GM INSERT","PLASTIC",0,0,0,{"$f":"SUMIF(Data!$H$2:$H$10177,$C517,Data!$D$2:$D$10177)","v":0},{"$f":"SUMIF(Data!$H$2:$H$10177,$C517,Data!$J$2:$J$10177)","v":0},{"$f":"SUMIF(Data!$K$2:$K$10177,$C517,Data!$M$2:$M$10177)","v":0},{"$f":"SUMIF(Data!$N$2:$N$10177,$C517,Data!$P$2:$P$10177)","v":0},{"$f":"SUMIF(Data!$Q$2:$R$10177,$C517,Data!$S$2:$S$10177)","v":0},{"$f":"SUMIF(Data!$T$2:$U$10177,$C517,Data!$V$2:$V$10177)","v":0},{"$f":"SUMIF(Data!$W$2:$W$10177,$C517,Data!$Y$2:$Y$10177)","v":0}]
[null,null,9900007013,{"$f":"C518-9900000000","v":7013},"RACK OF STEEL","METAL",30,{"$f":"G518*I518","v":0},{"$f":"SUM(J518:P518)","v":0},{"$f":"SUMIF(Data!$H$2:$H$10177,$C518,Data!$D$2:$D$10177)","v":0},{"$f":"SUMIF(Data!$H$2:$H$10177,$C518,Data!$J$2:$J$10177)","v":0},{"$f":"SUMIF(Data!$K$2:$K$10177,$C518,Data!$M$2:$M$10177)","v":0},{"$f":"SUMIF(Data!$N$2:$N$10177,$C518,Data!$P$2:$P$10177)","v":0},{"$f":"SUMIF(Data!$Q$2:$R$10177,$C518,Data!$S$2:$S$10177)","v":0},{"$f":"SUMIF(Data!$T$2:$U$10177,$C518,Data!$V$2:$V$10177)","v":0},{"$f":"SUMIF(Data!$W$2:$W$10177,$C518,Data!$Y$2:$Y$10177)","v":0}]
[null,null,9900007883,7883,"RACK OF STEEL","METAL",22,0,0,{"$f":"SUMIF(Data!$H$2:$H$10177,$C519,Data!$D$2:$D$10177)","v":0},{"$f":"SUMIF(Data!$H$2:$H$10177,$C519,Data!$J$2:$J$10177)","v":0},{"$f":"SUMIF(Data!$K$2:$K$10177,$C519,Data!$M$2:$M$10177)","v":0},{"$f":"SUMIF(Data!$N$2:$N$10177,$C519,Data!$P$2:$P$10177)","v":0},{"$f":"SUMIF(Data!$Q$2:$R$10177,$C519,Data!$S$2:$S$10177)","v":0},{"$f":"SUMIF(Data!$T$2:$U$10177,$C519,Data!$V$2:$V$10177)","v":0},{"$f":"SUMIF(Data!$W$2:$W$10177,$C519,Data!$Y$2:$Y$10177)","v":0}]
[null,null,9900008006,8006,"SUPPORT OF STEEL","METAL",1.5,0,0,{"$f":"SUMIF(Data!$H$2:$H$10177,$C520,Data!$D$2:$D$10177)","v":0},{"$f":"SUMIF(Data!$H$2:$H$10177,$C520,Data!$J$2:$J$10177)","v":0},{"$f":"SUMIF(Data!$K$2:$K$10177,$C520,Data!$M$2:$M$10177)","v":0},{"$f":"SUMIF(Data!$N$2:$N$10177,$C520,Data!$P$2:$P$10177)","v":0},{"$f":"SUMIF(Data!$Q$2:$R$10177,$C520,Data!$S$2:$S$10177)","v":0},{"$f":"SUMIF(Data!$T$2:$U$10177,$C520,Data!$V$2:$V$10177)","v":0},{"$f":"SUMIF(Data!$W$2:$W$10177,$C520,Data!$Y$2:$Y$10177)","v":0}]
[null,null,9900008007,8007,"SUPPORT OF STEEL","METAL",2.4,0,0,{"$f":"SUMIF(Data!$H$2:$H$10177,$C521,Data!$D$2:$D$10177)","v":0},{"$f":"SUMIF(Data!$H$2:$H$10177,$C521,Data!$J$2:$J$10177)","v":0},{"$f":"SUMIF(Data!$K$2:$K$10177,$C521,Data!$M$2:$M$10177)","v":0},{"$f":"SUMIF(Data!$N$2:$N$10177,$C521,Data!$P$2:$P$10177)","v":0},{"$f":"SUMIF(Data!$Q$2:$R$10177,$C521,Data!$S$2:$S$10177)","v":0},{"$f":"SUMIF(Data!$T$2:$U$10177,$C521,Data!$V$2:$V$10177)","v":0},{"$f":"SUMIF(Data!$W$2:$W$10177,$C521,Data!$Y$2:$Y$10177)","v":0}]
[null,null,9900008010,8010,"SUPPORT OF STEEL","METAL",11,0,0,{"$f":"SUMIF(Data!$H$2:$H$10177,$C522,Data!$D$2:$D$10177)","v":0},{"$f":"SUMIF(Data!$H$2:$H$10177,$C522,Data!$J$2:$J$10177)","v":0},{"$f":"SUMIF(Data!$K$2:$K$10177,$C522,Data!$M$2:$M$10177)","v":0},{"$f":"SUMIF(Data!$N$2:$N$10177,$C522,Data!$P$2:$P$10177)","v":0},{"$f":"SUMIF(Data!$Q$2:$R$10177,$C522,Data!$S$2:$S$10177)","v":0},{"$f":"SUMIF(Data!$T$2:$U$10177,$C522,Data!$V$2:$V$10177)","v":0},{"$f":"SUMIF(Data!$W$2:$W$10177,$C522,Data!$Y$2:$Y$10177)","v":0}]
[null,null,9900008011,8011,"SUPPORT OF STEEL","METAL",11,0,0,{"$f":"SUMIF(Data!$H$2:$H$10177,$C523,Data!$D$2:$D$10177)","v":0},{"$f":"SUMIF(Data!$H$2:$H$10177,$C523,Data!$J$2:$J$10177)","v":0},{"$f":"SUMIF(Data!$K$2:$K$10177,$C523,Data!$M$2:$M$10177)","v":0},{"$f":"SUMIF(Data!$N$2:$N$10177,$C523,Data!$P$2:$P$10177)","v":0},{"$f":"SUMIF(Data!$Q$2:$R$10177,$C523,Data!$S$2:$S$10177)","v":0},{"$f":"SUMIF(Data!$T$2:$U$10177,$C523,Data!$V$2:$V$10177)","v":0},{"$f":"SUMIF(Data!$W$2:$W$10177,$C523,Data!$Y$2:$Y$10177)","v":0}]
[null,null,9900008012,8012,"SUPPORT OF STEEL","METAL",2.2000000000000002,0,0,{"$f":"SUMIF(Data!$H$2:$H$10177,$C524,Data!$D$2:$D$10177)","v":0},{"$f":"SUMIF(Data!$H$2:$H$10177,$C524,Data!$J$2:$J$10177)","v":0},{"$f":"SUMIF(Data!$K$2:$K$10177,$C524,Data!$M$2:$M$10177)","v":0},{"$f":"SUMIF(Data!$N$2:$N$10177,$C524,Data!$P$2:$P$10177)","v":0},{"$f":"SUMIF(Data!$Q$2:$R$10177,$C524,Data!$S$2:$S$10177)","v":0},{"$f":"SUMIF(Data!$T$2:$U$10177,$C524,Data!$V$2:$V$10177)","v":0},{"$f":"SUMIF(Data!$W$2:$W$10177,$C524,Data!$Y$2:$Y$10177)","v":0}]
[null,null,9900008013,8013,"SUPPORT OF STEEL","METAL",2.2000000000000002,0,0,{"$f":"SUMIF(Data!$H$2:$H$10177,$C525,Data!$D$2:$D$10177)","v":0},{"$f":"SUMIF(Data!$H$2:$H$10177,$C525,Data!$J$2:$J$10177)","v":0},{"$f":"SUMIF(Data!$K$2:$K$10177,$C525,Data!$M$2:$M$10177)","v":0},{"$f":"SUMIF(Data!$N$2:$N$10177,$C525,Data!$P$2:$P$10177)","v":0},{"$f":"SUMIF(Data!$Q$2:$R$10177,$C525,Data!$S$2:$S$10177)","v":0},{"$f":"SUMIF(Data!$T$2:$U$10177,$C525,Data!$V$2:$V$10177)","v":0},{"$f":"SUMIF(Data!$W$2:$W$10177,$C525,Data!$Y$2:$Y$10177)","v":0}]
[null,null,9900008015,8015,"SUPPORT OF STEEL","METAL",3.25,0,0,{"$f":"SUMIF(Data!$H$2:$H$10177,$C526,Data!$D$2:$D$10177)","v":0},{"$f":"SUMIF(Data!$H$2:$H$10177,$C526,Data!$J$2:$J$10177)","v":0},{"$f":"SUMIF(Data!$K$2:$K$10177,$C526,Data!$M$2:$M$10177)","v":0},{"$f":"SUMIF(Data!$N$2:$N$10177,$C526,Data!$P$2:$P$10177)","v":0},{"$f":"SUMIF(Data!$Q$2:$R$10177,$C526,Data!$S$2:$S$10177)","v":0},{"$f":"SUMIF(Data!$T$2:$U$10177,$C526,Data!$V$2:$V$10177)","v":0},{"$f":"SUMIF(Data!$W$2:$W$10177,$C526,Data!$Y$2:$Y$10177)","v":0}]
[null,null,9900008016,8016,"SUPPORT OF STEEL","METAL",6.2,0,0,{"$f":"SUMIF(Data!$H$2:$H$10177,$C527,Data!$D$2:$D$10177)","v":0},{"$f":"SUMIF(Data!$H$2:$H$10177,$C527,Data!$J$2:$J$10177)","v":0},{"$f":"SUMIF(Data!$K$2:$K$10177,$C527,Data!$M$2:$M$10177)","v":0},{"$f":"SUMIF(Data!$N$2:$N$10177,$C527,Data!$P$2:$P$10177)","v":0},{"$f":"SUMIF(Data!$Q$2:$R$10177,$C527,Data!$S$2:$S$10177)","v":0},{"$f":"SUMIF(Data!$T$2:$U$10177,$C527,Data!$V$2:$V$10177)","v":0},{"$f":"SUMIF(Data!$W$2:$W$10177,$C527,Data!$Y$2:$Y$10177)","v":0}]
[null,null,9900008017,8017,"SUPPORT OF STEEL","METAL",6.45,0,0,{"$f":"SUMIF(Data!$H$2:$H$10177,$C528,Data!$D$2:$D$10177)","v":0},{"$f":"SUMIF(Data!$H$2:$H$10177,$C528,Data!$J$2:$J$10177)","v":0},{"$f":"SUMIF(Data!$K$2:$K$10177,$C528,Data!$M$2:$M$10177)","v":0},{"$f":"SUMIF(Data!$N$2:$N$10177,$C528,Data!$P$2:$P$10177)","v":0},{"$f":"SUMIF(Data!$Q$2:$R$10177,$C528,Data!$S$2:$S$10177)","v":0},{"$f":"SUMIF(Data!$T$2:$U$10177,$C528,Data!$V$2:$V$10177)","v":0},{"$f":"SUMIF(Data!$W$2:$W$10177,$C528,Data!$Y$2:$Y$10177)","v":0}]
[null,null,9900008018,8018,"SUPPORT OF STEEL","METAL",4.1500000000000004,0,0,{"$f":"SUMIF(Data!$H$2:$H$10177,$C529,Data!$D$2:$D$10177)","v":0},{"$f":"SUMIF(Data!$H$2:$H$10177,$C529,Data!$J$2:$J$10177)","v":0},{"$f":"SUMIF(Data!$K$2:$K$10177,$C529,Data!$M$2:$M$10177)","v":0},{"$f":"SUMIF(Data!$N$2:$N$10177,$C529,Data!$P$2:$P$10177)","v":0},{"$f":"SUMIF(Data!$Q$2:$R$10177,$C529,Data!$S$2:$S$10177)","v":0},{"$f":"SUMIF(Data!$T$2:$U$10177,$C529,Data!$V$2:$V$10177)","v":0},{"$f":"SUMIF(Data!$W$2:$W$10177,$C529,Data!$Y$2:$Y$10177)","v":0}]
[null,null,9900008019,8019,"SUPPORT OF STEEL","METAL",5.5,0,0,{"$f":"SUMIF(Data!$H$2:$H$10177,$C530,Data!$D$2:$D$10177)","v":0},{"$f":"SUMIF(Data!$H$2:$H$10177,$C530,Data!$J$2:$J$10177)","v":0},{"$f":"SUMIF(Data!$K$2:$K$10177,$C530,Data!$M$2:$M$10177)","v":0},{"$f":"SUMIF(Data!$N$2:$N$10177,$C530,Data!$P$2:$P$10177)","v":0},{"$f":"SUMIF(Data!$Q$2:$R$10177,$C530,Data!$S$2:$S$10177)","v":0},{"$f":"SUMIF(Data!$T$2:$U$10177,$C530,Data!$V$2:$V$10177)","v":0},{"$f":"SUMIF(Data!$W$2:$W$10177,$C530,Data!$Y$2:$Y$10177)","v":0}]
[null,null,9900008020,8020,"SUPPORT OF STEEL","METAL",3.15,0,0,{"$f":"SUMIF(Data!$H$2:$H$10177,$C531,Data!$D$2:$D$10177)","v":0},{"$f":"SUMIF(Data!$H$2:$H$10177,$C531,Data!$J$2:$J$10177)","v":0},{"$f":"SUMIF(Data!$K$2:$K$10177,$C531,Data!$M$2:$M$10177)","v":0},{"$f":"SUMIF(Data!$N$2:$N$10177,$C531,Data!$P$2:$P$10177)","v":0},{"$f":"SUMIF(Data!$Q$2:$R$10177,$C531,Data!$S$2:$S$10177)","v":0},{"$f":"SUMIF(Data!$T$2:$U$10177,$C531,Data!$V$2:$V$10177)","v":0},{"$f":"SUMIF(Data!$W$2:$W$10177,$C531,Data!$Y$2:$Y$10177)","v":0}]
[null,null,9900008021,8021,"SUPPORT OF STEEL","METAL",10.5,0,0,{"$f":"SUMIF(Data!$H$2:$H$10177,$C532,Data!$D$2:$D$10177)","v":0},{"$f":"SUMIF(Data!$H$2:$H$10177,$C532,Data!$J$2:$J$10177)","v":0},{"$f":"SUMIF(Data!$K$2:$K$10177,$C532,Data!$M$2:$M$10177)","v":0},{"$f":"SUMIF(Data!$N$2:$N$10177,$C532,Data!$P$2:$P$10177)","v":0},{"$f":"SUMIF(Data!$Q$2:$R$10177,$C532,Data!$S$2:$S$10177)","v":0},{"$f":"SUMIF(Data!$T$2:$U$10177,$C532,Data!$V$2:$V$10177)","v":0},{"$f":"SUMIF(Data!$W$2:$W$10177,$C532,Data!$Y$2:$Y$10177)","v":0}]
[null,null,9900008022,8022,"SUPPORT OF STEEL","METAL",2.5,0,0,{"$f":"SUMIF(Data!$H$2:$H$10177,$C533,Data!$D$2:$D$10177)","v":0},{"$f":"SUMIF(Data!$H$2:$H$10177,$C533,Data!$J$2:$J$10177)","v":0},{"$f":"SUMIF(Data!$K$2:$K$10177,$C533,Data!$M$2:$M$10177)","v":0},{"$f":"SUMIF(Data!$N$2:$N$10177,$C533,Data!$P$2:$P$10177)","v":0},{"$f":"SUMIF(Data!$Q$2:$R$10177,$C533,Data!$S$2:$S$10177)","v":0},{"$f":"SUMIF(Data!$T$2:$U$10177,$C533,Data!$V$2:$V$10177)","v":0},{"$f":"SUMIF(Data!$W$2:$W$10177,$C533,Data!$Y$2:$Y$10177)","v":0}]
[null,null,9900008025,8025,"SUPPORT OF STEEL","METAL",11,0,0,{"$f":"SUMIF(Data!$H$2:$H$10177,$C534,Data!$D$2:$D$10177)","v":0},{"$f":"SUMIF(Data!$H$2:$H$10177,$C534,Data!$J$2:$J$10177)","v":0},{"$f":"SUMIF(Data!$K$2:$K$10177,$C534,Data!$M$2:$M$10177)","v":0},{"$f":"SUMIF(Data!$N$2:$N$10177,$C534,Data!$P$2:$P$10177)","v":0},{"$f":"SUMIF(Data!$Q$2:$R$10177,$C534,Data!$S$2:$S$10177)","v":0},{"$f":"SUMIF(Data!$T$2:$U$10177,$C534,Data!$V$2:$V$10177)","v":0},{"$f":"SUMIF(Data!$W$2:$W$10177,$C534,Data!$Y$2:$Y$10177)","v":0}]
[null,null,9900008026,8026,"SUPPORT OF STEEL","METAL",10,0,0,{"$f":"SUMIF(Data!$H$2:$H$10177,$C535,Data!$D$2:$D$10177)","v":0},{"$f":"SUMIF(Data!$H$2:$H$10177,$C535,Data!$J$2:$J$10177)","v":0},{"$f":"SUMIF(Data!$K$2:$K$10177,$C535,Data!$M$2:$M$10177)","v":0},{"$f":"SUMIF(Data!$N$2:$N$10177,$C535,Data!$P$2:$P$10177)","v":0},{"$f":"SUMIF(Data!$Q$2:$R$10177,$C535,Data!$S$2:$S$10177)","v":0},{"$f":"SUMIF(Data!$T$2:$U$10177,$C535,Data!$V$2:$V$10177)","v":0},{"$f":"SUMIF(Data!$W$2:$W$10177,$C535,Data!$Y$2:$Y$10177)","v":0}]
[null,null,9900008027,8027,"SUPPORT OF STEEL","METAL",7.5,0,0,{"$f":"SUMIF(Data!$H$2:$H$10177,$C536,Data!$D$2:$D$10177)","v":0},{"$f":"SUMIF(Data!$H$2:$H$10177,$C536,Data!$J$2:$J$10177)","v":0},{"$f":"SUMIF(Data!$K$2:$K$10177,$C536,Data!$M$2:$M$10177)","v":0},{"$f":"SUMIF(Data!$N$2:$N$10177,$C536,Data!$P$2:$P$10177)","v":0},{"$f":"SUMIF(Data!$Q$2:$R$10177,$C536,Data!$S$2:$S$10177)","v":0},{"$f":"SUMIF(Data!$T$2:$U$10177,$C536,Data!$V$2:$V$10177)","v":0},{"$f":"SUMIF(Data!$W$2:$W$10177,$C536,Data!$Y$2:$Y$10177)","v":0}]
[null,null,9900008028,8028,"SUPPORT OF STEEL","METAL",12.5,0,0,{"$f":"SUMIF(Data!$H$2:$H$10177,$C537,Data!$D$2:$D$10177)","v":0},{"$f":"SUMIF(Data!$H$2:$H$10177,$C537,Data!$J$2:$J$10177)","v":0},{"$f":"SUMIF(Data!$K$2:$K$10177,$C537,Data!$M$2:$M$10177)","v":0},{"$f":"SUMIF(Data!$N$2:$N$10177,$C537,Data!$P$2:$P$10177)","v":0},{"$f":"SUMIF(Data!$Q$2:$R$10177,$C537,Data!$S$2:$S$10177)","v":0},{"$f":"SUMIF(Data!$T$2:$U$10177,$C537,Data!$V$2:$V$10177)","v":0},{"$f":"SUMIF(Data!$W$2:$W$10177,$C537,Data!$Y$2:$Y$10177)","v":0}]
[null,null,9900008029,8029,"SUPPORT OF STEEL","METAL",12.3,0,0,{"$f":"SUMIF(Data!$H$2:$H$10177,$C538,Data!$D$2:$D$10177)","v":0},{"$f":"SUMIF(Data!$H$2:$H$10177,$C538,Data!$J$2:$J$10177)","v":0},{"$f":"SUMIF(Data!$K$2:$K$10177,$C538,Data!$M$2:$M$10177)","v":0},{"$f":"SUMIF(Data!$N$2:$N$10177,$C538,Data!$P$2:$P$10177)","v":0},{"$f":"SUMIF(Data!$Q$2:$R$10177,$C538,Data!$S$2:$S$10177)","v":0},{"$f":"SUMIF(Data!$T$2:$U$10177,$C538,Data!$V$2:$V$10177)","v":0},{"$f":"SUMIF(Data!$W$2:$W$10177,$C538,Data!$Y$2:$Y$10177)","v":0}]
[null,null,9900008050,8050,"SUPPORT OF STEEL","METAL",6.4,0,0,{"$f":"SUMIF(Data!$H$2:$H$10177,$C539,Data!$D$2:$D$10177)","v":0},{"$f":"SUMIF(Data!$H$2:$H$10177,$C539,Data!$J$2:$J$10177)","v":0},{"$f":"SUMIF(Data!$K$2:$K$10177,$C539,Data!$M$2:$M$10177)","v":0},{"$f":"SUMIF(Data!$N$2:$N$10177,$C539,Data!$P$2:$P$10177)","v":0},{"$f":"SUMIF(Data!$Q$2:$R$10177,$C539,Data!$S$2:$S$10177)","v":0},{"$f":"SUMIF(Data!$T$2:$U$10177,$C539,Data!$V$2:$V$10177)","v":0},{"$f":"SUMIF(Data!$W$2:$W$10177,$C539,Data!$Y$2:$Y$10177)","v":0}]
[null,null,9900008051,8051,"SUPPORT OF STEEL","METAL",6.7,0,0,{"$f":"SUMIF(Data!$H$2:$H$10177,$C540,Data!$D$2:$D$10177)","v":0},{"$f":"SUMIF(Data!$H$2:$H$10177,$C540,Data!$J$2:$J$10177)","v":0},{"$f":"SUMIF(Data!$K$2:$K$10177,$C540,Data!$M$2:$M$10177)","v":0},{"$f":"SUMIF(Data!$N$2:$N$10177,$C540,Data!$P$2:$P$10177)","v":0},{"$f":"SUMIF(Data!$Q$2:$R$10177,$C540,Data!$S$2:$S$10177)","v":0},{"$f":"SUMIF(Data!$T$2:$U$10177,$C540,Data!$V$2:$V$10177)","v":0},{"$f":"SUMIF(Data!$W$2:$W$10177,$C540,Data!$Y$2:$Y$10177)","v":0}]
[null,null,9900008059,8059,"SUPPORT OF STEEL","METAL",3.5,0,0,{"$f":"SUMIF(Data!$H$2:$H$10177,$C541,Data!$D$2:$D$10177)","v":0},{"$f":"SUMIF(Data!$H$2:$H$10177,$C541,Data!$J$2:$J$10177)","v":0},{"$f":"SUMIF(Data!$K$2:$K$10177,$C541,Data!$M$2:$M$10177)","v":0},{"$f":"SUMIF(Data!$N$2:$N$10177,$C541,Data!$P$2:$P$10177)","v":0},{"$f":"SUMIF(Data!$Q$2:$R$10177,$C541,Data!$S$2:$S$10177)","v":0},{"$f":"SUMIF(Data!$T$2:$U$10177,$C541,Data!$V$2:$V$10177)","v":0},{"$f":"SUMIF(Data!$W$2:$W$10177,$C541,Data!$Y$2:$Y$10177)","v":0}]
[null,null,9900008060,8060,"SUPPORT OF STEEL","METAL",3.5,0,0,{"$f":"SUMIF(Data!$H$2:$H$10177,$C542,Data!$D$2:$D$10177)","v":0},{"$f":"SUMIF(Data!$H$2:$H$10177,$C542,Data!$J$2:$J$10177)","v":0},{"$f":"SUMIF(Data!$K$2:$K$10177,$C542,Data!$M$2:$M$10177)","v":0},{"$f":"SUMIF(Data!$N$2:$N$10177,$C542,Data!$P$2:$P$10177)","v":0},{"$f":"SUMIF(Data!$Q$2:$R$10177,$C542,Data!$S$2:$S$10177)","v":0},{"$f":"SUMIF(Data!$T$2:$U$10177,$C542,Data!$V$2:$V$10177)","v":0},{"$f":"SUMIF(Data!$W$2:$W$10177,$C542,Data!$Y$2:$Y$10177)","v":0}]
[null,null,9900008061,8061,"SUPPORT OF STEEL","METAL",2.27,0,0,{"$f":"SUMIF(Data!$H$2:$H$10177,$C543,Data!$D$2:$D$10177)","v":0},{"$f":"SUMIF(Data!$H$2:$H$10177,$C543,Data!$J$2:$J$10177)","v":0},{"$f":"SUMIF(Data!$K$2:$K$10177,$C543,Data!$M$2:$M$10177)","v":0},{"$f":"SUMIF(Data!$N$2:$N$10177,$C543,Data!$P$2:$P$10177)","v":0},{"$f":"SUMIF(Data!$Q$2:$R$10177,$C543,Data!$S$2:$S$10177)","v":0},{"$f":"SUMIF(Data!$T$2:$U$10177,$C543,Data!$V$2:$V$10177)","v":0},{"$f":"SUMIF(Data!$W$2:$W$10177,$C543,Data!$Y$2:$Y$10177)","v":0}]
[null,null,9900008062,8062,"SUPPORT OF STEEL","METAL",2.2000000000000002,0,0,{"$f":"SUMIF(Data!$H$2:$H$10177,$C544,Data!$D$2:$D$10177)","v":0},{"$f":"SUMIF(Data!$H$2:$H$10177,$C544,Data!$J$2:$J$10177)","v":0},{"$f":"SUMIF(Data!$K$2:$K$10177,$C544,Data!$M$2:$M$10177)","v":0},{"$f":"SUMIF(Data!$N$2:$N$10177,$C544,Data!$P$2:$P$10177)","v":0},{"$f":"SUMIF(Data!$Q$2:$R$10177,$C544,Data!$S$2:$S$10177)","v":0},{"$f":"SUMIF(Data!$T$2:$U$10177,$C544,Data!$V$2:$V$10177)","v":0},{"$f":"SUMIF(Data!$W$2:$W$10177,$C544,Data!$Y$2:$Y$10177)","v":0}]
[null,null,9900008063,8063,"SUPPORT OF STEEL","METAL",2.2000000000000002,0,0,{"$f":"SUMIF(Data!$H$2:$H$10177,$C545,Data!$D$2:$D$10177)","v":0},{"$f":"SUMIF(Data!$H$2:$H$10177,$C545,Data!$J$2:$J$10177)","v":0},{"$f":"SUMIF(Data!$K$2:$K$10177,$C545,Data!$M$2:$M$10177)","v":0},{"$f":"SUMIF(Data!$N$2:$N$10177,$C545,Data!$P$2:$P$10177)","v":0},{"$f":"SUMIF(Data!$Q$2:$R$10177,$C545,Data!$S$2:$S$10177)","v":0},{"$f":"SUMIF(Data!$T$2:$U$10177,$C545,Data!$V$2:$V$10177)","v":0},{"$f":"SUMIF(Data!$W$2:$W$10177,$C545,Data!$Y$2:$Y$10177)","v":0}]
[null,null,9900008064,8064,"SUPPORT OF STEEL","METAL",5.5,0,0,{"$f":"SUMIF(Data!$H$2:$H$10177,$C546,Data!$D$2:$D$10177)","v":0},{"$f":"SUMIF(Data!$H$2:$H$10177,$C546,Data!$J$2:$J$10177)","v":0},{"$f":"SUMIF(Data!$K$2:$K$10177,$C546,Data!$M$2:$M$10177)","v":0},{"$f":"SUMIF(Data!$N$2:$N$10177,$C546,Data!$P$2:$P$10177)","v":0},{"$f":"SUMIF(Data!$Q$2:$R$10177,$C546,Data!$S$2:$S$10177)","v":0},{"$f":"SUMIF(Data!$T$2:$U$10177,$C546,Data!$V$2:$V$10177)","v":0},{"$f":"SUMIF(Data!$W$2:$W$10177,$C546,Data!$Y$2:$Y$10177)","v":0}]
[null,null,9900008065,8065,"SUPPORT OF STEEL","METAL",2.85,0,0,{"$f":"SUMIF(Data!$H$2:$H$10177,$C547,Data!$D$2:$D$10177)","v":0},{"$f":"SUMIF(Data!$H$2:$H$10177,$C547,Data!$J$2:$J$10177)","v":0},{"$f":"SUMIF(Data!$K$2:$K$10177,$C547,Data!$M$2:$M$10177)","v":0},{"$f":"SUMIF(Data!$N$2:$N$10177,$C547,Data!$P$2:$P$10177)","v":0},{"$f":"SUMIF(Data!$Q$2:$R$10177,$C547,Data!$S$2:$S$10177)","v":0},{"$f":"SUMIF(Data!$T$2:$U$10177,$C547,Data!$V$2:$V$10177)","v":0},{"$f":"SUMIF(Data!$W$2:$W$10177,$C547,Data!$Y$2:$Y$10177)","v":0}]
[null,null,9900008066,8066,"SUPPORT OF STEEL","METAL",2.85,0,0,{"$f":"SUMIF(Data!$H$2:$H$10177,$C548,Data!$D$2:$D$10177)","v":0},{"$f":"SUMIF(Data!$H$2:$H$10177,$C548,Data!$J$2:$J$10177)","v":0},{"$f":"SUMIF(Data!$K$2:$K$10177,$C548,Data!$M$2:$M$10177)","v":0},{"$f":"SUMIF(Data!$N$2:$N$10177,$C548,Data!$P$2:$P$10177)","v":0},{"$f":"SUMIF(Data!$Q$2:$R$10177,$C548,Data!$S$2:$S$10177)","v":0},{"$f":"SUMIF(Data!$T$2:$U$10177,$C548,Data!$V$2:$V$10177)","v":0},{"$f":"SUMIF(Data!$W$2:$W$10177,$C548,Data!$Y$2:$Y$10177)","v":0}]
[null,null,9900008067,8067,"SUPPORT OF STEEL","METAL",5,0,0,{"$f":"SUMIF(Data!$H$2:$H$10177,$C549,Data!$D$2:$D$10177)","v":0},{"$f":"SUMIF(Data!$H$2:$H$10177,$C549,Data!$J$2:$J$10177)","v":0},{"$f":"SUMIF(Data!$K$2:$K$10177,$C549,Data!$M$2:$M$10177)","v":0},{"$f":"SUMIF(Data!$N$2:$N$10177,$C549,Data!$P$2:$P$10177)","v":0},{"$f":"SUMIF(Data!$Q$2:$R$10177,$C549,Data!$S$2:$S$10177)","v":0},{"$f":"SUMIF(Data!$T$2:$U$10177,$C549,Data!$V$2:$V$10177)","v":0},{"$f":"SUMIF(Data!$W$2:$W$10177,$C549,Data!$Y$2:$Y$10177)","v":0}]
[null,null,9900008068,8068,"SUPPORT OF STEEL","METAL",5,0,0,{"$f":"SUMIF(Data!$H$2:$H$10177,$C550,Data!$D$2:$D$10177)","v":0},{"$f":"SUMIF(Data!$H$2:$H$10177,$C550,Data!$J$2:$J$10177)","v":0},{"$f":"SUMIF(Data!$K$2:$K$10177,$C550,Data!$M$2:$M$10177)","v":0},{"$f":"SUMIF(Data!$N$2:$N$10177,$C550,Data!$P$2:$P$10177)","v":0},{"$f":"SUMIF(Data!$Q$2:$R$10177,$C550,Data!$S$2:$S$10177)","v":0},{"$f":"SUMIF(Data!$T$2:$U$10177,$C550,Data!$V$2:$V$10177)","v":0},{"$f":"SUMIF(Data!$W$2:$W$10177,$C550,Data!$Y$2:$Y$10177)","v":0}]
[null,null,9900008069,8069,"SUPPORT OF STEEL","METAL",2,0,0,{"$f":"SUMIF(Data!$H$2:$H$10177,$C551,Data!$D$2:$D$10177)","v":0},{"$f":"SUMIF(Data!$H$2:$H$10177,$C551,Data!$J$2:$J$10177)","v":0},{"$f":"SUMIF(Data!$K$2:$K$10177,$C551,Data!$M$2:$M$10177)","v":0},{"$f":"SUMIF(Data!$N$2:$N$10177,$C551,Data!$P$2:$P$10177)","v":0},{"$f":"SUMIF(Data!$Q$2:$R$10177,$C551,Data!$S$2:$S$10177)","v":0},{"$f":"SUMIF(Data!$T$2:$U$10177,$C551,Data!$V$2:$V$10177)","v":0},{"$f":"SUMIF(Data!$W$2:$W$10177,$C551,Data!$Y$2:$Y$10177)","v":0}]
[null,null,9900008070,8070,"SUPPORT OF STEEL","METAL",2,0,0,{"$f":"SUMIF(Data!$H$2:$H$10177,$C552,Data!$D$2:$D$10177)","v":0},{"$f":"SUMIF(Data!$H$2:$H$10177,$C552,Data!$J$2:$J$10177)","v":0},{"$f":"SUMIF(Data!$K$2:$K$10177,$C552,Data!$M$2:$M$10177)","v":0},{"$f":"SUMIF(Data!$N$2:$N$10177,$C552,Data!$P$2:$P$10177)","v":0},{"$f":"SUMIF(Data!$Q$2:$R$10177,$C552,Data!$S$2:$S$10177)","v":0},{"$f":"SUMIF(Data!$T$2:$U$10177,$C552,Data!$V$2:$V$10177)","v":0},{"$f":"SUMIF(Data!$W$2:$W$10177,$C552,Data!$Y$2:$Y$10177)","v":0}]
[null,null,9900008075,{"$f":"C553-9900000000","v":8075},"SUPPORT OF STEEL","METAL",2,{"$f":"G553*I553","v":0},{"$f":"SUM(J553:P553)","v":0},{"$f":"SUMIF(Data!$H$2:$H$10177,$C553,Data!$D$2:$D$10177)","v":0},{"$f":"SUMIF(Data!$H$2:$H$10177,$C553,Data!$J$2:$J$10177)","v":0},{"$f":"SUMIF(Data!$K$2:$K$10177,$C553,Data!$M$2:$M$10177)","v":0},{"$f":"SUMIF(Data!$N$2:$N$10177,$C553,Data!$P$2:$P$10177)","v":0},{"$f":"SUMIF(Data!$Q$2:$R$10177,$C553,Data!$S$2:$S$10177)","v":0},{"$f":"SUMIF(Data!$T$2:$U$10177,$C553,Data!$V$2:$V$10177)","v":0},{"$f":"SUMIF(Data!$W$2:$W$10177,$C553,Data!$Y$2:$Y$10177)","v":0}]
[null,null,9900008076,{"$f":"C554-9900000000","v":8076},"SUPPORT OF STEEL","METAL",2,{"$f":"G554*I554","v":0},{"$f":"SUM(J554:P554)","v":0},{"$f":"SUMIF(Data!$H$2:$H$10177,$C554,Data!$D$2:$D$10177)","v":0},{"$f":"SUMIF(Data!$H$2:$H$10177,$C554,Data!$J$2:$J$10177)","v":0},{"$f":"SUMIF(Data!$K$2:$K$10177,$C554,Data!$M$2:$M$10177)","v":0},{"$f":"SUMIF(Data!$N$2:$N$10177,$C554,Data!$P$2:$P$10177)","v":0},{"$f":"SUMIF(Data!$Q$2:$R$10177,$C554,Data!$S$2:$S$10177)","v":0},{"$f":"SUMIF(Data!$T$2:$U$10177,$C554,Data!$V$2:$V$10177)","v":0},{"$f":"SUMIF(Data!$W$2:$W$10177,$C554,Data!$Y$2:$Y$10177)","v":0}]
[null,null,9900008077,8077,"SUPPORT OF STEEL","METAL",5.72,0,0,{"$f":"SUMIF(Data!$H$2:$H$10177,$C555,Data!$D$2:$D$10177)","v":0},{"$f":"SUMIF(Data!$H$2:$H$10177,$C555,Data!$J$2:$J$10177)","v":0},{"$f":"SUMIF(Data!$K$2:$K$10177,$C555,Data!$M$2:$M$10177)","v":0},{"$f":"SUMIF(Data!$N$2:$N$10177,$C555,Data!$P$2:$P$10177)","v":0},{"$f":"SUMIF(Data!$Q$2:$R$10177,$C555,Data!$S$2:$S$10177)","v":0},{"$f":"SUMIF(Data!$T$2:$U$10177,$C555,Data!$V$2:$V$10177)","v":0},{"$f":"SUMIF(Data!$W$2:$W$10177,$C555,Data!$Y$2:$Y$10177)","v":0}]
[null,null,9900008078,8078,"SUPPORT OF STEEL","METAL",5.72,0,0,{"$f":"SUMIF(Data!$H$2:$H$10177,$C556,Data!$D$2:$D$10177)","v":0},{"$f":"SUMIF(Data!$H$2:$H$10177,$C556,Data!$J$2:$J$10177)","v":0},{"$f":"SUMIF(Data!$K$2:$K$10177,$C556,Data!$M$2:$M$10177)","v":0},{"$f":"SUMIF(Data!$N$2:$N$10177,$C556,Data!$P$2:$P$10177)","v":0},{"$f":"SUMIF(Data!$Q$2:$R$10177,$C556,Data!$S$2:$S$10177)","v":0},{"$f":"SUMIF(Data!$T$2:$U$10177,$C556,Data!$V$2:$V$10177)","v":0},{"$f":"SUMIF(Data!$W$2:$W$10177,$C556,Data!$Y$2:$Y$10177)","v":0}]
[null,null,9900008079,8079,"SUPPORT OF STEEL","METAL",3,0,0,{"$f":"SUMIF(Data!$H$2:$H$10177,$C557,Data!$D$2:$D$10177)","v":0},{"$f":"SUMIF(Data!$H$2:$H$10177,$C557,Data!$J$2:$J$10177)","v":0},{"$f":"SUMIF(Data!$K$2:$K$10177,$C557,Data!$M$2:$M$10177)","v":0},{"$f":"SUMIF(Data!$N$2:$N$10177,$C557,Data!$P$2:$P$10177)","v":0},{"$f":"SUMIF(Data!$Q$2:$R$10177,$C557,Data!$S$2:$S$10177)","v":0},{"$f":"SUMIF(Data!$T$2:$U$10177,$C557,Data!$V$2:$V$10177)","v":0},{"$f":"SUMIF(Data!$W$2:$W$10177,$C557,Data!$Y$2:$Y$10177)","v":0}]
[null,null,9900008080,8080,"SUPPORT OF STEEL","METAL",3,0,0,{"$f":"SUMIF(Data!$H$2:$H$10177,$C558,Data!$D$2:$D$10177)","v":0},{"$f":"SUMIF(Data!$H$2:$H$10177,$C558,Data!$J$2:$J$10177)","v":0},{"$f":"SUMIF(Data!$K$2:$K$10177,$C558,Data!$M$2:$M$10177)","v":0},{"$f":"SUMIF(Data!$N$2:$N$10177,$C558,Data!$P$2:$P$10177)","v":0},{"$f":"SUMIF(Data!$Q$2:$R$10177,$C558,Data!$S$2:$S$10177)","v":0},{"$f":"SUMIF(Data!$T$2:$U$10177,$C558,Data!$V$2:$V$10177)","v":0},{"$f":"SUMIF(Data!$W$2:$W$10177,$C558,Data!$Y$2:$Y$10177)","v":0}]
[null,null,9900008081,8081,"SUPPORT OF STEEL","METAL",1.9,0,0,{"$f":"SUMIF(Data!$H$2:$H$10177,$C559,Data!$D$2:$D$10177)","v":0},{"$f":"SUMIF(Data!$H$2:$H$10177,$C559,Data!$J$2:$J$10177)","v":0},{"$f":"SUMIF(Data!$K$2:$K$10177,$C559,Data!$M$2:$M$10177)","v":0},{"$f":"SUMIF(Data!$N$2:$N$10177,$C559,Data!$P$2:$P$10177)","v":0},{"$f":"SUMIF(Data!$Q$2:$R$10177,$C559,Data!$S$2:$S$10177)","v":0},{"$f":"SUMIF(Data!$T$2:$U$10177,$C559,Data!$V$2:$V$10177)","v":0},{"$f":"SUMIF(Data!$W$2:$W$10177,$C559,Data!$Y$2:$Y$10177)","v":0}]
[null,null,9900008082,8082,"SUPPORT OF STEEL","METAL",5,0,0,{"$f":"SUMIF(Data!$H$2:$H$10177,$C560,Data!$D$2:$D$10177)","v":0},{"$f":"SUMIF(Data!$H$2:$H$10177,$C560,Data!$J$2:$J$10177)","v":0},{"$f":"SUMIF(Data!$K$2:$K$10177,$C560,Data!$M$2:$M$10177)","v":0},{"$f":"SUMIF(Data!$N$2:$N$10177,$C560,Data!$P$2:$P$10177)","v":0},{"$f":"SUMIF(Data!$Q$2:$R$10177,$C560,Data!$S$2:$S$10177)","v":0},{"$f":"SUMIF(Data!$T$2:$U$10177,$C560,Data!$V$2:$V$10177)","v":0},{"$f":"SUMIF(Data!$W$2:$W$10177,$C560,Data!$Y$2:$Y$10177)","v":0}]
[null,null,9900008083,8083,"SUPPORT OF STEEL","METAL",3,0,0,{"$f":"SUMIF(Data!$H$2:$H$10177,$C561,Data!$D$2:$D$10177)","v":0},{"$f":"SUMIF(Data!$H$2:$H$10177,$C561,Data!$J$2:$J$10177)","v":0},{"$f":"SUMIF(Data!$K$2:$K$10177,$C561,Data!$M$2:$M$10177)","v":0},{"$f":"SUMIF(Data!$N$2:$N$10177,$C561,Data!$P$2:$P$10177)","v":0},{"$f":"SUMIF(Data!$Q$2:$R$10177,$C561,Data!$S$2:$S$10177)","v":0},{"$f":"SUMIF(Data!$T$2:$U$10177,$C561,Data!$V$2:$V$10177)","v":0},{"$f":"SUMIF(Data!$W$2:$W$10177,$C561,Data!$Y$2:$Y$10177)","v":0}]
[null,null,9900008084,8084,"SUPPORT OF STEEL","METAL",3,0,0,{"$f":"SUMIF(Data!$H$2:$H$10177,$C562,Data!$D$2:$D$10177)","v":0},{"$f":"SUMIF(Data!$H$2:$H$10177,$C562,Data!$J$2:$J$10177)","v":0},{"$f":"SUMIF(Data!$K$2:$K$10177,$C562,Data!$M$2:$M$10177)","v":0},{"$f":"SUMIF(Data!$N$2:$N$10177,$C562,Data!$P$2:$P$10177)","v":0},{"$f":"SUMIF(Data!$Q$2:$R$10177,$C562,Data!$S$2:$S$10177)","v":0},{"$f":"SUMIF(Data!$T$2:$U$10177,$C562,Data!$V$2:$V$10177)","v":0},{"$f":"SUMIF(Data!$W$2:$W$10177,$C562,Data!$Y$2:$Y$10177)","v":0}]
[null,null,9900008085,8085,"SUPPORT OF STEEL","METAL",2.6,0,0,{"$f":"SUMIF(Data!$H$2:$H$10177,$C563,Data!$D$2:$D$10177)","v":0},{"$f":"SUMIF(Data!$H$2:$H$10177,$C563,Data!$J$2:$J$10177)","v":0},{"$f":"SUMIF(Data!$K$2:$K$10177,$C563,Data!$M$2:$M$10177)","v":0},{"$f":"SUMIF(Data!$N$2:$N$10177,$C563,Data!$P$2:$P$10177)","v":0},{"$f":"SUMIF(Data!$Q$2:$R$10177,$C563,Data!$S$2:$S$10177)","v":0},{"$f":"SUMIF(Data!$T$2:$U$10177,$C563,Data!$V$2:$V$10177)","v":0},{"$f":"SUMIF(Data!$W$2:$W$10177,$C563,Data!$Y$2:$Y$10177)","v":0}]
[null,null,9900008086,8086,"SUPPORT OF STEEL","METAL",3,0,0,{"$f":"SUMIF(Data!$H$2:$H$10177,$C564,Data!$D$2:$D$10177)","v":0},{"$f":"SUMIF(Data!$H$2:$H$10177,$C564,Data!$J$2:$J$10177)","v":0},{"$f":"SUMIF(Data!$K$2:$K$10177,$C564,Data!$M$2:$M$10177)","v":0},{"$f":"SUMIF(Data!$N$2:$N$10177,$C564,Data!$P$2:$P$10177)","v":0},{"$f":"SUMIF(Data!$Q$2:$R$10177,$C564,Data!$S$2:$S$10177)","v":0},{"$f":"SUMIF(Data!$T$2:$U$10177,$C564,Data!$V$2:$V$10177)","v":0},{"$f":"SUMIF(Data!$W$2:$W$10177,$C564,Data!$Y$2:$Y$10177)","v":0}]
[null,null,9900008150,8150,"SUPPORT OF STEEL","METAL",5.55,0,0,{"$f":"SUMIF(Data!$H$2:$H$10177,$C565,Data!$D$2:$D$10177)","v":0},{"$f":"SUMIF(Data!$H$2:$H$10177,$C565,Data!$J$2:$J$10177)","v":0},{"$f":"SUMIF(Data!$K$2:$K$10177,$C565,Data!$M$2:$M$10177)","v":0},{"$f":"SUMIF(Data!$N$2:$N$10177,$C565,Data!$P$2:$P$10177)","v":0},{"$f":"SUMIF(Data!$Q$2:$R$10177,$C565,Data!$S$2:$S$10177)","v":0},{"$f":"SUMIF(Data!$T$2:$U$10177,$C565,Data!$V$2:$V$10177)","v":0},{"$f":"SUMIF(Data!$W$2:$W$10177,$C565,Data!$Y$2:$Y$10177)","v":0}]
[null,null,9900008151,8151,"SUPPORT OF STEEL","METAL",3,0,0,{"$f":"SUMIF(Data!$H$2:$H$10177,$C566,Data!$D$2:$D$10177)","v":0},{"$f":"SUMIF(Data!$H$2:$H$10177,$C566,Data!$J$2:$J$10177)","v":0},{"$f":"SUMIF(Data!$K$2:$K$10177,$C566,Data!$M$2:$M$10177)","v":0},{"$f":"SUMIF(Data!$N$2:$N$10177,$C566,Data!$P$2:$P$10177)","v":0},{"$f":"SUMIF(Data!$Q$2:$R$10177,$C566,Data!$S$2:$S$10177)","v":0},{"$f":"SUMIF(Data!$T$2:$U$10177,$C566,Data!$V$2:$V$10177)","v":0},{"$f":"SUMIF(Data!$W$2:$W$10177,$C566,Data!$Y$2:$Y$10177)","v":0}]
[null,null,9900008152,8152,"SUPPORT OF STEEL","METAL",5.5,0,0,{"$f":"SUMIF(Data!$H$2:$H$10177,$C567,Data!$D$2:$D$10177)","v":0},{"$f":"SUMIF(Data!$H$2:$H$10177,$C567,Data!$J$2:$J$10177)","v":0},{"$f":"SUMIF(Data!$K$2:$K$10177,$C567,Data!$M$2:$M$10177)","v":0},{"$f":"SUMIF(Data!$N$2:$N$10177,$C567,Data!$P$2:$P$10177)","v":0},{"$f":"SUMIF(Data!$Q$2:$R$10177,$C567,Data!$S$2:$S$10177)","v":0},{"$f":"SUMIF(Data!$T$2:$U$10177,$C567,Data!$V$2:$V$10177)","v":0},{"$f":"SUMIF(Data!$W$2:$W$10177,$C567,Data!$Y$2:$Y$10177)","v":0}]
[null,null,9900008153,8153,"SUPPORT OF STEEL","METAL",4.84,0,0,{"$f":"SUMIF(Data!$H$2:$H$10177,$C568,Data!$D$2:$D$10177)","v":0},{"$f":"SUMIF(Data!$H$2:$H$10177,$C568,Data!$J$2:$J$10177)","v":0},{"$f":"SUMIF(Data!$K$2:$K$10177,$C568,Data!$M$2:$M$10177)","v":0},{"$f":"SUMIF(Data!$N$2:$N$10177,$C568,Data!$P$2:$P$10177)","v":0},{"$f":"SUMIF(Data!$Q$2:$R$10177,$C568,Data!$S$2:$S$10177)","v":0},{"$f":"SUMIF(Data!$T$2:$U$10177,$C568,Data!$V$2:$V$10177)","v":0},{"$f":"SUMIF(Data!$W$2:$W$10177,$C568,Data!$Y$2:$Y$10177)","v":0}]
[null,null,9900008154,8154,"SUPPORT OF STEEL","METAL",4.84,0,0,{"$f":"SUMIF(Data!$H$2:$H$10177,$C569,Data!$D$2:$D$10177)","v":0},{"$f":"SUMIF(Data!$H$2:$H$10177,$C569,Data!$J$2:$J$10177)","v":0},{"$f":"SUMIF(Data!$K$2:$K$10177,$C569,Data!$M$2:$M$10177)","v":0},{"$f":"SUMIF(Data!$N$2:$N$10177,$C569,Data!$P$2:$P$10177)","v":0},{"$f":"SUMIF(Data!$Q$2:$R$10177,$C569,Data!$S$2:$S$10177)","v":0},{"$f":"SUMIF(Data!$T$2:$U$10177,$C569,Data!$V$2:$V$10177)","v":0},{"$f":"SUMIF(Data!$W$2:$W$10177,$C569,Data!$Y$2:$Y$10177)","v":0}]
[null,null,9900008160,8160,"SUPPORT OF STEEL","METAL",8.25,0,0,{"$f":"SUMIF(Data!$H$2:$H$10177,$C570,Data!$D$2:$D$10177)","v":0},{"$f":"SUMIF(Data!$H$2:$H$10177,$C570,Data!$J$2:$J$10177)","v":0},{"$f":"SUMIF(Data!$K$2:$K$10177,$C570,Data!$M$2:$M$10177)","v":0},{"$f":"SUMIF(Data!$N$2:$N$10177,$C570,Data!$P$2:$P$10177)","v":0},{"$f":"SUMIF(Data!$Q$2:$R$10177,$C570,Data!$S$2:$S$10177)","v":0},{"$f":"SUMIF(Data!$T$2:$U$10177,$C570,Data!$V$2:$V$10177)","v":0},{"$f":"SUMIF(Data!$W$2:$W$10177,$C570,Data!$Y$2:$Y$10177)","v":0}]
[null,null,9900008161,8161,"SUPPORT OF STEEL","METAL",9.3000000000000007,0,0,{"$f":"SUMIF(Data!$H$2:$H$10177,$C571,Data!$D$2:$D$10177)","v":0},{"$f":"SUMIF(Data!$H$2:$H$10177,$C571,Data!$J$2:$J$10177)","v":0},{"$f":"SUMIF(Data!$K$2:$K$10177,$C571,Data!$M$2:$M$10177)","v":0},{"$f":"SUMIF(Data!$N$2:$N$10177,$C571,Data!$P$2:$P$10177)","v":0},{"$f":"SUMIF(Data!$Q$2:$R$10177,$C571,Data!$S$2:$S$10177)","v":0},{"$f":"SUMIF(Data!$T$2:$U$10177,$C571,Data!$V$2:$V$10177)","v":0},{"$f":"SUMIF(Data!$W$2:$W$10177,$C571,Data!$Y$2:$Y$10177)","v":0}]
[null,null,9900008162,8162,"SUPPORT OF STEEL","METAL",11.1,0,0,{"$f":"SUMIF(Data!$H$2:$H$10177,$C572,Data!$D$2:$D$10177)","v":0},{"$f":"SUMIF(Data!$H$2:$H$10177,$C572,Data!$J$2:$J$10177)","v":0},{"$f":"SUMIF(Data!$K$2:$K$10177,$C572,Data!$M$2:$M$10177)","v":0},{"$f":"SUMIF(Data!$N$2:$N$10177,$C572,Data!$P$2:$P$10177)","v":0},{"$f":"SUMIF(Data!$Q$2:$R$10177,$C572,Data!$S$2:$S$10177)","v":0},{"$f":"SUMIF(Data!$T$2:$U$10177,$C572,Data!$V$2:$V$10177)","v":0},{"$f":"SUMIF(Data!$W$2:$W$10177,$C572,Data!$Y$2:$Y$10177)","v":0}]
[null,null,9900008170,8170,"SUPPORT OF STEEL","METAL",2.9,0,0,{"$f":"SUMIF(Data!$H$2:$H$10177,$C573,Data!$D$2:$D$10177)","v":0},{"$f":"SUMIF(Data!$H$2:$H$10177,$C573,Data!$J$2:$J$10177)","v":0},{"$f":"SUMIF(Data!$K$2:$K$10177,$C573,Data!$M$2:$M$10177)","v":0},{"$f":"SUMIF(Data!$N$2:$N$10177,$C573,Data!$P$2:$P$10177)","v":0},{"$f":"SUMIF(Data!$Q$2:$R$10177,$C573,Data!$S$2:$S$10177)","v":0},{"$f":"SUMIF(Data!$T$2:$U$10177,$C573,Data!$V$2:$V$10177)","v":0},{"$f":"SUMIF(Data!$W$2:$W$10177,$C573,Data!$Y$2:$Y$10177)","v":0}]
[null,null,9900008171,8171,"SUPPORT OF STEEL","METAL",2.9,0,0,{"$f":"SUMIF(Data!$H$2:$H$10177,$C574,Data!$D$2:$D$10177)","v":0},{"$f":"SUMIF(Data!$H$2:$H$10177,$C574,Data!$J$2:$J$10177)","v":0},{"$f":"SUMIF(Data!$K$2:$K$10177,$C574,Data!$M$2:$M$10177)","v":0},{"$f":"SUMIF(Data!$N$2:$N$10177,$C574,Data!$P$2:$P$10177)","v":0},{"$f":"SUMIF(Data!$Q$2:$R$10177,$C574,Data!$S$2:$S$10177)","v":0},{"$f":"SUMIF(Data!$T$2:$U$10177,$C574,Data!$V$2:$V$10177)","v":0},{"$f":"SUMIF(Data!$W$2:$W$10177,$C574,Data!$Y$2:$Y$10177)","v":0}]
[null,null,9900008172,8172,"SUPPORT OF STEEL","METAL",6,0,0,{"$f":"SUMIF(Data!$H$2:$H$10177,$C575,Data!$D$2:$D$10177)","v":0},{"$f":"SUMIF(Data!$H$2:$H$10177,$C575,Data!$J$2:$J$10177)","v":0},{"$f":"SUMIF(Data!$K$2:$K$10177,$C575,Data!$M$2:$M$10177)","v":0},{"$f":"SUMIF(Data!$N$2:$N$10177,$C575,Data!$P$2:$P$10177)","v":0},{"$f":"SUMIF(Data!$Q$2:$R$10177,$C575,Data!$S$2:$S$10177)","v":0},{"$f":"SUMIF(Data!$T$2:$U$10177,$C575,Data!$V$2:$V$10177)","v":0},{"$f":"SUMIF(Data!$W$2:$W$10177,$C575,Data!$Y$2:$Y$10177)","v":0}]
[null,null,9900008173,8173,"SUPPORT OF STEEL","METAL",6,0,0,{"$f":"SUMIF(Data!$H$2:$H$10177,$C576,Data!$D$2:$D$10177)","v":0},{"$f":"SUMIF(Data!$H$2:$H$10177,$C576,Data!$J$2:$J$10177)","v":0},{"$f":"SUMIF(Data!$K$2:$K$10177,$C576,Data!$M$2:$M$10177)","v":0},{"$f":"SUMIF(Data!$N$2:$N$10177,$C576,Data!$P$2:$P$10177)","v":0},{"$f":"SUMIF(Data!$Q$2:$R$10177,$C576,Data!$S$2:$S$10177)","v":0},{"$f":"SUMIF(Data!$T$2:$U$10177,$C576,Data!$V$2:$V$10177)","v":0},{"$f":"SUMIF(Data!$W$2:$W$10177,$C576,Data!$Y$2:$Y$10177)","v":0}]
[null,null,9900008174,8174,"SUPPORT OF STEEL","METAL",4.5,0,0,{"$f":"SUMIF(Data!$H$2:$H$10177,$C577,Data!$D$2:$D$10177)","v":0},{"$f":"SUMIF(Data!$H$2:$H$10177,$C577,Data!$J$2:$J$10177)","v":0},{"$f":"SUMIF(Data!$K$2:$K$10177,$C577,Data!$M$2:$M$10177)","v":0},{"$f":"SUMIF(Data!$N$2:$N$10177,$C577,Data!$P$2:$P$10177)","v":0},{"$f":"SUMIF(Data!$Q$2:$R$10177,$C577,Data!$S$2:$S$10177)","v":0},{"$f":"SUMIF(Data!$T$2:$U$10177,$C577,Data!$V$2:$V$10177)","v":0},{"$f":"SUMIF(Data!$W$2:$W$10177,$C577,Data!$Y$2:$Y$10177)","v":0}]
[null,null,9900008175,8175,"SUPPORT OF STEEL","METAL",3.85,{"$f":"G578*I578","v":0},{"$f":"SUM(J578:P578)","v":0},{"$f":"SUMIF(Data!$H$2:$H$10177,$C578,Data!$D$2:$D$10177)","v":0},{"$f":"SUMIF(Data!$H$2:$H$10177,$C578,Data!$J$2:$J$10177)","v":0},{"$f":"SUMIF(Data!$K$2:$K$10177,$C578,Data!$M$2:$M$10177)","v":0},{"$f":"SUMIF(Data!$N$2:$N$10177,$C578,Data!$P$2:$P$10177)","v":0},{"$f":"SUMIF(Data!$Q$2:$R$10177,$C578,Data!$S$2:$S$10177)","v":0},{"$f":"SUMIF(Data!$T$2:$U$10177,$C578,Data!$V$2:$V$10177)","v":0},{"$f":"SUMIF(Data!$W$2:$W$10177,$C578,Data!$Y$2:$Y$10177)","v":0}]
[null,null,9900008176,8176,"SUPPORT OF STEEL","METAL",6.2,0,0,{"$f":"SUMIF(Data!$H$2:$H$10177,$C579,Data!$D$2:$D$10177)","v":0},{"$f":"SUMIF(Data!$H$2:$H$10177,$C579,Data!$J$2:$J$10177)","v":0},{"$f":"SUMIF(Data!$K$2:$K$10177,$C579,Data!$M$2:$M$10177)","v":0},{"$f":"SUMIF(Data!$N$2:$N$10177,$C579,Data!$P$2:$P$10177)","v":0},{"$f":"SUMIF(Data!$Q$2:$R$10177,$C579,Data!$S$2:$S$10177)","v":0},{"$f":"SUMIF(Data!$T$2:$U$10177,$C579,Data!$V$2:$V$10177)","v":0},{"$f":"SUMIF(Data!$W$2:$W$10177,$C579,Data!$Y$2:$Y$10177)","v":0}]
[null,null,9900008177,8177,"SUPPORT OF STEEL","METAL",6.2,0,0,{"$f":"SUMIF(Data!$H$2:$H$10177,$C580,Data!$D$2:$D$10177)","v":0},{"$f":"SUMIF(Data!$H$2:$H$10177,$C580,Data!$J$2:$J$10177)","v":0},{"$f":"SUMIF(Data!$K$2:$K$10177,$C580,Data!$M$2:$M$10177)","v":0},{"$f":"SUMIF(Data!$N$2:$N$10177,$C580,Data!$P$2:$P$10177)","v":0},{"$f":"SUMIF(Data!$Q$2:$R$10177,$C580,Data!$S$2:$S$10177)","v":0},{"$f":"SUMIF(Data!$T$2:$U$10177,$C580,Data!$V$2:$V$10177)","v":0},{"$f":"SUMIF(Data!$W$2:$W$10177,$C580,Data!$Y$2:$Y$10177)","v":0}]
[null,null,9900008178,8178,"SUPPORT OF STEEL","METAL",7.3,0,0,{"$f":"SUMIF(Data!$H$2:$H$10177,$C581,Data!$D$2:$D$10177)","v":0},{"$f":"SUMIF(Data!$H$2:$H$10177,$C581,Data!$J$2:$J$10177)","v":0},{"$f":"SUMIF(Data!$K$2:$K$10177,$C581,Data!$M$2:$M$10177)","v":0},{"$f":"SUMIF(Data!$N$2:$N$10177,$C581,Data!$P$2:$P$10177)","v":0},{"$f":"SUMIF(Data!$Q$2:$R$10177,$C581,Data!$S$2:$S$10177)","v":0},{"$f":"SUMIF(Data!$T$2:$U$10177,$C581,Data!$V$2:$V$10177)","v":0},{"$f":"SUMIF(Data!$W$2:$W$10177,$C581,Data!$Y$2:$Y$10177)","v":0}]
[null,null,9900008179,{"$f":"C582-9900000000","v":8179},"SUPPORT OF STEEL","METAL",7.1,0,0,{"$f":"SUMIF(Data!$H$2:$H$10177,$C582,Data!$D$2:$D$10177)","v":0},{"$f":"SUMIF(Data!$H$2:$H$10177,$C582,Data!$J$2:$J$10177)","v":0},{"$f":"SUMIF(Data!$K$2:$K$10177,$C582,Data!$M$2:$M$10177)","v":0},{"$f":"SUMIF(Data!$N$2:$N$10177,$C582,Data!$P$2:$P$10177)","v":0},{"$f":"SUMIF(Data!$Q$2:$R$10177,$C582,Data!$S$2:$S$10177)","v":0},{"$f":"SUMIF(Data!$T$2:$U$10177,$C582,Data!$V$2:$V$10177)","v":0},{"$f":"SUMIF(Data!$W$2:$W$10177,$C582,Data!$Y$2:$Y$10177)","v":0}]
[null,null,9900008180,8180,"SUPPORT OF STEEL","METAL",5.2,0,0,{"$f":"SUMIF(Data!$H$2:$H$10177,$C583,Data!$D$2:$D$10177)","v":0},{"$f":"SUMIF(Data!$H$2:$H$10177,$C583,Data!$J$2:$J$10177)","v":0},{"$f":"SUMIF(Data!$K$2:$K$10177,$C583,Data!$M$2:$M$10177)","v":0},{"$f":"SUMIF(Data!$N$2:$N$10177,$C583,Data!$P$2:$P$10177)","v":0},{"$f":"SUMIF(Data!$Q$2:$R$10177,$C583,Data!$S$2:$S$10177)","v":0},{"$f":"SUMIF(Data!$T$2:$U$10177,$C583,Data!$V$2:$V$10177)","v":0},{"$f":"SUMIF(Data!$W$2:$W$10177,$C583,Data!$Y$2:$Y$10177)","v":0}]
[null,null,9900008181,8181,"SUPPORT OF STEEL","METAL",5.2,0,0,{"$f":"SUMIF(Data!$H$2:$H$10177,$C584,Data!$D$2:$D$10177)","v":0},{"$f":"SUMIF(Data!$H$2:$H$10177,$C584,Data!$J$2:$J$10177)","v":0},{"$f":"SUMIF(Data!$K$2:$K$10177,$C584,Data!$M$2:$M$10177)","v":0},{"$f":"SUMIF(Data!$N$2:$N$10177,$C584,Data!$P$2:$P$10177)","v":0},{"$f":"SUMIF(Data!$Q$2:$R$10177,$C584,Data!$S$2:$S$10177)","v":0},{"$f":"SUMIF(Data!$T$2:$U$10177,$C584,Data!$V$2:$V$10177)","v":0},{"$f":"SUMIF(Data!$W$2:$W$10177,$C584,Data!$Y$2:$Y$10177)","v":0}]
[null,null,9900008182,8182,"SUPPORT OF STEEL","METAL",6,0,0,{"$f":"SUMIF(Data!$H$2:$H$10177,$C585,Data!$D$2:$D$10177)","v":0},{"$f":"SUMIF(Data!$H$2:$H$10177,$C585,Data!$J$2:$J$10177)","v":0},{"$f":"SUMIF(Data!$K$2:$K$10177,$C585,Data!$M$2:$M$10177)","v":0},{"$f":"SUMIF(Data!$N$2:$N$10177,$C585,Data!$P$2:$P$10177)","v":0},{"$f":"SUMIF(Data!$Q$2:$R$10177,$C585,Data!$S$2:$S$10177)","v":0},{"$f":"SUMIF(Data!$T$2:$U$10177,$C585,Data!$V$2:$V$10177)","v":0},{"$f":"SUMIF(Data!$W$2:$W$10177,$C585,Data!$Y$2:$Y$10177)","v":0}]
[null,null,9900008183,8183,"SUPPORT OF STEEL","METAL",6,0,0,{"$f":"SUMIF(Data!$H$2:$H$10177,$C586,Data!$D$2:$D$10177)","v":0},{"$f":"SUMIF(Data!$H$2:$H$10177,$C586,Data!$J$2:$J$10177)","v":0},{"$f":"SUMIF(Data!$K$2:$K$10177,$C586,Data!$M$2:$M$10177)","v":0},{"$f":"SUMIF(Data!$N$2:$N$10177,$C586,Data!$P$2:$P$10177)","v":0},{"$f":"SUMIF(Data!$Q$2:$R$10177,$C586,Data!$S$2:$S$10177)","v":0},{"$f":"SUMIF(Data!$T$2:$U$10177,$C586,Data!$V$2:$V$10177)","v":0},{"$f":"SUMIF(Data!$W$2:$W$10177,$C586,Data!$Y$2:$Y$10177)","v":0}]
[null,null,9900008184,8184,"SUPPORT OF STEEL","METAL",6,0,0,{"$f":"SUMIF(Data!$H$2:$H$10177,$C587,Data!$D$2:$D$10177)","v":0},{"$f":"SUMIF(Data!$H$2:$H$10177,$C587,Data!$J$2:$J$10177)","v":0},{"$f":"SUMIF(Data!$K$2:$K$10177,$C587,Data!$M$2:$M$10177)","v":0},{"$f":"SUMIF(Data!$N$2:$N$10177,$C587,Data!$P$2:$P$10177)","v":0},{"$f":"SUMIF(Data!$Q$2:$R$10177,$C587,Data!$S$2:$S$10177)","v":0},{"$f":"SUMIF(Data!$T$2:$U$10177,$C587,Data!$V$2:$V$10177)","v":0},{"$f":"SUMIF(Data!$W$2:$W$10177,$C587,Data!$Y$2:$Y$10177)","v":0}]
[null,null,9900008185,8185,"SUPPORT OF STEEL","METAL",7.2,0,0,{"$f":"SUMIF(Data!$H$2:$H$10177,$C588,Data!$D$2:$D$10177)","v":0},{"$f":"SUMIF(Data!$H$2:$H$10177,$C588,Data!$J$2:$J$10177)","v":0},{"$f":"SUMIF(Data!$K$2:$K$10177,$C588,Data!$M$2:$M$10177)","v":0},{"$f":"SUMIF(Data!$N$2:$N$10177,$C588,Data!$P$2:$P$10177)","v":0},{"$f":"SUMIF(Data!$Q$2:$R$10177,$C588,Data!$S$2:$S$10177)","v":0},{"$f":"SUMIF(Data!$T$2:$U$10177,$C588,Data!$V$2:$V$10177)","v":0},{"$f":"SUMIF(Data!$W$2:$W$10177,$C588,Data!$Y$2:$Y$10177)","v":0}]
[null,null,9900008186,8186,"SUPPORT OF STEEL","METAL",7,0,0,{"$f":"SUMIF(Data!$H$2:$H$10177,$C589,Data!$D$2:$D$10177)","v":0},{"$f":"SUMIF(Data!$H$2:$H$10177,$C589,Data!$J$2:$J$10177)","v":0},{"$f":"SUMIF(Data!$K$2:$K$10177,$C589,Data!$M$2:$M$10177)","v":0},{"$f":"SUMIF(Data!$N$2:$N$10177,$C589,Data!$P$2:$P$10177)","v":0},{"$f":"SUMIF(Data!$Q$2:$R$10177,$C589,Data!$S$2:$S$10177)","v":0},{"$f":"SUMIF(Data!$T$2:$U$10177,$C589,Data!$V$2:$V$10177)","v":0},{"$f":"SUMIF(Data!$W$2:$W$10177,$C589,Data!$Y$2:$Y$10177)","v":0}]
[null,null,9900008187,8187,"SUPPORT OF STEEL","METAL",6,0,0,{"$f":"SUMIF(Data!$H$2:$H$10177,$C590,Data!$D$2:$D$10177)","v":0},{"$f":"SUMIF(Data!$H$2:$H$10177,$C590,Data!$J$2:$J$10177)","v":0},{"$f":"SUMIF(Data!$K$2:$K$10177,$C590,Data!$M$2:$M$10177)","v":0},{"$f":"SUMIF(Data!$N$2:$N$10177,$C590,Data!$P$2:$P$10177)","v":0},{"$f":"SUMIF(Data!$Q$2:$R$10177,$C590,Data!$S$2:$S$10177)","v":0},{"$f":"SUMIF(Data!$T$2:$U$10177,$C590,Data!$V$2:$V$10177)","v":0},{"$f":"SUMIF(Data!$W$2:$W$10177,$C590,Data!$Y$2:$Y$10177)","v":0}]
[null,null,9900008188,8188,"SUPPORT OF STEEL","METAL",10,0,0,{"$f":"SUMIF(Data!$H$2:$H$10177,$C591,Data!$D$2:$D$10177)","v":0},{"$f":"SUMIF(Data!$H$2:$H$10177,$C591,Data!$J$2:$J$10177)","v":0},{"$f":"SUMIF(Data!$K$2:$K$10177,$C591,Data!$M$2:$M$10177)","v":0},{"$f":"SUMIF(Data!$N$2:$N$10177,$C591,Data!$P$2:$P$10177)","v":0},{"$f":"SUMIF(Data!$Q$2:$R$10177,$C591,Data!$S$2:$S$10177)","v":0},{"$f":"SUMIF(Data!$T$2:$U$10177,$C591,Data!$V$2:$V$10177)","v":0},{"$f":"SUMIF(Data!$W$2:$W$10177,$C591,Data!$Y$2:$Y$10177)","v":0}]
[null,null,9900008189,8189,"SUPPORT OF STEEL","METAL",4.4000000000000004,0,{"$f":"SUM(J592:P592)","v":0},{"$f":"SUMIF(Data!$H$2:$H$10177,$C592,Data!$D$2:$D$10177)","v":0},{"$f":"SUMIF(Data!$H$2:$H$10177,$C592,Data!$J$2:$J$10177)","v":0},{"$f":"SUMIF(Data!$K$2:$K$10177,$C592,Data!$M$2:$M$10177)","v":0},{"$f":"SUMIF(Data!$N$2:$N$10177,$C592,Data!$P$2:$P$10177)","v":0},{"$f":"SUMIF(Data!$Q$2:$R$10177,$C592,Data!$S$2:$S$10177)","v":0},{"$f":"SUMIF(Data!$T$2:$U$10177,$C592,Data!$V$2:$V$10177)","v":0},{"$f":"SUMIF(Data!$W$2:$W$10177,$C592,Data!$Y$2:$Y$10177)","v":0}]
[null,null,9900008192,{"$f":"C593-9900000000","v":8192},"SUPPORT OF STEEL","METAL",8.26,{"$f":"G593*I593","v":0},{"$f":"SUM(J593:P593)","v":0},{"$f":"SUMIF(Data!$H$2:$H$10177,$C593,Data!$D$2:$D$10177)","v":0},{"$f":"SUMIF(Data!$H$2:$H$10177,$C593,Data!$J$2:$J$10177)","v":0},{"$f":"SUMIF(Data!$K$2:$K$10177,$C593,Data!$M$2:$M$10177)","v":0},{"$f":"SUMIF(Data!$N$2:$N$10177,$C593,Data!$P$2:$P$10177)","v":0},{"$f":"SUMIF(Data!$Q$2:$R$10177,$C593,Data!$S$2:$S$10177)","v":0},{"$f":"SUMIF(Data!$T$2:$U$10177,$C593,Data!$V$2:$V$10177)","v":0},{"$f":"SUMIF(Data!$W$2:$W$10177,$C593,Data!$Y$2:$Y$10177)","v":0}]
[null,null,9900008193,8193,"SUPPORT OF STEEL","METAL",4.7699999999999996,0,0,{"$f":"SUMIF(Data!$H$2:$H$10177,$C594,Data!$D$2:$D$10177)","v":0},{"$f":"SUMIF(Data!$H$2:$H$10177,$C594,Data!$J$2:$J$10177)","v":0},{"$f":"SUMIF(Data!$K$2:$K$10177,$C594,Data!$M$2:$M$10177)","v":0},{"$f":"SUMIF(Data!$N$2:$N$10177,$C594,Data!$P$2:$P$10177)","v":0},{"$f":"SUMIF(Data!$Q$2:$R$10177,$C594,Data!$S$2:$S$10177)","v":0},{"$f":"SUMIF(Data!$T$2:$U$10177,$C594,Data!$V$2:$V$10177)","v":0},{"$f":"SUMIF(Data!$W$2:$W$10177,$C594,Data!$Y$2:$Y$10177)","v":0}]
[null,null,9900008194,8194,"SUPPORT OF STEEL","METAL",4.5599999999999996,0,0,{"$f":"SUMIF(Data!$H$2:$H$10177,$C595,Data!$D$2:$D$10177)","v":0},{"$f":"SUMIF(Data!$H$2:$H$10177,$C595,Data!$J$2:$J$10177)","v":0},{"$f":"SUMIF(Data!$K$2:$K$10177,$C595,Data!$M$2:$M$10177)","v":0},{"$f":"SUMIF(Data!$N$2:$N$10177,$C595,Data!$P$2:$P$10177)","v":0},{"$f":"SUMIF(Data!$Q$2:$R$10177,$C595,Data!$S$2:$S$10177)","v":0},{"$f":"SUMIF(Data!$T$2:$U$10177,$C595,Data!$V$2:$V$10177)","v":0},{"$f":"SUMIF(Data!$W$2:$W$10177,$C595,Data!$Y$2:$Y$10177)","v":0}]
[null,null,9900008200,8200,"SUPPORT OF STEEL","METAL",6,0,0,{"$f":"SUMIF(Data!$H$2:$H$10177,$C596,Data!$D$2:$D$10177)","v":0},{"$f":"SUMIF(Data!$H$2:$H$10177,$C596,Data!$J$2:$J$10177)","v":0},{"$f":"SUMIF(Data!$K$2:$K$10177,$C596,Data!$M$2:$M$10177)","v":0},{"$f":"SUMIF(Data!$N$2:$N$10177,$C596,Data!$P$2:$P$10177)","v":0},{"$f":"SUMIF(Data!$Q$2:$R$10177,$C596,Data!$S$2:$S$10177)","v":0},{"$f":"SUMIF(Data!$T$2:$U$10177,$C596,Data!$V$2:$V$10177)","v":0},{"$f":"SUMIF(Data!$W$2:$W$10177,$C596,Data!$Y$2:$Y$10177)","v":0}]
[null,null,9900008201,8201,"SUPPORT OF STEEL","METAL",6,0,0,{"$f":"SUMIF(Data!$H$2:$H$10177,$C597,Data!$D$2:$D$10177)","v":0},{"$f":"SUMIF(Data!$H$2:$H$10177,$C597,Data!$J$2:$J$10177)","v":0},{"$f":"SUMIF(Data!$K$2:$K$10177,$C597,Data!$M$2:$M$10177)","v":0},{"$f":"SUMIF(Data!$N$2:$N$10177,$C597,Data!$P$2:$P$10177)","v":0},{"$f":"SUMIF(Data!$Q$2:$R$10177,$C597,Data!$S$2:$S$10177)","v":0},{"$f":"SUMIF(Data!$T$2:$U$10177,$C597,Data!$V$2:$V$10177)","v":0},{"$f":"SUMIF(Data!$W$2:$W$10177,$C597,Data!$Y$2:$Y$10177)","v":0}]
[null,null,9900008203,8203,"SUPPORT OF STEEL","METAL",7.5,0,0,{"$f":"SUMIF(Data!$H$2:$H$10177,$C598,Data!$D$2:$D$10177)","v":0},{"$f":"SUMIF(Data!$H$2:$H$10177,$C598,Data!$J$2:$J$10177)","v":0},{"$f":"SUMIF(Data!$K$2:$K$10177,$C598,Data!$M$2:$M$10177)","v":0},{"$f":"SUMIF(Data!$N$2:$N$10177,$C598,Data!$P$2:$P$10177)","v":0},{"$f":"SUMIF(Data!$Q$2:$R$10177,$C598,Data!$S$2:$S$10177)","v":0},{"$f":"SUMIF(Data!$T$2:$U$10177,$C598,Data!$V$2:$V$10177)","v":0},{"$f":"SUMIF(Data!$W$2:$W$10177,$C598,Data!$Y$2:$Y$10177)","v":0}]
[null,null,9900008205,8205,"SUPPORT OF STEEL","METAL",15,{"$f":"G599*I599","v":0},{"$f":"SUM(J599:P599)","v":0},{"$f":"SUMIF(Data!$H$2:$H$10177,$C599,Data!$D$2:$D$10177)","v":0},{"$f":"SUMIF(Data!$H$2:$H$10177,$C599,Data!$J$2:$J$10177)","v":0},{"$f":"SUMIF(Data!$K$2:$K$10177,$C599,Data!$M$2:$M$10177)","v":0},{"$f":"SUMIF(Data!$N$2:$N$10177,$C599,Data!$P$2:$P$10177)","v":0},{"$f":"SUMIF(Data!$Q$2:$R$10177,$C599,Data!$S$2:$S$10177)","v":0},{"$f":"SUMIF(Data!$T$2:$U$10177,$C599,Data!$V$2:$V$10177)","v":0},{"$f":"SUMIF(Data!$W$2:$W$10177,$C599,Data!$Y$2:$Y$10177)","v":0}]
[null,null,9900008206,{"$f":"C600-9900000000","v":8206},"SUPPORT OF STEEL","METAL",2,{"$f":"G600*I600","v":0},{"$f":"SUM(J600:P600)","v":0},{"$f":"SUMIF(Data!$H$2:$H$10177,$C600,Data!$D$2:$D$10177)","v":0},{"$f":"SUMIF(Data!$H$2:$H$10177,$C600,Data!$J$2:$J$10177)","v":0},{"$f":"SUMIF(Data!$K$2:$K$10177,$C600,Data!$M$2:$M$10177)","v":0},{"$f":"SUMIF(Data!$N$2:$N$10177,$C600,Data!$P$2:$P$10177)","v":0},{"$f":"SUMIF(Data!$Q$2:$R$10177,$C600,Data!$S$2:$S$10177)","v":0},{"$f":"SUMIF(Data!$T$2:$U$10177,$C600,Data!$V$2:$V$10177)","v":0},{"$f":"SUMIF(Data!$W$2:$W$10177,$C600,Data!$Y$2:$Y$10177)","v":0}]
[null,null,9900008207,8207,"SUPPORT OF STEEL","METAL",2,0,0,{"$f":"SUMIF(Data!$H$2:$H$10177,$C601,Data!$D$2:$D$10177)","v":0},{"$f":"SUMIF(Data!$H$2:$H$10177,$C601,Data!$J$2:$J$10177)","v":0},{"$f":"SUMIF(Data!$K$2:$K$10177,$C601,Data!$M$2:$M$10177)","v":0},{"$f":"SUMIF(Data!$N$2:$N$10177,$C601,Data!$P$2:$P$10177)","v":0},{"$f":"SUMIF(Data!$Q$2:$R$10177,$C601,Data!$S$2:$S$10177)","v":0},{"$f":"SUMIF(Data!$T$2:$U$10177,$C601,Data!$V$2:$V$10177)","v":0},{"$f":"SUMIF(Data!$W$2:$W$10177,$C601,Data!$Y$2:$Y$10177)","v":0}]
[null,null,9900008221,8221,"BATTEN OF WOOD","WOOD",3.3,0,0,{"$f":"SUMIF(Data!$H$2:$H$10177,$C602,Data!$D$2:$D$10177)","v":0},{"$f":"SUMIF(Data!$H$2:$H$10177,$C602,Data!$J$2:$J$10177)","v":0},{"$f":"SUMIF(Data!$K$2:$K$10177,$C602,Data!$M$2:$M$10177)","v":0},{"$f":"SUMIF(Data!$N$2:$N$10177,$C602,Data!$P$2:$P$10177)","v":0},{"$f":"SUMIF(Data!$Q$2:$R$10177,$C602,Data!$S$2:$S$10177)","v":0},{"$f":"SUMIF(Data!$T$2:$U$10177,$C602,Data!$V$2:$V$10177)","v":0},{"$f":"SUMIF(Data!$W$2:$W$10177,$C602,Data!$Y$2:$Y$10177)","v":0}]
[null,null,9900008223,8223,"SUPPORT OF STEEL","METAL",8,{"$f":"G603*I603","v":0},{"$f":"SUM(J603:P603)","v":0},{"$f":"SUMIF(Data!$H$2:$H$10177,$C603,Data!$D$2:$D$10177)","v":0},{"$f":"SUMIF(Data!$H$2:$H$10177,$C603,Data!$J$2:$J$10177)","v":0},{"$f":"SUMIF(Data!$K$2:$K$10177,$C603,Data!$M$2:$M$10177)","v":0},{"$f":"SUMIF(Data!$N$2:$N$10177,$C603,Data!$P$2:$P$10177)","v":0},{"$f":"SUMIF(Data!$Q$2:$R$10177,$C603,Data!$S$2:$S$10177)","v":0},{"$f":"SUMIF(Data!$T$2:$U$10177,$C603,Data!$V$2:$V$10177)","v":0},{"$f":"SUMIF(Data!$W$2:$W$10177,$C603,Data!$Y$2:$Y$10177)","v":0}]
[null,null,9900008224,8224,"SUPPORT OF STEEL","METAL",8,0,0,{"$f":"SUMIF(Data!$H$2:$H$10177,$C604,Data!$D$2:$D$10177)","v":0},{"$f":"SUMIF(Data!$H$2:$H$10177,$C604,Data!$J$2:$J$10177)","v":0},{"$f":"SUMIF(Data!$K$2:$K$10177,$C604,Data!$M$2:$M$10177)","v":0},{"$f":"SUMIF(Data!$N$2:$N$10177,$C604,Data!$P$2:$P$10177)","v":0},{"$f":"SUMIF(Data!$Q$2:$R$10177,$C604,Data!$S$2:$S$10177)","v":0},{"$f":"SUMIF(Data!$T$2:$U$10177,$C604,Data!$V$2:$V$10177)","v":0},{"$f":"SUMIF(Data!$W$2:$W$10177,$C604,Data!$Y$2:$Y$10177)","v":0}]
[null,null,9900008405,8405,"FUNDO WOOD KIT","WOOD",40,0,0,{"$f":"SUMIF(Data!$H$2:$H$10177,$C605,Data!$D$2:$D$10177)","v":0},{"$f":"SUMIF(Data!$H$2:$H$10177,$C605,Data!$J$2:$J$10177)","v":0},{"$f":"SUMIF(Data!$K$2:$K$10177,$C605,Data!$M$2:$M$10177)","v":0},{"$f":"SUMIF(Data!$N$2:$N$10177,$C605,Data!$P$2:$P$10177)","v":0},{"$f":"SUMIF(Data!$Q$2:$R$10177,$C605,Data!$S$2:$S$10177)","v":0},{"$f":"SUMIF(Data!$T$2:$U$10177,$C605,Data!$V$2:$V$10177)","v":0},{"$f":"SUMIF(Data!$W$2:$W$10177,$C605,Data!$Y$2:$Y$10177)","v":0}]
[null,null,9900009101,9101,"ANTE PIN","WOOD",1.06,0,0,{"$f":"SUMIF(Data!$H$2:$H$10177,$C606,Data!$D$2:$D$10177)","v":0},{"$f":"SUMIF(Data!$H$2:$H$10177,$C606,Data!$J$2:$J$10177)","v":0},{"$f":"SUMIF(Data!$K$2:$K$10177,$C606,Data!$M$2:$M$10177)","v":0},{"$f":"SUMIF(Data!$N$2:$N$10177,$C606,Data!$P$2:$P$10177)","v":0},{"$f":"SUMIF(Data!$Q$2:$R$10177,$C606,Data!$S$2:$S$10177)","v":0},{"$f":"SUMIF(Data!$T$2:$U$10177,$C606,Data!$V$2:$V$10177)","v":0},{"$f":"SUMIF(Data!$W$2:$W$10177,$C606,Data!$Y$2:$Y$10177)","v":0}]
[null,null,9900009103,9103,"L-DECK BOARD","WOOD",1.25,0,0,{"$f":"SUMIF(Data!$H$2:$H$10177,$C607,Data!$D$2:$D$10177)","v":0},{"$f":"SUMIF(Data!$H$2:$H$10177,$C607,Data!$J$2:$J$10177)","v":0},{"$f":"SUMIF(Data!$K$2:$K$10177,$C607,Data!$M$2:$M$10177)","v":0},{"$f":"SUMIF(Data!$N$2:$N$10177,$C607,Data!$P$2:$P$10177)","v":0},{"$f":"SUMIF(Data!$Q$2:$R$10177,$C607,Data!$S$2:$S$10177)","v":0},{"$f":"SUMIF(Data!$T$2:$U$10177,$C607,Data!$V$2:$V$10177)","v":0},{"$f":"SUMIF(Data!$W$2:$W$10177,$C607,Data!$Y$2:$Y$10177)","v":0}]
[null,null,9900009104,9104,"L-RUNNER 22MM","WOOD",0.83499999999999996,0,0,{"$f":"SUMIF(Data!$H$2:$H$10177,$C608,Data!$D$2:$D$10177)","v":0},{"$f":"SUMIF(Data!$H$2:$H$10177,$C608,Data!$J$2:$J$10177)","v":0},{"$f":"SUMIF(Data!$K$2:$K$10177,$C608,Data!$M$2:$M$10177)","v":0},{"$f":"SUMIF(Data!$N$2:$N$10177,$C608,Data!$P$2:$P$10177)","v":0},{"$f":"SUMIF(Data!$Q$2:$R$10177,$C608,Data!$S$2:$S$10177)","v":0},{"$f":"SUMIF(Data!$T$2:$U$10177,$C608,Data!$V$2:$V$10177)","v":0},{"$f":"SUMIF(Data!$W$2:$W$10177,$C608,Data!$Y$2:$Y$10177)","v":0}]
[null,null,9900009105,9105,"L-RUNNER 32MM","WOOD",1.401,0,0,{"$f":"SUMIF(Data!$H$2:$H$10177,$C609,Data!$D$2:$D$10177)","v":0},{"$f":"SUMIF(Data!$H$2:$H$10177,$C609,Data!$J$2:$J$10177)","v":0},{"$f":"SUMIF(Data!$K$2:$K$10177,$C609,Data!$M$2:$M$10177)","v":0},{"$f":"SUMIF(Data!$N$2:$N$10177,$C609,Data!$P$2:$P$10177)","v":0},{"$f":"SUMIF(Data!$Q$2:$R$10177,$C609,Data!$S$2:$S$10177)","v":0},{"$f":"SUMIF(Data!$T$2:$U$10177,$C609,Data!$V$2:$V$10177)","v":0},{"$f":"SUMIF(Data!$W$2:$W$10177,$C609,Data!$Y$2:$Y$10177)","v":0}]
[null,null,9900009106,9106,"L-DECK BOARD W. KALLE PIN","WOOD",1.1399999999999999,0,0,{"$f":"SUMIF(Data!$H$2:$H$10177,$C610,Data!$D$2:$D$10177)","v":0},{"$f":"SUMIF(Data!$H$2:$H$10177,$C610,Data!$J$2:$J$10177)","v":0},{"$f":"SUMIF(Data!$K$2:$K$10177,$C610,Data!$M$2:$M$10177)","v":0},{"$f":"SUMIF(Data!$N$2:$N$10177,$C610,Data!$P$2:$P$10177)","v":0},{"$f":"SUMIF(Data!$Q$2:$R$10177,$C610,Data!$S$2:$S$10177)","v":0},{"$f":"SUMIF(Data!$T$2:$U$10177,$C610,Data!$V$2:$V$10177)","v":0},{"$f":"SUMIF(Data!$W$2:$W$10177,$C610,Data!$Y$2:$Y$10177)","v":0}]
[null,null,9900009107,9107,"K-DECK BOARD","WOOD",0.83799999999999997,0,0,{"$f":"SUMIF(Data!$H$2:$H$10177,$C611,Data!$D$2:$D$10177)","v":0},{"$f":"SUMIF(Data!$H$2:$H$10177,$C611,Data!$J$2:$J$10177)","v":0},{"$f":"SUMIF(Data!$K$2:$K$10177,$C611,Data!$M$2:$M$10177)","v":0},{"$f":"SUMIF(Data!$N$2:$N$10177,$C611,Data!$P$2:$P$10177)","v":0},{"$f":"SUMIF(Data!$Q$2:$R$10177,$C611,Data!$S$2:$S$10177)","v":0},{"$f":"SUMIF(Data!$T$2:$U$10177,$C611,Data!$V$2:$V$10177)","v":0},{"$f":"SUMIF(Data!$W$2:$W$10177,$C611,Data!$Y$2:$Y$10177)","v":0}]
[null,null,9900009108,9108,"K-RUNNER 22MM","WOOD",0.83799999999999997,0,0,{"$f":"SUMIF(Data!$H$2:$H$10177,$C612,Data!$D$2:$D$10177)","v":0},{"$f":"SUMIF(Data!$H$2:$H$10177,$C612,Data!$J$2:$J$10177)","v":0},{"$f":"SUMIF(Data!$K$2:$K$10177,$C612,Data!$M$2:$M$10177)","v":0},{"$f":"SUMIF(Data!$N$2:$N$10177,$C612,Data!$P$2:$P$10177)","v":0},{"$f":"SUMIF(Data!$Q$2:$R$10177,$C612,Data!$S$2:$S$10177)","v":0},{"$f":"SUMIF(Data!$T$2:$U$10177,$C612,Data!$V$2:$V$10177)","v":0},{"$f":"SUMIF(Data!$W$2:$W$10177,$C612,Data!$Y$2:$Y$10177)","v":0}]
[null,null,9900009109,9109,"K-RUNNER 32MM","WOOD",1.4059999999999999,0,0,{"$f":"SUMIF(Data!$H$2:$H$10177,$C613,Data!$D$2:$D$10177)","v":0},{"$f":"SUMIF(Data!$H$2:$H$10177,$C613,Data!$J$2:$J$10177)","v":0},{"$f":"SUMIF(Data!$K$2:$K$10177,$C613,Data!$M$2:$M$10177)","v":0},{"$f":"SUMIF(Data!$N$2:$N$10177,$C613,Data!$P$2:$P$10177)","v":0},{"$f":"SUMIF(Data!$Q$2:$R$10177,$C613,Data!$S$2:$S$10177)","v":0},{"$f":"SUMIF(Data!$T$2:$U$10177,$C613,Data!$V$2:$V$10177)","v":0},{"$f":"SUMIF(Data!$W$2:$W$10177,$C613,Data!$Y$2:$Y$10177)","v":0}]
[null,null,9900009110,9110,"F-RUNNER 22MM & DECK BOARD","WOOD",1.2909999999999999,0,0,{"$f":"SUMIF(Data!$H$2:$H$10177,$C614,Data!$D$2:$D$10177)","v":0},{"$f":"SUMIF(Data!$H$2:$H$10177,$C614,Data!$J$2:$J$10177)","v":0},{"$f":"SUMIF(Data!$K$2:$K$10177,$C614,Data!$M$2:$M$10177)","v":0},{"$f":"SUMIF(Data!$N$2:$N$10177,$C614,Data!$P$2:$P$10177)","v":0},{"$f":"SUMIF(Data!$Q$2:$R$10177,$C614,Data!$S$2:$S$10177)","v":0},{"$f":"SUMIF(Data!$T$2:$U$10177,$C614,Data!$V$2:$V$10177)","v":0},{"$f":"SUMIF(Data!$W$2:$W$10177,$C614,Data!$Y$2:$Y$10177)","v":0}]
[null,null,9900009111,9111,"F-RUNNER 32MM","WOOD",1.758,0,0,{"$f":"SUMIF(Data!$H$2:$H$10177,$C615,Data!$D$2:$D$10177)","v":0},{"$f":"SUMIF(Data!$H$2:$H$10177,$C615,Data!$J$2:$J$10177)","v":0},{"$f":"SUMIF(Data!$K$2:$K$10177,$C615,Data!$M$2:$M$10177)","v":0},{"$f":"SUMIF(Data!$N$2:$N$10177,$C615,Data!$P$2:$P$10177)","v":0},{"$f":"SUMIF(Data!$Q$2:$R$10177,$C615,Data!$S$2:$S$10177)","v":0},{"$f":"SUMIF(Data!$T$2:$U$10177,$C615,Data!$V$2:$V$10177)","v":0},{"$f":"SUMIF(Data!$W$2:$W$10177,$C615,Data!$Y$2:$Y$10177)","v":0}]
[null,null,9900009112,9112,"G-RUNNER 22MM & DECK BOARD","WOOD",0.996,0,0,{"$f":"SUMIF(Data!$H$2:$H$10177,$C616,Data!$D$2:$D$10177)","v":0},{"$f":"SUMIF(Data!$H$2:$H$10177,$C616,Data!$J$2:$J$10177)","v":0},{"$f":"SUMIF(Data!$K$2:$K$10177,$C616,Data!$M$2:$M$10177)","v":0},{"$f":"SUMIF(Data!$N$2:$N$10177,$C616,Data!$P$2:$P$10177)","v":0},{"$f":"SUMIF(Data!$Q$2:$R$10177,$C616,Data!$S$2:$S$10177)","v":0},{"$f":"SUMIF(Data!$T$2:$U$10177,$C616,Data!$V$2:$V$10177)","v":0},{"$f":"SUMIF(Data!$W$2:$W$10177,$C616,Data!$Y$2:$Y$10177)","v":0}]
[null,null,9900009113,9113,"G-RUNNER 32MM","WOOD",1.6719999999999999,0,0,{"$f":"SUMIF(Data!$H$2:$H$10177,$C617,Data!$D$2:$D$10177)","v":0},{"$f":"SUMIF(Data!$H$2:$H$10177,$C617,Data!$J$2:$J$10177)","v":0},{"$f":"SUMIF(Data!$K$2:$K$10177,$C617,Data!$M$2:$M$10177)","v":0},{"$f":"SUMIF(Data!$N$2:$N$10177,$C617,Data!$P$2:$P$10177)","v":0},{"$f":"SUMIF(Data!$Q$2:$R$10177,$C617,Data!$S$2:$S$10177)","v":0},{"$f":"SUMIF(Data!$T$2:$U$10177,$C617,Data!$V$2:$V$10177)","v":0},{"$f":"SUMIF(Data!$W$2:$W$10177,$C617,Data!$Y$2:$Y$10177)","v":0}]
[null,null,9900009114,9114,"H-RUNNER 22MM & DECK BOARD","WOOD",1.25,0,0,{"$f":"SUMIF(Data!$H$2:$H$10177,$C618,Data!$D$2:$D$10177)","v":0},{"$f":"SUMIF(Data!$H$2:$H$10177,$C618,Data!$J$2:$J$10177)","v":0},{"$f":"SUMIF(Data!$K$2:$K$10177,$C618,Data!$M$2:$M$10177)","v":0},{"$f":"SUMIF(Data!$N$2:$N$10177,$C618,Data!$P$2:$P$10177)","v":0},{"$f":"SUMIF(Data!$Q$2:$R$10177,$C618,Data!$S$2:$S$10177)","v":0},{"$f":"SUMIF(Data!$T$2:$U$10177,$C618,Data!$V$2:$V$10177)","v":0},{"$f":"SUMIF(Data!$W$2:$W$10177,$C618,Data!$Y$2:$Y$10177)","v":0}]
[null,null,9900009115,9115,"H-RUNNER 32MM","WOOD",2.0990000000000002,0,0,{"$f":"SUMIF(Data!$H$2:$H$10177,$C619,Data!$D$2:$D$10177)","v":0},{"$f":"SUMIF(Data!$H$2:$H$10177,$C619,Data!$J$2:$J$10177)","v":0},{"$f":"SUMIF(Data!$K$2:$K$10177,$C619,Data!$M$2:$M$10177)","v":0},{"$f":"SUMIF(Data!$N$2:$N$10177,$C619,Data!$P$2:$P$10177)","v":0},{"$f":"SUMIF(Data!$Q$2:$R$10177,$C619,Data!$S$2:$S$10177)","v":0},{"$f":"SUMIF(Data!$T$2:$U$10177,$C619,Data!$V$2:$V$10177)","v":0},{"$f":"SUMIF(Data!$W$2:$W$10177,$C619,Data!$Y$2:$Y$10177)","v":0}]
[null,null,9900009116,9116,"701-RUNNER 22MM & DECK BOARD","WOOD",2.4900000000000002,0,0,{"$f":"SUMIF(Data!$H$2:$H$10177,$C620,Data!$D$2:$D$10177)","v":0},{"$f":"SUMIF(Data!$H$2:$H$10177,$C620,Data!$J$2:$J$10177)","v":0},{"$f":"SUMIF(Data!$K$2:$K$10177,$C620,Data!$M$2:$M$10177)","v":0},{"$f":"SUMIF(Data!$N$2:$N$10177,$C620,Data!$P$2:$P$10177)","v":0},{"$f":"SUMIF(Data!$Q$2:$R$10177,$C620,Data!$S$2:$S$10177)","v":0},{"$f":"SUMIF(Data!$T$2:$U$10177,$C620,Data!$V$2:$V$10177)","v":0},{"$f":"SUMIF(Data!$W$2:$W$10177,$C620,Data!$Y$2:$Y$10177)","v":0}]
[null,null,9900009117,9117,"701-RUNNER 32MM","WOOD",4.32,0,0,{"$f":"SUMIF(Data!$H$2:$H$10177,$C621,Data!$D$2:$D$10177)","v":0},{"$f":"SUMIF(Data!$H$2:$H$10177,$C621,Data!$J$2:$J$10177)","v":0},{"$f":"SUMIF(Data!$K$2:$K$10177,$C621,Data!$M$2:$M$10177)","v":0},{"$f":"SUMIF(Data!$N$2:$N$10177,$C621,Data!$P$2:$P$10177)","v":0},{"$f":"SUMIF(Data!$Q$2:$R$10177,$C621,Data!$S$2:$S$10177)","v":0},{"$f":"SUMIF(Data!$T$2:$U$10177,$C621,Data!$V$2:$V$10177)","v":0},{"$f":"SUMIF(Data!$W$2:$W$10177,$C621,Data!$Y$2:$Y$10177)","v":0}]
[null,null,9900009118,9118,"724-RUNNER 22MM & DECK BOARD","WOOD",1.9630000000000001,0,0,{"$f":"SUMIF(Data!$H$2:$H$10177,$C622,Data!$D$2:$D$10177)","v":0},{"$f":"SUMIF(Data!$H$2:$H$10177,$C622,Data!$J$2:$J$10177)","v":0},{"$f":"SUMIF(Data!$K$2:$K$10177,$C622,Data!$M$2:$M$10177)","v":0},{"$f":"SUMIF(Data!$N$2:$N$10177,$C622,Data!$P$2:$P$10177)","v":0},{"$f":"SUMIF(Data!$Q$2:$R$10177,$C622,Data!$S$2:$S$10177)","v":0},{"$f":"SUMIF(Data!$T$2:$U$10177,$C622,Data!$V$2:$V$10177)","v":0},{"$f":"SUMIF(Data!$W$2:$W$10177,$C622,Data!$Y$2:$Y$10177)","v":0}]
[null,null,9900009119,9119,"724-RUNNER 32MM","WOOD",3.2970000000000002,0,0,{"$f":"SUMIF(Data!$H$2:$H$10177,$C623,Data!$D$2:$D$10177)","v":0},{"$f":"SUMIF(Data!$H$2:$H$10177,$C623,Data!$J$2:$J$10177)","v":0},{"$f":"SUMIF(Data!$K$2:$K$10177,$C623,Data!$M$2:$M$10177)","v":0},{"$f":"SUMIF(Data!$N$2:$N$10177,$C623,Data!$P$2:$P$10177)","v":0},{"$f":"SUMIF(Data!$Q$2:$R$10177,$C623,Data!$S$2:$S$10177)","v":0},{"$f":"SUMIF(Data!$T$2:$U$10177,$C623,Data!$V$2:$V$10177)","v":0},{"$f":"SUMIF(Data!$W$2:$W$10177,$C623,Data!$Y$2:$Y$10177)","v":0}]
[null,null,9900009120,9120,"1575-RUNNER","WOOD",3.08,0,0,{"$f":"SUMIF(Data!$H$2:$H$10177,$C624,Data!$D$2:$D$10177)","v":0},{"$f":"SUMIF(Data!$H$2:$H$10177,$C624,Data!$J$2:$J$10177)","v":0},{"$f":"SUMIF(Data!$K$2:$K$10177,$C624,Data!$M$2:$M$10177)","v":0},{"$f":"SUMIF(Data!$N$2:$N$10177,$C624,Data!$P$2:$P$10177)","v":0},{"$f":"SUMIF(Data!$Q$2:$R$10177,$C624,Data!$S$2:$S$10177)","v":0},{"$f":"SUMIF(Data!$T$2:$U$10177,$C624,Data!$V$2:$V$10177)","v":0},{"$f":"SUMIF(Data!$W$2:$W$10177,$C624,Data!$Y$2:$Y$10177)","v":0}]
[null,null,9900009126,9126,"HINGE PIN","METAL",1.7000000000000001E-2,{"$f":"G625*I625","v":0},{"$f":"SUM(J625:P625)","v":0},{"$f":"SUMIF(Data!$H$2:$H$10177,$C625,Data!$D$2:$D$10177)","v":0},{"$f":"SUMIF(Data!$H$2:$H$10177,$C625,Data!$J$2:$J$10177)","v":0},{"$f":"SUMIF(Data!$K$2:$K$10177,$C625,Data!$M$2:$M$10177)","v":0},{"$f":"SUMIF(Data!$N$2:$N$10177,$C625,Data!$P$2:$P$10177)","v":0},{"$f":"SUMIF(Data!$Q$2:$R$10177,$C625,Data!$S$2:$S$10177)","v":0},{"$f":"SUMIF(Data!$T$2:$U$10177,$C625,Data!$V$2:$V$10177)","v":0},{"$f":"SUMIF(Data!$W$2:$W$10177,$C625,Data!$Y$2:$Y$10177)","v":0}]
[null,null,9900009202,9202,"RACK OF STEEL","METAL",235,0,0,{"$f":"SUMIF(Data!$H$2:$H$10177,$C626,Data!$D$2:$D$10177)","v":0},{"$f":"SUMIF(Data!$H$2:$H$10177,$C626,Data!$J$2:$J$10177)","v":0},{"$f":"SUMIF(Data!$K$2:$K$10177,$C626,Data!$M$2:$M$10177)","v":0},{"$f":"SUMIF(Data!$N$2:$N$10177,$C626,Data!$P$2:$P$10177)","v":0},{"$f":"SUMIF(Data!$Q$2:$R$10177,$C626,Data!$S$2:$S$10177)","v":0},{"$f":"SUMIF(Data!$T$2:$U$10177,$C626,Data!$V$2:$V$10177)","v":0},{"$f":"SUMIF(Data!$W$2:$W$10177,$C626,Data!$Y$2:$Y$10177)","v":0}]
[null,null,9900009203,9203,"SUPPORT OF STEEL","METAL",4.08,{"$f":"G627*I627","v":0},{"$f":"SUM(J627:P627)","v":0},{"$f":"SUMIF(Data!$H$2:$H$10177,$C627,Data!$D$2:$D$10177)","v":0},{"$f":"SUMIF(Data!$H$2:$H$10177,$C627,Data!$J$2:$J$10177)","v":0},{"$f":"SUMIF(Data!$K$2:$K$10177,$C627,Data!$M$2:$M$10177)","v":0},{"$f":"SUMIF(Data!$N$2:$N$10177,$C627,Data!$P$2:$P$10177)","v":0},{"$f":"SUMIF(Data!$Q$2:$R$10177,$C627,Data!$S$2:$S$10177)","v":0},{"$f":"SUMIF(Data!$T$2:$U$10177,$C627,Data!$V$2:$V$10177)","v":0},{"$f":"SUMIF(Data!$W$2:$W$10177,$C627,Data!$Y$2:$Y$10177)","v":0}]
[null,null,9900009204,{"$f":"C628-9900000000","v":9204},"RACK OF STEEL","METAL",240,{"$f":"G628*I628","v":0},{"$f":"SUM(J628:P628)","v":0},{"$f":"SUMIF(Data!$H$2:$H$10177,$C628,Data!$D$2:$D$10177)","v":0},{"$f":"SUMIF(Data!$H$2:$H$10177,$C628,Data!$J$2:$J$10177)","v":0},{"$f":"SUMIF(Data!$K$2:$K$10177,$C628,Data!$M$2:$M$10177)","v":0},{"$f":"SUMIF(Data!$N$2:$N$10177,$C628,Data!$P$2:$P$10177)","v":0},{"$f":"SUMIF(Data!$Q$2:$R$10177,$C628,Data!$S$2:$S$10177)","v":0},{"$f":"SUMIF(Data!$T$2:$U$10177,$C628,Data!$V$2:$V$10177)","v":0},{"$f":"SUMIF(Data!$W$2:$W$10177,$C628,Data!$Y$2:$Y$10177)","v":0}]
[null,null,9900009208,9208,"FIXING SPACER OF PLASTIC","PLASTIC",11.25,0,0,{"$f":"SUMIF(Data!$H$2:$H$10177,$C629,Data!$D$2:$D$10177)","v":0},{"$f":"SUMIF(Data!$H$2:$H$10177,$C629,Data!$J$2:$J$10177)","v":0},{"$f":"SUMIF(Data!$K$2:$K$10177,$C629,Data!$M$2:$M$10177)","v":0},{"$f":"SUMIF(Data!$N$2:$N$10177,$C629,Data!$P$2:$P$10177)","v":0},{"$f":"SUMIF(Data!$Q$2:$R$10177,$C629,Data!$S$2:$S$10177)","v":0},{"$f":"SUMIF(Data!$T$2:$U$10177,$C629,Data!$V$2:$V$10177)","v":0},{"$f":"SUMIF(Data!$W$2:$W$10177,$C629,Data!$Y$2:$Y$10177)","v":0}]
[null,null,9900009209,9209,"FIXING SPACER OF PLASTIC","PLASTIC",7.6,0,0,{"$f":"SUMIF(Data!$H$2:$H$10177,$C630,Data!$D$2:$D$10177)","v":0},{"$f":"SUMIF(Data!$H$2:$H$10177,$C630,Data!$J$2:$J$10177)","v":0},{"$f":"SUMIF(Data!$K$2:$K$10177,$C630,Data!$M$2:$M$10177)","v":0},{"$f":"SUMIF(Data!$N$2:$N$10177,$C630,Data!$P$2:$P$10177)","v":0},{"$f":"SUMIF(Data!$Q$2:$R$10177,$C630,Data!$S$2:$S$10177)","v":0},{"$f":"SUMIF(Data!$T$2:$U$10177,$C630,Data!$V$2:$V$10177)","v":0},{"$f":"SUMIF(Data!$W$2:$W$10177,$C630,Data!$Y$2:$Y$10177)","v":0}]
[null,null,9900009210,9210,"FIXING SPACER OF PLASTIC ","PLASTIC",0,0,0,{"$f":"SUMIF(Data!$H$2:$H$10177,$C631,Data!$D$2:$D$10177)","v":0},{"$f":"SUMIF(Data!$H$2:$H$10177,$C631,Data!$J$2:$J$10177)","v":0},{"$f":"SUMIF(Data!$K$2:$K$10177,$C631,Data!$M$2:$M$10177)","v":0},{"$f":"SUMIF(Data!$N$2:$N$10177,$C631,Data!$P$2:$P$10177)","v":0},{"$f":"SUMIF(Data!$Q$2:$R$10177,$C631,Data!$S$2:$S$10177)","v":0},{"$f":"SUMIF(Data!$T$2:$U$10177,$C631,Data!$V$2:$V$10177)","v":0},{"$f":"SUMIF(Data!$W$2:$W$10177,$C631,Data!$Y$2:$Y$10177)","v":0}]
[null,null,9900009211,9211,"FIXING SPACER OF PLASTIC FOAM","PLASTIC",0.13,{"$f":"G632*I632","v":0},{"$f":"SUM(J632:P632)","v":0},{"$f":"SUMIF(Data!$H$2:$H$10177,$C632,Data!$D$2:$D$10177)","v":0},{"$f":"SUMIF(Data!$H$2:$H$10177,$C632,Data!$J$2:$J$10177)","v":0},{"$f":"SUMIF(Data!$K$2:$K$10177,$C632,Data!$M$2:$M$10177)","v":0},{"$f":"SUMIF(Data!$N$2:$N$10177,$C632,Data!$P$2:$P$10177)","v":0},{"$f":"SUMIF(Data!$Q$2:$R$10177,$C632,Data!$S$2:$S$10177)","v":0},{"$f":"SUMIF(Data!$T$2:$U$10177,$C632,Data!$V$2:$V$10177)","v":0},{"$f":"SUMIF(Data!$W$2:$W$10177,$C632,Data!$Y$2:$Y$10177)","v":0}]
[null,null,9900009240,9240,"PALLET BOX OF WOOD","WOOD",72,0,0,{"$f":"SUMIF(Data!$H$2:$H$10177,$C633,Data!$D$2:$D$10177)","v":0},{"$f":"SUMIF(Data!$H$2:$H$10177,$C633,Data!$J$2:$J$10177)","v":0},{"$f":"SUMIF(Data!$K$2:$K$10177,$C633,Data!$M$2:$M$10177)","v":0},{"$f":"SUMIF(Data!$N$2:$N$10177,$C633,Data!$P$2:$P$10177)","v":0},{"$f":"SUMIF(Data!$Q$2:$R$10177,$C633,Data!$S$2:$S$10177)","v":0},{"$f":"SUMIF(Data!$T$2:$U$10177,$C633,Data!$V$2:$V$10177)","v":0},{"$f":"SUMIF(Data!$W$2:$W$10177,$C633,Data!$Y$2:$Y$10177)","v":0}]
[null,null,9900009280,9280,"PALLET BOX OF STEEL /WOOD","METAL",150,0,0,{"$f":"SUMIF(Data!$H$2:$H$10177,$C634,Data!$D$2:$D$10177)","v":0},{"$f":"SUMIF(Data!$H$2:$H$10177,$C634,Data!$J$2:$J$10177)","v":0},{"$f":"SUMIF(Data!$K$2:$K$10177,$C634,Data!$M$2:$M$10177)","v":0},{"$f":"SUMIF(Data!$N$2:$N$10177,$C634,Data!$P$2:$P$10177)","v":0},{"$f":"SUMIF(Data!$Q$2:$R$10177,$C634,Data!$S$2:$S$10177)","v":0},{"$f":"SUMIF(Data!$T$2:$U$10177,$C634,Data!$V$2:$V$10177)","v":0},{"$f":"SUMIF(Data!$W$2:$W$10177,$C634,Data!$Y$2:$Y$10177)","v":0}]
[null,null,9900022199,22199,"PSP and INSERT KIT (2196 x3,2197x3,2199x6,2195x3,2198x3) ","PLASTIC",45,0,0,{"$f":"SUMIF(Data!$H$2:$H$10177,$C635,Data!$D$2:$D$10177)","v":0},{"$f":"SUMIF(Data!$H$2:$H$10177,$C635,Data!$J$2:$J$10177)","v":0},{"$f":"SUMIF(Data!$K$2:$K$10177,$C635,Data!$M$2:$M$10177)","v":0},{"$f":"SUMIF(Data!$N$2:$N$10177,$C635,Data!$P$2:$P$10177)","v":0},{"$f":"SUMIF(Data!$Q$2:$R$10177,$C635,Data!$S$2:$S$10177)","v":0},{"$f":"SUMIF(Data!$T$2:$U$10177,$C635,Data!$V$2:$V$10177)","v":0},{"$f":"SUMIF(Data!$W$2:$W$10177,$C635,Data!$Y$2:$Y$10177)","v":0}]
[null,null,9900021818,21818,"FRONT PANEL KIT (1818x2,1819X2,1820x1,1821x2)",null,124.38,0,0,{"$f":"SUMIF(Data!$H$2:$H$10177,$C636,Data!$D$2:$D$10177)","v":0},{"$f":"SUMIF(Data!$H$2:$H$10177,$C636,Data!$J$2:$J$10177)","v":0},{"$f":"SUMIF(Data!$K$2:$K$10177,$C636,Data!$M$2:$M$10177)","v":0},{"$f":"SUMIF(Data!$N$2:$N$10177,$C636,Data!$P$2:$P$10177)","v":0},{"$f":"SUMIF(Data!$Q$2:$R$10177,$C636,Data!$S$2:$S$10177)","v":0},{"$f":"SUMIF(Data!$T$2:$U$10177,$C636,Data!$V$2:$V$10177)","v":0},{"$f":"SUMIF(Data!$W$2:$W$10177,$C636,Data!$Y$2:$Y$10177)","v":0}]
[null,null,9900009250,9250,"RACK OF STEEL","METAL",120,0,0,{"$f":"SUMIF(Data!$H$2:$H$10177,$C637,Data!$D$2:$D$10177)","v":0},{"$f":"SUMIF(Data!$H$2:$H$10177,$C637,Data!$J$2:$J$10177)","v":0},{"$f":"SUMIF(Data!$K$2:$K$10177,$C637,Data!$M$2:$M$10177)","v":0},{"$f":"SUMIF(Data!$N$2:$N$10177,$C637,Data!$P$2:$P$10177)","v":0},{"$f":"SUMIF(Data!$Q$2:$R$10177,$C637,Data!$S$2:$S$10177)","v":0},{"$f":"SUMIF(Data!$T$2:$U$10177,$C637,Data!$V$2:$V$10177)","v":0},{"$f":"SUMIF(Data!$W$2:$W$10177,$C637,Data!$Y$2:$Y$10177)","v":0}]
[null,null,9900009251,9251,"RACK OF STEEL","METAL",120,0,0,{"$f":"SUMIF(Data!$H$2:$H$10177,$C638,Data!$D$2:$D$10177)","v":0},{"$f":"SUMIF(Data!$H$2:$H$10177,$C638,Data!$J$2:$J$10177)","v":0},{"$f":"SUMIF(Data!$K$2:$K$10177,$C638,Data!$M$2:$M$10177)","v":0},{"$f":"SUMIF(Data!$N$2:$N$10177,$C638,Data!$P$2:$P$10177)","v":0},{"$f":"SUMIF(Data!$Q$2:$R$10177,$C638,Data!$S$2:$S$10177)","v":0},{"$f":"SUMIF(Data!$T$2:$U$10177,$C638,Data!$V$2:$V$10177)","v":0},{"$f":"SUMIF(Data!$W$2:$W$10177,$C638,Data!$Y$2:$Y$10177)","v":0}]
[null,null,9900009294,9294,"CONTAINER OF STEEL","METAL",100,0,0,{"$f":"SUMIF(Data!$H$2:$H$10177,$C639,Data!$D$2:$D$10177)","v":0},{"$f":"SUMIF(Data!$H$2:$H$10177,$C639,Data!$J$2:$J$10177)","v":0},{"$f":"SUMIF(Data!$K$2:$K$10177,$C639,Data!$M$2:$M$10177)","v":0},{"$f":"SUMIF(Data!$N$2:$N$10177,$C639,Data!$P$2:$P$10177)","v":0},{"$f":"SUMIF(Data!$Q$2:$R$10177,$C639,Data!$S$2:$S$10177)","v":0},{"$f":"SUMIF(Data!$T$2:$U$10177,$C639,Data!$V$2:$V$10177)","v":0},{"$f":"SUMIF(Data!$W$2:$W$10177,$C639,Data!$Y$2:$Y$10177)","v":0}]
[null,null,9900009295,9295,"ABSORBENT OF MINERAL","MINERAL WOOL",1.5,0,0,{"$f":"SUMIF(Data!$H$2:$H$10177,$C640,Data!$D$2:$D$10177)","v":0},{"$f":"SUMIF(Data!$H$2:$H$10177,$C640,Data!$J$2:$J$10177)","v":0},{"$f":"SUMIF(Data!$K$2:$K$10177,$C640,Data!$M$2:$M$10177)","v":0},{"$f":"SUMIF(Data!$N$2:$N$10177,$C640,Data!$P$2:$P$10177)","v":0},{"$f":"SUMIF(Data!$Q$2:$R$10177,$C640,Data!$S$2:$S$10177)","v":0},{"$f":"SUMIF(Data!$T$2:$U$10177,$C640,Data!$V$2:$V$10177)","v":0},{"$f":"SUMIF(Data!$W$2:$W$10177,$C640,Data!$Y$2:$Y$10177)","v":0}]
[null,null,9900009296,9296,"SUPPORT OF MINERAL WOOL","MINERAL WOOL",4.5,0,0,{"$f":"SUMIF(Data!$H$2:$H$10177,$C641,Data!$D$2:$D$10177)","v":0},{"$f":"SUMIF(Data!$H$2:$H$10177,$C641,Data!$J$2:$J$10177)","v":0},{"$f":"SUMIF(Data!$K$2:$K$10177,$C641,Data!$M$2:$M$10177)","v":0},{"$f":"SUMIF(Data!$N$2:$N$10177,$C641,Data!$P$2:$P$10177)","v":0},{"$f":"SUMIF(Data!$Q$2:$R$10177,$C641,Data!$S$2:$S$10177)","v":0},{"$f":"SUMIF(Data!$T$2:$U$10177,$C641,Data!$V$2:$V$10177)","v":0},{"$f":"SUMIF(Data!$W$2:$W$10177,$C641,Data!$Y$2:$Y$10177)","v":0}]
[null,null,9900020141,20141,"PSP KIT  (Inc 142 Sleeve and 143 Lid)","PLASTIC",36,0,0,{"$f":"SUMIF(Data!$H$2:$H$10177,$C642,Data!$D$2:$D$10177)","v":0},{"$f":"SUMIF(Data!$H$2:$H$10177,$C642,Data!$J$2:$J$10177)","v":0},{"$f":"SUMIF(Data!$K$2:$K$10177,$C642,Data!$M$2:$M$10177)","v":0},{"$f":"SUMIF(Data!$N$2:$N$10177,$C642,Data!$P$2:$P$10177)","v":0},{"$f":"SUMIF(Data!$Q$2:$R$10177,$C642,Data!$S$2:$S$10177)","v":0},{"$f":"SUMIF(Data!$T$2:$U$10177,$C642,Data!$V$2:$V$10177)","v":0},{"$f":"SUMIF(Data!$W$2:$W$10177,$C642,Data!$Y$2:$Y$10177)","v":0}]
[null,null,9900020190,20190,"PLASTIC PALLET / LID Combo ( EMB 190 pallet and EMB 191 lid) ","PLASTIC",26,0,0,{"$f":"SUMIF(Data!$H$2:$H$10177,$C643,Data!$D$2:$D$10177)","v":0},{"$f":"SUMIF(Data!$H$2:$H$10177,$C643,Data!$J$2:$J$10177)","v":0},{"$f":"SUMIF(Data!$K$2:$K$10177,$C643,Data!$M$2:$M$10177)","v":0},{"$f":"SUMIF(Data!$N$2:$N$10177,$C643,Data!$P$2:$P$10177)","v":0},{"$f":"SUMIF(Data!$Q$2:$R$10177,$C643,Data!$S$2:$S$10177)","v":0},{"$f":"SUMIF(Data!$T$2:$U$10177,$C643,Data!$V$2:$V$10177)","v":0},{"$f":"SUMIF(Data!$W$2:$W$10177,$C643,Data!$Y$2:$Y$10177)","v":0}]
[null,null,9900020460,20460,"ESD PLASTIC BOX KIT  (Inc 461 Lid)","PLASTIC",3.13,0,0,{"$f":"SUMIF(Data!$H$2:$H$10177,$C644,Data!$D$2:$D$10177)","v":0},{"$f":"SUMIF(Data!$H$2:$H$10177,$C644,Data!$J$2:$J$10177)","v":0},{"$f":"SUMIF(Data!$K$2:$K$10177,$C644,Data!$M$2:$M$10177)","v":0},{"$f":"SUMIF(Data!$N$2:$N$10177,$C644,Data!$P$2:$P$10177)","v":0},{"$f":"SUMIF(Data!$Q$2:$R$10177,$C644,Data!$S$2:$S$10177)","v":0},{"$f":"SUMIF(Data!$T$2:$U$10177,$C644,Data!$V$2:$V$10177)","v":0},{"$f":"SUMIF(Data!$W$2:$W$10177,$C644,Data!$Y$2:$Y$10177)","v":0}]
[null,null,9900020462,20462,"ESD PLASTIC BOX KIT  (Inc 463 Lid)","PLASTIC",1.52,0,0,{"$f":"SUMIF(Data!$H$2:$H$10177,$C645,Data!$D$2:$D$10177)","v":0},{"$f":"SUMIF(Data!$H$2:$H$10177,$C645,Data!$J$2:$J$10177)","v":0},{"$f":"SUMIF(Data!$K$2:$K$10177,$C645,Data!$M$2:$M$10177)","v":0},{"$f":"SUMIF(Data!$N$2:$N$10177,$C645,Data!$P$2:$P$10177)","v":0},{"$f":"SUMIF(Data!$Q$2:$R$10177,$C645,Data!$S$2:$S$10177)","v":0},{"$f":"SUMIF(Data!$T$2:$U$10177,$C645,Data!$V$2:$V$10177)","v":0},{"$f":"SUMIF(Data!$W$2:$W$10177,$C645,Data!$Y$2:$Y$10177)","v":0}]
[null,null,9900020465,20465,"ESD PLASTIC SLEEVE KIT  (464 Sleeve, 465 Pallet, 466 Lid)","PLASTIC",19.149999999999999,0,0,{"$f":"SUMIF(Data!$H$2:$H$10177,$C646,Data!$D$2:$D$10177)","v":0},{"$f":"SUMIF(Data!$H$2:$H$10177,$C646,Data!$J$2:$J$10177)","v":0},{"$f":"SUMIF(Data!$K$2:$K$10177,$C646,Data!$M$2:$M$10177)","v":0},{"$f":"SUMIF(Data!$N$2:$N$10177,$C646,Data!$P$2:$P$10177)","v":0},{"$f":"SUMIF(Data!$Q$2:$R$10177,$C646,Data!$S$2:$S$10177)","v":0},{"$f":"SUMIF(Data!$T$2:$U$10177,$C646,Data!$V$2:$V$10177)","v":0},{"$f":"SUMIF(Data!$W$2:$W$10177,$C646,Data!$Y$2:$Y$10177)","v":0}]
[null,null,9900020468,20468,"SPACER SLEEVE KIT (467 Sleeve, 468 Pallet, 469 Lid)","PLASTIC",75.2,0,0,{"$f":"SUMIF(Data!$H$2:$H$10177,$C647,Data!$D$2:$D$10177)","v":0},{"$f":"SUMIF(Data!$H$2:$H$10177,$C647,Data!$J$2:$J$10177)","v":0},{"$f":"SUMIF(Data!$K$2:$K$10177,$C647,Data!$M$2:$M$10177)","v":0},{"$f":"SUMIF(Data!$N$2:$N$10177,$C647,Data!$P$2:$P$10177)","v":0},{"$f":"SUMIF(Data!$Q$2:$R$10177,$C647,Data!$S$2:$S$10177)","v":0},{"$f":"SUMIF(Data!$T$2:$U$10177,$C647,Data!$V$2:$V$10177)","v":0},{"$f":"SUMIF(Data!$W$2:$W$10177,$C647,Data!$Y$2:$Y$10177)","v":0}]
[null,null,9900029211,29211,"SPACER KIT  (9211 & 9212)","PLASTIC",0.13,{"$f":"G648*I648","v":0},{"$f":"SUM(J648:P648)","v":0},{"$f":"SUMIF(Data!$H$2:$H$10177,$C648,Data!$D$2:$D$10177)","v":0},{"$f":"SUMIF(Data!$H$2:$H$10177,$C648,Data!$J$2:$J$10177)","v":0},{"$f":"SUMIF(Data!$K$2:$K$10177,$C648,Data!$M$2:$M$10177)","v":0},{"$f":"SUMIF(Data!$N$2:$N$10177,$C648,Data!$P$2:$P$10177)","v":0},{"$f":"SUMIF(Data!$Q$2:$R$10177,$C648,Data!$S$2:$S$10177)","v":0},{"$f":"SUMIF(Data!$T$2:$U$10177,$C648,Data!$V$2:$V$10177)","v":0},{"$f":"SUMIF(Data!$W$2:$W$10177,$C648,Data!$Y$2:$Y$10177)","v":0}]
[]
[]
[null,null,null,null,"Some types may contain more than one material,   The weight indicated is the system weight for that packaging and is simplified to the main material.","WOOD",null,{"$f":"SUMIF(F16:H648,\"WOOD\",H16:H648)","v":0}]
[null,null,null,null,null,"PLASTIC",null,{"$f":"SUMIF(F16:H648,\"PLASTIC\",H16:H648)","v":0}]
[null,null,null,null,null,"SOLIDBOARD",null,{"$f":"SUMIF(F16:H648,\"SOLIDBOARD\",H16:H648)","v":0}]
[null,null,null,null,null,"CARDBOARD",null,{"$f":"SUMIF(F16:H648,\"CARDBOARD\",H16:H648)","v":0}]
[null,null,null,null,null,"METAL",null,{"$f":"SUMIF(F16:H648,\"METAL\",H16:H648)","v":0}]
[null,null,null,null,null,"RUBBER",null,{"$f":"SUMIF(F16:H648,\"RUBBER\",H16:H648)","v":0}]
[null,null,null,null,null,"TOTAL KG ",null,{"$f":"SUBTOTAL(9,H651:H656)","v":0}]
[]
[null,null,"NOTES:"]
[]
[]
[]
[]
[]
[null,null,{"$f":"'INPUT '!D123","v":"VGLS INSPECTION dept. VERSION 70 updated 24/09/2025  (BY: Ian Shortley)"}]

{"sheet":"Data","index":3,"n_rows":837,"n_cols":25,"rows_kept":837,"cut":false,"hidden":true,"merged":[]}
["Material","ABV","Bundle INPUT","Piece input","Material Description","TYPE","Resort time","Primary EMB ","QTY1","RES1","SECONDRY ","QTY2","RES2","PALLETS","QTY3","RES3","FRAMES","QTY4","RES4","LIDS","QTY5","RES5","Plastic Cover ","QTY6","RES6"]
[9900010000,{"$f":"Data!$A2-9900010000","v":0},{"$f":"IF(EXACT($B2,LOOKUP($B2,'INPUT '!$D$16:$D$116)),LOOKUP($B2,'INPUT '!$D$16:$D$116,'INPUT '!$E$16:$E$116),\"0\")","v":1},{"$f":"IF(EXACT($B2,LOOKUP($B2,'INPUT '!$D$16:$D$116)),LOOKUP($B2,'INPUT '!$D$16:$D$116,'INPUT '!$F$16:$F$116),\"0\")","v":0},"Admin",null,null,9900000000,1,{"$f":"I2*C2","v":1},null,null,{"$f":"L2*C2","v":0},null,null,{"$f":"O2*C2","v":0},null,null,{"$f":"R2*C2","v":0},null,null,{"$f":"U2*C2","v":0},null,null,{"$f":"X2*C2","v":0}]
[9900010001,{"$f":"Data!$A3-9900010000","v":1},{"$f":"IF(EXACT($B3,LOOKUP($B3,'INPUT '!$D$16:$D$116)),LOOKUP($B3,'INPUT '!$D$16:$D$116,'INPUT '!$E$16:$E$116),\"0\")","v":"0"},{"$f":"IF(EXACT($B3,LOOKUP($B3,'INPUT '!$D$16:$D$116)),LOOKUP($B3,'INPUT '!$D$16:$D$116,'INPUT '!$F$16:$F$116),\"0\")","v":"0"},"PALLET OF WOOD, TYPE L (Bundle) ","L",null,9900000001,null,0,null,null,0,9900000001,10,0,null,null,0,null,null,0,null,null,0]
[9900010002,{"$f":"Data!$A4-9900010000","v":2},{"$f":"IF(EXACT($B4,LOOKUP($B4,'INPUT '!$D$16:$D$116)),LOOKUP($B4,'INPUT '!$D$16:$D$116,'INPUT '!$E$16:$E$116),\"0\")","v":"0"},{"$f":"IF(EXACT($B4,LOOKUP($B4,'INPUT '!$D$16:$D$116)),LOOKUP($B4,'INPUT '!$D$16:$D$116,'INPUT '!$F$16:$F$116),\"0\")","v":"0"},"PALLET OF WOOD, TYPE K (Bundle) ","K",null,9900000002,null,0,null,null,0,9900000002,20,0,null,null,0,null,null,0,null,null,0]
[9900010005,{"$f":"Data!$A5-9900010000","v":5},{"$f":"IF(EXACT($B5,LOOKUP($B5,'INPUT '!$D$16:$D$116)),LOOKUP($B5,'INPUT '!$D$16:$D$116,'INPUT '!$E$16:$E$116),\"0\")","v":"0"},{"$f":"IF(EXACT($B5,LOOKUP($B5,'INPUT '!$D$16:$D$116)),LOOKUP($B5,'INPUT '!$D$16:$D$116,'INPUT '!$F$16:$F$116),\"0\")","v":"0"},"PALLET OF WOOD, TYPE F (Bundle) ","F",null,9900000005,null,0,null,null,0,9900000005,1,0,null,null,0,null,null,0,null,null,0]
[9900010006,{"$f":"Data!$A6-9900010000","v":6},{"$f":"IF(EXACT($B6,LOOKUP($B6,'INPUT '!$D$16:$D$116)),LOOKUP($B6,'INPUT '!$D$16:$D$116,'INPUT '!$E$16:$E$116),\"0\")","v":"0"},{"$f":"IF(EXACT($B6,LOOKUP($B6,'INPUT '!$D$16:$D$116)),LOOKUP($B6,'INPUT '!$D$16:$D$116,'INPUT '!$F$16:$F$116),\"0\")","v":"0"},"PALLET OF WOOD, TYPE G (Bundle) ","G",null,9900000006,null,0,null,null,0,9900000006,10,0,null,null,0,null,null,0,null,null,0]
[9900010009,{"$f":"Data!$A7-9900010000","v":9},{"$f":"IF(EXACT($B7,LOOKUP($B7,'INPUT '!$D$16:$D$116)),LOOKUP($B7,'INPUT '!$D$16:$D$116,'INPUT '!$E$16:$E$116),\"0\")","v":"0"},{"$f":"IF(EXACT($B7,LOOKUP($B7,'INPUT '!$D$16:$D$116)),LOOKUP($B7,'INPUT '!$D$16:$D$116,'INPUT '!$F$16:$F$116),\"0\")","v":"0"},"PALLET OF WOOD, TYPE H (Bundle) ","H",null,9900000009,null,0,null,null,0,9900000009,10,0,null,null,0,null,null,0,null,null,0]
[9900010021,{"$f":"Data!$A8-9900010000","v":21},{"$f":"IF(EXACT($B8,LOOKUP($B8,'INPUT '!$D$16:$D$116)),LOOKUP($B8,'INPUT '!$D$16:$D$116,'INPUT '!$E$16:$E$116),\"0\")","v":"0"},{"$f":"IF(EXACT($B8,LOOKUP($B8,'INPUT '!$D$16:$D$116)),LOOKUP($B8,'INPUT '!$D$16:$D$116,'INPUT '!$F$16:$F$116),\"0\")","v":"0"},"FRAME OF WOOD, TYPE L (Bundle) ","L",null,9900000021,null,0,null,null,0,9900000001,2,0,9900000021,50,0,null,null,0,null,null,0]
[9900010022,{"$f":"Data!$A9-9900010000","v":22},{"$f":"IF(EXACT($B9,LOOKUP($B9,'INPUT '!$D$16:$D$116)),LOOKUP($B9,'INPUT '!$D$16:$D$116,'INPUT '!$E$16:$E$116),\"0\")","v":"0"},{"$f":"IF(EXACT($B9,LOOKUP($B9,'INPUT '!$D$16:$D$116)),LOOKUP($B9,'INPUT '!$D$16:$D$116,'INPUT '!$F$16:$F$116),\"0\")","v":"0"},"FRAME OF WOOD, TYPE K (Bundle) ","K",null,9900000022,null,0,null,null,0,9900000002,2,0,9900000022,50,0,null,null,0,null,null,0]
[9900010025,{"$f":"Data!$A10-9900010000","v":25},{"$f":"IF(EXACT($B10,LOOKUP($B10,'INPUT '!$D$16:$D$116)),LOOKUP($B10,'INPUT '!$D$16:$D$116,'INPUT '!$E$16:$E$116),\"0\")","v":"0"},{"$f":"IF(EXACT($B10,LOOKUP($B10,'INPUT '!$D$16:$D$116)),LOOKUP($B10,'INPUT '!$D$16:$D$116,'INPUT '!$F$16:$F$116),\"0\")","v":"0"},"FRAME OF WOOD, TYPE F (Bundle) ","F",null,9900000025,null,0,null,null,0,9900000005,1,0,9900000025,25,0,null,null,0,null,null,0]
[9900010026,{"$f":"Data!$A11-9900010000","v":26},{"$f":"IF(EXACT($B11,LOOKUP($B11,'INPUT '!$D$16:$D$116)),LOOKUP($B11,'INPUT '!$D$16:$D$116,'INPUT '!$E$16:$E$116),\"0\")","v":"0"},{"$f":"IF(EXACT($B11,LOOKUP($B11,'INPUT '!$D$16:$D$116)),LOOKUP($B11,'INPUT '!$D$16:$D$116,'INPUT '!$F$16:$F$116),\"0\")","v":"0"},"FRAME OF WOOD, TYPE G (Bundle) ","G",null,9900000026,null,0,null,null,0,9900000006,1,0,9900000026,32,0,null,null,0,null,null,0]
[9900010029,{"$f":"Data!$A12-9900010000","v":29},{"$f":"IF(EXACT($B12,LOOKUP($B12,'INPUT '!$D$16:$D$116)),LOOKUP($B12,'INPUT '!$D$16:$D$116,'INPUT '!$E$16:$E$116),\"0\")","v":"0"},{"$f":"IF(EXACT($B12,LOOKUP($B12,'INPUT '!$D$16:$D$116)),LOOKUP($B12,'INPUT '!$D$16:$D$116,'INPUT '!$F$16:$F$116),\"0\")","v":"0"},"FRAME OF WOOD, TYPE H (Bundle) ","H",null,9900000029,null,0,null,null,0,9900000009,1,0,9900000029,32,0,null,null,0,null,null,0]
[9900010031,{"$f":"Data!$A13-9900010000","v":31},{"$f":"IF(EXACT($B13,LOOKUP($B13,'INPUT '!$D$16:$D$116)),LOOKUP($B13,'INPUT '!$D$16:$D$116,'INPUT '!$E$16:$E$116),\"0\")","v":"0"},{"$f":"IF(EXACT($B13,LOOKUP($B13,'INPUT '!$D$16:$D$116)),LOOKUP($B13,'INPUT '!$D$16:$D$116,'INPUT '!$F$16:$F$116),\"0\")","v":"0"},"SPACER OF PLYWOOD, L OUTER (Bundle) ","L",null,9900000031,50,0,null,null,0,9900000001,1,0,null,null,0,null,null,0,null,null,0]
[9900010035,{"$f":"Data!$A14-9900010000","v":35},{"$f":"IF(EXACT($B14,LOOKUP($B14,'INPUT '!$D$16:$D$116)),LOOKUP($B14,'INPUT '!$D$16:$D$116,'INPUT '!$E$16:$E$116),\"0\")","v":"0"},{"$f":"IF(EXACT($B14,LOOKUP($B14,'INPUT '!$D$16:$D$116)),LOOKUP($B14,'INPUT '!$D$16:$D$116,'INPUT '!$F$16:$F$116),\"0\")","v":"0"},"SPACER OF PLYWOOD, F OUTER (Bundle) ","F",null,9900000035,50,0,null,null,0,9900000005,1,0,null,null,0,null,null,0,null,null,0]
[9900010041,{"$f":"Data!$A15-9900010000","v":41},{"$f":"IF(EXACT($B15,LOOKUP($B15,'INPUT '!$D$16:$D$116)),LOOKUP($B15,'INPUT '!$D$16:$D$116,'INPUT '!$E$16:$E$116),\"0\")","v":"0"},{"$f":"IF(EXACT($B15,LOOKUP($B15,'INPUT '!$D$16:$D$116)),LOOKUP($B15,'INPUT '!$D$16:$D$116,'INPUT '!$F$16:$F$116),\"0\")","v":"0"},"SPACER OF PLYWOOD, L INNER (Bundle) ","L",null,9900000041,50,0,null,null,0,9900000001,1,0,null,null,0,null,null,0,null,null,0]
[9900010045,{"$f":"Data!$A16-9900010000","v":45},{"$f":"IF(EXACT($B16,LOOKUP($B16,'INPUT '!$D$16:$D$116)),LOOKUP($B16,'INPUT '!$D$16:$D$116,'INPUT '!$E$16:$E$116),\"0\")","v":"0"},{"$f":"IF(EXACT($B16,LOOKUP($B16,'INPUT '!$D$16:$D$116)),LOOKUP($B16,'INPUT '!$D$16:$D$116,'INPUT '!$F$16:$F$116),\"0\")","v":"0"},"SPACER OF PLYWOOD, F INNER (Bundle) ","F",null,9900000045,20,0,null,null,0,9900000005,1,0,null,null,0,null,null,0,null,null,0]
[9900010051,{"$f":"Data!$A17-9900010000","v":51},{"$f":"IF(EXACT($B17,LOOKUP($B17,'INPUT '!$D$16:$D$116)),LOOKUP($B17,'INPUT '!$D$16:$D$116,'INPUT '!$E$16:$E$116),\"0\")","v":"0"},{"$f":"IF(EXACT($B17,LOOKUP($B17,'INPUT '!$D$16:$D$116)),LOOKUP($B17,'INPUT '!$D$16:$D$116,'INPUT '!$F$16:$F$116),\"0\")","v":"0"},"SPACER OF WOOD FIBRE, K OUTER (Bundle) ","L",null,9900000051,100,0,null,null,0,9900000001,1,0,null,null,0,9900000071,1,0,9900001021,1,0]
[9900010052,{"$f":"Data!$A18-9900010000","v":52},{"$f":"IF(EXACT($B18,LOOKUP($B18,'INPUT '!$D$16:$D$116)),LOOKUP($B18,'INPUT '!$D$16:$D$116,'INPUT '!$E$16:$E$116),\"0\")","v":"0"},{"$f":"IF(EXACT($B18,LOOKUP($B18,'INPUT '!$D$16:$D$116)),LOOKUP($B18,'INPUT '!$D$16:$D$116,'INPUT '!$F$16:$F$116),\"0\")","v":"0"},"SPACER OF WOOD FIBRE, K OUTER (Bundle) ","K",null,9900000052,100,0,null,null,0,9900000002,1,0,null,null,0,9900000072,1,0,9900001022,1,0]
[9900010055,{"$f":"Data!$A19-9900010000","v":55},{"$f":"IF(EXACT($B19,LOOKUP($B19,'INPUT '!$D$16:$D$116)),LOOKUP($B19,'INPUT '!$D$16:$D$116,'INPUT '!$E$16:$E$116),\"0\")","v":"0"},{"$f":"IF(EXACT($B19,LOOKUP($B19,'INPUT '!$D$16:$D$116)),LOOKUP($B19,'INPUT '!$D$16:$D$116,'INPUT '!$F$16:$F$116),\"0\")","v":"0"},"SPACER OF WOOD FIBRE, F OUTER (Bundle) ","F",null,9900000055,100,0,null,null,0,9900000005,1,0,null,null,0,9900000752,1,0,9900001025,1,0]
[9900010056,{"$f":"Data!$A20-9900010000","v":56},{"$f":"IF(EXACT($B20,LOOKUP($B20,'INPUT '!$D$16:$D$116)),LOOKUP($B20,'INPUT '!$D$16:$D$116,'INPUT '!$E$16:$E$116),\"0\")","v":"0"},{"$f":"IF(EXACT($B20,LOOKUP($B20,'INPUT '!$D$16:$D$116)),LOOKUP($B20,'INPUT '!$D$16:$D$116,'INPUT '!$F$16:$F$116),\"0\")","v":"0"},"SPACER OF WOOD FIBRE, G OUTER","G",null,9900000056,100,0,null,null,0,9900000006,1,0,null,null,0,9900000076,1,0,9900001026,1,0]
[9900010059,{"$f":"Data!$A21-9900010000","v":59},{"$f":"IF(EXACT($B21,LOOKUP($B21,'INPUT '!$D$16:$D$116)),LOOKUP($B21,'INPUT '!$D$16:$D$116,'INPUT '!$E$16:$E$116),\"0\")","v":"0"},{"$f":"IF(EXACT($B21,LOOKUP($B21,'INPUT '!$D$16:$D$116)),LOOKUP($B21,'INPUT '!$D$16:$D$116,'INPUT '!$F$16:$F$116),\"0\")","v":"0"},"SPACER OF WOOD FIBRE, H OUTER","H",null,9900000059,100,0,null,null,0,9900000009,1,0,null,null,0,9900000079,1,0,9900001029,1,0]
[9900010061,{"$f":"Data!$A22-9900010000","v":61},{"$f":"IF(EXACT($B22,LOOKUP($B22,'INPUT '!$D$16:$D$116)),LOOKUP($B22,'INPUT '!$D$16:$D$116,'INPUT '!$E$16:$E$116),\"0\")","v":"0"},{"$f":"IF(EXACT($B22,LOOKUP($B22,'INPUT '!$D$16:$D$116)),LOOKUP($B22,'INPUT '!$D$16:$D$116,'INPUT '!$F$16:$F$116),\"0\")","v":"0"},"SPACER OF WOOD FIBRE, L INNER","L",null,9900000061,120,0,null,null,0,9900000001,1,0,9900000021,2,0,9900000071,1,0,9900001021,1,0]
[9900010062,{"$f":"Data!$A23-9900010000","v":62},{"$f":"IF(EXACT($B23,LOOKUP($B23,'INPUT '!$D$16:$D$116)),LOOKUP($B23,'INPUT '!$D$16:$D$116,'INPUT '!$E$16:$E$116),\"0\")","v":"0"},{"$f":"IF(EXACT($B23,LOOKUP($B23,'INPUT '!$D$16:$D$116)),LOOKUP($B23,'INPUT '!$D$16:$D$116,'INPUT '!$F$16:$F$116),\"0\")","v":"0"},"SPACER OF WOOD FIBRE, K INNER","K",null,9900000062,120,0,null,null,0,9900000002,1,0,9900000022,2,0,9900000072,1,0,9900001022,1,0]
[9900010065,{"$f":"Data!$A24-9900010000","v":65},{"$f":"IF(EXACT($B24,LOOKUP($B24,'INPUT '!$D$16:$D$116)),LOOKUP($B24,'INPUT '!$D$16:$D$116,'INPUT '!$E$16:$E$116),\"0\")","v":"0"},{"$f":"IF(EXACT($B24,LOOKUP($B24,'INPUT '!$D$16:$D$116)),LOOKUP($B24,'INPUT '!$D$16:$D$116,'INPUT '!$F$16:$F$116),\"0\")","v":"0"},"SPACER OF WOOD FIBRE, F INNER","F",null,9900000065,100,0,null,null,0,9900000005,1,0,9900000025,2,0,9900000075,1,0,9900001025,1,0]
[9900010066,{"$f":"Data!$A25-9900010000","v":66},{"$f":"IF(EXACT($B25,LOOKUP($B25,'INPUT '!$D$16:$D$116)),LOOKUP($B25,'INPUT '!$D$16:$D$116,'INPUT '!$E$16:$E$116),\"0\")","v":"0"},{"$f":"IF(EXACT($B25,LOOKUP($B25,'INPUT '!$D$16:$D$116)),LOOKUP($B25,'INPUT '!$D$16:$D$116,'INPUT '!$F$16:$F$116),\"0\")","v":"0"},"SPACER OF WOOD FIBRE, G INNER","G",null,9900000066,100,0,null,null,0,9900000006,1,0,9900000026,2,0,9900000076,1,0,9900001026,1,0]
[9900010069,{"$f":"Data!$A26-9900010000","v":69},{"$f":"IF(EXACT($B26,LOOKUP($B26,'INPUT '!$D$16:$D$116)),LOOKUP($B26,'INPUT '!$D$16:$D$116,'INPUT '!$E$16:$E$116),\"0\")","v":"0"},{"$f":"IF(EXACT($B26,LOOKUP($B26,'INPUT '!$D$16:$D$116)),LOOKUP($B26,'INPUT '!$D$16:$D$116,'INPUT '!$F$16:$F$116),\"0\")","v":"0"},"SPACER OF WOOD FIBRE, H INNER","H",null,9900000069,100,0,null,null,0,9900000009,1,0,9900000029,2,0,9900000079,1,0,9900001029,1,0]
[9900010071,{"$f":"Data!$A27-9900010000","v":71},{"$f":"IF(EXACT($B27,LOOKUP($B27,'INPUT '!$D$16:$D$116)),LOOKUP($B27,'INPUT '!$D$16:$D$116,'INPUT '!$E$16:$E$116),\"0\")","v":"0"},{"$f":"IF(EXACT($B27,LOOKUP($B27,'INPUT '!$D$16:$D$116)),LOOKUP($B27,'INPUT '!$D$16:$D$116,'INPUT '!$F$16:$F$116),\"0\")","v":"0"},"LID OF PLYWOOD, TYPE L (Bundle) ","L",null,9900000071,null,0,null,null,0,9900000001,1,0,null,null,0,9900000071,25,0,null,null,0]
[9900010072,{"$f":"Data!$A28-9900010000","v":72},{"$f":"IF(EXACT($B28,LOOKUP($B28,'INPUT '!$D$16:$D$116)),LOOKUP($B28,'INPUT '!$D$16:$D$116,'INPUT '!$E$16:$E$116),\"0\")","v":"0"},{"$f":"IF(EXACT($B28,LOOKUP($B28,'INPUT '!$D$16:$D$116)),LOOKUP($B28,'INPUT '!$D$16:$D$116,'INPUT '!$F$16:$F$116),\"0\")","v":"0"},"LID OF PLYWOOD, TYPE K (Bundle) ","K",null,9900000072,null,0,null,null,0,9900000002,1,0,null,null,0,9900000072,25,0,null,null,0]
[9900010075,{"$f":"Data!$A29-9900010000","v":75},{"$f":"IF(EXACT($B29,LOOKUP($B29,'INPUT '!$D$16:$D$116)),LOOKUP($B29,'INPUT '!$D$16:$D$116,'INPUT '!$E$16:$E$116),\"0\")","v":"0"},{"$f":"IF(EXACT($B29,LOOKUP($B29,'INPUT '!$D$16:$D$116)),LOOKUP($B29,'INPUT '!$D$16:$D$116,'INPUT '!$F$16:$F$116),\"0\")","v":"0"},"LID OF PLYWOOD, TYPE F (Bundle) ","F",null,9900000075,null,0,null,null,0,9900000005,1,0,null,null,0,9900000075,25,0,null,null,0]
[9900010076,{"$f":"Data!$A30-9900010000","v":76},{"$f":"IF(EXACT($B30,LOOKUP($B30,'INPUT '!$D$16:$D$116)),LOOKUP($B30,'INPUT '!$D$16:$D$116,'INPUT '!$E$16:$E$116),\"0\")","v":"0"},{"$f":"IF(EXACT($B30,LOOKUP($B30,'INPUT '!$D$16:$D$116)),LOOKUP($B30,'INPUT '!$D$16:$D$116,'INPUT '!$F$16:$F$116),\"0\")","v":"0"},"LID OF PLYWOOD, TYPE G (Bundle) ","G",null,9900000076,null,0,null,null,0,9900000006,1,0,null,null,0,9900000076,25,0,null,null,0]
[9900010079,{"$f":"Data!$A31-9900010000","v":79},{"$f":"IF(EXACT($B31,LOOKUP($B31,'INPUT '!$D$16:$D$116)),LOOKUP($B31,'INPUT '!$D$16:$D$116,'INPUT '!$E$16:$E$116),\"0\")","v":"0"},{"$f":"IF(EXACT($B31,LOOKUP($B31,'INPUT '!$D$16:$D$116)),LOOKUP($B31,'INPUT '!$D$16:$D$116,'INPUT '!$F$16:$F$116),\"0\")","v":"0"},"LID OF PLYWOOD, TYPE H (Bundle) ","H",null,9900000079,null,0,null,null,0,9900000009,1,0,null,null,0,9900000079,25,0,null,null,0]
[9900010081,{"$f":"Data!$A32-9900010000","v":81},{"$f":"IF(EXACT($B32,LOOKUP($B32,'INPUT '!$D$16:$D$116)),LOOKUP($B32,'INPUT '!$D$16:$D$116,'INPUT '!$E$16:$E$116),\"0\")","v":"0"},{"$f":"IF(EXACT($B32,LOOKUP($B32,'INPUT '!$D$16:$D$116)),LOOKUP($B32,'INPUT '!$D$16:$D$116,'INPUT '!$F$16:$F$116),\"0\")","v":"0"},"SPACER OF PLASTIC, L INNER (Bundle) ","L",null,9900000081,135,0,null,null,0,9900000001,1,0,9900000021,3,0,9900000071,1,0,null,null,0]
[9900010082,{"$f":"Data!$A33-9900010000","v":82},{"$f":"IF(EXACT($B33,LOOKUP($B33,'INPUT '!$D$16:$D$116)),LOOKUP($B33,'INPUT '!$D$16:$D$116,'INPUT '!$E$16:$E$116),\"0\")","v":"0"},{"$f":"IF(EXACT($B33,LOOKUP($B33,'INPUT '!$D$16:$D$116)),LOOKUP($B33,'INPUT '!$D$16:$D$116,'INPUT '!$F$16:$F$116),\"0\")","v":"0"},"SPACER OF PLASTIC, K INNER (Bundle) ","K",null,9900000082,90,0,null,null,0,9900000002,1,0,9900000022,2,0,9900000072,1,0,null,null,0]
[9900010091,{"$f":"Data!$A34-9900010000","v":91},{"$f":"IF(EXACT($B34,LOOKUP($B34,'INPUT '!$D$16:$D$116)),LOOKUP($B34,'INPUT '!$D$16:$D$116,'INPUT '!$E$16:$E$116),\"0\")","v":"0"},{"$f":"IF(EXACT($B34,LOOKUP($B34,'INPUT '!$D$16:$D$116)),LOOKUP($B34,'INPUT '!$D$16:$D$116,'INPUT '!$F$16:$F$116),\"0\")","v":"0"},"LID OF PLASTIC (Bundle) ","L",null,9900000091,null,0,null,null,0,9900000001,1,0,null,null,0,9900000091,25,0,null,null,0]
[9900010092,{"$f":"Data!$A35-9900010000","v":92},{"$f":"IF(EXACT($B35,LOOKUP($B35,'INPUT '!$D$16:$D$116)),LOOKUP($B35,'INPUT '!$D$16:$D$116,'INPUT '!$E$16:$E$116),\"0\")","v":"0"},{"$f":"IF(EXACT($B35,LOOKUP($B35,'INPUT '!$D$16:$D$116)),LOOKUP($B35,'INPUT '!$D$16:$D$116,'INPUT '!$F$16:$F$116),\"0\")","v":"0"},"LID OF PLASTIC (Bundle) ","K",null,9900000092,null,0,null,null,0,9900000002,1,0,null,null,0,9900000092,25,0,null,null,0]
[9900010099,{"$f":"Data!$A36-9900010000","v":99},{"$f":"IF(EXACT($B36,LOOKUP($B36,'INPUT '!$D$16:$D$116)),LOOKUP($B36,'INPUT '!$D$16:$D$116,'INPUT '!$E$16:$E$116),\"0\")","v":"0"},{"$f":"IF(EXACT($B36,LOOKUP($B36,'INPUT '!$D$16:$D$116)),LOOKUP($B36,'INPUT '!$D$16:$D$116,'INPUT '!$F$16:$F$116),\"0\")","v":"0"},"BAG OF PLASTIC (5L)",null,null,9900000099,3200,{"$f":"I36*C36","v":0},null,null,{"$f":"L36*C36","v":0},9900000001,1,0,9900000021,2,0,9900000071,1,0,null,null,0]
[9900010107,{"$f":"Data!$A37-9900010000","v":107},{"$f":"IF(EXACT($B37,LOOKUP($B37,'INPUT '!$D$16:$D$116)),LOOKUP($B37,'INPUT '!$D$16:$D$116,'INPUT '!$E$16:$E$116),\"0\")","v":"0"},{"$f":"IF(EXACT($B37,LOOKUP($B37,'INPUT '!$D$16:$D$116)),LOOKUP($B37,'INPUT '!$D$16:$D$116,'INPUT '!$F$16:$F$116),\"0\")","v":"0"},"PALLET OF WOOD (Bundle) ",null,null,9900000107,1,0,null,null,0,null,null,0,null,null,0,null,null,0,null,null,0]
[9900010116,{"$f":"Data!$A38-9900010000","v":116},{"$f":"IF(EXACT($B38,LOOKUP($B38,'INPUT '!$D$16:$D$116)),LOOKUP($B38,'INPUT '!$D$16:$D$116,'INPUT '!$E$16:$E$116),\"0\")","v":"0"},{"$f":"IF(EXACT($B38,LOOKUP($B38,'INPUT '!$D$16:$D$116)),LOOKUP($B38,'INPUT '!$D$16:$D$116,'INPUT '!$F$16:$F$116),\"0\")","v":"0"},"SPACER OF FLEX TEXTILE","L",null,9900000116,150,{"$f":"I38*C38","v":0},null,null,{"$f":"L38*C38","v":0},9900000001,1,0,9900000021,3,0,9900000071,1,0,9900001031,1,0]
[9900010119,{"$f":"Data!$A39-9900010000","v":119},{"$f":"IF(EXACT($B39,LOOKUP($B39,'INPUT '!$D$16:$D$116)),LOOKUP($B39,'INPUT '!$D$16:$D$116,'INPUT '!$E$16:$E$116),\"0\")","v":"0"},{"$f":"IF(EXACT($B39,LOOKUP($B39,'INPUT '!$D$16:$D$116)),LOOKUP($B39,'INPUT '!$D$16:$D$116,'INPUT '!$F$16:$F$116),\"0\")","v":"0"},"SPACER OF CORR.BOARD/FOAM","L",null,9900000119,200,0,null,null,0,9900000001,1,0,9900000021,3,0,9900000071,1,0,9900001041,1,0]
[9900010121,{"$f":"Data!$A40-9900010000","v":121},{"$f":"IF(EXACT($B40,LOOKUP($B40,'INPUT '!$D$16:$D$116)),LOOKUP($B40,'INPUT '!$D$16:$D$116,'INPUT '!$E$16:$E$116),\"0\")","v":"0"},{"$f":"IF(EXACT($B40,LOOKUP($B40,'INPUT '!$D$16:$D$116)),LOOKUP($B40,'INPUT '!$D$16:$D$116,'INPUT '!$F$16:$F$116),\"0\")","v":"0"},"SPACER OF FLEX TEXTILE","L",null,9900000121,200,0,null,null,0,9900000001,1,0,9900000021,3,0,9900000071,1,0,9900001031,1,0]
[9900010140,{"$f":"Data!$A41-9900010000","v":140},{"$f":"IF(EXACT($B41,LOOKUP($B41,'INPUT '!$D$16:$D$116)),LOOKUP($B41,'INPUT '!$D$16:$D$116,'INPUT '!$E$16:$E$116),\"0\")","v":"0"},{"$f":"IF(EXACT($B41,LOOKUP($B41,'INPUT '!$D$16:$D$116)),LOOKUP($B41,'INPUT '!$D$16:$D$116,'INPUT '!$F$16:$F$116),\"0\")","v":"0"},"COMBITAINER","L",null,9900000140,null,0,9900000105,4,0,9900000001,4,0,9900000140,4,0,9900000191,4,0,null,null,0]
[9900010141,{"$f":"Data!$A42-9900010000","v":141},{"$f":"IF(EXACT($B42,LOOKUP($B42,'INPUT '!$D$16:$D$116)),LOOKUP($B42,'INPUT '!$D$16:$D$116,'INPUT '!$E$16:$E$116),\"0\")","v":"0"},{"$f":"IF(EXACT($B42,LOOKUP($B42,'INPUT '!$D$16:$D$116)),LOOKUP($B42,'INPUT '!$D$16:$D$116,'INPUT '!$F$16:$F$116),\"0\")","v":"0"},"PSC- PALLET",null,null,9900020141,4,{"$f":"I42*C42","v":0},null,null,{"$f":"L42*C42","v":0},null,null,{"$f":"O42*C42","v":0},null,null,0,null,null,{"$f":"U42*C42","v":0},null,null,{"$f":"X42*C42","v":0}]
[9900010142,{"$f":"Data!$A43-9900010000","v":142},{"$f":"IF(EXACT($B43,LOOKUP($B43,'INPUT '!$D$16:$D$116)),LOOKUP($B43,'INPUT '!$D$16:$D$116,'INPUT '!$E$16:$E$116),\"0\")","v":"0"},{"$f":"IF(EXACT($B43,LOOKUP($B43,'INPUT '!$D$16:$D$116)),LOOKUP($B43,'INPUT '!$D$16:$D$116,'INPUT '!$F$16:$F$116),\"0\")","v":"0"},"PSC- SLEEVE",null,null,9900000142,1,{"$f":"I43*C43","v":0},null,null,{"$f":"L43*C43","v":0},9900000141,1,{"$f":"O43*C43","v":0},null,null,0,9900000143,1,{"$f":"U43*C43","v":0},null,null,{"$f":"X43*C43","v":0}]
[9900010143,{"$f":"Data!$A44-9900010000","v":143},{"$f":"IF(EXACT($B44,LOOKUP($B44,'INPUT '!$D$16:$D$116)),LOOKUP($B44,'INPUT '!$D$16:$D$116,'INPUT '!$E$16:$E$116),\"0\")","v":"0"},{"$f":"IF(EXACT($B44,LOOKUP($B44,'INPUT '!$D$16:$D$116)),LOOKUP($B44,'INPUT '!$D$16:$D$116,'INPUT '!$F$16:$F$116),\"0\")","v":"0"},"PSC- LID",null,null,9900000143,0,{"$f":"I44*C44","v":0},null,null,{"$f":"L44*C44","v":0},null,null,{"$f":"O44*C44","v":0},null,null,0,null,null,{"$f":"U44*C44","v":0},null,null,{"$f":"X44*C44","v":0}]
[9900010153,{"$f":"Data!$A45-9900010000","v":153},{"$f":"IF(EXACT($B45,LOOKUP($B45,'INPUT '!$D$16:$D$116)),LOOKUP($B45,'INPUT '!$D$16:$D$116,'INPUT '!$E$16:$E$116),\"0\")","v":"0"},{"$f":"IF(EXACT($B45,LOOKUP($B45,'INPUT '!$D$16:$D$116)),LOOKUP($B45,'INPUT '!$D$16:$D$116,'INPUT '!$F$16:$F$116),\"0\")","v":"0"},"GOODS LABEL HOLDER","L",null,9900000153,500,0,null,null,0,9900000001,1,0,null,null,0,9900000071,1,0,null,null,0]
[9900010156,{"$f":"Data!$A46-9900010000","v":156},{"$f":"IF(EXACT($B46,LOOKUP($B46,'INPUT '!$D$16:$D$116)),LOOKUP($B46,'INPUT '!$D$16:$D$116,'INPUT '!$E$16:$E$116),\"0\")","v":"0"},{"$f":"IF(EXACT($B46,LOOKUP($B46,'INPUT '!$D$16:$D$116)),LOOKUP($B46,'INPUT '!$D$16:$D$116,'INPUT '!$F$16:$F$116),\"0\")","v":"0"},"BOX OF CORRUGATED BOARD","L",null,9900000156,1620,{"$f":"I46*C46","v":0},null,null,{"$f":"L46*C46","v":0},9900000001,1,{"$f":"O46*C46","v":0},null,null,0,null,null,{"$f":"U46*C46","v":0},null,null,{"$f":"X46*C46","v":0}]
[9900010170,{"$f":"Data!$A47-9900010000","v":170},{"$f":"IF(EXACT($B47,LOOKUP($B47,'INPUT '!$D$16:$D$116)),LOOKUP($B47,'INPUT '!$D$16:$D$116,'INPUT '!$E$16:$E$116),\"0\")","v":"0"},{"$f":"IF(EXACT($B47,LOOKUP($B47,'INPUT '!$D$16:$D$116)),LOOKUP($B47,'INPUT '!$D$16:$D$116,'INPUT '!$F$16:$F$116),\"0\")","v":"0"},"RACK OF STEEL",null,null,9900000170,1,0,null,null,0,null,null,0,null,null,0,null,null,0,null,null,0]
[9900010175,{"$f":"Data!$A48-9900010000","v":175},{"$f":"IF(EXACT($B48,LOOKUP($B48,'INPUT '!$D$16:$D$116)),LOOKUP($B48,'INPUT '!$D$16:$D$116,'INPUT '!$E$16:$E$116),\"0\")","v":"0"},{"$f":"IF(EXACT($B48,LOOKUP($B48,'INPUT '!$D$16:$D$116)),LOOKUP($B48,'INPUT '!$D$16:$D$116,'INPUT '!$F$16:$F$116),\"0\")","v":"0"},"BATTEN OF WOOD",null,null,9900000175,104,0,null,null,0,9900000001,1,0,9900000021,2,0,9900000071,1,0,null,null,0]
[9900010176,{"$f":"Data!$A49-9900010000","v":176},{"$f":"IF(EXACT($B49,LOOKUP($B49,'INPUT '!$D$16:$D$116)),LOOKUP($B49,'INPUT '!$D$16:$D$116,'INPUT '!$E$16:$E$116),\"0\")","v":"0"},{"$f":"IF(EXACT($B49,LOOKUP($B49,'INPUT '!$D$16:$D$116)),LOOKUP($B49,'INPUT '!$D$16:$D$116,'INPUT '!$F$16:$F$116),\"0\")","v":"0"},"BATTEN OF WOOD",null,null,9900000176,100,0,null,null,0,9900000001,1,0,9900000021,2,0,9900000071,1,0,null,null,0]
[9900010190,{"$f":"Data!$A50-9900010000","v":190},{"$f":"IF(EXACT($B50,LOOKUP($B50,'INPUT '!$D$16:$D$116)),LOOKUP($B50,'INPUT '!$D$16:$D$116,'INPUT '!$E$16:$E$116),\"0\")","v":"0"},{"$f":"IF(EXACT($B50,LOOKUP($B50,'INPUT '!$D$16:$D$116)),LOOKUP($B50,'INPUT '!$D$16:$D$116,'INPUT '!$F$16:$F$116),\"0\")","v":"0"},"PALLET OF PLASTIC",null,null,9900020190,1,0,null,null,0,null,null,0,null,null,0,null,null,0,null,null,0]
[9900010191,{"$f":"Data!$A51-9900010000","v":191},{"$f":"IF(EXACT($B51,LOOKUP($B51,'INPUT '!$D$16:$D$116)),LOOKUP($B51,'INPUT '!$D$16:$D$116,'INPUT '!$E$16:$E$116),\"0\")","v":"0"},{"$f":"IF(EXACT($B51,LOOKUP($B51,'INPUT '!$D$16:$D$116)),LOOKUP($B51,'INPUT '!$D$16:$D$116,'INPUT '!$F$16:$F$116),\"0\")","v":"0"},"LID OF PLASTIC",null,null,9900000191,1,0,null,null,0,null,null,0,null,null,0,null,null,0,null,null,0]
[9900010215,{"$f":"Data!$A52-9900010000","v":215},{"$f":"IF(EXACT($B52,LOOKUP($B52,'INPUT '!$D$16:$D$116)),LOOKUP($B52,'INPUT '!$D$16:$D$116,'INPUT '!$E$16:$E$116),\"0\")","v":"0"},{"$f":"IF(EXACT($B52,LOOKUP($B52,'INPUT '!$D$16:$D$116)),LOOKUP($B52,'INPUT '!$D$16:$D$116,'INPUT '!$F$16:$F$116),\"0\")","v":"0"},"RACK OF STEEL",null,null,9900000215,10,0,null,null,0,null,null,0,null,null,0,null,null,0,null,null,0]
[9900010233,{"$f":"Data!$A53-9900010000","v":233},{"$f":"IF(EXACT($B53,LOOKUP($B53,'INPUT '!$D$16:$D$116)),LOOKUP($B53,'INPUT '!$D$16:$D$116,'INPUT '!$E$16:$E$116),\"0\")","v":"0"},{"$f":"IF(EXACT($B53,LOOKUP($B53,'INPUT '!$D$16:$D$116)),LOOKUP($B53,'INPUT '!$D$16:$D$116,'INPUT '!$F$16:$F$116),\"0\")","v":"0"},"SUPPORT OF STEEL","L",null,9900000233,20,0,null,null,0,9900000001,1,0,9900000021,3,0,9900000071,1,0,null,null,0]
[9900010234,{"$f":"Data!$A54-9900010000","v":234},{"$f":"IF(EXACT($B54,LOOKUP($B54,'INPUT '!$D$16:$D$116)),LOOKUP($B54,'INPUT '!$D$16:$D$116,'INPUT '!$E$16:$E$116),\"0\")","v":"0"},{"$f":"IF(EXACT($B54,LOOKUP($B54,'INPUT '!$D$16:$D$116)),LOOKUP($B54,'INPUT '!$D$16:$D$116,'INPUT '!$F$16:$F$116),\"0\")","v":"0"},"SUPPORT OF STEEL","L",null,9900000234,15,0,null,null,0,9900000001,1,0,9900000021,4,0,9900000071,1,0,null,null,0]
[9900010236,{"$f":"Data!$A55-9900010000","v":236},{"$f":"IF(EXACT($B55,LOOKUP($B55,'INPUT '!$D$16:$D$116)),LOOKUP($B55,'INPUT '!$D$16:$D$116,'INPUT '!$E$16:$E$116),\"0\")","v":"0"},{"$f":"IF(EXACT($B55,LOOKUP($B55,'INPUT '!$D$16:$D$116)),LOOKUP($B55,'INPUT '!$D$16:$D$116,'INPUT '!$F$16:$F$116),\"0\")","v":"0"},"LID OF PLYWOOD","F",null,9900000236,null,0,null,null,0,9900000005,1,0,null,null,0,9900000236,18,0,null,null,0]
[9900010260,{"$f":"Data!$A56-9900010000","v":260},{"$f":"IF(EXACT($B56,LOOKUP($B56,'INPUT '!$D$16:$D$116)),LOOKUP($B56,'INPUT '!$D$16:$D$116,'INPUT '!$E$16:$E$116),\"0\")","v":"0"},{"$f":"IF(EXACT($B56,LOOKUP($B56,'INPUT '!$D$16:$D$116)),LOOKUP($B56,'INPUT '!$D$16:$D$116,'INPUT '!$F$16:$F$116),\"0\")","v":"0"},"SPACER OF FOAM","L",null,9900000260,80,0,null,null,0,9900000001,1,0,9900000021,4,0,9900000071,1,0,9900001041,1,0]
[9900010262,{"$f":"Data!$A57-9900010000","v":262},{"$f":"IF(EXACT($B57,LOOKUP($B57,'INPUT '!$D$16:$D$116)),LOOKUP($B57,'INPUT '!$D$16:$D$116,'INPUT '!$E$16:$E$116),\"0\")","v":"0"},{"$f":"IF(EXACT($B57,LOOKUP($B57,'INPUT '!$D$16:$D$116)),LOOKUP($B57,'INPUT '!$D$16:$D$116,'INPUT '!$F$16:$F$116),\"0\")","v":"0"},"BATTEN OF WOOD",null,null,9900000262,112,{"$f":"I57*C57","v":0},null,null,{"$f":"L57*C57","v":0},9900000001,1,0,9900000021,2,0,9900000071,1,0,null,null,{"$f":"X57*C57","v":0}]
[9900010268,{"$f":"Data!$A58-9900010000","v":268},{"$f":"IF(EXACT($B58,LOOKUP($B58,'INPUT '!$D$16:$D$116)),LOOKUP($B58,'INPUT '!$D$16:$D$116,'INPUT '!$E$16:$E$116),\"0\")","v":"0"},{"$f":"IF(EXACT($B58,LOOKUP($B58,'INPUT '!$D$16:$D$116)),LOOKUP($B58,'INPUT '!$D$16:$D$116,'INPUT '!$F$16:$F$116),\"0\")","v":"0"},"SPACER OF CARDBOARD","L",null,9900000268,1000,{"$f":"I58*C58","v":0},null,null,{"$f":"L58*C58","v":0},9900000001,1,{"$f":"O58*C58","v":0},null,null,0,9900000071,1,{"$f":"U58*C58","v":0},null,null,{"$f":"X58*C58","v":0}]
[9900010270,{"$f":"Data!$A59-9900010000","v":270},{"$f":"IF(EXACT($B59,LOOKUP($B59,'INPUT '!$D$16:$D$116)),LOOKUP($B59,'INPUT '!$D$16:$D$116,'INPUT '!$E$16:$E$116),\"0\")","v":"0"},{"$f":"IF(EXACT($B59,LOOKUP($B59,'INPUT '!$D$16:$D$116)),LOOKUP($B59,'INPUT '!$D$16:$D$116,'INPUT '!$F$16:$F$116),\"0\")","v":"0"},"SPACER OF WOOD","G",null,9900000270,170,0,null,null,0,9900000006,1,0,9900000026,2,0,9900000076,1,0,9900001026,1,0]
[9900010274,{"$f":"Data!$A60-9900010000","v":274},{"$f":"IF(EXACT($B60,LOOKUP($B60,'INPUT '!$D$16:$D$116)),LOOKUP($B60,'INPUT '!$D$16:$D$116,'INPUT '!$E$16:$E$116),\"0\")","v":"0"},{"$f":"IF(EXACT($B60,LOOKUP($B60,'INPUT '!$D$16:$D$116)),LOOKUP($B60,'INPUT '!$D$16:$D$116,'INPUT '!$F$16:$F$116),\"0\")","v":"0"},"SPACER OF PLASTIC",null,null,9900000274,100,0,null,null,0,9900000001,1,0,9900000021,3,0,9900000071,1,0,9900001031,1,0]
[9900010284,{"$f":"Data!$A61-9900010000","v":284},{"$f":"IF(EXACT($B61,LOOKUP($B61,'INPUT '!$D$16:$D$116)),LOOKUP($B61,'INPUT '!$D$16:$D$116,'INPUT '!$E$16:$E$116),\"0\")","v":"0"},{"$f":"IF(EXACT($B61,LOOKUP($B61,'INPUT '!$D$16:$D$116)),LOOKUP($B61,'INPUT '!$D$16:$D$116,'INPUT '!$F$16:$F$116),\"0\")","v":"0"},"RACK OF STEEL",null,null,9900000284,1,0,null,null,0,null,null,0,null,null,0,null,null,0,null,null,0]
[9900010285,{"$f":"Data!$A62-9900010000","v":285},{"$f":"IF(EXACT($B62,LOOKUP($B62,'INPUT '!$D$16:$D$116)),LOOKUP($B62,'INPUT '!$D$16:$D$116,'INPUT '!$E$16:$E$116),\"0\")","v":"0"},{"$f":"IF(EXACT($B62,LOOKUP($B62,'INPUT '!$D$16:$D$116)),LOOKUP($B62,'INPUT '!$D$16:$D$116,'INPUT '!$F$16:$F$116),\"0\")","v":"0"},"RACK OF STEEL",null,null,9900000285,1,0,null,null,0,null,null,0,null,null,0,null,null,0,null,null,0]
[9900010287,{"$f":"Data!$A63-9900010000","v":287},{"$f":"IF(EXACT($B63,LOOKUP($B63,'INPUT '!$D$16:$D$116)),LOOKUP($B63,'INPUT '!$D$16:$D$116,'INPUT '!$E$16:$E$116),\"0\")","v":"0"},{"$f":"IF(EXACT($B63,LOOKUP($B63,'INPUT '!$D$16:$D$116)),LOOKUP($B63,'INPUT '!$D$16:$D$116,'INPUT '!$F$16:$F$116),\"0\")","v":"0"},"RACK OF STEEL",null,null,9900000287,8,0,null,null,0,null,null,0,null,null,0,null,null,0,null,null,0]
[9900010288,{"$f":"Data!$A64-9900010000","v":288},{"$f":"IF(EXACT($B64,LOOKUP($B64,'INPUT '!$D$16:$D$116)),LOOKUP($B64,'INPUT '!$D$16:$D$116,'INPUT '!$E$16:$E$116),\"0\")","v":"0"},{"$f":"IF(EXACT($B64,LOOKUP($B64,'INPUT '!$D$16:$D$116)),LOOKUP($B64,'INPUT '!$D$16:$D$116,'INPUT '!$F$16:$F$116),\"0\")","v":"0"},"FIXING SPACER OF STEEL/ALU",null,null,9900000288,80,0,null,null,0,9900000724,1,0,9900000725,1,0,9900000726,1,0,null,null,0]
[9900010291,{"$f":"Data!$A65-9900010000","v":291},{"$f":"IF(EXACT($B65,LOOKUP($B65,'INPUT '!$D$16:$D$116)),LOOKUP($B65,'INPUT '!$D$16:$D$116,'INPUT '!$E$16:$E$116),\"0\")","v":"0"},{"$f":"IF(EXACT($B65,LOOKUP($B65,'INPUT '!$D$16:$D$116)),LOOKUP($B65,'INPUT '!$D$16:$D$116,'INPUT '!$F$16:$F$116),\"0\")","v":"0"},"PLASTIC CONTAINER FSC",null,null,9900000291,1,0,null,null,0,null,null,0,null,null,0,null,null,0,null,null,0]
[9900010292,{"$f":"Data!$A66-9900010000","v":292},{"$f":"IF(EXACT($B66,LOOKUP($B66,'INPUT '!$D$16:$D$116)),LOOKUP($B66,'INPUT '!$D$16:$D$116,'INPUT '!$E$16:$E$116),\"0\")","v":"0"},{"$f":"IF(EXACT($B66,LOOKUP($B66,'INPUT '!$D$16:$D$116)),LOOKUP($B66,'INPUT '!$D$16:$D$116,'INPUT '!$F$16:$F$116),\"0\")","v":"0"},"PLASTIC CONTAINER FLC",null,null,9900000292,1,0,null,null,0,null,null,0,null,null,{"$f":"R66*C66","v":0},null,null,0,null,null,0]
[9900010293,{"$f":"Data!$A67-9900010000","v":293},{"$f":"IF(EXACT($B67,LOOKUP($B67,'INPUT '!$D$16:$D$116)),LOOKUP($B67,'INPUT '!$D$16:$D$116,'INPUT '!$E$16:$E$116),\"0\")","v":"0"},{"$f":"IF(EXACT($B67,LOOKUP($B67,'INPUT '!$D$16:$D$116)),LOOKUP($B67,'INPUT '!$D$16:$D$116,'INPUT '!$F$16:$F$116),\"0\")","v":"0"},"PLASTIC CONTAINER FHC",null,null,9900000293,1,0,null,null,0,null,null,0,null,null,0,null,null,0,null,null,0]
[9900010296,{"$f":"Data!$A68-9900010000","v":296},{"$f":"IF(EXACT($B68,LOOKUP($B68,'INPUT '!$D$16:$D$116)),LOOKUP($B68,'INPUT '!$D$16:$D$116,'INPUT '!$E$16:$E$116),\"0\")","v":"0"},{"$f":"IF(EXACT($B68,LOOKUP($B68,'INPUT '!$D$16:$D$116)),LOOKUP($B68,'INPUT '!$D$16:$D$116,'INPUT '!$F$16:$F$116),\"0\")","v":"0"},"DUST COVER VOLVO FXC",null,null,9900000296,1,0,null,null,0,null,null,0,null,null,0,null,null,0,null,null,0]
[9900010297,{"$f":"Data!$A69-9900010000","v":297},{"$f":"IF(EXACT($B69,LOOKUP($B69,'INPUT '!$D$16:$D$116)),LOOKUP($B69,'INPUT '!$D$16:$D$116,'INPUT '!$E$16:$E$116),\"0\")","v":"0"},{"$f":"IF(EXACT($B69,LOOKUP($B69,'INPUT '!$D$16:$D$116)),LOOKUP($B69,'INPUT '!$D$16:$D$116,'INPUT '!$F$16:$F$116),\"0\")","v":"0"},"Spacer of card /foam",null,null,9900000297,250,0,9900000292,1,0,null,null,0,null,null,0,null,null,0,9900000299,1,0]
[9900010299,{"$f":"Data!$A70-9900010000","v":299},{"$f":"IF(EXACT($B70,LOOKUP($B70,'INPUT '!$D$16:$D$116)),LOOKUP($B70,'INPUT '!$D$16:$D$116,'INPUT '!$E$16:$E$116),\"0\")","v":"0"},{"$f":"IF(EXACT($B70,LOOKUP($B70,'INPUT '!$D$16:$D$116)),LOOKUP($B70,'INPUT '!$D$16:$D$116,'INPUT '!$F$16:$F$116),\"0\")","v":"0"},"PLASTIC COVER",null,null,9900000299,null,0,null,null,0,9900000001,1,0,null,null,0,null,null,0,9900000299,1000,0]
[9900010340,{"$f":"Data!$A71-9900010000","v":340},{"$f":"IF(EXACT($B71,LOOKUP($B71,'INPUT '!$D$16:$D$116)),LOOKUP($B71,'INPUT '!$D$16:$D$116,'INPUT '!$E$16:$E$116),\"0\")","v":"0"},{"$f":"IF(EXACT($B71,LOOKUP($B71,'INPUT '!$D$16:$D$116)),LOOKUP($B71,'INPUT '!$D$16:$D$116,'INPUT '!$F$16:$F$116),\"0\")","v":"0"},"SUPPORT OF CELL.PLASTIC",null,null,9900000340,63,0,null,null,0,9900000001,1,0,9900000021,4,0,9900000071,1,0,9900001041,1,0]
[9900010341,{"$f":"Data!$A72-9900010000","v":341},{"$f":"IF(EXACT($B72,LOOKUP($B72,'INPUT '!$D$16:$D$116)),LOOKUP($B72,'INPUT '!$D$16:$D$116,'INPUT '!$E$16:$E$116),\"0\")","v":"0"},{"$f":"IF(EXACT($B72,LOOKUP($B72,'INPUT '!$D$16:$D$116)),LOOKUP($B72,'INPUT '!$D$16:$D$116,'INPUT '!$F$16:$F$116),\"0\")","v":"0"},"SUPPORT OF CELL.PLASTIC",null,null,9900000341,46,0,null,null,0,9900000001,1,0,9900000021,4,0,9900000071,1,0,9900001041,1,0]
[9900010358,{"$f":"Data!$A73-9900010000","v":358},{"$f":"IF(EXACT($B73,LOOKUP($B73,'INPUT '!$D$16:$D$116)),LOOKUP($B73,'INPUT '!$D$16:$D$116,'INPUT '!$E$16:$E$116),\"0\")","v":"0"},{"$f":"IF(EXACT($B73,LOOKUP($B73,'INPUT '!$D$16:$D$116)),LOOKUP($B73,'INPUT '!$D$16:$D$116,'INPUT '!$F$16:$F$116),\"0\")","v":"0"},"SPACER OF WOOD",null,null,9900000358,172,0,null,null,0,9900000001,1,0,9900000021,4,0,9900000071,1,0,null,null,0]
[9900010365,{"$f":"Data!$A74-9900010000","v":365},{"$f":"IF(EXACT($B74,LOOKUP($B74,'INPUT '!$D$16:$D$116)),LOOKUP($B74,'INPUT '!$D$16:$D$116,'INPUT '!$E$16:$E$116),\"0\")","v":"0"},{"$f":"IF(EXACT($B74,LOOKUP($B74,'INPUT '!$D$16:$D$116)),LOOKUP($B74,'INPUT '!$D$16:$D$116,'INPUT '!$F$16:$F$116),\"0\")","v":"0"},"HANGER OF STEEL",null,null,9900000365,1,0,null,null,0,null,null,0,null,null,0,null,null,0,null,null,0]
[9900010387,{"$f":"Data!$A75-9900010000","v":387},{"$f":"IF(EXACT($B75,LOOKUP($B75,'INPUT '!$D$16:$D$116)),LOOKUP($B75,'INPUT '!$D$16:$D$116,'INPUT '!$E$16:$E$116),\"0\")","v":"0"},{"$f":"IF(EXACT($B75,LOOKUP($B75,'INPUT '!$D$16:$D$116)),LOOKUP($B75,'INPUT '!$D$16:$D$116,'INPUT '!$F$16:$F$116),\"0\")","v":"0"},"RACK OF STEEL",null,null,9900000387,1,0,null,null,0,null,null,0,null,null,0,null,null,0,null,null,0]
[9900010394,{"$f":"Data!$A76-9900010000","v":394},{"$f":"IF(EXACT($B76,LOOKUP($B76,'INPUT '!$D$16:$D$116)),LOOKUP($B76,'INPUT '!$D$16:$D$116,'INPUT '!$E$16:$E$116),\"0\")","v":"0"},{"$f":"IF(EXACT($B76,LOOKUP($B76,'INPUT '!$D$16:$D$116)),LOOKUP($B76,'INPUT '!$D$16:$D$116,'INPUT '!$F$16:$F$116),\"0\")","v":"0"},"RACK OF STEEL",null,null,9900000394,1,0,null,null,0,null,null,0,null,null,0,null,null,0,null,null,0]
[9900010399,{"$f":"Data!$A77-9900010000","v":399},{"$f":"IF(EXACT($B77,LOOKUP($B77,'INPUT '!$D$16:$D$116)),LOOKUP($B77,'INPUT '!$D$16:$D$116,'INPUT '!$E$16:$E$116),\"0\")","v":"0"},{"$f":"IF(EXACT($B77,LOOKUP($B77,'INPUT '!$D$16:$D$116)),LOOKUP($B77,'INPUT '!$D$16:$D$116,'INPUT '!$F$16:$F$116),\"0\")","v":"0"},"SPACER OF PLASTIC / FOAM","L",null,9900000399,100,0,null,null,0,9900000001,1,0,9900000021,4,0,9900000071,1,0,9900001041,1,0]
[9900010400,{"$f":"Data!$A78-9900010000","v":400},{"$f":"IF(EXACT($B78,LOOKUP($B78,'INPUT '!$D$16:$D$116)),LOOKUP($B78,'INPUT '!$D$16:$D$116,'INPUT '!$E$16:$E$116),\"0\")","v":"0"},{"$f":"IF(EXACT($B78,LOOKUP($B78,'INPUT '!$D$16:$D$116)),LOOKUP($B78,'INPUT '!$D$16:$D$116,'INPUT '!$F$16:$F$116),\"0\")","v":"0"},"COMBITAINER",null,null,9900000400,1,0,null,null,0,null,null,0,null,null,0,null,null,0,null,null,0]
[9900010402,{"$f":"Data!$A79-9900010000","v":402},{"$f":"IF(EXACT($B79,LOOKUP($B79,'INPUT '!$D$16:$D$116)),LOOKUP($B79,'INPUT '!$D$16:$D$116,'INPUT '!$E$16:$E$116),\"0\")","v":"0"},{"$f":"IF(EXACT($B79,LOOKUP($B79,'INPUT '!$D$16:$D$116)),LOOKUP($B79,'INPUT '!$D$16:$D$116,'INPUT '!$F$16:$F$116),\"0\")","v":"0"},"PALLET OF WOOD",null,null,9900000402,null,0,null,null,0,9900000402,1,0,null,null,0,null,null,0,null,null,0]
[9900010403,{"$f":"Data!$A80-9900010000","v":403},{"$f":"IF(EXACT($B80,LOOKUP($B80,'INPUT '!$D$16:$D$116)),LOOKUP($B80,'INPUT '!$D$16:$D$116,'INPUT '!$E$16:$E$116),\"0\")","v":"0"},{"$f":"IF(EXACT($B80,LOOKUP($B80,'INPUT '!$D$16:$D$116)),LOOKUP($B80,'INPUT '!$D$16:$D$116,'INPUT '!$F$16:$F$116),\"0\")","v":"0"},"FIXING SPACER OF PLASTIC","L",null,9900000403,8,{"$f":"I80*C80","v":0},9900000061,1,{"$f":"L80*C80","v":0},9900000001,1,{"$f":"O80*C80","v":0},9900000021,4,0,9900000071,1,{"$f":"U80*C80","v":0},9900001041,1,{"$f":"X80*C80","v":0}]
[9900010412,{"$f":"Data!$A81-9900010000","v":412},{"$f":"IF(EXACT($B81,LOOKUP($B81,'INPUT '!$D$16:$D$116)),LOOKUP($B81,'INPUT '!$D$16:$D$116,'INPUT '!$E$16:$E$116),\"0\")","v":"0"},{"$f":"IF(EXACT($B81,LOOKUP($B81,'INPUT '!$D$16:$D$116)),LOOKUP($B81,'INPUT '!$D$16:$D$116,'INPUT '!$F$16:$F$116),\"0\")","v":"0"},"COMBITAINER",null,null,9900000412,1,0,null,null,0,null,null,0,null,null,0,null,null,0,null,null,0]
[9900010413,{"$f":"Data!$A82-9900010000","v":413},{"$f":"IF(EXACT($B82,LOOKUP($B82,'INPUT '!$D$16:$D$116)),LOOKUP($B82,'INPUT '!$D$16:$D$116,'INPUT '!$E$16:$E$116),\"0\")","v":"0"},{"$f":"IF(EXACT($B82,LOOKUP($B82,'INPUT '!$D$16:$D$116)),LOOKUP($B82,'INPUT '!$D$16:$D$116,'INPUT '!$F$16:$F$116),\"0\")","v":"0"},"RACK OF STEEL",null,null,9900000413,1,{"$f":"I82*C82","v":0},null,null,{"$f":"L82*C82","v":0},null,null,{"$f":"O82*C82","v":0},null,null,0,null,null,{"$f":"U82*C82","v":0},null,null,{"$f":"X82*C82","v":0}]
[9900010415,{"$f":"Data!$A83-9900010000","v":415},{"$f":"IF(EXACT($B83,LOOKUP($B83,'INPUT '!$D$16:$D$116)),LOOKUP($B83,'INPUT '!$D$16:$D$116,'INPUT '!$E$16:$E$116),\"0\")","v":"0"},{"$f":"IF(EXACT($B83,LOOKUP($B83,'INPUT '!$D$16:$D$116)),LOOKUP($B83,'INPUT '!$D$16:$D$116,'INPUT '!$F$16:$F$116),\"0\")","v":"0"},"RACK OF STEEL",null,null,9900000415,1,0,null,null,0,null,null,0,null,null,0,null,null,0,null,null,0]
[9900010416,{"$f":"Data!$A84-9900010000","v":416},{"$f":"IF(EXACT($B84,LOOKUP($B84,'INPUT '!$D$16:$D$116)),LOOKUP($B84,'INPUT '!$D$16:$D$116,'INPUT '!$E$16:$E$116),\"0\")","v":"0"},{"$f":"IF(EXACT($B84,LOOKUP($B84,'INPUT '!$D$16:$D$116)),LOOKUP($B84,'INPUT '!$D$16:$D$116,'INPUT '!$F$16:$F$116),\"0\")","v":"0"},"FIXING SPACER OF PLASTIC","L",null,9900000416,8,0,9900000061,1,0,9900000001,1,0,9900000021,4,0,9900000071,1,0,9900001041,1,0]
[9900010419,{"$f":"Data!$A85-9900010000","v":419},{"$f":"IF(EXACT($B85,LOOKUP($B85,'INPUT '!$D$16:$D$116)),LOOKUP($B85,'INPUT '!$D$16:$D$116,'INPUT '!$E$16:$E$116),\"0\")","v":"0"},{"$f":"IF(EXACT($B85,LOOKUP($B85,'INPUT '!$D$16:$D$116)),LOOKUP($B85,'INPUT '!$D$16:$D$116,'INPUT '!$F$16:$F$116),\"0\")","v":"0"},"COMBITAINER","F",null,9900000419,9,0,null,null,0,9900000005,1,0,null,null,0,null,null,0,null,null,0]
[9900010421,{"$f":"Data!$A86-9900010000","v":421},{"$f":"IF(EXACT($B86,LOOKUP($B86,'INPUT '!$D$16:$D$116)),LOOKUP($B86,'INPUT '!$D$16:$D$116,'INPUT '!$E$16:$E$116),\"0\")","v":"0"},{"$f":"IF(EXACT($B86,LOOKUP($B86,'INPUT '!$D$16:$D$116)),LOOKUP($B86,'INPUT '!$D$16:$D$116,'INPUT '!$F$16:$F$116),\"0\")","v":"0"},"BOX OF PLASTIC",null,null,9900000421,32,0,9900000412,1,0,null,null,0,null,null,0,null,null,0,null,null,0]
[9900010459,{"$f":"Data!$A87-9900010000","v":459},{"$f":"IF(EXACT($B87,LOOKUP($B87,'INPUT '!$D$16:$D$116)),LOOKUP($B87,'INPUT '!$D$16:$D$116,'INPUT '!$E$16:$E$116),\"0\")","v":"0"},{"$f":"IF(EXACT($B87,LOOKUP($B87,'INPUT '!$D$16:$D$116)),LOOKUP($B87,'INPUT '!$D$16:$D$116,'INPUT '!$F$16:$F$116),\"0\")","v":"0"},"SPACER OF CELL.PLASTIC","L",null,9900000459,500,0,null,null,0,9900000001,1,0,9900000021,4,0,9900000071,1,0,null,null,0]
[9900010460,{"$f":"Data!$A88-9900010000","v":460},{"$f":"IF(EXACT($B88,LOOKUP($B88,'INPUT '!$D$16:$D$116)),LOOKUP($B88,'INPUT '!$D$16:$D$116,'INPUT '!$E$16:$E$116),\"0\")","v":"0"},{"$f":"IF(EXACT($B88,LOOKUP($B88,'INPUT '!$D$16:$D$116)),LOOKUP($B88,'INPUT '!$D$16:$D$116,'INPUT '!$F$16:$F$116),\"0\")","v":"0"},"Bundle BOX OF PLASTIC (ESD)","L",null,9900020460,40,0,null,null,0,9900000001,1,0,null,null,0,9900000071,1,0,null,null,0]
[9900010461,{"$f":"Data!$A89-9900010000","v":461},{"$f":"IF(EXACT($B89,LOOKUP($B89,'INPUT '!$D$16:$D$116)),LOOKUP($B89,'INPUT '!$D$16:$D$116,'INPUT '!$E$16:$E$116),\"0\")","v":"0"},{"$f":"IF(EXACT($B89,LOOKUP($B89,'INPUT '!$D$16:$D$116)),LOOKUP($B89,'INPUT '!$D$16:$D$116,'INPUT '!$F$16:$F$116),\"0\")","v":"0"},"LID OF PLASTIC ( Pieces Only )","PIECE",null,9900000461,0,0,null,null,0,null,null,0,null,null,0,null,null,0,null,null,0]
[9900010462,{"$f":"Data!$A90-9900010000","v":462},{"$f":"IF(EXACT($B90,LOOKUP($B90,'INPUT '!$D$16:$D$116)),LOOKUP($B90,'INPUT '!$D$16:$D$116,'INPUT '!$E$16:$E$116),\"0\")","v":"0"},{"$f":"IF(EXACT($B90,LOOKUP($B90,'INPUT '!$D$16:$D$116)),LOOKUP($B90,'INPUT '!$D$16:$D$116,'INPUT '!$F$16:$F$116),\"0\")","v":"0"},"Bundle BOX OF PLASTIC (ESD)","L",null,9900020462,80,{"$f":"I90*C90","v":0},null,null,{"$f":"L90*C90","v":0},9900000001,1,{"$f":"O90*C90","v":0},null,null,0,9900000091,1,{"$f":"U90*C90","v":0},null,null,{"$f":"X90*C90","v":0}]
[9900010463,{"$f":"Data!$A91-9900010000","v":463},{"$f":"IF(EXACT($B91,LOOKUP($B91,'INPUT '!$D$16:$D$116)),LOOKUP($B91,'INPUT '!$D$16:$D$116,'INPUT '!$E$16:$E$116),\"0\")","v":"0"},{"$f":"IF(EXACT($B91,LOOKUP($B91,'INPUT '!$D$16:$D$116)),LOOKUP($B91,'INPUT '!$D$16:$D$116,'INPUT '!$F$16:$F$116),\"0\")","v":"0"},"LID OF PLASTIC ( Pieces Only )","PIECE",null,9900000463,0,0,null,null,0,null,null,0,null,null,0,null,null,0,null,null,0]
[9900010464,{"$f":"Data!$A92-9900010000","v":464},{"$f":"IF(EXACT($B92,LOOKUP($B92,'INPUT '!$D$16:$D$116)),LOOKUP($B92,'INPUT '!$D$16:$D$116,'INPUT '!$E$16:$E$116),\"0\")","v":"0"},{"$f":"IF(EXACT($B92,LOOKUP($B92,'INPUT '!$D$16:$D$116)),LOOKUP($B92,'INPUT '!$D$16:$D$116,'INPUT '!$F$16:$F$116),\"0\")","v":"0"},"SLEEVE OF PLASTIC ( ESD) ","Euro",null,9900000464,0,0,null,null,0,null,null,0,null,null,0,null,null,0,null,null,0]
[9900010465,{"$f":"Data!$A93-9900010000","v":465},{"$f":"IF(EXACT($B93,LOOKUP($B93,'INPUT '!$D$16:$D$116)),LOOKUP($B93,'INPUT '!$D$16:$D$116,'INPUT '!$E$16:$E$116),\"0\")","v":"0"},{"$f":"IF(EXACT($B93,LOOKUP($B93,'INPUT '!$D$16:$D$116)),LOOKUP($B93,'INPUT '!$D$16:$D$116,'INPUT '!$F$16:$F$116),\"0\")","v":"0"},"PALLET OF PLASTIC (ESD)","Euro",null,9900020465,1,0,null,null,0,null,null,0,null,null,0,null,null,0,null,null,0]
[9900010466,{"$f":"Data!$A94-9900010000","v":466},{"$f":"IF(EXACT($B94,LOOKUP($B94,'INPUT '!$D$16:$D$116)),LOOKUP($B94,'INPUT '!$D$16:$D$116,'INPUT '!$E$16:$E$116),\"0\")","v":"0"},{"$f":"IF(EXACT($B94,LOOKUP($B94,'INPUT '!$D$16:$D$116)),LOOKUP($B94,'INPUT '!$D$16:$D$116,'INPUT '!$F$16:$F$116),\"0\")","v":"0"},"LID OF PLASTIC (ESD)","Euro",null,9900000466,0,0,null,null,0,null,null,0,null,null,0,null,null,0,null,null,0]
[9900010467,{"$f":"Data!$A95-9900010000","v":467},{"$f":"IF(EXACT($B95,LOOKUP($B95,'INPUT '!$D$16:$D$116)),LOOKUP($B95,'INPUT '!$D$16:$D$116,'INPUT '!$E$16:$E$116),\"0\")","v":"0"},{"$f":"IF(EXACT($B95,LOOKUP($B95,'INPUT '!$D$16:$D$116)),LOOKUP($B95,'INPUT '!$D$16:$D$116,'INPUT '!$F$16:$F$116),\"0\")","v":"0"},"SLEEVE OF PLASTIC ",null,null,9900000467,0,0,null,null,0,null,null,0,null,null,0,null,null,0,null,null,0]
[9900010468,{"$f":"Data!$A96-9900010000","v":468},{"$f":"IF(EXACT($B96,LOOKUP($B96,'INPUT '!$D$16:$D$116)),LOOKUP($B96,'INPUT '!$D$16:$D$116,'INPUT '!$E$16:$E$116),\"0\")","v":"0"},{"$f":"IF(EXACT($B96,LOOKUP($B96,'INPUT '!$D$16:$D$116)),LOOKUP($B96,'INPUT '!$D$16:$D$116,'INPUT '!$F$16:$F$116),\"0\")","v":"0"},"PALLET OF PLASTIC ",null,null,9900020468,1,0,null,null,0,null,null,0,null,null,0,null,null,0,null,null,0]
[9900010469,{"$f":"Data!$A97-9900010000","v":469},{"$f":"IF(EXACT($B97,LOOKUP($B97,'INPUT '!$D$16:$D$116)),LOOKUP($B97,'INPUT '!$D$16:$D$116,'INPUT '!$E$16:$E$116),\"0\")","v":"0"},{"$f":"IF(EXACT($B97,LOOKUP($B97,'INPUT '!$D$16:$D$116)),LOOKUP($B97,'INPUT '!$D$16:$D$116,'INPUT '!$F$16:$F$116),\"0\")","v":"0"},"LID OF PLASTIC ",null,null,9900000469,0,0,null,null,0,null,null,0,null,null,0,null,null,0,null,null,0]
[9900010480,{"$f":"Data!$A98-9900010000","v":480},{"$f":"IF(EXACT($B98,LOOKUP($B98,'INPUT '!$D$16:$D$116)),LOOKUP($B98,'INPUT '!$D$16:$D$116,'INPUT '!$E$16:$E$116),\"0\")","v":"0"},{"$f":"IF(EXACT($B98,LOOKUP($B98,'INPUT '!$D$16:$D$116)),LOOKUP($B98,'INPUT '!$D$16:$D$116,'INPUT '!$F$16:$F$116),\"0\")","v":"0"},"COMBITAINER OF PLASTIC/STEEL","L",null,9900000480,4,0,9900000110,4,0,9900000001,4,0,null,0,0,9900000991,4,0,null,null,0]
[9900010482,{"$f":"Data!$A99-9900010000","v":482},{"$f":"IF(EXACT($B99,LOOKUP($B99,'INPUT '!$D$16:$D$116)),LOOKUP($B99,'INPUT '!$D$16:$D$116,'INPUT '!$E$16:$E$116),\"0\")","v":"0"},{"$f":"IF(EXACT($B99,LOOKUP($B99,'INPUT '!$D$16:$D$116)),LOOKUP($B99,'INPUT '!$D$16:$D$116,'INPUT '!$F$16:$F$116),\"0\")","v":"0"},"SPACER OF FOAMED PLASTIC",null,null,9900000482,14,{"$f":"I99*C99","v":0},9900020141,1,{"$f":"L99*C99","v":0},null,null,{"$f":"O99*C99","v":0},null,null,{"$f":"R99*C99","v":0},null,null,{"$f":"U99*C99","v":0},null,null,{"$f":"X99*C99","v":0}]
[9900010490,{"$f":"Data!$A100-9900010000","v":490},{"$f":"IF(EXACT($B100,LOOKUP($B100,'INPUT '!$D$16:$D$116)),LOOKUP($B100,'INPUT '!$D$16:$D$116,'INPUT '!$E$16:$E$116),\"0\")","v":"0"},{"$f":"IF(EXACT($B100,LOOKUP($B100,'INPUT '!$D$16:$D$116)),LOOKUP($B100,'INPUT '!$D$16:$D$116,'INPUT '!$F$16:$F$116),\"0\")","v":"0"},"RACK OF STEEL",null,null,9900000490,1,0,null,null,0,null,null,0,null,null,0,null,null,0,null,null,0]
[9900010500,{"$f":"Data!$A101-9900010000","v":500},{"$f":"IF(EXACT($B101,LOOKUP($B101,'INPUT '!$D$16:$D$116)),LOOKUP($B101,'INPUT '!$D$16:$D$116,'INPUT '!$E$16:$E$116),\"0\")","v":"0"},{"$f":"IF(EXACT($B101,LOOKUP($B101,'INPUT '!$D$16:$D$116)),LOOKUP($B101,'INPUT '!$D$16:$D$116,'INPUT '!$F$16:$F$116),\"0\")","v":"0"},"BOX OF PLASTIC","K",null,9900000500,88,0,null,null,0,9900000002,1,0,null,null,0,9900000092,1,0,null,null,0]
[9900010501,{"$f":"Data!$A102-9900010000","v":501},{"$f":"IF(EXACT($B102,LOOKUP($B102,'INPUT '!$D$16:$D$116)),LOOKUP($B102,'INPUT '!$D$16:$D$116,'INPUT '!$E$16:$E$116),\"0\")","v":"0"},{"$f":"IF(EXACT($B102,LOOKUP($B102,'INPUT '!$D$16:$D$116)),LOOKUP($B102,'INPUT '!$D$16:$D$116,'INPUT '!$F$16:$F$116),\"0\")","v":"0"},"LID OF PLASTIC","K",null,9900000501,800,0,null,null,0,9900000002,1,0,null,null,0,9900000092,1,0,null,null,0]
[9900010520,{"$f":"Data!$A103-9900010000","v":520},{"$f":"IF(EXACT($B103,LOOKUP($B103,'INPUT '!$D$16:$D$116)),LOOKUP($B103,'INPUT '!$D$16:$D$116,'INPUT '!$E$16:$E$116),\"0\")","v":"0"},{"$f":"IF(EXACT($B103,LOOKUP($B103,'INPUT '!$D$16:$D$116)),LOOKUP($B103,'INPUT '!$D$16:$D$116,'INPUT '!$F$16:$F$116),\"0\")","v":"0"},"FOIL OF PLASTIC",null,null,9900000520,6250,{"$f":"I103*C103","v":0},null,null,{"$f":"L103*C103","v":0},9900000001,1,{"$f":"O103*C103","v":0},null,null,0,null,null,{"$f":"U103*C103","v":0},null,null,{"$f":"X103*C103","v":0}]
[9900010556,{"$f":"Data!$A104-9900010000","v":556},{"$f":"IF(EXACT($B104,LOOKUP($B104,'INPUT '!$D$16:$D$116)),LOOKUP($B104,'INPUT '!$D$16:$D$116,'INPUT '!$E$16:$E$116),\"0\")","v":"0"},{"$f":"IF(EXACT($B104,LOOKUP($B104,'INPUT '!$D$16:$D$116)),LOOKUP($B104,'INPUT '!$D$16:$D$116,'INPUT '!$F$16:$F$116),\"0\")","v":"0"},"SPACER OF FOAMED PLASTIC","L",null,9900000556,200,0,null,null,0,9900000001,1,0,9900000021,3,0,9900000071,1,0,9900001021,1,0]
[9900010575,{"$f":"Data!$A105-9900010000","v":575},{"$f":"IF(EXACT($B105,LOOKUP($B105,'INPUT '!$D$16:$D$116)),LOOKUP($B105,'INPUT '!$D$16:$D$116,'INPUT '!$E$16:$E$116),\"0\")","v":"0"},{"$f":"IF(EXACT($B105,LOOKUP($B105,'INPUT '!$D$16:$D$116)),LOOKUP($B105,'INPUT '!$D$16:$D$116,'INPUT '!$F$16:$F$116),\"0\")","v":"0"},"BATTENS OF WOOD","L",null,9900000575,225,0,null,null,0,9900000001,1,0,9900000021,4,0,9900000071,1,0,null,null,0]
[9900010576,{"$f":"Data!$A106-9900010000","v":576},{"$f":"IF(EXACT($B106,LOOKUP($B106,'INPUT '!$D$16:$D$116)),LOOKUP($B106,'INPUT '!$D$16:$D$116,'INPUT '!$E$16:$E$116),\"0\")","v":"0"},{"$f":"IF(EXACT($B106,LOOKUP($B106,'INPUT '!$D$16:$D$116)),LOOKUP($B106,'INPUT '!$D$16:$D$116,'INPUT '!$F$16:$F$116),\"0\")","v":"0"},"BATTEN OF WOOD","L",null,9900000576,100,0,null,null,0,9900000001,1,0,9900000021,3,0,9900000071,1,0,null,null,0]
[9900010577,{"$f":"Data!$A107-9900010000","v":577},{"$f":"IF(EXACT($B107,LOOKUP($B107,'INPUT '!$D$16:$D$116)),LOOKUP($B107,'INPUT '!$D$16:$D$116,'INPUT '!$E$16:$E$116),\"0\")","v":"0"},{"$f":"IF(EXACT($B107,LOOKUP($B107,'INPUT '!$D$16:$D$116)),LOOKUP($B107,'INPUT '!$D$16:$D$116,'INPUT '!$F$16:$F$116),\"0\")","v":"0"},"BATTEN OF WOOD","L",null,9900000577,100,{"$f":"I107*C107","v":0},null,null,{"$f":"L107*C107","v":0},9900000001,1,{"$f":"O107*C107","v":0},9900000021,3,0,9900000071,1,{"$f":"U107*C107","v":0},null,null,{"$f":"X107*C107","v":0}]
[9900010579,{"$f":"Data!$A108-9900010000","v":579},{"$f":"IF(EXACT($B108,LOOKUP($B108,'INPUT '!$D$16:$D$116)),LOOKUP($B108,'INPUT '!$D$16:$D$116,'INPUT '!$E$16:$E$116),\"0\")","v":"0"},{"$f":"IF(EXACT($B108,LOOKUP($B108,'INPUT '!$D$16:$D$116)),LOOKUP($B108,'INPUT '!$D$16:$D$116,'INPUT '!$F$16:$F$116),\"0\")","v":"0"},"BATTEN OF WOOD","L",null,9900000579,30,{"$f":"I108*C108","v":0},null,null,{"$f":"L108*C108","v":0},9900000001,1,{"$f":"O108*C108","v":0},9900000021,1,{"$f":"R108*C108","v":0},9900000071,1,{"$f":"U108*C108","v":0},null,null,{"$f":"X108*C108","v":0}]
[9900010580,{"$f":"Data!$A109-9900010000","v":580},{"$f":"IF(EXACT($B109,LOOKUP($B109,'INPUT '!$D$16:$D$116)),LOOKUP($B109,'INPUT '!$D$16:$D$116,'INPUT '!$E$16:$E$116),\"0\")","v":"0"},{"$f":"IF(EXACT($B109,LOOKUP($B109,'INPUT '!$D$16:$D$116)),LOOKUP($B109,'INPUT '!$D$16:$D$116,'INPUT '!$F$16:$F$116),\"0\")","v":"0"},"BATTEN OF WOOD","L",null,9900000580,21,{"$f":"I109*C109","v":0},null,null,{"$f":"L109*C109","v":0},9900000006,1,{"$f":"O109*C109","v":0},9900000026,1,{"$f":"R109*C109","v":0},9900000076,1,{"$f":"U109*C109","v":0},null,null,{"$f":"X109*C109","v":0}]
[9900010586,{"$f":"Data!$A110-9900010000","v":586},{"$f":"IF(EXACT($B110,LOOKUP($B110,'INPUT '!$D$16:$D$116)),LOOKUP($B110,'INPUT '!$D$16:$D$116,'INPUT '!$E$16:$E$116),\"0\")","v":"0"},{"$f":"IF(EXACT($B110,LOOKUP($B110,'INPUT '!$D$16:$D$116)),LOOKUP($B110,'INPUT '!$D$16:$D$116,'INPUT '!$F$16:$F$116),\"0\")","v":"0"},"RACK OF STEEL",null,null,9900000586,1,{"$f":"I110*C110","v":0},null,null,{"$f":"L110*C110","v":0},null,null,{"$f":"O110*C110","v":0},null,null,0,null,null,{"$f":"U110*C110","v":0},null,null,{"$f":"X110*C110","v":0}]
[9900010595,{"$f":"Data!$A111-9900010000","v":595},{"$f":"IF(EXACT($B111,LOOKUP($B111,'INPUT '!$D$16:$D$116)),LOOKUP($B111,'INPUT '!$D$16:$D$116,'INPUT '!$E$16:$E$116),\"0\")","v":"0"},{"$f":"IF(EXACT($B111,LOOKUP($B111,'INPUT '!$D$16:$D$116)),LOOKUP($B111,'INPUT '!$D$16:$D$116,'INPUT '!$F$16:$F$116),\"0\")","v":"0"},"BATTENS OF WOOD","L",null,9900000595,99,0,null,null,0,9900000001,1,0,9900000021,4,0,9900000071,1,0,null,null,0]
[9900010600,{"$f":"Data!$A112-9900010000","v":600},{"$f":"IF(EXACT($B112,LOOKUP($B112,'INPUT '!$D$16:$D$116)),LOOKUP($B112,'INPUT '!$D$16:$D$116,'INPUT '!$E$16:$E$116),\"0\")","v":"0"},{"$f":"IF(EXACT($B112,LOOKUP($B112,'INPUT '!$D$16:$D$116)),LOOKUP($B112,'INPUT '!$D$16:$D$116,'INPUT '!$F$16:$F$116),\"0\")","v":"0"},"BOX OF PLASTIC","K",null,9900000600,44,0,null,null,0,9900000002,1,0,null,null,0,9900000092,1,0,null,null,0]
[9900010601,{"$f":"Data!$A113-9900010000","v":601},{"$f":"IF(EXACT($B113,LOOKUP($B113,'INPUT '!$D$16:$D$116)),LOOKUP($B113,'INPUT '!$D$16:$D$116,'INPUT '!$E$16:$E$116),\"0\")","v":"0"},{"$f":"IF(EXACT($B113,LOOKUP($B113,'INPUT '!$D$16:$D$116)),LOOKUP($B113,'INPUT '!$D$16:$D$116,'INPUT '!$F$16:$F$116),\"0\")","v":"0"},"LID OF PLASTIC","K",null,9900000601,400,0,null,null,0,9900000002,1,0,null,null,0,9900000092,1,0,null,null,0]
[9900010647,{"$f":"Data!$A114-9900010000","v":647},{"$f":"IF(EXACT($B114,LOOKUP($B114,'INPUT '!$D$16:$D$116)),LOOKUP($B114,'INPUT '!$D$16:$D$116,'INPUT '!$E$16:$E$116),\"0\")","v":"0"},{"$f":"IF(EXACT($B114,LOOKUP($B114,'INPUT '!$D$16:$D$116)),LOOKUP($B114,'INPUT '!$D$16:$D$116,'INPUT '!$F$16:$F$116),\"0\")","v":"0"},"LID OF PLYWOOD AND WOOD FIBRE",null,null,9900000647,null,0,null,null,0,9900000107,1,0,null,null,0,9900000647,50,0,null,null,0]
[9900010662,{"$f":"Data!$A115-9900010000","v":662},{"$f":"IF(EXACT($B115,LOOKUP($B115,'INPUT '!$D$16:$D$116)),LOOKUP($B115,'INPUT '!$D$16:$D$116,'INPUT '!$E$16:$E$116),\"0\")","v":"0"},{"$f":"IF(EXACT($B115,LOOKUP($B115,'INPUT '!$D$16:$D$116)),LOOKUP($B115,'INPUT '!$D$16:$D$116,'INPUT '!$F$16:$F$116),\"0\")","v":"0"},"FIXING SPACER OF PLASTIC","L",null,9900000662,48,0,null,null,0,9900000001,1,0,9900000021,4,0,9900000071,1,0,null,null,0]
[9900010670,{"$f":"Data!$A116-9900010000","v":670},{"$f":"IF(EXACT($B116,LOOKUP($B116,'INPUT '!$D$16:$D$116)),LOOKUP($B116,'INPUT '!$D$16:$D$116,'INPUT '!$E$16:$E$116),\"0\")","v":"0"},{"$f":"IF(EXACT($B116,LOOKUP($B116,'INPUT '!$D$16:$D$116)),LOOKUP($B116,'INPUT '!$D$16:$D$116,'INPUT '!$F$16:$F$116),\"0\")","v":"0"},"LID OF PLYWOOD",null,null,9900000670,10,0,null,null,0,9900000836,1,0,null,null,0,null,null,0,null,null,0]
[9900010701,{"$f":"Data!$A117-9900010000","v":701},{"$f":"IF(EXACT($B117,LOOKUP($B117,'INPUT '!$D$16:$D$116)),LOOKUP($B117,'INPUT '!$D$16:$D$116,'INPUT '!$E$16:$E$116),\"0\")","v":"0"},{"$f":"IF(EXACT($B117,LOOKUP($B117,'INPUT '!$D$16:$D$116)),LOOKUP($B117,'INPUT '!$D$16:$D$116,'INPUT '!$F$16:$F$116),\"0\")","v":"0"},"PALLET OF WOOD",700,null,9900000701,null,0,null,null,0,9900000701,1,0,null,null,0,null,null,0,null,null,0]
[9900010702,{"$f":"Data!$A118-9900010000","v":702},{"$f":"IF(EXACT($B118,LOOKUP($B118,'INPUT '!$D$16:$D$116)),LOOKUP($B118,'INPUT '!$D$16:$D$116,'INPUT '!$E$16:$E$116),\"0\")","v":"0"},{"$f":"IF(EXACT($B118,LOOKUP($B118,'INPUT '!$D$16:$D$116)),LOOKUP($B118,'INPUT '!$D$16:$D$116,'INPUT '!$F$16:$F$116),\"0\")","v":"0"},"FRAME OF WOOD",700,null,9900000702,null,0,null,null,0,9900000701,1,0,9900000702,20,0,null,null,0,null,null,0]
[9900010706,{"$f":"Data!$A119-9900010000","v":706},{"$f":"IF(EXACT($B119,LOOKUP($B119,'INPUT '!$D$16:$D$116)),LOOKUP($B119,'INPUT '!$D$16:$D$116,'INPUT '!$E$16:$E$116),\"0\")","v":"0"},{"$f":"IF(EXACT($B119,LOOKUP($B119,'INPUT '!$D$16:$D$116)),LOOKUP($B119,'INPUT '!$D$16:$D$116,'INPUT '!$F$16:$F$116),\"0\")","v":"0"},"LID OF PLYWOOD",700,null,9900000706,null,0,null,null,0,9900000701,1,0,null,null,0,9900000706,25,0,null,null,0]
[9900010711,{"$f":"Data!$A120-9900010000","v":711},{"$f":"IF(EXACT($B120,LOOKUP($B120,'INPUT '!$D$16:$D$116)),LOOKUP($B120,'INPUT '!$D$16:$D$116,'INPUT '!$E$16:$E$116),\"0\")","v":"0"},{"$f":"IF(EXACT($B120,LOOKUP($B120,'INPUT '!$D$16:$D$116)),LOOKUP($B120,'INPUT '!$D$16:$D$116,'INPUT '!$F$16:$F$116),\"0\")","v":"0"},"PALLET OF WOOD",null,null,9900000711,null,{"$f":"I120*C120","v":0},null,null,{"$f":"L120*C120","v":0},9900000711,1,{"$f":"O120*C120","v":0},null,null,{"$f":"R120*C120","v":0},null,null,{"$f":"U120*C120","v":0},null,null,{"$f":"X120*C120","v":0}]
[9900010712,{"$f":"Data!$A121-9900010000","v":712},{"$f":"IF(EXACT($B121,LOOKUP($B121,'INPUT '!$D$16:$D$116)),LOOKUP($B121,'INPUT '!$D$16:$D$116,'INPUT '!$E$16:$E$116),\"0\")","v":"0"},{"$f":"IF(EXACT($B121,LOOKUP($B121,'INPUT '!$D$16:$D$116)),LOOKUP($B121,'INPUT '!$D$16:$D$116,'INPUT '!$F$16:$F$116),\"0\")","v":"0"},"FRAME OF WOOD",null,null,9900000712,null,{"$f":"I121*C121","v":0},null,null,{"$f":"L121*C121","v":0},9900000711,1,{"$f":"O121*C121","v":0},9900000712,18,{"$f":"R121*C121","v":0},null,null,{"$f":"U121*C121","v":0},null,null,{"$f":"X121*C121","v":0}]
[9900010713,{"$f":"Data!$A122-9900010000","v":713},{"$f":"IF(EXACT($B122,LOOKUP($B122,'INPUT '!$D$16:$D$116)),LOOKUP($B122,'INPUT '!$D$16:$D$116,'INPUT '!$E$16:$E$116),\"0\")","v":"0"},{"$f":"IF(EXACT($B122,LOOKUP($B122,'INPUT '!$D$16:$D$116)),LOOKUP($B122,'INPUT '!$D$16:$D$116,'INPUT '!$F$16:$F$116),\"0\")","v":"0"},"LID OF PLYWOOD",null,null,9900000713,null,{"$f":"I122*C122","v":0},null,null,{"$f":"L122*C122","v":0},9900000711,1,{"$f":"O122*C122","v":0},null,null,{"$f":"R122*C122","v":0},9900000713,25,{"$f":"U122*C122","v":0},null,null,{"$f":"X122*C122","v":0}]
[9900010724,{"$f":"Data!$A123-9900010000","v":724},{"$f":"IF(EXACT($B123,LOOKUP($B123,'INPUT '!$D$16:$D$116)),LOOKUP($B123,'INPUT '!$D$16:$D$116,'INPUT '!$E$16:$E$116),\"0\")","v":"0"},{"$f":"IF(EXACT($B123,LOOKUP($B123,'INPUT '!$D$16:$D$116)),LOOKUP($B123,'INPUT '!$D$16:$D$116,'INPUT '!$F$16:$F$116),\"0\")","v":"0"},"PALLET OF WOOD",700,null,9900000724,null,0,null,null,0,9900000724,1,0,null,null,0,null,null,0,null,null,0]
[9900010725,{"$f":"Data!$A124-9900010000","v":725},{"$f":"IF(EXACT($B124,LOOKUP($B124,'INPUT '!$D$16:$D$116)),LOOKUP($B124,'INPUT '!$D$16:$D$116,'INPUT '!$E$16:$E$116),\"0\")","v":"0"},{"$f":"IF(EXACT($B124,LOOKUP($B124,'INPUT '!$D$16:$D$116)),LOOKUP($B124,'INPUT '!$D$16:$D$116,'INPUT '!$F$16:$F$116),\"0\")","v":"0"},"FRAME OF WOOD",700,null,9900000725,null,0,null,null,0,9900000724,1,0,9900000725,10,0,null,null,0,null,null,0]
[9900010726,{"$f":"Data!$A125-9900010000","v":726},{"$f":"IF(EXACT($B125,LOOKUP($B125,'INPUT '!$D$16:$D$116)),LOOKUP($B125,'INPUT '!$D$16:$D$116,'INPUT '!$E$16:$E$116),\"0\")","v":"0"},{"$f":"IF(EXACT($B125,LOOKUP($B125,'INPUT '!$D$16:$D$116)),LOOKUP($B125,'INPUT '!$D$16:$D$116,'INPUT '!$F$16:$F$116),\"0\")","v":"0"},"LID OF PLYWOOD  ( 2 PARTS )",700,null,9900000726,null,0,null,null,0,9900000724,1,0,null,null,0,9900000726,5,0,null,null,0]
[9900010727,{"$f":"Data!$A126-9900010000","v":727},{"$f":"IF(EXACT($B126,LOOKUP($B126,'INPUT '!$D$16:$D$116)),LOOKUP($B126,'INPUT '!$D$16:$D$116,'INPUT '!$E$16:$E$116),\"0\")","v":"0"},{"$f":"IF(EXACT($B126,LOOKUP($B126,'INPUT '!$D$16:$D$116)),LOOKUP($B126,'INPUT '!$D$16:$D$116,'INPUT '!$F$16:$F$116),\"0\")","v":"0"},"SPACER OF CARDBOARD","L",null,9900000727,300,0,null,null,0,9900000001,1,0,null,null,0,9900000071,1,0,null,null,0]
[9900010729,{"$f":"Data!$A127-9900010000","v":729},{"$f":"IF(EXACT($B127,LOOKUP($B127,'INPUT '!$D$16:$D$116)),LOOKUP($B127,'INPUT '!$D$16:$D$116,'INPUT '!$E$16:$E$116),\"0\")","v":"0"},{"$f":"IF(EXACT($B127,LOOKUP($B127,'INPUT '!$D$16:$D$116)),LOOKUP($B127,'INPUT '!$D$16:$D$116,'INPUT '!$F$16:$F$116),\"0\")","v":"0"},"SPACER OF WOOD","L",null,9900000729,25,0,null,null,0,9900000001,1,0,null,null,0,null,null,0,null,null,0]
[9900010737,{"$f":"Data!$A128-9900010000","v":737},{"$f":"IF(EXACT($B128,LOOKUP($B128,'INPUT '!$D$16:$D$116)),LOOKUP($B128,'INPUT '!$D$16:$D$116,'INPUT '!$E$16:$E$116),\"0\")","v":"0"},{"$f":"IF(EXACT($B128,LOOKUP($B128,'INPUT '!$D$16:$D$116)),LOOKUP($B128,'INPUT '!$D$16:$D$116,'INPUT '!$F$16:$F$116),\"0\")","v":"0"},"FIXING SPACER OF PLASTIC","L",null,9900000737,40,0,null,null,0,9900000001,1,0,9900000021,4,0,9900000071,1,0,null,null,0]
[9900010747,{"$f":"Data!$A129-9900010000","v":747},{"$f":"IF(EXACT($B129,LOOKUP($B129,'INPUT '!$D$16:$D$116)),LOOKUP($B129,'INPUT '!$D$16:$D$116,'INPUT '!$E$16:$E$116),\"0\")","v":"0"},{"$f":"IF(EXACT($B129,LOOKUP($B129,'INPUT '!$D$16:$D$116)),LOOKUP($B129,'INPUT '!$D$16:$D$116,'INPUT '!$F$16:$F$116),\"0\")","v":"0"},"BATTEN OF WOOD","L",null,9900000747,89,0,null,null,0,9900000001,1,0,9900000021,4,0,9900000071,1,0,null,null,0]
[9900010750,{"$f":"Data!$A130-9900010000","v":750},{"$f":"IF(EXACT($B130,LOOKUP($B130,'INPUT '!$D$16:$D$116)),LOOKUP($B130,'INPUT '!$D$16:$D$116,'INPUT '!$E$16:$E$116),\"0\")","v":"0"},{"$f":"IF(EXACT($B130,LOOKUP($B130,'INPUT '!$D$16:$D$116)),LOOKUP($B130,'INPUT '!$D$16:$D$116,'INPUT '!$F$16:$F$116),\"0\")","v":"0"},"Bundle of BOX OF PLASTIC",null,null,9900020750,80,0,null,null,0,9900000001,1,0,null,null,0,9900000091,1,0,null,null,0]
[9900010751,{"$f":"Data!$A131-9900010000","v":751},{"$f":"IF(EXACT($B131,LOOKUP($B131,'INPUT '!$D$16:$D$116)),LOOKUP($B131,'INPUT '!$D$16:$D$116,'INPUT '!$E$16:$E$116),\"0\")","v":"0"},{"$f":"IF(EXACT($B131,LOOKUP($B131,'INPUT '!$D$16:$D$116)),LOOKUP($B131,'INPUT '!$D$16:$D$116,'INPUT '!$F$16:$F$116),\"0\")","v":"0"},"LID OF PLASTIC ( Pieces Only )","PIECE",null,9900000751,0,0,null,null,0,null,null,0,null,null,0,null,null,0,null,null,0]
[9900010757,{"$f":"Data!$A132-9900010000","v":757},{"$f":"IF(EXACT($B132,LOOKUP($B132,'INPUT '!$D$16:$D$116)),LOOKUP($B132,'INPUT '!$D$16:$D$116,'INPUT '!$E$16:$E$116),\"0\")","v":"0"},{"$f":"IF(EXACT($B132,LOOKUP($B132,'INPUT '!$D$16:$D$116)),LOOKUP($B132,'INPUT '!$D$16:$D$116,'INPUT '!$F$16:$F$116),\"0\")","v":"0"},"Bundle BOX OF PLASTIC",null,null,9900020757,80,{"$f":"I132*C132","v":0},null,null,{"$f":"L132*C132","v":0},9900000001,1,{"$f":"O132*C132","v":0},null,null,0,9900000091,1,{"$f":"U132*C132","v":0},null,null,{"$f":"X132*C132","v":0}]
[9900010766,{"$f":"Data!$A133-9900010000","v":766},{"$f":"IF(EXACT($B133,LOOKUP($B133,'INPUT '!$D$16:$D$116)),LOOKUP($B133,'INPUT '!$D$16:$D$116,'INPUT '!$E$16:$E$116),\"0\")","v":"0"},{"$f":"IF(EXACT($B133,LOOKUP($B133,'INPUT '!$D$16:$D$116)),LOOKUP($B133,'INPUT '!$D$16:$D$116,'INPUT '!$F$16:$F$116),\"0\")","v":"0"},"Bundle FOAM SPACER-(disposable)",null,null,9900000766,1950,{"$f":"I133*C133","v":0},null,null,{"$f":"L133*C133","v":0},9900000001,1,{"$f":"O133*C133","v":0},9900000021,4,0,9900000071,1,{"$f":"U133*C133","v":0},9900001041,1,{"$f":"X133*C133","v":0}]
[9900010780,{"$f":"Data!$A134-9900010000","v":780},{"$f":"IF(EXACT($B134,LOOKUP($B134,'INPUT '!$D$16:$D$116)),LOOKUP($B134,'INPUT '!$D$16:$D$116,'INPUT '!$E$16:$E$116),\"0\")","v":"0"},{"$f":"IF(EXACT($B134,LOOKUP($B134,'INPUT '!$D$16:$D$116)),LOOKUP($B134,'INPUT '!$D$16:$D$116,'INPUT '!$F$16:$F$116),\"0\")","v":"0"},"Bundle BOX OF PLASTIC",null,null,9900020780,40,0,null,null,0,9900000001,1,0,null,null,0,9900000071,1,0,null,null,0]
[9900010781,{"$f":"Data!$A135-9900010000","v":781},{"$f":"IF(EXACT($B135,LOOKUP($B135,'INPUT '!$D$16:$D$116)),LOOKUP($B135,'INPUT '!$D$16:$D$116,'INPUT '!$E$16:$E$116),\"0\")","v":"0"},{"$f":"IF(EXACT($B135,LOOKUP($B135,'INPUT '!$D$16:$D$116)),LOOKUP($B135,'INPUT '!$D$16:$D$116,'INPUT '!$F$16:$F$116),\"0\")","v":"0"},"LID OF PLASTIC ( Pieces Only )","PIECE",null,9900000781,0,0,null,null,0,null,null,0,null,null,0,null,null,0,null,null,0]
[9900010787,{"$f":"Data!$A136-9900010000","v":787},{"$f":"IF(EXACT($B136,LOOKUP($B136,'INPUT '!$D$16:$D$116)),LOOKUP($B136,'INPUT '!$D$16:$D$116,'INPUT '!$E$16:$E$116),\"0\")","v":"0"},{"$f":"IF(EXACT($B136,LOOKUP($B136,'INPUT '!$D$16:$D$116)),LOOKUP($B136,'INPUT '!$D$16:$D$116,'INPUT '!$F$16:$F$116),\"0\")","v":"0"},"Bundle BOX OF PLASTIC",null,null,9900020787,40,{"$f":"I136*C136","v":0},null,null,0,9900000001,1,0,null,null,{"$f":"R136*C136","v":0},9900000091,1,{"$f":"U136*C136","v":0},null,null,{"$f":"X136*C136","v":0}]
[9900010790,{"$f":"Data!$A137-9900010000","v":790},{"$f":"IF(EXACT($B137,LOOKUP($B137,'INPUT '!$D$16:$D$116)),LOOKUP($B137,'INPUT '!$D$16:$D$116,'INPUT '!$E$16:$E$116),\"0\")","v":"0"},{"$f":"IF(EXACT($B137,LOOKUP($B137,'INPUT '!$D$16:$D$116)),LOOKUP($B137,'INPUT '!$D$16:$D$116,'INPUT '!$F$16:$F$116),\"0\")","v":"0"},"Bundle BOX OF PLASTIC",null,null,9900020790,8,0,null,null,0,9900000001,1,0,null,null,0,9900000071,1,0,null,null,0]
[9900010791,{"$f":"Data!$A138-9900010000","v":791},{"$f":"IF(EXACT($B138,LOOKUP($B138,'INPUT '!$D$16:$D$116)),LOOKUP($B138,'INPUT '!$D$16:$D$116,'INPUT '!$E$16:$E$116),\"0\")","v":"0"},{"$f":"IF(EXACT($B138,LOOKUP($B138,'INPUT '!$D$16:$D$116)),LOOKUP($B138,'INPUT '!$D$16:$D$116,'INPUT '!$F$16:$F$116),\"0\")","v":"0"},"LID OF PLASTIC ( Pieces Only )","PIECE",null,9900000791,0,0,null,null,0,null,null,0,null,null,0,null,null,0,null,null,0]
[9900010798,{"$f":"Data!$A139-9900010000","v":798},{"$f":"IF(EXACT($B139,LOOKUP($B139,'INPUT '!$D$16:$D$116)),LOOKUP($B139,'INPUT '!$D$16:$D$116,'INPUT '!$E$16:$E$116),\"0\")","v":"0"},{"$f":"IF(EXACT($B139,LOOKUP($B139,'INPUT '!$D$16:$D$116)),LOOKUP($B139,'INPUT '!$D$16:$D$116,'INPUT '!$F$16:$F$116),\"0\")","v":"0"},"SPACER OF PLASTIC",null,null,9900000798,120,0,null,null,0,9900000001,1,0,9900000021,4,0,9900000071,1,0,null,null,0]
[9900010800,{"$f":"Data!$A140-9900010000","v":800},{"$f":"IF(EXACT($B140,LOOKUP($B140,'INPUT '!$D$16:$D$116)),LOOKUP($B140,'INPUT '!$D$16:$D$116,'INPUT '!$E$16:$E$116),\"0\")","v":"0"},{"$f":"IF(EXACT($B140,LOOKUP($B140,'INPUT '!$D$16:$D$116)),LOOKUP($B140,'INPUT '!$D$16:$D$116,'INPUT '!$F$16:$F$116),\"0\")","v":"0"},"Bundle BOX OF PLASTIC",null,null,9900020800,40,0,null,null,0,9900000001,1,0,null,null,0,9900000091,1,0,null,null,0]
[9900010801,{"$f":"Data!$A141-9900010000","v":801},{"$f":"IF(EXACT($B141,LOOKUP($B141,'INPUT '!$D$16:$D$116)),LOOKUP($B141,'INPUT '!$D$16:$D$116,'INPUT '!$E$16:$E$116),\"0\")","v":"0"},{"$f":"IF(EXACT($B141,LOOKUP($B141,'INPUT '!$D$16:$D$116)),LOOKUP($B141,'INPUT '!$D$16:$D$116,'INPUT '!$F$16:$F$116),\"0\")","v":"0"},"LID OF PLASTIC ( Pieces Only )","PIECE",null,9900000801,0,0,null,null,0,null,null,0,null,null,0,null,null,0,null,null,0]
[9900010814,{"$f":"Data!$A142-9900010000","v":814},{"$f":"IF(EXACT($B142,LOOKUP($B142,'INPUT '!$D$16:$D$116)),LOOKUP($B142,'INPUT '!$D$16:$D$116,'INPUT '!$E$16:$E$116),\"0\")","v":"0"},{"$f":"IF(EXACT($B142,LOOKUP($B142,'INPUT '!$D$16:$D$116)),LOOKUP($B142,'INPUT '!$D$16:$D$116,'INPUT '!$F$16:$F$116),\"0\")","v":"0"},"COMBITAINER",null,null,9900000814,10,0,null,null,0,9900000836,1,0,null,null,0,null,null,0,null,null,0]
[9900010836,{"$f":"Data!$A143-9900010000","v":836},{"$f":"IF(EXACT($B143,LOOKUP($B143,'INPUT '!$D$16:$D$116)),LOOKUP($B143,'INPUT '!$D$16:$D$116,'INPUT '!$E$16:$E$116),\"0\")","v":"0"},{"$f":"IF(EXACT($B143,LOOKUP($B143,'INPUT '!$D$16:$D$116)),LOOKUP($B143,'INPUT '!$D$16:$D$116,'INPUT '!$F$16:$F$116),\"0\")","v":"0"},"PALLET OF STEEL",null,null,9900000836,1,0,null,null,0,null,null,0,null,null,0,null,null,0,null,null,0]
[9900010840,{"$f":"Data!$A144-9900010000","v":840},{"$f":"IF(EXACT($B144,LOOKUP($B144,'INPUT '!$D$16:$D$116)),LOOKUP($B144,'INPUT '!$D$16:$D$116,'INPUT '!$E$16:$E$116),\"0\")","v":"0"},{"$f":"IF(EXACT($B144,LOOKUP($B144,'INPUT '!$D$16:$D$116)),LOOKUP($B144,'INPUT '!$D$16:$D$116,'INPUT '!$F$16:$F$116),\"0\")","v":"0"},"Bundle BOX OF PLASTIC",null,null,9900020840,20,0,null,null,0,9900000001,1,0,null,null,0,9900000071,1,0,null,null,0]
[9900010841,{"$f":"Data!$A145-9900010000","v":841},{"$f":"IF(EXACT($B145,LOOKUP($B145,'INPUT '!$D$16:$D$116)),LOOKUP($B145,'INPUT '!$D$16:$D$116,'INPUT '!$E$16:$E$116),\"0\")","v":"0"},{"$f":"IF(EXACT($B145,LOOKUP($B145,'INPUT '!$D$16:$D$116)),LOOKUP($B145,'INPUT '!$D$16:$D$116,'INPUT '!$F$16:$F$116),\"0\")","v":"0"},"LID OF PLASTIC ( Pieces Only )","PIECE",null,9900000841,0,0,null,null,0,null,null,0,null,null,0,null,null,0,null,null,0]
[9900010859,{"$f":"Data!$A146-9900010000","v":859},{"$f":"IF(EXACT($B146,LOOKUP($B146,'INPUT '!$D$16:$D$116)),LOOKUP($B146,'INPUT '!$D$16:$D$116,'INPUT '!$E$16:$E$116),\"0\")","v":"0"},{"$f":"IF(EXACT($B146,LOOKUP($B146,'INPUT '!$D$16:$D$116)),LOOKUP($B146,'INPUT '!$D$16:$D$116,'INPUT '!$F$16:$F$116),\"0\")","v":"0"},"Bundle BOX OF PLASTIC",null,null,9900000859,100,{"$f":"I146*C146","v":0},null,null,{"$f":"L146*C146","v":0},9900000001,1,{"$f":"O146*C146","v":0},null,null,{"$f":"R146*C146","v":0},9900000091,1,{"$f":"U146*C146","v":0},null,null,{"$f":"X146*C146","v":0}]
[9900010890,{"$f":"Data!$A147-9900010000","v":890},{"$f":"IF(EXACT($B147,LOOKUP($B147,'INPUT '!$D$16:$D$116)),LOOKUP($B147,'INPUT '!$D$16:$D$116,'INPUT '!$E$16:$E$116),\"0\")","v":"0"},{"$f":"IF(EXACT($B147,LOOKUP($B147,'INPUT '!$D$16:$D$116)),LOOKUP($B147,'INPUT '!$D$16:$D$116,'INPUT '!$F$16:$F$116),\"0\")","v":"0"},"SPACER OF PLASTIC",null,null,9900000890,18,{"$f":"I147*C147","v":0},9900000061,1,{"$f":"L147*C147","v":0},9900000001,1,{"$f":"O147*C147","v":0},9900000021,4,0,9900000071,1,{"$f":"U147*C147","v":0},9900001041,1,0]
[9900011021,{"$f":"Data!$A148-9900010000","v":1021},{"$f":"IF(EXACT($B148,LOOKUP($B148,'INPUT '!$D$16:$D$116)),LOOKUP($B148,'INPUT '!$D$16:$D$116,'INPUT '!$E$16:$E$116),\"0\")","v":"0"},{"$f":"IF(EXACT($B148,LOOKUP($B148,'INPUT '!$D$16:$D$116)),LOOKUP($B148,'INPUT '!$D$16:$D$116,'INPUT '!$F$16:$F$116),\"0\")","v":"0"},"PLASTIC COVER, PALLET BOX L","L",null,9900001021,250,0,null,null,0,9900000001,1,0,null,null,0,null,null,0,null,null,0]
[9900011022,{"$f":"Data!$A149-9900010000","v":1022},{"$f":"IF(EXACT($B149,LOOKUP($B149,'INPUT '!$D$16:$D$116)),LOOKUP($B149,'INPUT '!$D$16:$D$116,'INPUT '!$E$16:$E$116),\"0\")","v":"0"},{"$f":"IF(EXACT($B149,LOOKUP($B149,'INPUT '!$D$16:$D$116)),LOOKUP($B149,'INPUT '!$D$16:$D$116,'INPUT '!$F$16:$F$116),\"0\")","v":"0"},"PLASTIC COVER, PALLET BOX K2","K",null,9900001022,200,0,null,null,0,9900000002,1,0,null,null,0,null,null,0,null,null,0]
[9900011025,{"$f":"Data!$A150-9900010000","v":1025},{"$f":"IF(EXACT($B150,LOOKUP($B150,'INPUT '!$D$16:$D$116)),LOOKUP($B150,'INPUT '!$D$16:$D$116,'INPUT '!$E$16:$E$116),\"0\")","v":"0"},{"$f":"IF(EXACT($B150,LOOKUP($B150,'INPUT '!$D$16:$D$116)),LOOKUP($B150,'INPUT '!$D$16:$D$116,'INPUT '!$F$16:$F$116),\"0\")","v":"0"},"PLASTIC COVER, PALLET BOX F2","F",null,9900001025,250,0,null,null,0,9900000005,1,0,null,null,0,null,null,0,null,null,0]
[9900011026,{"$f":"Data!$A151-9900010000","v":1026},{"$f":"IF(EXACT($B151,LOOKUP($B151,'INPUT '!$D$16:$D$116)),LOOKUP($B151,'INPUT '!$D$16:$D$116,'INPUT '!$E$16:$E$116),\"0\")","v":"0"},{"$f":"IF(EXACT($B151,LOOKUP($B151,'INPUT '!$D$16:$D$116)),LOOKUP($B151,'INPUT '!$D$16:$D$116,'INPUT '!$F$16:$F$116),\"0\")","v":"0"},"PLASTIC COVER, PALLET BOX G2","G",null,9900001026,250,0,null,null,0,9900000006,1,0,null,null,0,null,null,0,null,null,0]
[9900011029,{"$f":"Data!$A152-9900010000","v":1029},{"$f":"IF(EXACT($B152,LOOKUP($B152,'INPUT '!$D$16:$D$116)),LOOKUP($B152,'INPUT '!$D$16:$D$116,'INPUT '!$E$16:$E$116),\"0\")","v":"0"},{"$f":"IF(EXACT($B152,LOOKUP($B152,'INPUT '!$D$16:$D$116)),LOOKUP($B152,'INPUT '!$D$16:$D$116,'INPUT '!$F$16:$F$116),\"0\")","v":"0"},"PLASTIC COVER, PALLET BOX H2","H",null,9900001029,250,0,null,null,0,9900000009,1,0,null,null,0,null,null,0,null,null,0]
[9900011031,{"$f":"Data!$A153-9900010000","v":1031},{"$f":"IF(EXACT($B153,LOOKUP($B153,'INPUT '!$D$16:$D$116)),LOOKUP($B153,'INPUT '!$D$16:$D$116,'INPUT '!$E$16:$E$116),\"0\")","v":"0"},{"$f":"IF(EXACT($B153,LOOKUP($B153,'INPUT '!$D$16:$D$116)),LOOKUP($B153,'INPUT '!$D$16:$D$116,'INPUT '!$F$16:$F$116),\"0\")","v":"0"},"PLASTIC COVER, PALLET BOXL3","L",null,9900001031,250,{"$f":"I153*C153","v":0},null,null,{"$f":"L153*C153","v":0},9900000001,1,{"$f":"O153*C153","v":0},null,null,0,null,null,{"$f":"U153*C153","v":0},null,null,{"$f":"X153*C153","v":0}]
[9900011041,{"$f":"Data!$A154-9900010000","v":1041},{"$f":"IF(EXACT($B154,LOOKUP($B154,'INPUT '!$D$16:$D$116)),LOOKUP($B154,'INPUT '!$D$16:$D$116,'INPUT '!$E$16:$E$116),\"0\")","v":"0"},{"$f":"IF(EXACT($B154,LOOKUP($B154,'INPUT '!$D$16:$D$116)),LOOKUP($B154,'INPUT '!$D$16:$D$116,'INPUT '!$F$16:$F$116),\"0\")","v":"0"},"PLASTIC COVER, PALLET BOX L4","L",null,9900001041,200,{"$f":"I154*C154","v":0},null,null,0,9900000001,1,0,null,null,0,null,null,0,null,null,0]
[9900011046,{"$f":"Data!$A155-9900010000","v":1046},{"$f":"IF(EXACT($B155,LOOKUP($B155,'INPUT '!$D$16:$D$116)),LOOKUP($B155,'INPUT '!$D$16:$D$116,'INPUT '!$E$16:$E$116),\"0\")","v":"0"},{"$f":"IF(EXACT($B155,LOOKUP($B155,'INPUT '!$D$16:$D$116)),LOOKUP($B155,'INPUT '!$D$16:$D$116,'INPUT '!$F$16:$F$116),\"0\")","v":"0"},"PLASTIC COVER, PALLET BOX G4","G",null,9900001046,200,0,null,null,0,9900000006,1,0,null,null,0,null,null,0,null,null,0]
[9900011055,{"$f":"Data!$A156-9900010000","v":1055},{"$f":"IF(EXACT($B156,LOOKUP($B156,'INPUT '!$D$16:$D$116)),LOOKUP($B156,'INPUT '!$D$16:$D$116,'INPUT '!$E$16:$E$116),\"0\")","v":"0"},{"$f":"IF(EXACT($B156,LOOKUP($B156,'INPUT '!$D$16:$D$116)),LOOKUP($B156,'INPUT '!$D$16:$D$116,'INPUT '!$F$16:$F$116),\"0\")","v":"0"},"RACK OF STEEL",null,null,9900001055,1,{"$f":"I156*C156","v":0},null,null,{"$f":"L156*C156","v":0},null,null,{"$f":"O156*C156","v":0},null,null,0,null,null,{"$f":"U156*C156","v":0},null,null,{"$f":"X156*C156","v":0}]
[9900011107,{"$f":"Data!$A157-9900010000","v":1107},{"$f":"IF(EXACT($B157,LOOKUP($B157,'INPUT '!$D$16:$D$116)),LOOKUP($B157,'INPUT '!$D$16:$D$116,'INPUT '!$E$16:$E$116),\"0\")","v":"0"},{"$f":"IF(EXACT($B157,LOOKUP($B157,'INPUT '!$D$16:$D$116)),LOOKUP($B157,'INPUT '!$D$16:$D$116,'INPUT '!$F$16:$F$116),\"0\")","v":"0"},"FIXING SPACER OF PLASTIC",null,null,9900001107,30,0,null,null,0,9900000001,1,0,9900000021,3,0,9900000071,1,0,null,null,0]
[9900011109,{"$f":"Data!$A158-9900010000","v":1109},{"$f":"IF(EXACT($B158,LOOKUP($B158,'INPUT '!$D$16:$D$116)),LOOKUP($B158,'INPUT '!$D$16:$D$116,'INPUT '!$E$16:$E$116),\"0\")","v":"0"},{"$f":"IF(EXACT($B158,LOOKUP($B158,'INPUT '!$D$16:$D$116)),LOOKUP($B158,'INPUT '!$D$16:$D$116,'INPUT '!$F$16:$F$116),\"0\")","v":"0"},"RACK OF STEEL",null,null,9900001109,1,0,null,null,0,null,null,0,null,null,0,null,null,0,null,null,0]
[9900011113,{"$f":"Data!$A159-9900010000","v":1113},{"$f":"IF(EXACT($B159,LOOKUP($B159,'INPUT '!$D$16:$D$116)),LOOKUP($B159,'INPUT '!$D$16:$D$116,'INPUT '!$E$16:$E$116),\"0\")","v":"0"},{"$f":"IF(EXACT($B159,LOOKUP($B159,'INPUT '!$D$16:$D$116)),LOOKUP($B159,'INPUT '!$D$16:$D$116,'INPUT '!$F$16:$F$116),\"0\")","v":"0"},"RACK OF STEEL",null,null,9900001113,1,{"$f":"I159*C159","v":0},null,null,{"$f":"L159*C159","v":0},null,null,{"$f":"O159*C159","v":0},null,null,0,null,null,{"$f":"U159*C159","v":0},null,null,{"$f":"X159*C159","v":0}]
[9900011120,{"$f":"Data!$A160-9900010000","v":1120},{"$f":"IF(EXACT($B160,LOOKUP($B160,'INPUT '!$D$16:$D$116)),LOOKUP($B160,'INPUT '!$D$16:$D$116,'INPUT '!$E$16:$E$116),\"0\")","v":"0"},{"$f":"IF(EXACT($B160,LOOKUP($B160,'INPUT '!$D$16:$D$116)),LOOKUP($B160,'INPUT '!$D$16:$D$116,'INPUT '!$F$16:$F$116),\"0\")","v":"0"},"SUPPORT OF STEEL",null,null,9900001120,14,{"$f":"I160*C160","v":0},null,null,{"$f":"L160*C160","v":0},9900000002,1,{"$f":"O160*C160","v":0},9900000022,1,0,9900000072,1,{"$f":"U160*C160","v":0},null,null,{"$f":"X160*C160","v":0}]
[9900011121,{"$f":"Data!$A161-9900010000","v":1121},{"$f":"IF(EXACT($B161,LOOKUP($B161,'INPUT '!$D$16:$D$116)),LOOKUP($B161,'INPUT '!$D$16:$D$116,'INPUT '!$E$16:$E$116),\"0\")","v":"0"},{"$f":"IF(EXACT($B161,LOOKUP($B161,'INPUT '!$D$16:$D$116)),LOOKUP($B161,'INPUT '!$D$16:$D$116,'INPUT '!$F$16:$F$116),\"0\")","v":"0"},"SUPPORT OF STEEL",null,null,9900001121,14,{"$f":"I161*C161","v":0},null,null,{"$f":"L161*C161","v":0},9900000002,1,{"$f":"O161*C161","v":0},9900000022,1,{"$f":"R161*C161","v":0},9900000072,1,{"$f":"U161*C161","v":0},null,null,{"$f":"X161*C161","v":0}]
[9900011114,{"$f":"Data!$A162-9900010000","v":1114},{"$f":"IF(EXACT($B162,LOOKUP($B162,'INPUT '!$D$16:$D$116)),LOOKUP($B162,'INPUT '!$D$16:$D$116,'INPUT '!$E$16:$E$116),\"0\")","v":"0"},{"$f":"IF(EXACT($B162,LOOKUP($B162,'INPUT '!$D$16:$D$116)),LOOKUP($B162,'INPUT '!$D$16:$D$116,'INPUT '!$F$16:$F$116),\"0\")","v":"0"},"RACK OF STEEL",null,null,9900001114,1,{"$f":"I162*C162","v":0},null,null,{"$f":"L162*C162","v":0},null,null,{"$f":"O162*C162","v":0},null,null,0,null,null,{"$f":"U162*C162","v":0},null,null,{"$f":"X162*C162","v":0}]
[9900011124,{"$f":"Data!$A163-9900010000","v":1124},{"$f":"IF(EXACT($B163,LOOKUP($B163,'INPUT '!$D$16:$D$116)),LOOKUP($B163,'INPUT '!$D$16:$D$116,'INPUT '!$E$16:$E$116),\"0\")","v":"0"},{"$f":"IF(EXACT($B163,LOOKUP($B163,'INPUT '!$D$16:$D$116)),LOOKUP($B163,'INPUT '!$D$16:$D$116,'INPUT '!$F$16:$F$116),\"0\")","v":"0"},"FIXING SPACER OF PLASTIC",null,null,9900001124,30,0,null,null,0,9900000001,1,0,9900000021,3,0,9900000071,1,0,null,null,0]
[9900011136,{"$f":"Data!$A164-9900010000","v":1136},{"$f":"IF(EXACT($B164,LOOKUP($B164,'INPUT '!$D$16:$D$116)),LOOKUP($B164,'INPUT '!$D$16:$D$116,'INPUT '!$E$16:$E$116),\"0\")","v":"0"},{"$f":"IF(EXACT($B164,LOOKUP($B164,'INPUT '!$D$16:$D$116)),LOOKUP($B164,'INPUT '!$D$16:$D$116,'INPUT '!$F$16:$F$116),\"0\")","v":"0"},"RACK OF STEEL",null,null,9900001136,1,0,null,null,0,null,null,0,null,null,0,null,null,0,null,null,0]
[9900011171,{"$f":"Data!$A165-9900010000","v":1171},{"$f":"IF(EXACT($B165,LOOKUP($B165,'INPUT '!$D$16:$D$116)),LOOKUP($B165,'INPUT '!$D$16:$D$116,'INPUT '!$E$16:$E$116),\"0\")","v":"0"},{"$f":"IF(EXACT($B165,LOOKUP($B165,'INPUT '!$D$16:$D$116)),LOOKUP($B165,'INPUT '!$D$16:$D$116,'INPUT '!$F$16:$F$116),\"0\")","v":"0"},"LID OF PLASTIC ","L",null,9900001171,25,{"$f":"I165*C165","v":0},null,null,{"$f":"L165*C165","v":0},9900000001,1,{"$f":"O165*C165","v":0},null,null,0,null,null,{"$f":"U165*C165","v":0},null,null,{"$f":"X165*C165","v":0}]
[9900011180,{"$f":"Data!$A166-9900010000","v":1180},{"$f":"IF(EXACT($B166,LOOKUP($B166,'INPUT '!$D$16:$D$116)),LOOKUP($B166,'INPUT '!$D$16:$D$116,'INPUT '!$E$16:$E$116),\"0\")","v":"0"},{"$f":"IF(EXACT($B166,LOOKUP($B166,'INPUT '!$D$16:$D$116)),LOOKUP($B166,'INPUT '!$D$16:$D$116,'INPUT '!$F$16:$F$116),\"0\")","v":"0"},"RACK OF STEEL","L",null,9900001180,1,{"$f":"I166*C166","v":0},null,null,{"$f":"L166*C166","v":0},null,null,{"$f":"O166*C166","v":0},null,null,{"$f":"R166*C166","v":0},null,null,{"$f":"U166*C166","v":0},null,null,{"$f":"X166*C166","v":0}]
[9900011200,{"$f":"Data!$A167-9900010000","v":1200},{"$f":"IF(EXACT($B167,LOOKUP($B167,'INPUT '!$D$16:$D$116)),LOOKUP($B167,'INPUT '!$D$16:$D$116,'INPUT '!$E$16:$E$116),\"0\")","v":"0"},{"$f":"IF(EXACT($B167,LOOKUP($B167,'INPUT '!$D$16:$D$116)),LOOKUP($B167,'INPUT '!$D$16:$D$116,'INPUT '!$F$16:$F$116),\"0\")","v":"0"},"BOX OF PLASTIC","L",null,9900001200,27,0,null,null,0,9900000001,1,0,null,null,0,9900000091,1,0,9900001041,1,0]
[9900011373,{"$f":"Data!$A168-9900010000","v":1373},{"$f":"IF(EXACT($B168,LOOKUP($B168,'INPUT '!$D$16:$D$116)),LOOKUP($B168,'INPUT '!$D$16:$D$116,'INPUT '!$E$16:$E$116),\"0\")","v":"0"},{"$f":"IF(EXACT($B168,LOOKUP($B168,'INPUT '!$D$16:$D$116)),LOOKUP($B168,'INPUT '!$D$16:$D$116,'INPUT '!$F$16:$F$116),\"0\")","v":"0"},"Rack Of Steel",null,null,9900001373,1,0,null,null,0,0,null,0,null,null,0,null,null,0,null,null,0]
[9900011396,{"$f":"Data!$A169-9900010000","v":1396},{"$f":"IF(EXACT($B169,LOOKUP($B169,'INPUT '!$D$16:$D$116)),LOOKUP($B169,'INPUT '!$D$16:$D$116,'INPUT '!$E$16:$E$116),\"0\")","v":"0"},{"$f":"IF(EXACT($B169,LOOKUP($B169,'INPUT '!$D$16:$D$116)),LOOKUP($B169,'INPUT '!$D$16:$D$116,'INPUT '!$F$16:$F$116),\"0\")","v":"0"},"SPACER OF PLASTIC",null,null,9900001396,16,0,9900020840,8,0,9900000001,1,0,null,null,0,null,null,0,null,null,0]
[9900011397,{"$f":"Data!$A170-9900010000","v":1397},{"$f":"IF(EXACT($B170,LOOKUP($B170,'INPUT '!$D$16:$D$116)),LOOKUP($B170,'INPUT '!$D$16:$D$116,'INPUT '!$E$16:$E$116),\"0\")","v":"0"},{"$f":"IF(EXACT($B170,LOOKUP($B170,'INPUT '!$D$16:$D$116)),LOOKUP($B170,'INPUT '!$D$16:$D$116,'INPUT '!$F$16:$F$116),\"0\")","v":"0"},"SPACER OF PLASTIC",null,null,9900001397,32,0,9900020840,8,0,9900000001,1,0,null,null,0,null,null,0,null,null,0]
[9900011408,{"$f":"Data!$A171-9900010000","v":1408},{"$f":"IF(EXACT($B171,LOOKUP($B171,'INPUT '!$D$16:$D$116)),LOOKUP($B171,'INPUT '!$D$16:$D$116,'INPUT '!$E$16:$E$116),\"0\")","v":"0"},{"$f":"IF(EXACT($B171,LOOKUP($B171,'INPUT '!$D$16:$D$116)),LOOKUP($B171,'INPUT '!$D$16:$D$116,'INPUT '!$F$16:$F$116),\"0\")","v":"0"},"BOX OF PLASTIC",null,null,9900001408,48,0,9900000412,1,0,0,null,0,null,null,0,null,null,0,null,null,0]
[9900011414,{"$f":"Data!$A172-9900010000","v":1414},{"$f":"IF(EXACT($B172,LOOKUP($B172,'INPUT '!$D$16:$D$116)),LOOKUP($B172,'INPUT '!$D$16:$D$116,'INPUT '!$E$16:$E$116),\"0\")","v":"0"},{"$f":"IF(EXACT($B172,LOOKUP($B172,'INPUT '!$D$16:$D$116)),LOOKUP($B172,'INPUT '!$D$16:$D$116,'INPUT '!$F$16:$F$116),\"0\")","v":"0"},"INSERT OF PLASTIC",null,null,9900001414,40,0,9900020790,8,0,0,null,0,null,null,0,null,null,0,null,null,0]
[9900011415,{"$f":"Data!$A173-9900010000","v":1415},{"$f":"IF(EXACT($B173,LOOKUP($B173,'INPUT '!$D$16:$D$116)),LOOKUP($B173,'INPUT '!$D$16:$D$116,'INPUT '!$E$16:$E$116),\"0\")","v":"0"},{"$f":"IF(EXACT($B173,LOOKUP($B173,'INPUT '!$D$16:$D$116)),LOOKUP($B173,'INPUT '!$D$16:$D$116,'INPUT '!$F$16:$F$116),\"0\")","v":"0"},"RACK OF STEEL",null,null,9900001415,1,{"$f":"I173*C173","v":0},null,null,{"$f":"L173*C173","v":0},null,null,{"$f":"O173*C173","v":0},null,null,0,null,null,{"$f":"U173*C173","v":0},null,null,{"$f":"X173*C173","v":0}]
[9900011416,{"$f":"Data!$A174-9900010000","v":1416},{"$f":"IF(EXACT($B174,LOOKUP($B174,'INPUT '!$D$16:$D$116)),LOOKUP($B174,'INPUT '!$D$16:$D$116,'INPUT '!$E$16:$E$116),\"0\")","v":"0"},{"$f":"IF(EXACT($B174,LOOKUP($B174,'INPUT '!$D$16:$D$116)),LOOKUP($B174,'INPUT '!$D$16:$D$116,'INPUT '!$F$16:$F$116),\"0\")","v":"0"},"BATTEN OF WOOD",null,null,9900001416,42,{"$f":"I174*C174","v":0},null,null,{"$f":"L174*C174","v":0},9900000701,1,{"$f":"O174*C174","v":0},null,null,0,null,null,{"$f":"U174*C174","v":0},null,null,{"$f":"X174*C174","v":0}]
[9900011420,{"$f":"Data!$A175-9900010000","v":1420},{"$f":"IF(EXACT($B175,LOOKUP($B175,'INPUT '!$D$16:$D$116)),LOOKUP($B175,'INPUT '!$D$16:$D$116,'INPUT '!$E$16:$E$116),\"0\")","v":"0"},{"$f":"IF(EXACT($B175,LOOKUP($B175,'INPUT '!$D$16:$D$116)),LOOKUP($B175,'INPUT '!$D$16:$D$116,'INPUT '!$F$16:$F$116),\"0\")","v":"0"},"RACK OF STEEL",null,null,9900001420,1,{"$f":"I175*C175","v":0},null,null,{"$f":"L175*C175","v":0},null,null,{"$f":"O175*C175","v":0},null,null,{"$f":"R175*C175","v":0},null,null,{"$f":"U175*C175","v":0},null,null,{"$f":"X175*C175","v":0}]
[9900011424,{"$f":"Data!$A176-9900010000","v":1424},{"$f":"IF(EXACT($B176,LOOKUP($B176,'INPUT '!$D$16:$D$116)),LOOKUP($B176,'INPUT '!$D$16:$D$116,'INPUT '!$E$16:$E$116),\"0\")","v":"0"},{"$f":"IF(EXACT($B176,LOOKUP($B176,'INPUT '!$D$16:$D$116)),LOOKUP($B176,'INPUT '!$D$16:$D$116,'INPUT '!$F$16:$F$116),\"0\")","v":"0"},"RACK OF STEEL",null,null,9900001424,1,0,null,null,0,0,null,0,null,null,0,null,null,0,null,null,0]
[9900011425,{"$f":"Data!$A177-9900010000","v":1425},{"$f":"IF(EXACT($B177,LOOKUP($B177,'INPUT '!$D$16:$D$116)),LOOKUP($B177,'INPUT '!$D$16:$D$116,'INPUT '!$E$16:$E$116),\"0\")","v":"0"},{"$f":"IF(EXACT($B177,LOOKUP($B177,'INPUT '!$D$16:$D$116)),LOOKUP($B177,'INPUT '!$D$16:$D$116,'INPUT '!$F$16:$F$116),\"0\")","v":"0"},"FIXING SPACER OF PLASTIC",null,null,9900001425,1,{"$f":"I177*C177","v":0},9900000069,1,{"$f":"L177*C177","v":0},9900000009,1,0,9900000029,5,0,9900000079,1,{"$f":"U177*C177","v":0},9900001029,1,{"$f":"X177*C177","v":0}]
[9900011427,{"$f":"Data!$A178-9900010000","v":1427},{"$f":"IF(EXACT($B178,LOOKUP($B178,'INPUT '!$D$16:$D$116)),LOOKUP($B178,'INPUT '!$D$16:$D$116,'INPUT '!$E$16:$E$116),\"0\")","v":"0"},{"$f":"IF(EXACT($B178,LOOKUP($B178,'INPUT '!$D$16:$D$116)),LOOKUP($B178,'INPUT '!$D$16:$D$116,'INPUT '!$F$16:$F$116),\"0\")","v":"0"},"FIXING SPACER OF PLASTIC",null,null,9900001427,36,0,null,null,0,9900000002,1,0,9900000022,3,0,9900000072,1,0,null,null,0]
[9900011445,{"$f":"Data!$A179-9900010000","v":1445},{"$f":"IF(EXACT($B179,LOOKUP($B179,'INPUT '!$D$16:$D$116)),LOOKUP($B179,'INPUT '!$D$16:$D$116,'INPUT '!$E$16:$E$116),\"0\")","v":"0"},{"$f":"IF(EXACT($B179,LOOKUP($B179,'INPUT '!$D$16:$D$116)),LOOKUP($B179,'INPUT '!$D$16:$D$116,'INPUT '!$F$16:$F$116),\"0\")","v":"0"},"FIXING SPACER OF PLASTIC",null,null,9900001445,5,{"$f":"I179*C179","v":0},null,null,{"$f":"L179*C179","v":0},9900000001,1,{"$f":"O179*C179","v":0},9900000021,2,0,9900000071,1,{"$f":"U179*C179","v":0},null,null,{"$f":"X179*C179","v":0}]
[9900011447,{"$f":"Data!$A180-9900010000","v":1447},{"$f":"IF(EXACT($B180,LOOKUP($B180,'INPUT '!$D$16:$D$116)),LOOKUP($B180,'INPUT '!$D$16:$D$116,'INPUT '!$E$16:$E$116),\"0\")","v":"0"},{"$f":"IF(EXACT($B180,LOOKUP($B180,'INPUT '!$D$16:$D$116)),LOOKUP($B180,'INPUT '!$D$16:$D$116,'INPUT '!$F$16:$F$116),\"0\")","v":"0"},"FIXING SPACER OF PLASTIC",null,null,9900001447,30,{"$f":"I180*C180","v":0},null,null,{"$f":"L180*C180","v":0},9900000001,1,{"$f":"O180*C180","v":0},9900000021,2,0,9900000071,1,{"$f":"U180*C180","v":0},null,null,{"$f":"X180*C180","v":0}]
[9900011458,{"$f":"Data!$A181-9900010000","v":1458},{"$f":"IF(EXACT($B181,LOOKUP($B181,'INPUT '!$D$16:$D$116)),LOOKUP($B181,'INPUT '!$D$16:$D$116,'INPUT '!$E$16:$E$116),\"0\")","v":"0"},{"$f":"IF(EXACT($B181,LOOKUP($B181,'INPUT '!$D$16:$D$116)),LOOKUP($B181,'INPUT '!$D$16:$D$116,'INPUT '!$F$16:$F$116),\"0\")","v":"0"},"FIXING INSERT OF PLASTIC","L",null,9900001458,32,{"$f":"I181*C181","v":0},9900020840,8,{"$f":"L181*C181","v":0},9900000001,1,{"$f":"O181*C181","v":0},null,null,0,null,null,{"$f":"U181*C181","v":0},null,null,{"$f":"X181*C181","v":0}]
[9900011462,{"$f":"Data!$A182-9900010000","v":1462},{"$f":"IF(EXACT($B182,LOOKUP($B182,'INPUT '!$D$16:$D$116)),LOOKUP($B182,'INPUT '!$D$16:$D$116,'INPUT '!$E$16:$E$116),\"0\")","v":"0"},{"$f":"IF(EXACT($B182,LOOKUP($B182,'INPUT '!$D$16:$D$116)),LOOKUP($B182,'INPUT '!$D$16:$D$116,'INPUT '!$F$16:$F$116),\"0\")","v":"0"},"SPACER OF PLASTIC","L",null,9900001462,8,0,9900020840,8,0,9900000001,1,0,null,null,0,null,null,0,null,null,0]
[9900011463,{"$f":"Data!$A183-9900010000","v":1463},{"$f":"IF(EXACT($B183,LOOKUP($B183,'INPUT '!$D$16:$D$116)),LOOKUP($B183,'INPUT '!$D$16:$D$116,'INPUT '!$E$16:$E$116),\"0\")","v":"0"},{"$f":"IF(EXACT($B183,LOOKUP($B183,'INPUT '!$D$16:$D$116)),LOOKUP($B183,'INPUT '!$D$16:$D$116,'INPUT '!$F$16:$F$116),\"0\")","v":"0"},"SPACER OF WOOD","G",null,9900001463,136,0,null,null,0,9900000006,1,0,9900000026,2,0,9900000076,1,0,9900001026,1,0]
[9900011464,{"$f":"Data!$A184-9900010000","v":1464},{"$f":"IF(EXACT($B184,LOOKUP($B184,'INPUT '!$D$16:$D$116)),LOOKUP($B184,'INPUT '!$D$16:$D$116,'INPUT '!$E$16:$E$116),\"0\")","v":"0"},{"$f":"IF(EXACT($B184,LOOKUP($B184,'INPUT '!$D$16:$D$116)),LOOKUP($B184,'INPUT '!$D$16:$D$116,'INPUT '!$F$16:$F$116),\"0\")","v":"0"},"SPACER OF WOOD","L",null,9900001464,136,0,null,null,0,9900000001,1,0,9900000021,2,0,9900000071,1,0,9900001021,1,0]
[9900011475,{"$f":"Data!$A185-9900010000","v":1475},{"$f":"IF(EXACT($B185,LOOKUP($B185,'INPUT '!$D$16:$D$116)),LOOKUP($B185,'INPUT '!$D$16:$D$116,'INPUT '!$E$16:$E$116),\"0\")","v":"0"},{"$f":"IF(EXACT($B185,LOOKUP($B185,'INPUT '!$D$16:$D$116)),LOOKUP($B185,'INPUT '!$D$16:$D$116,'INPUT '!$F$16:$F$116),\"0\")","v":"0"},"FIXING SPACER OF PLASTIC",null,null,9900001475,30,{"$f":"I185*C185","v":0},null,null,{"$f":"L185*C185","v":0},9900000001,1,0,9900000021,4,{"$f":"R185*C185","v":0},9900000071,1,{"$f":"U185*C185","v":0},null,null,{"$f":"X185*C185","v":0}]
[9900011476,{"$f":"Data!$A186-9900010000","v":1476},{"$f":"IF(EXACT($B186,LOOKUP($B186,'INPUT '!$D$16:$D$116)),LOOKUP($B186,'INPUT '!$D$16:$D$116,'INPUT '!$E$16:$E$116),\"0\")","v":"0"},{"$f":"IF(EXACT($B186,LOOKUP($B186,'INPUT '!$D$16:$D$116)),LOOKUP($B186,'INPUT '!$D$16:$D$116,'INPUT '!$F$16:$F$116),\"0\")","v":"0"},"FIXING SPACER OF PLASTIC","L",null,9900001476,30,{"$f":"I186*C186","v":0},null,null,{"$f":"L186*C186","v":0},9900000001,1,{"$f":"O186*C186","v":0},9900000021,4,0,9900000071,1,{"$f":"U186*C186","v":0},null,null,{"$f":"X186*C186","v":0}]
[9900011477,{"$f":"Data!$A187-9900010000","v":1477},{"$f":"IF(EXACT($B187,LOOKUP($B187,'INPUT '!$D$16:$D$116)),LOOKUP($B187,'INPUT '!$D$16:$D$116,'INPUT '!$E$16:$E$116),\"0\")","v":"0"},{"$f":"IF(EXACT($B187,LOOKUP($B187,'INPUT '!$D$16:$D$116)),LOOKUP($B187,'INPUT '!$D$16:$D$116,'INPUT '!$F$16:$F$116),\"0\")","v":"0"},"FIXING SPACER OF PLASTIC","L",null,9900001477,30,{"$f":"I187*C187","v":0},null,null,{"$f":"L187*C187","v":0},9900000001,1,0,9900000021,4,0,9900000071,1,0,null,null,{"$f":"X187*C187","v":0}]
[9900011479,{"$f":"Data!$A188-9900010000","v":1479},{"$f":"IF(EXACT($B188,LOOKUP($B188,'INPUT '!$D$16:$D$116)),LOOKUP($B188,'INPUT '!$D$16:$D$116,'INPUT '!$E$16:$E$116),\"0\")","v":"0"},{"$f":"IF(EXACT($B188,LOOKUP($B188,'INPUT '!$D$16:$D$116)),LOOKUP($B188,'INPUT '!$D$16:$D$116,'INPUT '!$F$16:$F$116),\"0\")","v":"0"},"RACK OF STEEL",null,null,9900001479,1,{"$f":"I188*C188","v":0},null,null,{"$f":"L188*C188","v":0},null,null,{"$f":"O188*C188","v":0},null,null,0,null,null,{"$f":"U188*C188","v":0},null,null,{"$f":"X188*C188","v":0}]
[9900011480,{"$f":"Data!$A189-9900010000","v":1480},{"$f":"IF(EXACT($B189,LOOKUP($B189,'INPUT '!$D$16:$D$116)),LOOKUP($B189,'INPUT '!$D$16:$D$116,'INPUT '!$E$16:$E$116),\"0\")","v":"0"},{"$f":"IF(EXACT($B189,LOOKUP($B189,'INPUT '!$D$16:$D$116)),LOOKUP($B189,'INPUT '!$D$16:$D$116,'INPUT '!$F$16:$F$116),\"0\")","v":"0"},"RACK OF STEEL",null,null,9900001480,1,{"$f":"I189*C189","v":0},null,null,{"$f":"L189*C189","v":0},null,null,{"$f":"O189*C189","v":0},null,null,0,null,null,{"$f":"U189*C189","v":0},null,null,{"$f":"X189*C189","v":0}]
[9900011481,{"$f":"Data!$A190-9900010000","v":1481},{"$f":"IF(EXACT($B190,LOOKUP($B190,'INPUT '!$D$16:$D$116)),LOOKUP($B190,'INPUT '!$D$16:$D$116,'INPUT '!$E$16:$E$116),\"0\")","v":"0"},{"$f":"IF(EXACT($B190,LOOKUP($B190,'INPUT '!$D$16:$D$116)),LOOKUP($B190,'INPUT '!$D$16:$D$116,'INPUT '!$F$16:$F$116),\"0\")","v":"0"},"FIXING SPACER OF PLASTIC","L",null,9900001481,25,0,null,null,0,9900000001,1,0,9900000021,4,0,9900000071,1,0,null,null,0]
[9900011483,{"$f":"Data!$A191-9900010000","v":1483},{"$f":"IF(EXACT($B191,LOOKUP($B191,'INPUT '!$D$16:$D$116)),LOOKUP($B191,'INPUT '!$D$16:$D$116,'INPUT '!$E$16:$E$116),\"0\")","v":"0"},{"$f":"IF(EXACT($B191,LOOKUP($B191,'INPUT '!$D$16:$D$116)),LOOKUP($B191,'INPUT '!$D$16:$D$116,'INPUT '!$F$16:$F$116),\"0\")","v":"0"},"FIXING SPACER OF PLASTIC","L",null,9900001483,10,0,null,null,0,9900000001,1,0,9900000021,4,0,9900000071,1,0,9900001041,1,0]
[9900011486,{"$f":"Data!$A192-9900010000","v":1486},{"$f":"IF(EXACT($B192,LOOKUP($B192,'INPUT '!$D$16:$D$116)),LOOKUP($B192,'INPUT '!$D$16:$D$116,'INPUT '!$E$16:$E$116),\"0\")","v":"0"},{"$f":"IF(EXACT($B192,LOOKUP($B192,'INPUT '!$D$16:$D$116)),LOOKUP($B192,'INPUT '!$D$16:$D$116,'INPUT '!$F$16:$F$116),\"0\")","v":"0"},"FIXING SPACER OF PLASTIC","L",null,9900001486,10,{"$f":"I192*C192","v":0},null,null,{"$f":"L192*C192","v":0},9900000001,1,{"$f":"O192*C192","v":0},9900000021,2,{"$f":"R192*C192","v":0},9900000071,1,{"$f":"U192*C192","v":0},null,null,{"$f":"X192*C192","v":0}]
[9900011487,1487,{"$f":"IF(EXACT($B193,LOOKUP($B193,'INPUT '!$D$16:$D$116)),LOOKUP($B193,'INPUT '!$D$16:$D$116,'INPUT '!$E$16:$E$116),\"0\")","v":"0"},{"$f":"IF(EXACT($B193,LOOKUP($B193,'INPUT '!$D$16:$D$116)),LOOKUP($B193,'INPUT '!$D$16:$D$116,'INPUT '!$F$16:$F$116),\"0\")","v":"0"},"PALLET BOX OF WOOD",null,null,9900001487,1,{"$f":"I193*C193","v":0},9900001879,1,{"$f":"L193*C193","v":0},null,null,{"$f":"O193*C193","v":0},null,null,0,null,null,{"$f":"U193*C193","v":0},null,null,{"$f":"X193*C193","v":0}]
[9900011489,{"$f":"Data!$A194-9900010000","v":1489},{"$f":"IF(EXACT($B194,LOOKUP($B194,'INPUT '!$D$16:$D$116)),LOOKUP($B194,'INPUT '!$D$16:$D$116,'INPUT '!$E$16:$E$116),\"0\")","v":"0"},{"$f":"IF(EXACT($B194,LOOKUP($B194,'INPUT '!$D$16:$D$116)),LOOKUP($B194,'INPUT '!$D$16:$D$116,'INPUT '!$F$16:$F$116),\"0\")","v":"0"},"HANGER OF STEEL",null,null,9900001489,1,0,null,null,0,null,null,{"$f":"O194*C194","v":0},null,null,0,null,null,{"$f":"U194*C194","v":0},null,null,0]
[9900011490,{"$f":"Data!$A195-9900010000","v":1490},{"$f":"IF(EXACT($B195,LOOKUP($B195,'INPUT '!$D$16:$D$116)),LOOKUP($B195,'INPUT '!$D$16:$D$116,'INPUT '!$E$16:$E$116),\"0\")","v":"0"},{"$f":"IF(EXACT($B195,LOOKUP($B195,'INPUT '!$D$16:$D$116)),LOOKUP($B195,'INPUT '!$D$16:$D$116,'INPUT '!$F$16:$F$116),\"0\")","v":"0"},"HANGER OF STEEL",null,null,9900001490,1,0,null,null,0,null,null,{"$f":"O195*C195","v":0},null,null,0,null,null,{"$f":"U195*C195","v":0},null,null,0]
[9900011495,{"$f":"Data!$A196-9900010000","v":1495},{"$f":"IF(EXACT($B196,LOOKUP($B196,'INPUT '!$D$16:$D$116)),LOOKUP($B196,'INPUT '!$D$16:$D$116,'INPUT '!$E$16:$E$116),\"0\")","v":"0"},{"$f":"IF(EXACT($B196,LOOKUP($B196,'INPUT '!$D$16:$D$116)),LOOKUP($B196,'INPUT '!$D$16:$D$116,'INPUT '!$F$16:$F$116),\"0\")","v":"0"},"FIXING SPACER OF PLASTIC",null,null,9900001495,5,0,null,null,0,9900000001,1,{"$f":"O196*C196","v":0},9900000021,2,0,9900000071,1,{"$f":"U196*C196","v":0},null,null,0]
[9900011498,{"$f":"Data!$A197-9900010000","v":1498},{"$f":"IF(EXACT($B197,LOOKUP($B197,'INPUT '!$D$16:$D$116)),LOOKUP($B197,'INPUT '!$D$16:$D$116,'INPUT '!$E$16:$E$116),\"0\")","v":"0"},{"$f":"IF(EXACT($B197,LOOKUP($B197,'INPUT '!$D$16:$D$116)),LOOKUP($B197,'INPUT '!$D$16:$D$116,'INPUT '!$F$16:$F$116),\"0\")","v":"0"},"FIXING SPACER OF PLASTIC",null,null,9900001498,32,0,null,null,0,9900000005,1,{"$f":"O197*C197","v":0},9900000025,5,0,9900000075,1,{"$f":"U197*C197","v":0},null,null,0]
[9900011499,{"$f":"Data!$A198-9900010000","v":1499},{"$f":"IF(EXACT($B198,LOOKUP($B198,'INPUT '!$D$16:$D$116)),LOOKUP($B198,'INPUT '!$D$16:$D$116,'INPUT '!$E$16:$E$116),\"0\")","v":"0"},{"$f":"IF(EXACT($B198,LOOKUP($B198,'INPUT '!$D$16:$D$116)),LOOKUP($B198,'INPUT '!$D$16:$D$116,'INPUT '!$F$16:$F$116),\"0\")","v":"0"},"FIXING SPACER OF PLASTIC",null,null,9900001499,24,0,null,null,0,9900000005,1,{"$f":"O198*C198","v":0},9900000419,1,0,9900000236,1,{"$f":"U198*C198","v":0},null,null,0]
[9900011500,{"$f":"Data!$A199-9900010000","v":1500},{"$f":"IF(EXACT($B199,LOOKUP($B199,'INPUT '!$D$16:$D$116)),LOOKUP($B199,'INPUT '!$D$16:$D$116,'INPUT '!$E$16:$E$116),\"0\")","v":"0"},{"$f":"IF(EXACT($B199,LOOKUP($B199,'INPUT '!$D$16:$D$116)),LOOKUP($B199,'INPUT '!$D$16:$D$116,'INPUT '!$F$16:$F$116),\"0\")","v":"0"},"FIXING SPACER OF WOOD","L",null,9900001500,10,0,null,null,0,9900000001,1,0,9900000021,1,0,9900000071,1,0,9900001021,1,0]
[9900011501,{"$f":"Data!$A200-9900010000","v":1501},{"$f":"IF(EXACT($B200,LOOKUP($B200,'INPUT '!$D$16:$D$116)),LOOKUP($B200,'INPUT '!$D$16:$D$116,'INPUT '!$E$16:$E$116),\"0\")","v":"0"},{"$f":"IF(EXACT($B200,LOOKUP($B200,'INPUT '!$D$16:$D$116)),LOOKUP($B200,'INPUT '!$D$16:$D$116,'INPUT '!$F$16:$F$116),\"0\")","v":"0"},"FIXING SPACER OF PLASTIC","L",null,9900001501,10,0,null,null,0,9900000001,1,0,9900000021,1,0,9900000071,1,0,9900001021,1,0]
[9900011502,{"$f":"Data!$A201-9900010000","v":1502},{"$f":"IF(EXACT($B201,LOOKUP($B201,'INPUT '!$D$16:$D$116)),LOOKUP($B201,'INPUT '!$D$16:$D$116,'INPUT '!$E$16:$E$116),\"0\")","v":"0"},{"$f":"IF(EXACT($B201,LOOKUP($B201,'INPUT '!$D$16:$D$116)),LOOKUP($B201,'INPUT '!$D$16:$D$116,'INPUT '!$F$16:$F$116),\"0\")","v":"0"},"FIXING SPACER OF PLASTIC",null,null,9900001502,56,{"$f":"I201*C201","v":0},null,null,{"$f":"L201*C201","v":0},9900000005,1,{"$f":"O201*C201","v":0},9900000419,1,0,9900000236,1,{"$f":"U201*C201","v":0},null,null,{"$f":"X201*C201","v":0}]
[9900011505,{"$f":"Data!$A202-9900010000","v":1505},{"$f":"IF(EXACT($B202,LOOKUP($B202,'INPUT '!$D$16:$D$116)),LOOKUP($B202,'INPUT '!$D$16:$D$116,'INPUT '!$E$16:$E$116),\"0\")","v":"0"},{"$f":"IF(EXACT($B202,LOOKUP($B202,'INPUT '!$D$16:$D$116)),LOOKUP($B202,'INPUT '!$D$16:$D$116,'INPUT '!$F$16:$F$116),\"0\")","v":"0"},"FIXING SPACER OF PLASTIC","L",null,9900001505,8,0,null,null,0,9900000001,1,{"$f":"O202*C202","v":0},9900000021,1,{"$f":"R202*C202","v":0},9900000071,1,{"$f":"U202*C202","v":0},null,null,0]
[9900011506,{"$f":"Data!$A203-9900010000","v":1506},{"$f":"IF(EXACT($B203,LOOKUP($B203,'INPUT '!$D$16:$D$116)),LOOKUP($B203,'INPUT '!$D$16:$D$116,'INPUT '!$E$16:$E$116),\"0\")","v":"0"},{"$f":"IF(EXACT($B203,LOOKUP($B203,'INPUT '!$D$16:$D$116)),LOOKUP($B203,'INPUT '!$D$16:$D$116,'INPUT '!$F$16:$F$116),\"0\")","v":"0"},"FIXING SPACER OF PLASTIC","L",null,9900001506,8,0,null,null,0,9900000001,1,{"$f":"O203*C203","v":0},9900000021,1,{"$f":"R203*C203","v":0},9900000071,1,{"$f":"U203*C203","v":0},null,null,0]
[9900011508,{"$f":"Data!$A204-9900010000","v":1508},{"$f":"IF(EXACT($B204,LOOKUP($B204,'INPUT '!$D$16:$D$116)),LOOKUP($B204,'INPUT '!$D$16:$D$116,'INPUT '!$E$16:$E$116),\"0\")","v":"0"},{"$f":"IF(EXACT($B204,LOOKUP($B204,'INPUT '!$D$16:$D$116)),LOOKUP($B204,'INPUT '!$D$16:$D$116,'INPUT '!$F$16:$F$116),\"0\")","v":"0"},"FIXING SPACER OF PLASTIC","L",null,9900001508,8,0,null,null,0,9900000001,1,{"$f":"O204*C204","v":0},9900000021,1,{"$f":"R204*C204","v":0},9900000071,1,{"$f":"U204*C204","v":0},null,null,0]
[9900011509,{"$f":"Data!$A205-9900010000","v":1509},{"$f":"IF(EXACT($B205,LOOKUP($B205,'INPUT '!$D$16:$D$116)),LOOKUP($B205,'INPUT '!$D$16:$D$116,'INPUT '!$E$16:$E$116),\"0\")","v":"0"},{"$f":"IF(EXACT($B205,LOOKUP($B205,'INPUT '!$D$16:$D$116)),LOOKUP($B205,'INPUT '!$D$16:$D$116,'INPUT '!$F$16:$F$116),\"0\")","v":"0"},"FIXING SPACER OF PLASTIC","L",null,9900001509,8,0,null,null,0,9900000001,1,{"$f":"O205*C205","v":0},9900000021,2,{"$f":"R205*C205","v":0},9900000071,1,{"$f":"U205*C205","v":0},null,null,0]
[9900011511,{"$f":"Data!$A206-9900010000","v":1511},{"$f":"IF(EXACT($B206,LOOKUP($B206,'INPUT '!$D$16:$D$116)),LOOKUP($B206,'INPUT '!$D$16:$D$116,'INPUT '!$E$16:$E$116),\"0\")","v":"0"},{"$f":"IF(EXACT($B206,LOOKUP($B206,'INPUT '!$D$16:$D$116)),LOOKUP($B206,'INPUT '!$D$16:$D$116,'INPUT '!$F$16:$F$116),\"0\")","v":"0"},"FIXING SPACER OF PLASTIC","L",null,9900001511,6,0,null,null,0,9900000001,1,{"$f":"O206*C206","v":0},9900000021,2,{"$f":"R206*C206","v":0},9900000071,1,{"$f":"U206*C206","v":0},null,null,0]
[9900011512,{"$f":"Data!$A207-9900010000","v":1512},{"$f":"IF(EXACT($B207,LOOKUP($B207,'INPUT '!$D$16:$D$116)),LOOKUP($B207,'INPUT '!$D$16:$D$116,'INPUT '!$E$16:$E$116),\"0\")","v":"0"},{"$f":"IF(EXACT($B207,LOOKUP($B207,'INPUT '!$D$16:$D$116)),LOOKUP($B207,'INPUT '!$D$16:$D$116,'INPUT '!$F$16:$F$116),\"0\")","v":"0"},"FIXING SPACER OF PLASTIC","L",null,9900001512,8,0,null,null,0,9900000001,1,{"$f":"O207*C207","v":0},9900000021,1,{"$f":"R207*C207","v":0},9900000071,1,{"$f":"U207*C207","v":0},null,null,0]
[9900011520,{"$f":"Data!$A208-9900010000","v":1520},{"$f":"IF(EXACT($B208,LOOKUP($B208,'INPUT '!$D$16:$D$116)),LOOKUP($B208,'INPUT '!$D$16:$D$116,'INPUT '!$E$16:$E$116),\"0\")","v":"0"},{"$f":"IF(EXACT($B208,LOOKUP($B208,'INPUT '!$D$16:$D$116)),LOOKUP($B208,'INPUT '!$D$16:$D$116,'INPUT '!$F$16:$F$116),\"0\")","v":"0"},"FIXING SPACER OF WOOD",null,null,9900001520,100,0,null,null,0,9900000001,1,{"$f":"O208*C208","v":0},9900000021,2,0,9900000071,1,{"$f":"U208*C208","v":0},null,null,0]
[9900011521,{"$f":"Data!$A209-9900010000","v":1521},{"$f":"IF(EXACT($B209,LOOKUP($B209,'INPUT '!$D$16:$D$116)),LOOKUP($B209,'INPUT '!$D$16:$D$116,'INPUT '!$E$16:$E$116),\"0\")","v":"0"},{"$f":"IF(EXACT($B209,LOOKUP($B209,'INPUT '!$D$16:$D$116)),LOOKUP($B209,'INPUT '!$D$16:$D$116,'INPUT '!$F$16:$F$116),\"0\")","v":"0"},"FIXING SPACER OF PLASTIC","L",null,9900001521,12,0,null,null,0,9900000001,1,0,9900000021,1,0,9900000071,1,0,null,null,0]
[9900011522,{"$f":"Data!$A210-9900010000","v":1522},{"$f":"IF(EXACT($B210,LOOKUP($B210,'INPUT '!$D$16:$D$116)),LOOKUP($B210,'INPUT '!$D$16:$D$116,'INPUT '!$E$16:$E$116),\"0\")","v":"0"},{"$f":"IF(EXACT($B210,LOOKUP($B210,'INPUT '!$D$16:$D$116)),LOOKUP($B210,'INPUT '!$D$16:$D$116,'INPUT '!$F$16:$F$116),\"0\")","v":"0"},"BATTEN OF WOOD","L",null,9900001522,64,0,null,null,0,9900000001,1,0,9900000021,4,0,9900000071,1,0,null,null,0]
[9900011523,{"$f":"Data!$A211-9900010000","v":1523},{"$f":"IF(EXACT($B211,LOOKUP($B211,'INPUT '!$D$16:$D$116)),LOOKUP($B211,'INPUT '!$D$16:$D$116,'INPUT '!$E$16:$E$116),\"0\")","v":"0"},{"$f":"IF(EXACT($B211,LOOKUP($B211,'INPUT '!$D$16:$D$116)),LOOKUP($B211,'INPUT '!$D$16:$D$116,'INPUT '!$F$16:$F$116),\"0\")","v":"0"},"BATTEN OF WOOD","L",null,9900001523,200,0,null,null,0,9900000001,1,0,9900000021,4,0,9900000071,1,0,null,null,0]
[9900011527,{"$f":"Data!$A212-9900010000","v":1527},{"$f":"IF(EXACT($B212,LOOKUP($B212,'INPUT '!$D$16:$D$116)),LOOKUP($B212,'INPUT '!$D$16:$D$116,'INPUT '!$E$16:$E$116),\"0\")","v":"0"},{"$f":"IF(EXACT($B212,LOOKUP($B212,'INPUT '!$D$16:$D$116)),LOOKUP($B212,'INPUT '!$D$16:$D$116,'INPUT '!$F$16:$F$116),\"0\")","v":"0"},"SPACER OF PLASTIC","L",null,9900001527,24,0,9900000061,1,0,9900000001,1,0,9900000021,2,0,9900000071,1,0,null,null,0]
[9900011528,{"$f":"Data!$A213-9900010000","v":1528},{"$f":"IF(EXACT($B213,LOOKUP($B213,'INPUT '!$D$16:$D$116)),LOOKUP($B213,'INPUT '!$D$16:$D$116,'INPUT '!$E$16:$E$116),\"0\")","v":"0"},{"$f":"IF(EXACT($B213,LOOKUP($B213,'INPUT '!$D$16:$D$116)),LOOKUP($B213,'INPUT '!$D$16:$D$116,'INPUT '!$F$16:$F$116),\"0\")","v":"0"},"FIXING SPACER OF PLASTIC","L",null,9900001528,128,0,9900020780,16,0,9900000001,1,0,null,null,{"$f":"R213*C213","v":0},null,null,0,null,null,0]
[9900011529,{"$f":"Data!$A214-9900010000","v":1529},{"$f":"IF(EXACT($B214,LOOKUP($B214,'INPUT '!$D$16:$D$116)),LOOKUP($B214,'INPUT '!$D$16:$D$116,'INPUT '!$E$16:$E$116),\"0\")","v":"0"},{"$f":"IF(EXACT($B214,LOOKUP($B214,'INPUT '!$D$16:$D$116)),LOOKUP($B214,'INPUT '!$D$16:$D$116,'INPUT '!$F$16:$F$116),\"0\")","v":"0"},"FIXING SPACER OF PLASTIC","L",null,9900001529,48,0,9900020840,8,0,9900000001,1,0,null,null,0,null,null,0,null,null,0]
[9900011530,{"$f":"Data!$A215-9900010000","v":1530},{"$f":"IF(EXACT($B215,LOOKUP($B215,'INPUT '!$D$16:$D$116)),LOOKUP($B215,'INPUT '!$D$16:$D$116,'INPUT '!$E$16:$E$116),\"0\")","v":"0"},{"$f":"IF(EXACT($B215,LOOKUP($B215,'INPUT '!$D$16:$D$116)),LOOKUP($B215,'INPUT '!$D$16:$D$116,'INPUT '!$F$16:$F$116),\"0\")","v":"0"},"FIXING SPACER OF PLASTIC","L",null,9900001530,47,0,null,null,0,9900000001,1,0,9900000021,2,0,9900000071,1,0,null,null,0]
[9900011534,{"$f":"Data!$A216-9900010000","v":1534},{"$f":"IF(EXACT($B216,LOOKUP($B216,'INPUT '!$D$16:$D$116)),LOOKUP($B216,'INPUT '!$D$16:$D$116,'INPUT '!$E$16:$E$116),\"0\")","v":"0"},{"$f":"IF(EXACT($B216,LOOKUP($B216,'INPUT '!$D$16:$D$116)),LOOKUP($B216,'INPUT '!$D$16:$D$116,'INPUT '!$F$16:$F$116),\"0\")","v":"0"},"FIXING SPACER OF PLASTIC","L",null,9900001534,14,0,null,null,0,9900000001,1,0,9900000021,4,0,9900000071,1,0,null,null,0]
[9900011539,{"$f":"Data!$A217-9900010000","v":1539},{"$f":"IF(EXACT($B217,LOOKUP($B217,'INPUT '!$D$16:$D$116)),LOOKUP($B217,'INPUT '!$D$16:$D$116,'INPUT '!$E$16:$E$116),\"0\")","v":"0"},{"$f":"IF(EXACT($B217,LOOKUP($B217,'INPUT '!$D$16:$D$116)),LOOKUP($B217,'INPUT '!$D$16:$D$116,'INPUT '!$F$16:$F$116),\"0\")","v":"0"},"FIXING SPACER OF PLASTIC","L",null,9900001539,4,{"$f":"I217*C217","v":0},null,null,{"$f":"L217*C217","v":0},9900000001,1,{"$f":"O217*C217","v":0},9900000021,1,{"$f":"R217*C217","v":0},9900000071,1,{"$f":"U217*C217","v":0},null,null,{"$f":"X217*C217","v":0}]
[9900011540,{"$f":"Data!$A218-9900010000","v":1540},{"$f":"IF(EXACT($B218,LOOKUP($B218,'INPUT '!$D$16:$D$116)),LOOKUP($B218,'INPUT '!$D$16:$D$116,'INPUT '!$E$16:$E$116),\"0\")","v":"0"},{"$f":"IF(EXACT($B218,LOOKUP($B218,'INPUT '!$D$16:$D$116)),LOOKUP($B218,'INPUT '!$D$16:$D$116,'INPUT '!$F$16:$F$116),\"0\")","v":"0"},"FIXING SPACER OF PLASTIC","L",null,9900001540,6,{"$f":"I218*C218","v":0},null,null,{"$f":"L218*C218","v":0},9900000001,1,{"$f":"O218*C218","v":0},9900000021,1,{"$f":"R218*C218","v":0},9900000071,1,{"$f":"U218*C218","v":0},null,null,0]
[9900011541,{"$f":"Data!$A219-9900010000","v":1541},{"$f":"IF(EXACT($B219,LOOKUP($B219,'INPUT '!$D$16:$D$116)),LOOKUP($B219,'INPUT '!$D$16:$D$116,'INPUT '!$E$16:$E$116),\"0\")","v":"0"},{"$f":"IF(EXACT($B219,LOOKUP($B219,'INPUT '!$D$16:$D$116)),LOOKUP($B219,'INPUT '!$D$16:$D$116,'INPUT '!$F$16:$F$116),\"0\")","v":"0"},"FIXING SPACER OF PLASTIC","L",null,9900001541,6,{"$f":"I219*C219","v":0},null,null,{"$f":"L219*C219","v":0},9900000001,1,{"$f":"O219*C219","v":0},9900000021,1,{"$f":"R219*C219","v":0},9900000071,1,{"$f":"U219*C219","v":0},null,null,0]
[9900011542,{"$f":"Data!$A220-9900010000","v":1542},{"$f":"IF(EXACT($B220,LOOKUP($B220,'INPUT '!$D$16:$D$116)),LOOKUP($B220,'INPUT '!$D$16:$D$116,'INPUT '!$E$16:$E$116),\"0\")","v":"0"},{"$f":"IF(EXACT($B220,LOOKUP($B220,'INPUT '!$D$16:$D$116)),LOOKUP($B220,'INPUT '!$D$16:$D$116,'INPUT '!$F$16:$F$116),\"0\")","v":"0"},"FIXING SPACER OF PLASTIC","L",null,9900001542,6,{"$f":"I220*C220","v":0},null,null,{"$f":"L220*C220","v":0},9900000001,1,{"$f":"O220*C220","v":0},9900000021,1,{"$f":"R220*C220","v":0},9900000071,1,{"$f":"U220*C220","v":0},null,null,0]
[9900011543,{"$f":"Data!$A221-9900010000","v":1543},{"$f":"IF(EXACT($B221,LOOKUP($B221,'INPUT '!$D$16:$D$116)),LOOKUP($B221,'INPUT '!$D$16:$D$116,'INPUT '!$E$16:$E$116),\"0\")","v":"0"},{"$f":"IF(EXACT($B221,LOOKUP($B221,'INPUT '!$D$16:$D$116)),LOOKUP($B221,'INPUT '!$D$16:$D$116,'INPUT '!$F$16:$F$116),\"0\")","v":"0"},"FIXING SPACER OF PLASTIC","L",null,9900001543,8,{"$f":"I221*C221","v":0},null,null,{"$f":"L221*C221","v":0},9900000001,1,{"$f":"O221*C221","v":0},9900000021,1,{"$f":"R221*C221","v":0},9900000071,1,{"$f":"U221*C221","v":0},null,null,0]
[9900011544,{"$f":"Data!$A222-9900010000","v":1544},{"$f":"IF(EXACT($B222,LOOKUP($B222,'INPUT '!$D$16:$D$116)),LOOKUP($B222,'INPUT '!$D$16:$D$116,'INPUT '!$E$16:$E$116),\"0\")","v":"0"},{"$f":"IF(EXACT($B222,LOOKUP($B222,'INPUT '!$D$16:$D$116)),LOOKUP($B222,'INPUT '!$D$16:$D$116,'INPUT '!$F$16:$F$116),\"0\")","v":"0"},"FIXING SPACER OF PLASTIC","L",null,9900001544,6,{"$f":"I222*C222","v":0},null,null,{"$f":"L222*C222","v":0},9900000001,1,{"$f":"O222*C222","v":0},9900000021,1,{"$f":"R222*C222","v":0},9900000071,1,{"$f":"U222*C222","v":0},null,null,0]
[9900011545,{"$f":"Data!$A223-9900010000","v":1545},{"$f":"IF(EXACT($B223,LOOKUP($B223,'INPUT '!$D$16:$D$116)),LOOKUP($B223,'INPUT '!$D$16:$D$116,'INPUT '!$E$16:$E$116),\"0\")","v":"0"},{"$f":"IF(EXACT($B223,LOOKUP($B223,'INPUT '!$D$16:$D$116)),LOOKUP($B223,'INPUT '!$D$16:$D$116,'INPUT '!$F$16:$F$116),\"0\")","v":"0"},"FIXING SPACER OF PLASTIC","L",null,9900001545,6,{"$f":"I223*C223","v":0},null,null,{"$f":"L223*C223","v":0},9900000001,1,{"$f":"O223*C223","v":0},9900000021,1,{"$f":"R223*C223","v":0},9900000071,1,{"$f":"U223*C223","v":0},null,null,0]
[9900011547,{"$f":"Data!$A224-9900010000","v":1547},{"$f":"IF(EXACT($B224,LOOKUP($B224,'INPUT '!$D$16:$D$116)),LOOKUP($B224,'INPUT '!$D$16:$D$116,'INPUT '!$E$16:$E$116),\"0\")","v":"0"},{"$f":"IF(EXACT($B224,LOOKUP($B224,'INPUT '!$D$16:$D$116)),LOOKUP($B224,'INPUT '!$D$16:$D$116,'INPUT '!$F$16:$F$116),\"0\")","v":"0"},"FIXING SPACER OF PLASTIC","L",null,9900001547,20,0,null,null,0,9900000001,1,0,9900000021,3,0,9900000071,1,0,null,null,0]
[9900011548,{"$f":"Data!$A225-9900010000","v":1548},{"$f":"IF(EXACT($B225,LOOKUP($B225,'INPUT '!$D$16:$D$116)),LOOKUP($B225,'INPUT '!$D$16:$D$116,'INPUT '!$E$16:$E$116),\"0\")","v":"0"},{"$f":"IF(EXACT($B225,LOOKUP($B225,'INPUT '!$D$16:$D$116)),LOOKUP($B225,'INPUT '!$D$16:$D$116,'INPUT '!$F$16:$F$116),\"0\")","v":"0"},"FIXING SPACER OF PLASTIC","L",null,9900001548,100,0,null,null,0,9900000001,1,0,9900000021,2,0,9900000071,1,0,null,null,0]
[9900011549,{"$f":"Data!$A226-9900010000","v":1549},{"$f":"IF(EXACT($B226,LOOKUP($B226,'INPUT '!$D$16:$D$116)),LOOKUP($B226,'INPUT '!$D$16:$D$116,'INPUT '!$E$16:$E$116),\"0\")","v":"0"},{"$f":"IF(EXACT($B226,LOOKUP($B226,'INPUT '!$D$16:$D$116)),LOOKUP($B226,'INPUT '!$D$16:$D$116,'INPUT '!$F$16:$F$116),\"0\")","v":"0"},"FIXING SPACER OF PLASTIC","L",null,9900001549,30,0,null,null,0,9900000001,1,0,9900000021,4,0,9900000071,1,0,null,null,0]
[9900011550,{"$f":"Data!$A227-9900010000","v":1550},{"$f":"IF(EXACT($B227,LOOKUP($B227,'INPUT '!$D$16:$D$116)),LOOKUP($B227,'INPUT '!$D$16:$D$116,'INPUT '!$E$16:$E$116),\"0\")","v":"0"},{"$f":"IF(EXACT($B227,LOOKUP($B227,'INPUT '!$D$16:$D$116)),LOOKUP($B227,'INPUT '!$D$16:$D$116,'INPUT '!$F$16:$F$116),\"0\")","v":"0"},"BOX OF PLASTIC","L",null,9900001550,10,0,null,null,0,9900000001,1,0,9900000021,4,0,9900000071,1,0,null,null,0]
[9900011551,{"$f":"Data!$A228-9900010000","v":1551},{"$f":"IF(EXACT($B228,LOOKUP($B228,'INPUT '!$D$16:$D$116)),LOOKUP($B228,'INPUT '!$D$16:$D$116,'INPUT '!$E$16:$E$116),\"0\")","v":"0"},{"$f":"IF(EXACT($B228,LOOKUP($B228,'INPUT '!$D$16:$D$116)),LOOKUP($B228,'INPUT '!$D$16:$D$116,'INPUT '!$F$16:$F$116),\"0\")","v":"0"},"LID OF PLASTIC","L",null,9900001551,20,0,null,null,0,9900000001,1,0,9900000021,4,0,9900000071,1,0,null,null,0]
[9900011552,{"$f":"Data!$A229-9900010000","v":1552},{"$f":"IF(EXACT($B229,LOOKUP($B229,'INPUT '!$D$16:$D$116)),LOOKUP($B229,'INPUT '!$D$16:$D$116,'INPUT '!$E$16:$E$116),\"0\")","v":"0"},{"$f":"IF(EXACT($B229,LOOKUP($B229,'INPUT '!$D$16:$D$116)),LOOKUP($B229,'INPUT '!$D$16:$D$116,'INPUT '!$F$16:$F$116),\"0\")","v":"0"},"RACK OF STEEL",null,null,9900001552,1,0,null,null,0,null,null,0,null,null,0,null,null,0,null,null,0]
[9900011555,{"$f":"Data!$A230-9900010000","v":1555},{"$f":"IF(EXACT($B230,LOOKUP($B230,'INPUT '!$D$16:$D$116)),LOOKUP($B230,'INPUT '!$D$16:$D$116,'INPUT '!$E$16:$E$116),\"0\")","v":"0"},{"$f":"IF(EXACT($B230,LOOKUP($B230,'INPUT '!$D$16:$D$116)),LOOKUP($B230,'INPUT '!$D$16:$D$116,'INPUT '!$F$16:$F$116),\"0\")","v":"0"},"FIXING SPACER OF WOOD","L",null,9900001555,100,0,null,null,0,9900000001,1,0,9900000021,2,0,9900000071,1,0,null,null,0]
[9900011558,{"$f":"Data!$A231-9900010000","v":1558},{"$f":"IF(EXACT($B231,LOOKUP($B231,'INPUT '!$D$16:$D$116)),LOOKUP($B231,'INPUT '!$D$16:$D$116,'INPUT '!$E$16:$E$116),\"0\")","v":"0"},{"$f":"IF(EXACT($B231,LOOKUP($B231,'INPUT '!$D$16:$D$116)),LOOKUP($B231,'INPUT '!$D$16:$D$116,'INPUT '!$F$16:$F$116),\"0\")","v":"0"},"FIXING SPACER OF PLASTIC","K",null,9900001558,20,0,null,null,0,9900000002,1,0,9900000022,2,0,9900000072,1,0,null,null,0]
[9900011559,{"$f":"Data!$A232-9900010000","v":1559},{"$f":"IF(EXACT($B232,LOOKUP($B232,'INPUT '!$D$16:$D$116)),LOOKUP($B232,'INPUT '!$D$16:$D$116,'INPUT '!$E$16:$E$116),\"0\")","v":"0"},{"$f":"IF(EXACT($B232,LOOKUP($B232,'INPUT '!$D$16:$D$116)),LOOKUP($B232,'INPUT '!$D$16:$D$116,'INPUT '!$F$16:$F$116),\"0\")","v":"0"},"LOCKING CLIP OF STEEL","K",null,9900001559,100,0,null,null,0,9900000002,1,0,9900000022,1,0,9900000072,1,0,null,null,0]
[9900011560,{"$f":"Data!$A233-9900010000","v":1560},{"$f":"IF(EXACT($B233,LOOKUP($B233,'INPUT '!$D$16:$D$116)),LOOKUP($B233,'INPUT '!$D$16:$D$116,'INPUT '!$E$16:$E$116),\"0\")","v":"0"},{"$f":"IF(EXACT($B233,LOOKUP($B233,'INPUT '!$D$16:$D$116)),LOOKUP($B233,'INPUT '!$D$16:$D$116,'INPUT '!$F$16:$F$116),\"0\")","v":"0"},"FIXING SPACER OF PLYWOOD","L",null,9900001560,3,0,null,null,0,9900000001,1,0,9900000021,4,0,9900000071,1,0,null,null,0]
[9900011562,{"$f":"Data!$A234-9900010000","v":1562},{"$f":"IF(EXACT($B234,LOOKUP($B234,'INPUT '!$D$16:$D$116)),LOOKUP($B234,'INPUT '!$D$16:$D$116,'INPUT '!$E$16:$E$116),\"0\")","v":"0"},{"$f":"IF(EXACT($B234,LOOKUP($B234,'INPUT '!$D$16:$D$116)),LOOKUP($B234,'INPUT '!$D$16:$D$116,'INPUT '!$F$16:$F$116),\"0\")","v":"0"},"FIXING SPACER OF PLASTIC","L",null,9900001562,11,0,null,null,0,9900000001,1,0,9900000021,4,0,9900000071,1,0,null,null,0]
[9900011563,{"$f":"Data!$A235-9900010000","v":1563},{"$f":"IF(EXACT($B235,LOOKUP($B235,'INPUT '!$D$16:$D$116)),LOOKUP($B235,'INPUT '!$D$16:$D$116,'INPUT '!$E$16:$E$116),\"0\")","v":"0"},{"$f":"IF(EXACT($B235,LOOKUP($B235,'INPUT '!$D$16:$D$116)),LOOKUP($B235,'INPUT '!$D$16:$D$116,'INPUT '!$F$16:$F$116),\"0\")","v":"0"},"BOX OF PLYWOOD",null,null,9900001563,1,0,null,null,0,null,null,0,null,null,0,null,null,0,null,null,0]
[9900011564,{"$f":"Data!$A236-9900010000","v":1564},{"$f":"IF(EXACT($B236,LOOKUP($B236,'INPUT '!$D$16:$D$116)),LOOKUP($B236,'INPUT '!$D$16:$D$116,'INPUT '!$E$16:$E$116),\"0\")","v":"0"},{"$f":"IF(EXACT($B236,LOOKUP($B236,'INPUT '!$D$16:$D$116)),LOOKUP($B236,'INPUT '!$D$16:$D$116,'INPUT '!$F$16:$F$116),\"0\")","v":"0"},"BOX OF PLYWOOD",null,null,9900001564,1,0,null,null,0,null,null,0,null,null,0,null,null,0,null,null,0]
[9900011565,{"$f":"Data!$A237-9900010000","v":1565},{"$f":"IF(EXACT($B237,LOOKUP($B237,'INPUT '!$D$16:$D$116)),LOOKUP($B237,'INPUT '!$D$16:$D$116,'INPUT '!$E$16:$E$116),\"0\")","v":"0"},{"$f":"IF(EXACT($B237,LOOKUP($B237,'INPUT '!$D$16:$D$116)),LOOKUP($B237,'INPUT '!$D$16:$D$116,'INPUT '!$F$16:$F$116),\"0\")","v":"0"},"FIXING SPACER OF PLASTIC",null,null,9900001565,35,0,null,null,0,9900000002,1,0,9900000022,4,0,9900000072,1,0,null,null,0]
[9900011566,{"$f":"Data!$A238-9900010000","v":1566},{"$f":"IF(EXACT($B238,LOOKUP($B238,'INPUT '!$D$16:$D$116)),LOOKUP($B238,'INPUT '!$D$16:$D$116,'INPUT '!$E$16:$E$116),\"0\")","v":"0"},{"$f":"IF(EXACT($B238,LOOKUP($B238,'INPUT '!$D$16:$D$116)),LOOKUP($B238,'INPUT '!$D$16:$D$116,'INPUT '!$F$16:$F$116),\"0\")","v":"0"},"FIXING SPACER OF PLASTIC",null,null,9900001566,42,0,null,null,0,9900000001,1,0,9900000021,4,0,9900000071,1,0,null,null,0]
[9900011567,{"$f":"Data!$A239-9900010000","v":1567},{"$f":"IF(EXACT($B239,LOOKUP($B239,'INPUT '!$D$16:$D$116)),LOOKUP($B239,'INPUT '!$D$16:$D$116,'INPUT '!$E$16:$E$116),\"0\")","v":"0"},{"$f":"IF(EXACT($B239,LOOKUP($B239,'INPUT '!$D$16:$D$116)),LOOKUP($B239,'INPUT '!$D$16:$D$116,'INPUT '!$F$16:$F$116),\"0\")","v":"0"},"FIXING SPACER OF PLASTIC",null,null,9900001567,40,0,null,null,0,9900000002,1,0,9900000022,4,0,9900000072,1,0,null,null,0]
[9900011568,{"$f":"Data!$A240-9900010000","v":1568},{"$f":"IF(EXACT($B240,LOOKUP($B240,'INPUT '!$D$16:$D$116)),LOOKUP($B240,'INPUT '!$D$16:$D$116,'INPUT '!$E$16:$E$116),\"0\")","v":"0"},{"$f":"IF(EXACT($B240,LOOKUP($B240,'INPUT '!$D$16:$D$116)),LOOKUP($B240,'INPUT '!$D$16:$D$116,'INPUT '!$F$16:$F$116),\"0\")","v":"0"},"FIXING SPACER OF PLASTIC",null,null,9900001568,25,0,null,null,0,9900000001,1,0,9900000021,4,0,9900000071,1,0,9900001041,1,0]
[9900011569,{"$f":"Data!$A241-9900010000","v":1569},{"$f":"IF(EXACT($B241,LOOKUP($B241,'INPUT '!$D$16:$D$116)),LOOKUP($B241,'INPUT '!$D$16:$D$116,'INPUT '!$E$16:$E$116),\"0\")","v":"0"},{"$f":"IF(EXACT($B241,LOOKUP($B241,'INPUT '!$D$16:$D$116)),LOOKUP($B241,'INPUT '!$D$16:$D$116,'INPUT '!$F$16:$F$116),\"0\")","v":"0"},"FIXING SPACER OF PLASTIC",null,null,9900001569,17,0,null,null,0,9900000002,1,0,9900000022,4,0,9900000072,1,0,null,null,0]
[9900011570,{"$f":"Data!$A242-9900010000","v":1570},{"$f":"IF(EXACT($B242,LOOKUP($B242,'INPUT '!$D$16:$D$116)),LOOKUP($B242,'INPUT '!$D$16:$D$116,'INPUT '!$E$16:$E$116),\"0\")","v":"0"},{"$f":"IF(EXACT($B242,LOOKUP($B242,'INPUT '!$D$16:$D$116)),LOOKUP($B242,'INPUT '!$D$16:$D$116,'INPUT '!$F$16:$F$116),\"0\")","v":"0"},"BATTEN OF WOOD",null,null,9900001570,117,{"$f":"I242*C242","v":0},null,null,{"$f":"L242*C242","v":0},9900000001,1,{"$f":"O242*C242","v":0},9900000021,3,0,9900000071,1,{"$f":"U242*C242","v":0},null,null,{"$f":"X242*C242","v":0}]
[9900011571,{"$f":"Data!$A243-9900010000","v":1571},{"$f":"IF(EXACT($B243,LOOKUP($B243,'INPUT '!$D$16:$D$116)),LOOKUP($B243,'INPUT '!$D$16:$D$116,'INPUT '!$E$16:$E$116),\"0\")","v":"0"},{"$f":"IF(EXACT($B243,LOOKUP($B243,'INPUT '!$D$16:$D$116)),LOOKUP($B243,'INPUT '!$D$16:$D$116,'INPUT '!$F$16:$F$116),\"0\")","v":"0"},"BOX OF PLASTIC",null,null,9900001571,8,0,null,null,0,9900000001,1,0,9900000021,4,0,9900000071,1,0,null,null,0]
[9900011572,{"$f":"Data!$A244-9900010000","v":1572},{"$f":"IF(EXACT($B244,LOOKUP($B244,'INPUT '!$D$16:$D$116)),LOOKUP($B244,'INPUT '!$D$16:$D$116,'INPUT '!$E$16:$E$116),\"0\")","v":"0"},{"$f":"IF(EXACT($B244,LOOKUP($B244,'INPUT '!$D$16:$D$116)),LOOKUP($B244,'INPUT '!$D$16:$D$116,'INPUT '!$F$16:$F$116),\"0\")","v":"0"},"BOX OF PLASTIC",null,null,9900001572,8,0,null,null,0,9900000001,1,0,9900000021,4,0,9900000071,1,0,null,null,0]
[9900011573,{"$f":"Data!$A245-9900010000","v":1573},{"$f":"IF(EXACT($B245,LOOKUP($B245,'INPUT '!$D$16:$D$116)),LOOKUP($B245,'INPUT '!$D$16:$D$116,'INPUT '!$E$16:$E$116),\"0\")","v":"0"},{"$f":"IF(EXACT($B245,LOOKUP($B245,'INPUT '!$D$16:$D$116)),LOOKUP($B245,'INPUT '!$D$16:$D$116,'INPUT '!$F$16:$F$116),\"0\")","v":"0"},"BOX OF PLASTIC",null,null,9900001573,4,0,null,null,0,9900000001,1,0,9900000021,4,0,9900000071,2,0,null,null,0]
[9900011574,{"$f":"Data!$A246-9900010000","v":1574},{"$f":"IF(EXACT($B246,LOOKUP($B246,'INPUT '!$D$16:$D$116)),LOOKUP($B246,'INPUT '!$D$16:$D$116,'INPUT '!$E$16:$E$116),\"0\")","v":"0"},{"$f":"IF(EXACT($B246,LOOKUP($B246,'INPUT '!$D$16:$D$116)),LOOKUP($B246,'INPUT '!$D$16:$D$116,'INPUT '!$F$16:$F$116),\"0\")","v":"0"},"FIXING SPACER OF WOOD",null,null,9900001574,49,0,null,null,0,9900000001,1,0,9900000021,3,0,9900000071,1,0,null,null,0]
[9900011575,{"$f":"Data!$A247-9900010000","v":1575},{"$f":"IF(EXACT($B247,LOOKUP($B247,'INPUT '!$D$16:$D$116)),LOOKUP($B247,'INPUT '!$D$16:$D$116,'INPUT '!$E$16:$E$116),\"0\")","v":"0"},{"$f":"IF(EXACT($B247,LOOKUP($B247,'INPUT '!$D$16:$D$116)),LOOKUP($B247,'INPUT '!$D$16:$D$116,'INPUT '!$F$16:$F$116),\"0\")","v":"0"},"PALLET OF WOOD",null,null,9900001575,null,0,null,null,0,9900001575,5,0,null,null,0,null,null,0,null,null,0]
[9900011576,{"$f":"Data!$A248-9900010000","v":1576},{"$f":"IF(EXACT($B248,LOOKUP($B248,'INPUT '!$D$16:$D$116)),LOOKUP($B248,'INPUT '!$D$16:$D$116,'INPUT '!$E$16:$E$116),\"0\")","v":"0"},{"$f":"IF(EXACT($B248,LOOKUP($B248,'INPUT '!$D$16:$D$116)),LOOKUP($B248,'INPUT '!$D$16:$D$116,'INPUT '!$F$16:$F$116),\"0\")","v":"0"},"PALLET OF WOOD",null,null,9900001576,null,0,null,null,0,9900001576,7,0,null,null,0,null,null,0,null,null,0]
[9900011577,{"$f":"Data!$A249-9900010000","v":1577},{"$f":"IF(EXACT($B249,LOOKUP($B249,'INPUT '!$D$16:$D$116)),LOOKUP($B249,'INPUT '!$D$16:$D$116,'INPUT '!$E$16:$E$116),\"0\")","v":"0"},{"$f":"IF(EXACT($B249,LOOKUP($B249,'INPUT '!$D$16:$D$116)),LOOKUP($B249,'INPUT '!$D$16:$D$116,'INPUT '!$F$16:$F$116),\"0\")","v":"0"},"FIXING SPACER OF STEEL",null,null,9900001577,1,0,null,null,0,null,null,0,null,null,0,null,null,0,null,null,0]
[9900011578,{"$f":"Data!$A250-9900010000","v":1578},{"$f":"IF(EXACT($B250,LOOKUP($B250,'INPUT '!$D$16:$D$116)),LOOKUP($B250,'INPUT '!$D$16:$D$116,'INPUT '!$E$16:$E$116),\"0\")","v":"0"},{"$f":"IF(EXACT($B250,LOOKUP($B250,'INPUT '!$D$16:$D$116)),LOOKUP($B250,'INPUT '!$D$16:$D$116,'INPUT '!$F$16:$F$116),\"0\")","v":"0"},"RACK OF STEEL",null,null,9900001578,14,0,null,null,0,9900000001,1,0,null,null,0,null,null,0,null,null,0]
[9900011579,{"$f":"Data!$A251-9900010000","v":1579},{"$f":"IF(EXACT($B251,LOOKUP($B251,'INPUT '!$D$16:$D$116)),LOOKUP($B251,'INPUT '!$D$16:$D$116,'INPUT '!$E$16:$E$116),\"0\")","v":"0"},{"$f":"IF(EXACT($B251,LOOKUP($B251,'INPUT '!$D$16:$D$116)),LOOKUP($B251,'INPUT '!$D$16:$D$116,'INPUT '!$F$16:$F$116),\"0\")","v":"0"},"FIXING SPACER OF WOOD",null,null,9900001579,36,0,null,null,0,9900000001,1,0,9900000021,4,0,9900000071,1,0,null,null,0]
[9900011582,{"$f":"Data!$A252-9900010000","v":1582},{"$f":"IF(EXACT($B252,LOOKUP($B252,'INPUT '!$D$16:$D$116)),LOOKUP($B252,'INPUT '!$D$16:$D$116,'INPUT '!$E$16:$E$116),\"0\")","v":"0"},{"$f":"IF(EXACT($B252,LOOKUP($B252,'INPUT '!$D$16:$D$116)),LOOKUP($B252,'INPUT '!$D$16:$D$116,'INPUT '!$F$16:$F$116),\"0\")","v":"0"},"FIXING SPACER OF PLASTIC",null,null,9900001582,25,0,null,null,0,9900000001,1,0,9900000021,3,0,9900000071,1,0,null,null,0]
[9900011583,{"$f":"Data!$A253-9900010000","v":1583},{"$f":"IF(EXACT($B253,LOOKUP($B253,'INPUT '!$D$16:$D$116)),LOOKUP($B253,'INPUT '!$D$16:$D$116,'INPUT '!$E$16:$E$116),\"0\")","v":"0"},{"$f":"IF(EXACT($B253,LOOKUP($B253,'INPUT '!$D$16:$D$116)),LOOKUP($B253,'INPUT '!$D$16:$D$116,'INPUT '!$F$16:$F$116),\"0\")","v":"0"},"SPACER OF WOOD",null,null,9900001583,175,0,null,null,0,9900000001,1,0,9900000021,3,0,9900000071,1,0,null,null,0]
[9900011584,{"$f":"Data!$A254-9900010000","v":1584},{"$f":"IF(EXACT($B254,LOOKUP($B254,'INPUT '!$D$16:$D$116)),LOOKUP($B254,'INPUT '!$D$16:$D$116,'INPUT '!$E$16:$E$116),\"0\")","v":"0"},{"$f":"IF(EXACT($B254,LOOKUP($B254,'INPUT '!$D$16:$D$116)),LOOKUP($B254,'INPUT '!$D$16:$D$116,'INPUT '!$F$16:$F$116),\"0\")","v":"0"},"BATTEN OF WOOD",null,null,9900001584,240,{"$f":"I254*C254","v":0},null,null,{"$f":"L254*C254","v":0},9900000001,1,{"$f":"O254*C254","v":0},null,null,0,null,null,{"$f":"U254*C254","v":0},9900001041,1,{"$f":"X254*C254","v":0}]
[9900011585,{"$f":"Data!$A255-9900010000","v":1585},{"$f":"IF(EXACT($B255,LOOKUP($B255,'INPUT '!$D$16:$D$116)),LOOKUP($B255,'INPUT '!$D$16:$D$116,'INPUT '!$E$16:$E$116),\"0\")","v":"0"},{"$f":"IF(EXACT($B255,LOOKUP($B255,'INPUT '!$D$16:$D$116)),LOOKUP($B255,'INPUT '!$D$16:$D$116,'INPUT '!$F$16:$F$116),\"0\")","v":"0"},"RACK OF STEEL",null,null,9900001585,1,0,null,null,0,null,null,0,null,null,0,null,null,0,null,null,0]
[9900011587,{"$f":"Data!$A256-9900010000","v":1587},{"$f":"IF(EXACT($B256,LOOKUP($B256,'INPUT '!$D$16:$D$116)),LOOKUP($B256,'INPUT '!$D$16:$D$116,'INPUT '!$E$16:$E$116),\"0\")","v":"0"},{"$f":"IF(EXACT($B256,LOOKUP($B256,'INPUT '!$D$16:$D$116)),LOOKUP($B256,'INPUT '!$D$16:$D$116,'INPUT '!$F$16:$F$116),\"0\")","v":"0"},"PALLET OF PLASTIC",null,null,9900001587,null,0,null,null,0,9900001587,1,0,null,null,0,null,null,0,null,null,0]
[9900011588,{"$f":"Data!$A257-9900010000","v":1588},{"$f":"IF(EXACT($B257,LOOKUP($B257,'INPUT '!$D$16:$D$116)),LOOKUP($B257,'INPUT '!$D$16:$D$116,'INPUT '!$E$16:$E$116),\"0\")","v":"0"},{"$f":"IF(EXACT($B257,LOOKUP($B257,'INPUT '!$D$16:$D$116)),LOOKUP($B257,'INPUT '!$D$16:$D$116,'INPUT '!$F$16:$F$116),\"0\")","v":"0"},"FIXING SPACER OF PLASTIC",null,null,9900001588,null,0,null,null,0,9900001587,1,0,9900001588,6,0,null,null,0,null,null,0]
[9900011599,{"$f":"Data!$A258-9900010000","v":1599},{"$f":"IF(EXACT($B258,LOOKUP($B258,'INPUT '!$D$16:$D$116)),LOOKUP($B258,'INPUT '!$D$16:$D$116,'INPUT '!$E$16:$E$116),\"0\")","v":"0"},{"$f":"IF(EXACT($B258,LOOKUP($B258,'INPUT '!$D$16:$D$116)),LOOKUP($B258,'INPUT '!$D$16:$D$116,'INPUT '!$F$16:$F$116),\"0\")","v":"0"},"FIXING SPACER OF PLASTIC",null,null,9900001599,20,{"$f":"I258*C258","v":0},null,null,{"$f":"L258*C258","v":0},9900000001,1,{"$f":"O258*C258","v":0},9900000021,3,{"$f":"R258*C258","v":0},9900000071,1,{"$f":"U258*C258","v":0},null,null,{"$f":"X258*C258","v":0}]
[9900011600,{"$f":"Data!$A259-9900010000","v":1600},{"$f":"IF(EXACT($B259,LOOKUP($B259,'INPUT '!$D$16:$D$116)),LOOKUP($B259,'INPUT '!$D$16:$D$116,'INPUT '!$E$16:$E$116),\"0\")","v":"0"},{"$f":"IF(EXACT($B259,LOOKUP($B259,'INPUT '!$D$16:$D$116)),LOOKUP($B259,'INPUT '!$D$16:$D$116,'INPUT '!$F$16:$F$116),\"0\")","v":"0"},"FIXING SPACER OF PLASTIC",null,null,9900001600,16,0,null,null,0,9900000001,1,0,9900000021,4,0,9900000071,1,0,null,null,0]
[9900011601,{"$f":"Data!$A260-9900010000","v":1601},{"$f":"IF(EXACT($B260,LOOKUP($B260,'INPUT '!$D$16:$D$116)),LOOKUP($B260,'INPUT '!$D$16:$D$116,'INPUT '!$E$16:$E$116),\"0\")","v":"0"},{"$f":"IF(EXACT($B260,LOOKUP($B260,'INPUT '!$D$16:$D$116)),LOOKUP($B260,'INPUT '!$D$16:$D$116,'INPUT '!$F$16:$F$116),\"0\")","v":"0"},"PALLET BOX OF WOOD",null,null,9900001601,1,{"$f":"I260*C260","v":0},null,null,{"$f":"L260*C260","v":0},null,null,{"$f":"O260*C260","v":0},null,null,0,null,null,{"$f":"U260*C260","v":0},null,null,{"$f":"X260*C260","v":0}]
[9900011603,{"$f":"Data!$A261-9900010000","v":1603},{"$f":"IF(EXACT($B261,LOOKUP($B261,'INPUT '!$D$16:$D$116)),LOOKUP($B261,'INPUT '!$D$16:$D$116,'INPUT '!$E$16:$E$116),\"0\")","v":"0"},{"$f":"IF(EXACT($B261,LOOKUP($B261,'INPUT '!$D$16:$D$116)),LOOKUP($B261,'INPUT '!$D$16:$D$116,'INPUT '!$F$16:$F$116),\"0\")","v":"0"},"FIXING SPACER OF PLASTIC",null,null,9900021603,3,0,9900000061,1,0,9900000001,1,0,9900000021,2,0,9900000071,1,0,null,null,0]
[9900011604,{"$f":"Data!$A262-9900010000","v":1604},{"$f":"IF(EXACT($B262,LOOKUP($B262,'INPUT '!$D$16:$D$116)),LOOKUP($B262,'INPUT '!$D$16:$D$116,'INPUT '!$E$16:$E$116),\"0\")","v":"0"},{"$f":"IF(EXACT($B262,LOOKUP($B262,'INPUT '!$D$16:$D$116)),LOOKUP($B262,'INPUT '!$D$16:$D$116,'INPUT '!$F$16:$F$116),\"0\")","v":"0"},"FIXING SPACER OF PLASTIC",null,null,9900021604,3,0,9900000061,1,0,9900000001,1,0,9900000021,2,0,9900000071,1,0,null,null,0]
[9900011605,{"$f":"Data!$A263-9900010000","v":1605},{"$f":"IF(EXACT($B263,LOOKUP($B263,'INPUT '!$D$16:$D$116)),LOOKUP($B263,'INPUT '!$D$16:$D$116,'INPUT '!$E$16:$E$116),\"0\")","v":"0"},{"$f":"IF(EXACT($B263,LOOKUP($B263,'INPUT '!$D$16:$D$116)),LOOKUP($B263,'INPUT '!$D$16:$D$116,'INPUT '!$F$16:$F$116),\"0\")","v":"0"},"FIXING SPACER OF PLASTIC",null,null,9900001605,54,0,null,null,0,9900000005,1,0,9900000025,3,0,9900000075,1,0,null,null,0]
[9900011606,{"$f":"Data!$A264-9900010000","v":1606},{"$f":"IF(EXACT($B264,LOOKUP($B264,'INPUT '!$D$16:$D$116)),LOOKUP($B264,'INPUT '!$D$16:$D$116,'INPUT '!$E$16:$E$116),\"0\")","v":"0"},{"$f":"IF(EXACT($B264,LOOKUP($B264,'INPUT '!$D$16:$D$116)),LOOKUP($B264,'INPUT '!$D$16:$D$116,'INPUT '!$F$16:$F$116),\"0\")","v":"0"},"PALLET BOX OF WOOD",null,null,9900001606,1,{"$f":"I264*C264","v":0},null,null,{"$f":"L264*C264","v":0},null,null,{"$f":"O264*C264","v":0},null,null,0,null,null,{"$f":"U264*C264","v":0},null,null,{"$f":"X264*C264","v":0}]
[9900011607,{"$f":"Data!$A265-9900010000","v":1607},{"$f":"IF(EXACT($B265,LOOKUP($B265,'INPUT '!$D$16:$D$116)),LOOKUP($B265,'INPUT '!$D$16:$D$116,'INPUT '!$E$16:$E$116),\"0\")","v":"0"},{"$f":"IF(EXACT($B265,LOOKUP($B265,'INPUT '!$D$16:$D$116)),LOOKUP($B265,'INPUT '!$D$16:$D$116,'INPUT '!$F$16:$F$116),\"0\")","v":"0"},"PALLET BOX OF WOOD",null,null,9900001607,1,{"$f":"I265*C265","v":0},null,null,{"$f":"L265*C265","v":0},null,null,{"$f":"O265*C265","v":0},null,null,0,null,null,{"$f":"U265*C265","v":0},null,null,{"$f":"X265*C265","v":0}]
[9900011608,{"$f":"Data!$A266-9900010000","v":1608},{"$f":"IF(EXACT($B266,LOOKUP($B266,'INPUT '!$D$16:$D$116)),LOOKUP($B266,'INPUT '!$D$16:$D$116,'INPUT '!$E$16:$E$116),\"0\")","v":"0"},{"$f":"IF(EXACT($B266,LOOKUP($B266,'INPUT '!$D$16:$D$116)),LOOKUP($B266,'INPUT '!$D$16:$D$116,'INPUT '!$F$16:$F$116),\"0\")","v":"0"},"PALLET OF STEEL",null,null,9900001608,1,0,null,null,0,null,null,0,null,null,0,null,null,0,null,null,{"$f":"X266*C266","v":0}]
[9900011609,{"$f":"Data!$A267-9900010000","v":1609},{"$f":"IF(EXACT($B267,LOOKUP($B267,'INPUT '!$D$16:$D$116)),LOOKUP($B267,'INPUT '!$D$16:$D$116,'INPUT '!$E$16:$E$116),\"0\")","v":"0"},{"$f":"IF(EXACT($B267,LOOKUP($B267,'INPUT '!$D$16:$D$116)),LOOKUP($B267,'INPUT '!$D$16:$D$116,'INPUT '!$F$16:$F$116),\"0\")","v":"0"},"PALLET BOX OF WOOD",null,null,9900001609,1,0,null,null,0,null,null,0,null,null,0,null,null,0,null,null,{"$f":"X267*C267","v":0}]
[9900011610,{"$f":"Data!$A268-9900010000","v":1610},{"$f":"IF(EXACT($B268,LOOKUP($B268,'INPUT '!$D$16:$D$116)),LOOKUP($B268,'INPUT '!$D$16:$D$116,'INPUT '!$E$16:$E$116),\"0\")","v":"0"},{"$f":"IF(EXACT($B268,LOOKUP($B268,'INPUT '!$D$16:$D$116)),LOOKUP($B268,'INPUT '!$D$16:$D$116,'INPUT '!$F$16:$F$116),\"0\")","v":"0"},"RACK OF STEEL",null,null,9900001610,1,0,null,null,0,null,null,0,null,null,0,null,null,0,null,null,0]
[9900011613,{"$f":"Data!$A269-9900010000","v":1613},{"$f":"IF(EXACT($B269,LOOKUP($B269,'INPUT '!$D$16:$D$116)),LOOKUP($B269,'INPUT '!$D$16:$D$116,'INPUT '!$E$16:$E$116),\"0\")","v":"0"},{"$f":"IF(EXACT($B269,LOOKUP($B269,'INPUT '!$D$16:$D$116)),LOOKUP($B269,'INPUT '!$D$16:$D$116,'INPUT '!$F$16:$F$116),\"0\")","v":"0"},"RACK OF STEEL",null,null,9900001613,1,0,null,null,0,null,null,0,null,null,0,null,null,0,null,null,0]
[9900011615,{"$f":"Data!$A270-9900010000","v":1615},{"$f":"IF(EXACT($B270,LOOKUP($B270,'INPUT '!$D$16:$D$116)),LOOKUP($B270,'INPUT '!$D$16:$D$116,'INPUT '!$E$16:$E$116),\"0\")","v":"0"},{"$f":"IF(EXACT($B270,LOOKUP($B270,'INPUT '!$D$16:$D$116)),LOOKUP($B270,'INPUT '!$D$16:$D$116,'INPUT '!$F$16:$F$116),\"0\")","v":"0"},"RACK OF STEEL",null,null,9900001615,1,0,null,null,0,null,null,0,null,null,0,null,null,0,null,null,{"$f":"X270*C270","v":0}]
[9900011620,{"$f":"Data!$A271-9900010000","v":1620},{"$f":"IF(EXACT($B271,LOOKUP($B271,'INPUT '!$D$16:$D$116)),LOOKUP($B271,'INPUT '!$D$16:$D$116,'INPUT '!$E$16:$E$116),\"0\")","v":"0"},{"$f":"IF(EXACT($B271,LOOKUP($B271,'INPUT '!$D$16:$D$116)),LOOKUP($B271,'INPUT '!$D$16:$D$116,'INPUT '!$F$16:$F$116),\"0\")","v":"0"},"RACK OF STEEL",null,null,9900001620,1,0,null,null,0,null,null,0,null,null,0,null,null,0,null,null,0]
[9900011621,{"$f":"Data!$A272-9900010000","v":1621},{"$f":"IF(EXACT($B272,LOOKUP($B272,'INPUT '!$D$16:$D$116)),LOOKUP($B272,'INPUT '!$D$16:$D$116,'INPUT '!$E$16:$E$116),\"0\")","v":"0"},{"$f":"IF(EXACT($B272,LOOKUP($B272,'INPUT '!$D$16:$D$116)),LOOKUP($B272,'INPUT '!$D$16:$D$116,'INPUT '!$F$16:$F$116),\"0\")","v":"0"},"RACK OF STEEL",null,null,9900001621,1,0,null,null,0,null,null,0,null,null,0,null,null,0,null,null,0]
[9900011627,{"$f":"Data!$A273-9900010000","v":1627},{"$f":"IF(EXACT($B273,LOOKUP($B273,'INPUT '!$D$16:$D$116)),LOOKUP($B273,'INPUT '!$D$16:$D$116,'INPUT '!$E$16:$E$116),\"0\")","v":"0"},{"$f":"IF(EXACT($B273,LOOKUP($B273,'INPUT '!$D$16:$D$116)),LOOKUP($B273,'INPUT '!$D$16:$D$116,'INPUT '!$F$16:$F$116),\"0\")","v":"0"},"FIXING SPACER OF PLASTIC",null,null,9900001627,69,0,null,null,0,9900000001,1,{"$f":"O273*C273","v":0},9900000021,4,0,9900000071,1,0,null,null,{"$f":"X273*C273","v":0}]
[9900011630,{"$f":"Data!$A274-9900010000","v":1630},{"$f":"IF(EXACT($B274,LOOKUP($B274,'INPUT '!$D$16:$D$116)),LOOKUP($B274,'INPUT '!$D$16:$D$116,'INPUT '!$E$16:$E$116),\"0\")","v":"0"},{"$f":"IF(EXACT($B274,LOOKUP($B274,'INPUT '!$D$16:$D$116)),LOOKUP($B274,'INPUT '!$D$16:$D$116,'INPUT '!$F$16:$F$116),\"0\")","v":"0"},"RACK OF STEEL",null,null,9900001630,1,0,null,null,0,null,null,{"$f":"O274*C274","v":0},null,null,0,null,null,0,null,null,0]
[9900011632,{"$f":"Data!$A275-9900010000","v":1632},{"$f":"IF(EXACT($B275,LOOKUP($B275,'INPUT '!$D$16:$D$116)),LOOKUP($B275,'INPUT '!$D$16:$D$116,'INPUT '!$E$16:$E$116),\"0\")","v":"0"},{"$f":"IF(EXACT($B275,LOOKUP($B275,'INPUT '!$D$16:$D$116)),LOOKUP($B275,'INPUT '!$D$16:$D$116,'INPUT '!$F$16:$F$116),\"0\")","v":"0"},"SPACER OF PLASTIC/FOAM",null,null,9900001632,260,0,null,null,0,9900000001,1,0,9900000021,4,0,9900000071,1,0,9900001041,1,0]
[9900011638,{"$f":"Data!$A276-9900010000","v":1638},{"$f":"IF(EXACT($B276,LOOKUP($B276,'INPUT '!$D$16:$D$116)),LOOKUP($B276,'INPUT '!$D$16:$D$116,'INPUT '!$E$16:$E$116),\"0\")","v":"0"},{"$f":"IF(EXACT($B276,LOOKUP($B276,'INPUT '!$D$16:$D$116)),LOOKUP($B276,'INPUT '!$D$16:$D$116,'INPUT '!$F$16:$F$116),\"0\")","v":"0"},"FIXING SPACER OF PLASTIC",null,null,9900001638,75,0,null,null,0,9900000001,1,0,9900000021,4,0,9900000071,1,0,null,null,0]
[9900011639,{"$f":"Data!$A277-9900010000","v":1639},{"$f":"IF(EXACT($B277,LOOKUP($B277,'INPUT '!$D$16:$D$116)),LOOKUP($B277,'INPUT '!$D$16:$D$116,'INPUT '!$E$16:$E$116),\"0\")","v":"0"},{"$f":"IF(EXACT($B277,LOOKUP($B277,'INPUT '!$D$16:$D$116)),LOOKUP($B277,'INPUT '!$D$16:$D$116,'INPUT '!$F$16:$F$116),\"0\")","v":"0"},"FIXING SPACER OF PLASTIC",null,null,9900001639,75,0,null,null,0,9900000001,1,0,9900000021,4,0,9900000071,1,0,null,null,0]
[9900011640,{"$f":"Data!$A278-9900010000","v":1640},{"$f":"IF(EXACT($B278,LOOKUP($B278,'INPUT '!$D$16:$D$116)),LOOKUP($B278,'INPUT '!$D$16:$D$116,'INPUT '!$E$16:$E$116),\"0\")","v":"0"},{"$f":"IF(EXACT($B278,LOOKUP($B278,'INPUT '!$D$16:$D$116)),LOOKUP($B278,'INPUT '!$D$16:$D$116,'INPUT '!$F$16:$F$116),\"0\")","v":"0"},"FIXING SPACER OF PLASTIC",null,null,9900001640,14,0,null,null,0,9900000001,1,0,9900000021,5,0,9900000071,1,0,null,null,0]
[9900011642,{"$f":"Data!$A279-9900010000","v":1642},{"$f":"IF(EXACT($B279,LOOKUP($B279,'INPUT '!$D$16:$D$116)),LOOKUP($B279,'INPUT '!$D$16:$D$116,'INPUT '!$E$16:$E$116),\"0\")","v":"0"},{"$f":"IF(EXACT($B279,LOOKUP($B279,'INPUT '!$D$16:$D$116)),LOOKUP($B279,'INPUT '!$D$16:$D$116,'INPUT '!$F$16:$F$116),\"0\")","v":"0"},"SPACER OF PLASTIC/FOAM",null,null,9900001642,130,0,null,null,0,9900000001,1,0,9900000021,4,0,9900000071,1,0,9900001041,1,0]
[9900011644,{"$f":"Data!$A280-9900010000","v":1644},{"$f":"IF(EXACT($B280,LOOKUP($B280,'INPUT '!$D$16:$D$116)),LOOKUP($B280,'INPUT '!$D$16:$D$116,'INPUT '!$E$16:$E$116),\"0\")","v":"0"},{"$f":"IF(EXACT($B280,LOOKUP($B280,'INPUT '!$D$16:$D$116)),LOOKUP($B280,'INPUT '!$D$16:$D$116,'INPUT '!$F$16:$F$116),\"0\")","v":"0"},"BATTEN OF WOOD",null,null,9900001644,125,0,null,null,0,9900000001,1,0,9900000021,4,0,9900000071,1,0,null,null,0]
[9900011645,{"$f":"Data!$A281-9900010000","v":1645},{"$f":"IF(EXACT($B281,LOOKUP($B281,'INPUT '!$D$16:$D$116)),LOOKUP($B281,'INPUT '!$D$16:$D$116,'INPUT '!$E$16:$E$116),\"0\")","v":"0"},{"$f":"IF(EXACT($B281,LOOKUP($B281,'INPUT '!$D$16:$D$116)),LOOKUP($B281,'INPUT '!$D$16:$D$116,'INPUT '!$F$16:$F$116),\"0\")","v":"0"},"BATTEN OF WOOD",null,null,9900001645,60,0,null,null,0,9900000001,1,0,9900000021,4,0,9900000071,1,0,null,null,0]
[9900011646,{"$f":"Data!$A282-9900010000","v":1646},{"$f":"IF(EXACT($B282,LOOKUP($B282,'INPUT '!$D$16:$D$116)),LOOKUP($B282,'INPUT '!$D$16:$D$116,'INPUT '!$E$16:$E$116),\"0\")","v":"0"},{"$f":"IF(EXACT($B282,LOOKUP($B282,'INPUT '!$D$16:$D$116)),LOOKUP($B282,'INPUT '!$D$16:$D$116,'INPUT '!$F$16:$F$116),\"0\")","v":"0"},"BATTEN OF WOOD",null,null,9900001646,90,0,null,null,0,9900000001,1,0,9900000021,4,0,9900000071,1,0,null,null,0]
[9900011652,{"$f":"Data!$A283-9900010000","v":1652},{"$f":"IF(EXACT($B283,LOOKUP($B283,'INPUT '!$D$16:$D$116)),LOOKUP($B283,'INPUT '!$D$16:$D$116,'INPUT '!$E$16:$E$116),\"0\")","v":"0"},{"$f":"IF(EXACT($B283,LOOKUP($B283,'INPUT '!$D$16:$D$116)),LOOKUP($B283,'INPUT '!$D$16:$D$116,'INPUT '!$F$16:$F$116),\"0\")","v":"0"},"FIXING SPACER OF PLASTIC",null,null,9900001652,26,0,null,null,0,9900000002,1,0,9900000022,3,0,9900000072,1,0,null,null,0]
[9900011654,{"$f":"Data!$A284-9900010000","v":1654},{"$f":"IF(EXACT($B284,LOOKUP($B284,'INPUT '!$D$16:$D$116)),LOOKUP($B284,'INPUT '!$D$16:$D$116,'INPUT '!$E$16:$E$116),\"0\")","v":"0"},{"$f":"IF(EXACT($B284,LOOKUP($B284,'INPUT '!$D$16:$D$116)),LOOKUP($B284,'INPUT '!$D$16:$D$116,'INPUT '!$F$16:$F$116),\"0\")","v":"0"},"BATTEN OF WOOD",null,null,9900001654,124,0,null,null,0,9900000001,1,0,9900000021,5,0,9900000071,1,0,null,null,0]
[9900011698,{"$f":"Data!$A285-9900010000","v":1698},{"$f":"IF(EXACT($B285,LOOKUP($B285,'INPUT '!$D$16:$D$116)),LOOKUP($B285,'INPUT '!$D$16:$D$116,'INPUT '!$E$16:$E$116),\"0\")","v":"0"},{"$f":"IF(EXACT($B285,LOOKUP($B285,'INPUT '!$D$16:$D$116)),LOOKUP($B285,'INPUT '!$D$16:$D$116,'INPUT '!$F$16:$F$116),\"0\")","v":"0"},"INSERT OF FOAM",null,null,9900001698,128,{"$f":"I285*C285","v":0},9900000061,1,{"$f":"L285*C285","v":0},9900000001,1,{"$f":"O285*C285","v":0},9900000021,3,{"$f":"R285*C285","v":0},9900000071,1,{"$f":"U285*C285","v":0},null,null,{"$f":"X285*C285","v":0}]
[9900011705,{"$f":"Data!$A286-9900010000","v":1705},{"$f":"IF(EXACT($B286,LOOKUP($B286,'INPUT '!$D$16:$D$116)),LOOKUP($B286,'INPUT '!$D$16:$D$116,'INPUT '!$E$16:$E$116),\"0\")","v":"0"},{"$f":"IF(EXACT($B286,LOOKUP($B286,'INPUT '!$D$16:$D$116)),LOOKUP($B286,'INPUT '!$D$16:$D$116,'INPUT '!$F$16:$F$116),\"0\")","v":"0"},"SUPPORT OF STEEL",null,null,9900001705,50,0,null,null,{"$f":"L286*C286","v":0},9900000001,1,0,9900000021,2,{"$f":"R286*C286","v":0},9900000071,1,0,null,null,0]
[9900011715,{"$f":"Data!$A287-9900010000","v":1715},{"$f":"IF(EXACT($B287,LOOKUP($B287,'INPUT '!$D$16:$D$116)),LOOKUP($B287,'INPUT '!$D$16:$D$116,'INPUT '!$E$16:$E$116),\"0\")","v":"0"},{"$f":"IF(EXACT($B287,LOOKUP($B287,'INPUT '!$D$16:$D$116)),LOOKUP($B287,'INPUT '!$D$16:$D$116,'INPUT '!$F$16:$F$116),\"0\")","v":"0"},"SUPPORT OF STEEL",null,null,9900001715,60,0,9900000062,1,0,9900000002,1,{"$f":"O287*C287","v":0},9900000022,2,{"$f":"R287*C287","v":0},9900000072,1,{"$f":"U287*C287","v":0},null,null,0]
[9900011716,{"$f":"Data!$A288-9900010000","v":1716},{"$f":"IF(EXACT($B288,LOOKUP($B288,'INPUT '!$D$16:$D$116)),LOOKUP($B288,'INPUT '!$D$16:$D$116,'INPUT '!$E$16:$E$116),\"0\")","v":"0"},{"$f":"IF(EXACT($B288,LOOKUP($B288,'INPUT '!$D$16:$D$116)),LOOKUP($B288,'INPUT '!$D$16:$D$116,'INPUT '!$F$16:$F$116),\"0\")","v":"0"},"SUPPORT OF STEEL",null,null,9900001716,192,0,9900000062,1,0,9900000002,1,{"$f":"O288*C288","v":0},9900000022,2,{"$f":"R288*C288","v":0},9900000072,1,{"$f":"U288*C288","v":0},null,null,0]
[9900011717,{"$f":"Data!$A289-9900010000","v":1717},{"$f":"IF(EXACT($B289,LOOKUP($B289,'INPUT '!$D$16:$D$116)),LOOKUP($B289,'INPUT '!$D$16:$D$116,'INPUT '!$E$16:$E$116),\"0\")","v":"0"},{"$f":"IF(EXACT($B289,LOOKUP($B289,'INPUT '!$D$16:$D$116)),LOOKUP($B289,'INPUT '!$D$16:$D$116,'INPUT '!$F$16:$F$116),\"0\")","v":"0"},"SUPPORT OF STEEL",null,null,9900001717,24,0,9900000062,1,0,9900000002,1,0,9900000022,1,0,9900000072,1,0,null,null,0]
[9900011718,{"$f":"Data!$A290-9900010000","v":1718},{"$f":"IF(EXACT($B290,LOOKUP($B290,'INPUT '!$D$16:$D$116)),LOOKUP($B290,'INPUT '!$D$16:$D$116,'INPUT '!$E$16:$E$116),\"0\")","v":"0"},{"$f":"IF(EXACT($B290,LOOKUP($B290,'INPUT '!$D$16:$D$116)),LOOKUP($B290,'INPUT '!$D$16:$D$116,'INPUT '!$F$16:$F$116),\"0\")","v":"0"},"SUPPORT OF STEEL",null,null,9900001718,24,0,9900000062,1,0,9900000002,1,{"$f":"O290*C290","v":0},9900000022,1,{"$f":"R290*C290","v":0},9900000072,1,{"$f":"U290*C290","v":0},null,null,0]
[9900011719,{"$f":"Data!$A291-9900010000","v":1719},{"$f":"IF(EXACT($B291,LOOKUP($B291,'INPUT '!$D$16:$D$116)),LOOKUP($B291,'INPUT '!$D$16:$D$116,'INPUT '!$E$16:$E$116),\"0\")","v":"0"},{"$f":"IF(EXACT($B291,LOOKUP($B291,'INPUT '!$D$16:$D$116)),LOOKUP($B291,'INPUT '!$D$16:$D$116,'INPUT '!$F$16:$F$116),\"0\")","v":"0"},"SUPPORT OF STEEL",null,null,9900001719,64,0,9900000062,1,0,9900000002,1,0,9900000022,2,0,9900000072,1,0,null,null,0]
[9900011722,{"$f":"Data!$A292-9900010000","v":1722},{"$f":"IF(EXACT($B292,LOOKUP($B292,'INPUT '!$D$16:$D$116)),LOOKUP($B292,'INPUT '!$D$16:$D$116,'INPUT '!$E$16:$E$116),\"0\")","v":"0"},{"$f":"IF(EXACT($B292,LOOKUP($B292,'INPUT '!$D$16:$D$116)),LOOKUP($B292,'INPUT '!$D$16:$D$116,'INPUT '!$F$16:$F$116),\"0\")","v":"0"},"SUPPORT OF STEEL",null,null,9900001722,24,0,9900000062,1,0,9900000002,1,{"$f":"O292*C292","v":0},9900000022,1,{"$f":"R292*C292","v":0},9900000072,1,{"$f":"U292*C292","v":0},null,null,0]
[9900011723,{"$f":"Data!$A293-9900010000","v":1723},{"$f":"IF(EXACT($B293,LOOKUP($B293,'INPUT '!$D$16:$D$116)),LOOKUP($B293,'INPUT '!$D$16:$D$116,'INPUT '!$E$16:$E$116),\"0\")","v":"0"},{"$f":"IF(EXACT($B293,LOOKUP($B293,'INPUT '!$D$16:$D$116)),LOOKUP($B293,'INPUT '!$D$16:$D$116,'INPUT '!$F$16:$F$116),\"0\")","v":"0"},"SUPPORT OF STEEL",null,null,9900001723,24,0,9900000062,1,0,9900000002,1,{"$f":"O293*C293","v":0},9900000022,1,{"$f":"R293*C293","v":0},9900000072,1,{"$f":"U293*C293","v":0},null,null,0]
[9900011800,{"$f":"Data!$A294-9900010000","v":1800},{"$f":"IF(EXACT($B294,LOOKUP($B294,'INPUT '!$D$16:$D$116)),LOOKUP($B294,'INPUT '!$D$16:$D$116,'INPUT '!$E$16:$E$116),\"0\")","v":"0"},{"$f":"IF(EXACT($B294,LOOKUP($B294,'INPUT '!$D$16:$D$116)),LOOKUP($B294,'INPUT '!$D$16:$D$116,'INPUT '!$F$16:$F$116),\"0\")","v":"0"},"RACK OF STEEL",null,null,9900001800,1,0,null,null,0,null,null,0,null,null,0,null,null,0,null,null,0]
[9900011805,{"$f":"Data!$A295-9900010000","v":1805},{"$f":"IF(EXACT($B295,LOOKUP($B295,'INPUT '!$D$16:$D$116)),LOOKUP($B295,'INPUT '!$D$16:$D$116,'INPUT '!$E$16:$E$116),\"0\")","v":"0"},{"$f":"IF(EXACT($B295,LOOKUP($B295,'INPUT '!$D$16:$D$116)),LOOKUP($B295,'INPUT '!$D$16:$D$116,'INPUT '!$F$16:$F$116),\"0\")","v":"0"},"FIXING SPACER OF PLASTIC",null,null,9900001805,8,{"$f":"I295*C295","v":0},null,null,{"$f":"L295*C295","v":0},9900000001,1,0,9900000021,2,0,9900000071,1,0,null,null,{"$f":"X295*C295","v":0}]
[9900011807,{"$f":"Data!$A296-9900010000","v":1807},{"$f":"IF(EXACT($B296,LOOKUP($B296,'INPUT '!$D$16:$D$116)),LOOKUP($B296,'INPUT '!$D$16:$D$116,'INPUT '!$E$16:$E$116),\"0\")","v":"0"},{"$f":"IF(EXACT($B296,LOOKUP($B296,'INPUT '!$D$16:$D$116)),LOOKUP($B296,'INPUT '!$D$16:$D$116,'INPUT '!$F$16:$F$116),\"0\")","v":"0"},"FIXING SPACER OF PLASTIC",null,null,9900001807,1,{"$f":"I296*C296","v":0},null,null,{"$f":"L296*C296","v":0},null,null,{"$f":"O296*C296","v":0},null,null,{"$f":"R296*C296","v":0},null,null,{"$f":"U296*C296","v":0},null,null,{"$f":"X296*C296","v":0}]
[9900011818,{"$f":"Data!$A297-9900010000","v":1818},{"$f":"IF(EXACT($B297,LOOKUP($B297,'INPUT '!$D$16:$D$116)),LOOKUP($B297,'INPUT '!$D$16:$D$116,'INPUT '!$E$16:$E$116),\"0\")","v":"0"},{"$f":"IF(EXACT($B297,LOOKUP($B297,'INPUT '!$D$16:$D$116)),LOOKUP($B297,'INPUT '!$D$16:$D$116,'INPUT '!$F$16:$F$116),\"0\")","v":"0"},"KIT -FRONT PANEL",null,null,9900021818,2,{"$f":"I297*C297","v":0},null,null,{"$f":"L297*C297","v":0},9900000006,1,{"$f":"O297*C297","v":0},9900000026,4,0,9900000076,1,{"$f":"U297*C297","v":0},null,null,{"$f":"X297*C297","v":0}]
[9900011877,{"$f":"Data!$A298-9900010000","v":1877},{"$f":"IF(EXACT($B298,LOOKUP($B298,'INPUT '!$D$16:$D$116)),LOOKUP($B298,'INPUT '!$D$16:$D$116,'INPUT '!$E$16:$E$116),\"0\")","v":"0"},{"$f":"IF(EXACT($B298,LOOKUP($B298,'INPUT '!$D$16:$D$116)),LOOKUP($B298,'INPUT '!$D$16:$D$116,'INPUT '!$F$16:$F$116),\"0\")","v":"0"},"RACK OF STEEL",null,null,9900001877,1,{"$f":"I298*C298","v":0},null,null,{"$f":"L298*C298","v":0},null,null,{"$f":"O298*C298","v":0},null,null,0,null,null,{"$f":"U298*C298","v":0},null,null,{"$f":"X298*C298","v":0}]
[9900011879,{"$f":"Data!$A299-9900010000","v":1879},{"$f":"IF(EXACT($B299,LOOKUP($B299,'INPUT '!$D$16:$D$116)),LOOKUP($B299,'INPUT '!$D$16:$D$116,'INPUT '!$E$16:$E$116),\"0\")","v":"0"},{"$f":"IF(EXACT($B299,LOOKUP($B299,'INPUT '!$D$16:$D$116)),LOOKUP($B299,'INPUT '!$D$16:$D$116,'INPUT '!$F$16:$F$116),\"0\")","v":"0"},"POCKET FIXTURE",null,null,9900001879,1,{"$f":"I299*C299","v":0},null,null,{"$f":"L299*C299","v":0},9900000001,1,{"$f":"O299*C299","v":0},9900000021,4,0,9900000071,1,{"$f":"U299*C299","v":0},null,null,{"$f":"X299*C299","v":0}]
[9900011881,{"$f":"Data!$A300-9900010000","v":1881},{"$f":"IF(EXACT($B300,LOOKUP($B300,'INPUT '!$D$16:$D$116)),LOOKUP($B300,'INPUT '!$D$16:$D$116,'INPUT '!$E$16:$E$116),\"0\")","v":"0"},{"$f":"IF(EXACT($B300,LOOKUP($B300,'INPUT '!$D$16:$D$116)),LOOKUP($B300,'INPUT '!$D$16:$D$116,'INPUT '!$F$16:$F$116),\"0\")","v":"0"},"LID OF PLYWWOD, HIGH",null,null,9900001881,8,0,null,null,0,9900000001,1,0,null,null,0,9900000071,1,0,null,null,0]
[9900011882,{"$f":"Data!$A301-9900010000","v":1882},{"$f":"IF(EXACT($B301,LOOKUP($B301,'INPUT '!$D$16:$D$116)),LOOKUP($B301,'INPUT '!$D$16:$D$116,'INPUT '!$E$16:$E$116),\"0\")","v":"0"},{"$f":"IF(EXACT($B301,LOOKUP($B301,'INPUT '!$D$16:$D$116)),LOOKUP($B301,'INPUT '!$D$16:$D$116,'INPUT '!$F$16:$F$116),\"0\")","v":"0"},"FIXING SPACER OF PLASTIC",null,null,9900001882,9,{"$f":"I301*C301","v":0},null,null,{"$f":"L301*C301","v":0},9900000001,1,0,9900000021,4,0,9900000091,1,0,null,null,0]
[9900011883,{"$f":"Data!$A302-9900010000","v":1883},{"$f":"IF(EXACT($B302,LOOKUP($B302,'INPUT '!$D$16:$D$116)),LOOKUP($B302,'INPUT '!$D$16:$D$116,'INPUT '!$E$16:$E$116),\"0\")","v":"0"},{"$f":"IF(EXACT($B302,LOOKUP($B302,'INPUT '!$D$16:$D$116)),LOOKUP($B302,'INPUT '!$D$16:$D$116,'INPUT '!$F$16:$F$116),\"0\")","v":"0"},"FIXING SPACER OF PLASTIC",null,null,9900001883,6,{"$f":"I302*C302","v":0},null,null,{"$f":"L302*C302","v":0},9900000001,1,0,9900000021,1,0,9900001884,2,0,9900001031,1,0]
[9900011884,{"$f":"Data!$A303-9900010000","v":1884},{"$f":"IF(EXACT($B303,LOOKUP($B303,'INPUT '!$D$16:$D$116)),LOOKUP($B303,'INPUT '!$D$16:$D$116,'INPUT '!$E$16:$E$116),\"0\")","v":"0"},{"$f":"IF(EXACT($B303,LOOKUP($B303,'INPUT '!$D$16:$D$116)),LOOKUP($B303,'INPUT '!$D$16:$D$116,'INPUT '!$F$16:$F$116),\"0\")","v":"0"},"LID OF PLASTIC",null,null,9900001884,25,{"$f":"I303*C303","v":0},null,null,{"$f":"L303*C303","v":0},9900000001,1,{"$f":"O303*C303","v":0},null,null,{"$f":"R303*C303","v":0},null,null,{"$f":"U303*C303","v":0},null,null,{"$f":"X303*C303","v":0}]
[9900011886,{"$f":"Data!$A304-9900010000","v":1886},{"$f":"IF(EXACT($B304,LOOKUP($B304,'INPUT '!$D$16:$D$116)),LOOKUP($B304,'INPUT '!$D$16:$D$116,'INPUT '!$E$16:$E$116),\"0\")","v":"0"},{"$f":"IF(EXACT($B304,LOOKUP($B304,'INPUT '!$D$16:$D$116)),LOOKUP($B304,'INPUT '!$D$16:$D$116,'INPUT '!$F$16:$F$116),\"0\")","v":"0"},"FIXING SPACER OF PLASTIC",null,null,9900001886,24,{"$f":"I304*C304","v":0},null,null,{"$f":"L304*C304","v":0},9900000005,1,{"$f":"O304*C304","v":0},null,null,{"$f":"R304*C304","v":0},9900002793,4,{"$f":"U304*C304","v":0},null,null,{"$f":"X304*C304","v":0}]
[9900011921,{"$f":"Data!$A305-9900010000","v":1921},{"$f":"IF(EXACT($B305,LOOKUP($B305,'INPUT '!$D$16:$D$116)),LOOKUP($B305,'INPUT '!$D$16:$D$116,'INPUT '!$E$16:$E$116),\"0\")","v":"0"},{"$f":"IF(EXACT($B305,LOOKUP($B305,'INPUT '!$D$16:$D$116)),LOOKUP($B305,'INPUT '!$D$16:$D$116,'INPUT '!$F$16:$F$116),\"0\")","v":"0"},"FIXTURE FOR L-FRAMES",null,null,9900001921,1,0,null,null,0,null,null,0,null,null,0,null,null,0,null,null,0]
[9900011922,{"$f":"Data!$A306-9900010000","v":1922},{"$f":"IF(EXACT($B306,LOOKUP($B306,'INPUT '!$D$16:$D$116)),LOOKUP($B306,'INPUT '!$D$16:$D$116,'INPUT '!$E$16:$E$116),\"0\")","v":"0"},{"$f":"IF(EXACT($B306,LOOKUP($B306,'INPUT '!$D$16:$D$116)),LOOKUP($B306,'INPUT '!$D$16:$D$116,'INPUT '!$F$16:$F$116),\"0\")","v":"0"},"FIXTURE FOR K-FRAMES",null,null,9900001922,1,0,null,null,0,null,null,0,null,null,0,null,null,0,null,null,0]
[9900011925,{"$f":"Data!$A307-9900010000","v":1925},{"$f":"IF(EXACT($B307,LOOKUP($B307,'INPUT '!$D$16:$D$116)),LOOKUP($B307,'INPUT '!$D$16:$D$116,'INPUT '!$E$16:$E$116),\"0\")","v":"0"},{"$f":"IF(EXACT($B307,LOOKUP($B307,'INPUT '!$D$16:$D$116)),LOOKUP($B307,'INPUT '!$D$16:$D$116,'INPUT '!$F$16:$F$116),\"0\")","v":"0"},"FIXTURE FOR F-FRAMES",null,null,9900001925,1,0,null,null,0,null,null,0,null,null,0,null,null,0,null,null,0]
[9900011926,{"$f":"Data!$A308-9900010000","v":1926},{"$f":"IF(EXACT($B308,LOOKUP($B308,'INPUT '!$D$16:$D$116)),LOOKUP($B308,'INPUT '!$D$16:$D$116,'INPUT '!$E$16:$E$116),\"0\")","v":"0"},{"$f":"IF(EXACT($B308,LOOKUP($B308,'INPUT '!$D$16:$D$116)),LOOKUP($B308,'INPUT '!$D$16:$D$116,'INPUT '!$F$16:$F$116),\"0\")","v":"0"},"FIXTURE FOR G-FRAMES",null,null,9900001926,1,{"$f":"I308*C308","v":0},null,null,{"$f":"L308*C308","v":0},null,null,{"$f":"O308*C308","v":0},null,null,0,null,null,{"$f":"U308*C308","v":0},null,null,{"$f":"X308*C308","v":0}]
[9900011928,{"$f":"Data!$A309-9900010000","v":1928},{"$f":"IF(EXACT($B309,LOOKUP($B309,'INPUT '!$D$16:$D$116)),LOOKUP($B309,'INPUT '!$D$16:$D$116,'INPUT '!$E$16:$E$116),\"0\")","v":"0"},{"$f":"IF(EXACT($B309,LOOKUP($B309,'INPUT '!$D$16:$D$116)),LOOKUP($B309,'INPUT '!$D$16:$D$116,'INPUT '!$F$16:$F$116),\"0\")","v":"0"},"FIXTURE FOR EMB 702",null,null,9900001928,1,0,null,null,0,null,null,0,null,null,0,null,null,0,null,null,0]
[9900011929,{"$f":"Data!$A310-9900010000","v":1929},{"$f":"IF(EXACT($B310,LOOKUP($B310,'INPUT '!$D$16:$D$116)),LOOKUP($B310,'INPUT '!$D$16:$D$116,'INPUT '!$E$16:$E$116),\"0\")","v":"0"},{"$f":"IF(EXACT($B310,LOOKUP($B310,'INPUT '!$D$16:$D$116)),LOOKUP($B310,'INPUT '!$D$16:$D$116,'INPUT '!$F$16:$F$116),\"0\")","v":"0"},"FIXTURE FOR H-FRAMES",null,null,9900001929,1,0,null,null,0,null,null,0,null,null,0,null,null,0,null,null,0]
[9900011930,{"$f":"Data!$A311-9900010000","v":1930},{"$f":"IF(EXACT($B311,LOOKUP($B311,'INPUT '!$D$16:$D$116)),LOOKUP($B311,'INPUT '!$D$16:$D$116,'INPUT '!$E$16:$E$116),\"0\")","v":"0"},{"$f":"IF(EXACT($B311,LOOKUP($B311,'INPUT '!$D$16:$D$116)),LOOKUP($B311,'INPUT '!$D$16:$D$116,'INPUT '!$F$16:$F$116),\"0\")","v":"0"},"HINGE LUG STRAIGHTENING TOOL",null,null,9900001930,1,0,null,null,0,null,null,0,null,null,0,null,null,0,null,null,0]
[9900011971,{"$f":"Data!$A312-9900010000","v":1971},{"$f":"IF(EXACT($B312,LOOKUP($B312,'INPUT '!$D$16:$D$116)),LOOKUP($B312,'INPUT '!$D$16:$D$116,'INPUT '!$E$16:$E$116),\"0\")","v":"0"},{"$f":"IF(EXACT($B312,LOOKUP($B312,'INPUT '!$D$16:$D$116)),LOOKUP($B312,'INPUT '!$D$16:$D$116,'INPUT '!$F$16:$F$116),\"0\")","v":"0"},"FIXTURE FOR L-LIDS",null,null,9900001971,1,0,null,null,0,null,null,0,null,null,0,null,null,0,null,null,0]
[9900011972,{"$f":"Data!$A313-9900010000","v":1972},{"$f":"IF(EXACT($B313,LOOKUP($B313,'INPUT '!$D$16:$D$116)),LOOKUP($B313,'INPUT '!$D$16:$D$116,'INPUT '!$E$16:$E$116),\"0\")","v":"0"},{"$f":"IF(EXACT($B313,LOOKUP($B313,'INPUT '!$D$16:$D$116)),LOOKUP($B313,'INPUT '!$D$16:$D$116,'INPUT '!$F$16:$F$116),\"0\")","v":"0"},"FIXTURE FOR K-LIDS",null,null,9900001972,1,0,null,null,0,null,null,0,null,null,0,null,null,0,null,null,0]
[9900011975,{"$f":"Data!$A314-9900010000","v":1975},{"$f":"IF(EXACT($B314,LOOKUP($B314,'INPUT '!$D$16:$D$116)),LOOKUP($B314,'INPUT '!$D$16:$D$116,'INPUT '!$E$16:$E$116),\"0\")","v":"0"},{"$f":"IF(EXACT($B314,LOOKUP($B314,'INPUT '!$D$16:$D$116)),LOOKUP($B314,'INPUT '!$D$16:$D$116,'INPUT '!$F$16:$F$116),\"0\")","v":"0"},"FIXTURE FOR F-LIDS",null,null,9900001975,1,0,null,null,0,null,null,0,null,null,0,null,null,0,null,null,0]
[9900011976,{"$f":"Data!$A315-9900010000","v":1976},{"$f":"IF(EXACT($B315,LOOKUP($B315,'INPUT '!$D$16:$D$116)),LOOKUP($B315,'INPUT '!$D$16:$D$116,'INPUT '!$E$16:$E$116),\"0\")","v":"0"},{"$f":"IF(EXACT($B315,LOOKUP($B315,'INPUT '!$D$16:$D$116)),LOOKUP($B315,'INPUT '!$D$16:$D$116,'INPUT '!$F$16:$F$116),\"0\")","v":"0"},"RACK OF STEEL",null,null,9900002000,1,0,null,null,0,null,null,0,null,null,0,null,null,0,null,null,0]
[9900012000,{"$f":"Data!$A316-9900010000","v":2000},{"$f":"IF(EXACT($B316,LOOKUP($B316,'INPUT '!$D$16:$D$116)),LOOKUP($B316,'INPUT '!$D$16:$D$116,'INPUT '!$E$16:$E$116),\"0\")","v":"0"},{"$f":"IF(EXACT($B316,LOOKUP($B316,'INPUT '!$D$16:$D$116)),LOOKUP($B316,'INPUT '!$D$16:$D$116,'INPUT '!$F$16:$F$116),\"0\")","v":"0"},"FIXTURE FOR G-LIDS",null,null,9900001976,1,0,null,null,0,null,null,0,null,null,0,null,null,0,null,null,0]
[9900012020,{"$f":"Data!$A317-9900010000","v":2020},{"$f":"IF(EXACT($B317,LOOKUP($B317,'INPUT '!$D$16:$D$116)),LOOKUP($B317,'INPUT '!$D$16:$D$116,'INPUT '!$E$16:$E$116),\"0\")","v":"0"},{"$f":"IF(EXACT($B317,LOOKUP($B317,'INPUT '!$D$16:$D$116)),LOOKUP($B317,'INPUT '!$D$16:$D$116,'INPUT '!$F$16:$F$116),\"0\")","v":"0"},"RACK OF STEEL",null,null,9900002020,1,{"$f":"I317*C317","v":0},null,null,{"$f":"L317*C317","v":0},null,null,{"$f":"O317*C317","v":0},null,null,0,null,null,{"$f":"U317*C317","v":0},null,null,{"$f":"X317*C317","v":0}]
[9900012184,{"$f":"Data!$A318-9900010000","v":2184},{"$f":"IF(EXACT($B318,LOOKUP($B318,'INPUT '!$D$16:$D$116)),LOOKUP($B318,'INPUT '!$D$16:$D$116,'INPUT '!$E$16:$E$116),\"0\")","v":"0"},{"$f":"IF(EXACT($B318,LOOKUP($B318,'INPUT '!$D$16:$D$116)),LOOKUP($B318,'INPUT '!$D$16:$D$116,'INPUT '!$F$16:$F$116),\"0\")","v":"0"},"PALLET BOX OF PLYWOOD",null,null,9900002184,1,0,null,null,0,null,null,{"$f":"O318*C318","v":0},null,null,0,null,null,{"$f":"U318*C318","v":0},null,null,0]
[9900012185,{"$f":"Data!$A319-9900010000","v":2185},{"$f":"IF(EXACT($B319,LOOKUP($B319,'INPUT '!$D$16:$D$116)),LOOKUP($B319,'INPUT '!$D$16:$D$116,'INPUT '!$E$16:$E$116),\"0\")","v":"0"},{"$f":"IF(EXACT($B319,LOOKUP($B319,'INPUT '!$D$16:$D$116)),LOOKUP($B319,'INPUT '!$D$16:$D$116,'INPUT '!$F$16:$F$116),\"0\")","v":"0"},"PALLET OF PLASTIC",null,null,9900002185,6,0,null,null,0,null,null,{"$f":"O319*C319","v":0},null,null,0,null,null,{"$f":"U319*C319","v":0},null,null,0]
[9900012186,{"$f":"Data!$A320-9900010000","v":2186},{"$f":"IF(EXACT($B320,LOOKUP($B320,'INPUT '!$D$16:$D$116)),LOOKUP($B320,'INPUT '!$D$16:$D$116,'INPUT '!$E$16:$E$116),\"0\")","v":"0"},{"$f":"IF(EXACT($B320,LOOKUP($B320,'INPUT '!$D$16:$D$116)),LOOKUP($B320,'INPUT '!$D$16:$D$116,'INPUT '!$F$16:$F$116),\"0\")","v":"0"},"SPACER OF PLASTIC",null,null,9900002186,18,0,null,null,0,9900000001,1,{"$f":"O320*C320","v":0},9900000021,4,0,9900000071,1,{"$f":"U320*C320","v":0},null,null,0]
[9900012187,{"$f":"Data!$A321-9900010000","v":2187},{"$f":"IF(EXACT($B321,LOOKUP($B321,'INPUT '!$D$16:$D$116)),LOOKUP($B321,'INPUT '!$D$16:$D$116,'INPUT '!$E$16:$E$116),\"0\")","v":"0"},{"$f":"IF(EXACT($B321,LOOKUP($B321,'INPUT '!$D$16:$D$116)),LOOKUP($B321,'INPUT '!$D$16:$D$116,'INPUT '!$F$16:$F$116),\"0\")","v":"0"},"INSERT OF FABIC",null,null,9900002187,20,0,null,null,0,9900000001,1,{"$f":"O321*C321","v":0},9900000021,3,0,9900000071,1,{"$f":"U321*C321","v":0},null,null,0]
[9900012199,{"$f":"Data!$A322-9900010000","v":2199},{"$f":"IF(EXACT($B322,LOOKUP($B322,'INPUT '!$D$16:$D$116)),LOOKUP($B322,'INPUT '!$D$16:$D$116,'INPUT '!$E$16:$E$116),\"0\")","v":"0"},{"$f":"IF(EXACT($B322,LOOKUP($B322,'INPUT '!$D$16:$D$116)),LOOKUP($B322,'INPUT '!$D$16:$D$116,'INPUT '!$F$16:$F$116),\"0\")","v":"0"},"SLEEVE PACK-INSERT KIT",null,null,9900022199,3,0,null,null,0,null,null,{"$f":"O322*C322","v":0},null,null,0,null,null,{"$f":"U322*C322","v":0},null,null,0]
[9900012200,{"$f":"Data!$A323-9900010000","v":2200},{"$f":"IF(EXACT($B323,LOOKUP($B323,'INPUT '!$D$16:$D$116)),LOOKUP($B323,'INPUT '!$D$16:$D$116,'INPUT '!$E$16:$E$116),\"0\")","v":"0"},{"$f":"IF(EXACT($B323,LOOKUP($B323,'INPUT '!$D$16:$D$116)),LOOKUP($B323,'INPUT '!$D$16:$D$116,'INPUT '!$F$16:$F$116),\"0\")","v":"0"},"RACK OF STEEL",null,null,9900002200,1,0,null,null,0,null,null,0,null,null,0,null,null,0,null,null,0]
[9900012201,{"$f":"Data!$A324-9900010000","v":2201},{"$f":"IF(EXACT($B324,LOOKUP($B324,'INPUT '!$D$16:$D$116)),LOOKUP($B324,'INPUT '!$D$16:$D$116,'INPUT '!$E$16:$E$116),\"0\")","v":"0"},{"$f":"IF(EXACT($B324,LOOKUP($B324,'INPUT '!$D$16:$D$116)),LOOKUP($B324,'INPUT '!$D$16:$D$116,'INPUT '!$F$16:$F$116),\"0\")","v":"0"},"RACK OF STEEL",null,null,9900002201,1,0,null,null,0,null,null,0,null,null,0,null,null,0,null,null,0]
[9900012202,{"$f":"Data!$A325-9900010000","v":2202},{"$f":"IF(EXACT($B325,LOOKUP($B325,'INPUT '!$D$16:$D$116)),LOOKUP($B325,'INPUT '!$D$16:$D$116,'INPUT '!$E$16:$E$116),\"0\")","v":"0"},{"$f":"IF(EXACT($B325,LOOKUP($B325,'INPUT '!$D$16:$D$116)),LOOKUP($B325,'INPUT '!$D$16:$D$116,'INPUT '!$F$16:$F$116),\"0\")","v":"0"},"RACK OF PLASTIC",null,null,9900002202,4,0,null,null,0,null,null,0,null,null,0,null,null,0,null,null,0]
[9900012203,{"$f":"Data!$A326-9900010000","v":2203},{"$f":"IF(EXACT($B326,LOOKUP($B326,'INPUT '!$D$16:$D$116)),LOOKUP($B326,'INPUT '!$D$16:$D$116,'INPUT '!$E$16:$E$116),\"0\")","v":"0"},{"$f":"IF(EXACT($B326,LOOKUP($B326,'INPUT '!$D$16:$D$116)),LOOKUP($B326,'INPUT '!$D$16:$D$116,'INPUT '!$F$16:$F$116),\"0\")","v":"0"},"RACK OF STEEL",null,null,9900002203,1,0,null,null,0,null,null,0,null,null,0,null,null,0,null,null,0]
[9900012210,{"$f":"Data!$A327-9900010000","v":2210},{"$f":"IF(EXACT($B327,LOOKUP($B327,'INPUT '!$D$16:$D$116)),LOOKUP($B327,'INPUT '!$D$16:$D$116,'INPUT '!$E$16:$E$116),\"0\")","v":"0"},{"$f":"IF(EXACT($B327,LOOKUP($B327,'INPUT '!$D$16:$D$116)),LOOKUP($B327,'INPUT '!$D$16:$D$116,'INPUT '!$F$16:$F$116),\"0\")","v":"0"},"RACK OF STEEL",null,null,9900002210,1,{"$f":"I327*C327","v":0},null,null,{"$f":"L327*C327","v":0},null,null,{"$f":"O327*C327","v":0},null,null,0,null,null,{"$f":"U327*C327","v":0},null,null,{"$f":"X327*C327","v":0}]
[9900012211,{"$f":"Data!$A328-9900010000","v":2211},{"$f":"IF(EXACT($B328,LOOKUP($B328,'INPUT '!$D$16:$D$116)),LOOKUP($B328,'INPUT '!$D$16:$D$116,'INPUT '!$E$16:$E$116),\"0\")","v":"0"},{"$f":"IF(EXACT($B328,LOOKUP($B328,'INPUT '!$D$16:$D$116)),LOOKUP($B328,'INPUT '!$D$16:$D$116,'INPUT '!$F$16:$F$116),\"0\")","v":"0"},"RACK OF STEEL",null,null,9900002211,1,0,null,null,0,null,null,{"$f":"O328*C328","v":0},null,null,0,null,null,0,null,null,0]
[9900012212,{"$f":"Data!$A329-9900010000","v":2212},{"$f":"IF(EXACT($B329,LOOKUP($B329,'INPUT '!$D$16:$D$116)),LOOKUP($B329,'INPUT '!$D$16:$D$116,'INPUT '!$E$16:$E$116),\"0\")","v":"0"},{"$f":"IF(EXACT($B329,LOOKUP($B329,'INPUT '!$D$16:$D$116)),LOOKUP($B329,'INPUT '!$D$16:$D$116,'INPUT '!$F$16:$F$116),\"0\")","v":"0"},"FIXING SPACER OF PLASTIC",null,null,9900002212,8,0,null,null,0,9900000001,1,{"$f":"O329*C329","v":0},9900000021,3,{"$f":"R329*C329","v":0},9900000071,1,0,null,null,0]
[9900012213,{"$f":"Data!$A330-9900010000","v":2213},{"$f":"IF(EXACT($B330,LOOKUP($B330,'INPUT '!$D$16:$D$116)),LOOKUP($B330,'INPUT '!$D$16:$D$116,'INPUT '!$E$16:$E$116),\"0\")","v":"0"},{"$f":"IF(EXACT($B330,LOOKUP($B330,'INPUT '!$D$16:$D$116)),LOOKUP($B330,'INPUT '!$D$16:$D$116,'INPUT '!$F$16:$F$116),\"0\")","v":"0"},"FIXING SPACER OF PLASTIC",null,null,9900002213,5,0,null,null,0,9900000001,1,{"$f":"O330*C330","v":0},9900000021,2,{"$f":"R330*C330","v":0},9900000071,1,0,null,null,0]
[9900012306,{"$f":"Data!$A331-9900010000","v":2306},{"$f":"IF(EXACT($B331,LOOKUP($B331,'INPUT '!$D$16:$D$116)),LOOKUP($B331,'INPUT '!$D$16:$D$116,'INPUT '!$E$16:$E$116),\"0\")","v":"0"},{"$f":"IF(EXACT($B331,LOOKUP($B331,'INPUT '!$D$16:$D$116)),LOOKUP($B331,'INPUT '!$D$16:$D$116,'INPUT '!$F$16:$F$116),\"0\")","v":"0"},"FIXING SPACER OF PLASTIC",null,null,9900002306,8,0,null,null,0,9900000001,1,{"$f":"O331*C331","v":0},9900000021,2,{"$f":"R331*C331","v":0},9900000071,1,0,null,null,0]
[9900012307,{"$f":"Data!$A332-9900010000","v":2307},{"$f":"IF(EXACT($B332,LOOKUP($B332,'INPUT '!$D$16:$D$116)),LOOKUP($B332,'INPUT '!$D$16:$D$116,'INPUT '!$E$16:$E$116),\"0\")","v":"0"},{"$f":"IF(EXACT($B332,LOOKUP($B332,'INPUT '!$D$16:$D$116)),LOOKUP($B332,'INPUT '!$D$16:$D$116,'INPUT '!$F$16:$F$116),\"0\")","v":"0"},"FIXING SPACER OF PLASTIC",null,null,9900002307,5,0,null,null,0,9900000001,1,{"$f":"O332*C332","v":0},9900000021,2,{"$f":"R332*C332","v":0},9900000071,1,0,null,null,0]
[9900012700,{"$f":"Data!$A333-9900010000","v":2700},{"$f":"IF(EXACT($B333,LOOKUP($B333,'INPUT '!$D$16:$D$116)),LOOKUP($B333,'INPUT '!$D$16:$D$116,'INPUT '!$E$16:$E$116),\"0\")","v":"0"},{"$f":"IF(EXACT($B333,LOOKUP($B333,'INPUT '!$D$16:$D$116)),LOOKUP($B333,'INPUT '!$D$16:$D$116,'INPUT '!$F$16:$F$116),\"0\")","v":"0"},"RACK OF STEEL",null,null,9900002700,1,0,null,null,0,null,null,0,null,null,0,null,null,0,null,null,0]
[9900012701,{"$f":"Data!$A334-9900010000","v":2701},{"$f":"IF(EXACT($B334,LOOKUP($B334,'INPUT '!$D$16:$D$116)),LOOKUP($B334,'INPUT '!$D$16:$D$116,'INPUT '!$E$16:$E$116),\"0\")","v":"0"},{"$f":"IF(EXACT($B334,LOOKUP($B334,'INPUT '!$D$16:$D$116)),LOOKUP($B334,'INPUT '!$D$16:$D$116,'INPUT '!$F$16:$F$116),\"0\")","v":"0"},"RACK OF STEEL",null,null,9900002701,1,0,null,null,0,null,null,0,null,null,0,null,null,0,null,null,0]
[9900012702,{"$f":"Data!$A335-9900010000","v":2702},{"$f":"IF(EXACT($B335,LOOKUP($B335,'INPUT '!$D$16:$D$116)),LOOKUP($B335,'INPUT '!$D$16:$D$116,'INPUT '!$E$16:$E$116),\"0\")","v":"0"},{"$f":"IF(EXACT($B335,LOOKUP($B335,'INPUT '!$D$16:$D$116)),LOOKUP($B335,'INPUT '!$D$16:$D$116,'INPUT '!$F$16:$F$116),\"0\")","v":"0"},"RACK OF STEEL",null,null,9900002702,1,0,null,null,0,null,null,0,null,null,0,null,null,0,null,null,0]
[9900012703,{"$f":"Data!$A336-9900010000","v":2703},{"$f":"IF(EXACT($B336,LOOKUP($B336,'INPUT '!$D$16:$D$116)),LOOKUP($B336,'INPUT '!$D$16:$D$116,'INPUT '!$E$16:$E$116),\"0\")","v":"0"},{"$f":"IF(EXACT($B336,LOOKUP($B336,'INPUT '!$D$16:$D$116)),LOOKUP($B336,'INPUT '!$D$16:$D$116,'INPUT '!$F$16:$F$116),\"0\")","v":"0"},"RACK OF STEEL",null,null,9900002703,1,0,null,null,0,null,null,0,null,null,0,null,null,0,null,null,0]
[9900012704,{"$f":"Data!$A337-9900010000","v":2704},{"$f":"IF(EXACT($B337,LOOKUP($B337,'INPUT '!$D$16:$D$116)),LOOKUP($B337,'INPUT '!$D$16:$D$116,'INPUT '!$E$16:$E$116),\"0\")","v":"0"},{"$f":"IF(EXACT($B337,LOOKUP($B337,'INPUT '!$D$16:$D$116)),LOOKUP($B337,'INPUT '!$D$16:$D$116,'INPUT '!$F$16:$F$116),\"0\")","v":"0"},"RACK OF STEEL",null,null,9900002704,1,0,null,null,0,null,null,0,null,null,0,null,null,0,null,null,0]
[9900012705,{"$f":"Data!$A338-9900010000","v":2705},{"$f":"IF(EXACT($B338,LOOKUP($B338,'INPUT '!$D$16:$D$116)),LOOKUP($B338,'INPUT '!$D$16:$D$116,'INPUT '!$E$16:$E$116),\"0\")","v":"0"},{"$f":"IF(EXACT($B338,LOOKUP($B338,'INPUT '!$D$16:$D$116)),LOOKUP($B338,'INPUT '!$D$16:$D$116,'INPUT '!$F$16:$F$116),\"0\")","v":"0"},"RACK OF STEEL",null,null,9900002705,1,0,null,null,0,null,null,0,null,null,0,null,null,0,null,null,0]
[9900012706,{"$f":"Data!$A339-9900010000","v":2706},{"$f":"IF(EXACT($B339,LOOKUP($B339,'INPUT '!$D$16:$D$116)),LOOKUP($B339,'INPUT '!$D$16:$D$116,'INPUT '!$E$16:$E$116),\"0\")","v":"0"},{"$f":"IF(EXACT($B339,LOOKUP($B339,'INPUT '!$D$16:$D$116)),LOOKUP($B339,'INPUT '!$D$16:$D$116,'INPUT '!$F$16:$F$116),\"0\")","v":"0"},"RACK OF STEEL",null,null,9900002706,1,0,null,null,0,null,null,0,null,null,0,null,null,0,null,null,0]
[9900012707,{"$f":"Data!$A340-9900010000","v":2707},{"$f":"IF(EXACT($B340,LOOKUP($B340,'INPUT '!$D$16:$D$116)),LOOKUP($B340,'INPUT '!$D$16:$D$116,'INPUT '!$E$16:$E$116),\"0\")","v":"0"},{"$f":"IF(EXACT($B340,LOOKUP($B340,'INPUT '!$D$16:$D$116)),LOOKUP($B340,'INPUT '!$D$16:$D$116,'INPUT '!$F$16:$F$116),\"0\")","v":"0"},"RACK OF STEEL",null,null,9900002707,1,0,null,null,0,null,null,0,null,null,0,null,null,0,null,null,0]
[9900012708,{"$f":"Data!$A341-9900010000","v":2708},{"$f":"IF(EXACT($B341,LOOKUP($B341,'INPUT '!$D$16:$D$116)),LOOKUP($B341,'INPUT '!$D$16:$D$116,'INPUT '!$E$16:$E$116),\"0\")","v":"0"},{"$f":"IF(EXACT($B341,LOOKUP($B341,'INPUT '!$D$16:$D$116)),LOOKUP($B341,'INPUT '!$D$16:$D$116,'INPUT '!$F$16:$F$116),\"0\")","v":"0"},"RACK OF STEEL",null,null,9900002708,1,0,null,null,0,null,null,0,null,null,0,null,null,0,null,null,0]
[9900012709,{"$f":"Data!$A342-9900010000","v":2709},{"$f":"IF(EXACT($B342,LOOKUP($B342,'INPUT '!$D$16:$D$116)),LOOKUP($B342,'INPUT '!$D$16:$D$116,'INPUT '!$E$16:$E$116),\"0\")","v":"0"},{"$f":"IF(EXACT($B342,LOOKUP($B342,'INPUT '!$D$16:$D$116)),LOOKUP($B342,'INPUT '!$D$16:$D$116,'INPUT '!$F$16:$F$116),\"0\")","v":"0"},"RACK OF STEEL",null,null,9900002709,1,0,null,null,0,null,null,0,null,null,0,null,null,0,null,null,0]
[9900012710,{"$f":"Data!$A343-9900010000","v":2710},{"$f":"IF(EXACT($B343,LOOKUP($B343,'INPUT '!$D$16:$D$116)),LOOKUP($B343,'INPUT '!$D$16:$D$116,'INPUT '!$E$16:$E$116),\"0\")","v":"0"},{"$f":"IF(EXACT($B343,LOOKUP($B343,'INPUT '!$D$16:$D$116)),LOOKUP($B343,'INPUT '!$D$16:$D$116,'INPUT '!$F$16:$F$116),\"0\")","v":"0"},"RACK OF STEEL",null,null,9900002710,1,0,null,null,0,null,null,0,null,null,0,null,null,0,null,null,0]
[9900012711,{"$f":"Data!$A344-9900010000","v":2711},{"$f":"IF(EXACT($B344,LOOKUP($B344,'INPUT '!$D$16:$D$116)),LOOKUP($B344,'INPUT '!$D$16:$D$116,'INPUT '!$E$16:$E$116),\"0\")","v":"0"},{"$f":"IF(EXACT($B344,LOOKUP($B344,'INPUT '!$D$16:$D$116)),LOOKUP($B344,'INPUT '!$D$16:$D$116,'INPUT '!$F$16:$F$116),\"0\")","v":"0"},"RACK OF STEEL",null,null,9900002711,1,0,null,null,0,null,null,0,null,null,0,null,null,0,null,null,0]
[9900012712,{"$f":"Data!$A345-9900010000","v":2712},{"$f":"IF(EXACT($B345,LOOKUP($B345,'INPUT '!$D$16:$D$116)),LOOKUP($B345,'INPUT '!$D$16:$D$116,'INPUT '!$E$16:$E$116),\"0\")","v":"0"},{"$f":"IF(EXACT($B345,LOOKUP($B345,'INPUT '!$D$16:$D$116)),LOOKUP($B345,'INPUT '!$D$16:$D$116,'INPUT '!$F$16:$F$116),\"0\")","v":"0"},"RACK OF STEEL",null,null,9900002712,1,0,null,null,0,null,null,0,null,null,0,null,null,0,null,null,0]
[9900012713,{"$f":"Data!$A346-9900010000","v":2713},{"$f":"IF(EXACT($B346,LOOKUP($B346,'INPUT '!$D$16:$D$116)),LOOKUP($B346,'INPUT '!$D$16:$D$116,'INPUT '!$E$16:$E$116),\"0\")","v":"0"},{"$f":"IF(EXACT($B346,LOOKUP($B346,'INPUT '!$D$16:$D$116)),LOOKUP($B346,'INPUT '!$D$16:$D$116,'INPUT '!$F$16:$F$116),\"0\")","v":"0"},"RACK OF STEEL",null,null,9900002713,1,0,null,null,0,null,null,0,null,null,0,null,null,0,null,null,0]
[9900012714,{"$f":"Data!$A347-9900010000","v":2714},{"$f":"IF(EXACT($B347,LOOKUP($B347,'INPUT '!$D$16:$D$116)),LOOKUP($B347,'INPUT '!$D$16:$D$116,'INPUT '!$E$16:$E$116),\"0\")","v":"0"},{"$f":"IF(EXACT($B347,LOOKUP($B347,'INPUT '!$D$16:$D$116)),LOOKUP($B347,'INPUT '!$D$16:$D$116,'INPUT '!$F$16:$F$116),\"0\")","v":"0"},"RACK OF STEEL",null,null,9900002714,1,0,null,null,0,null,null,0,null,null,0,null,null,0,null,null,0]
[9900012715,{"$f":"Data!$A348-9900010000","v":2715},{"$f":"IF(EXACT($B348,LOOKUP($B348,'INPUT '!$D$16:$D$116)),LOOKUP($B348,'INPUT '!$D$16:$D$116,'INPUT '!$E$16:$E$116),\"0\")","v":"0"},{"$f":"IF(EXACT($B348,LOOKUP($B348,'INPUT '!$D$16:$D$116)),LOOKUP($B348,'INPUT '!$D$16:$D$116,'INPUT '!$F$16:$F$116),\"0\")","v":"0"},"RACK OF STEEL",null,null,9900002715,1,0,null,null,0,null,null,0,null,null,0,null,null,0,null,null,0]
[9900012716,{"$f":"Data!$A349-9900010000","v":2716},{"$f":"IF(EXACT($B349,LOOKUP($B349,'INPUT '!$D$16:$D$116)),LOOKUP($B349,'INPUT '!$D$16:$D$116,'INPUT '!$E$16:$E$116),\"0\")","v":"0"},{"$f":"IF(EXACT($B349,LOOKUP($B349,'INPUT '!$D$16:$D$116)),LOOKUP($B349,'INPUT '!$D$16:$D$116,'INPUT '!$F$16:$F$116),\"0\")","v":"0"},"RACK OF STEEL",null,null,9900002716,1,0,null,null,0,null,null,0,null,null,0,null,null,0,null,null,0]
[9900012717,{"$f":"Data!$A350-9900010000","v":2717},{"$f":"IF(EXACT($B350,LOOKUP($B350,'INPUT '!$D$16:$D$116)),LOOKUP($B350,'INPUT '!$D$16:$D$116,'INPUT '!$E$16:$E$116),\"0\")","v":"0"},{"$f":"IF(EXACT($B350,LOOKUP($B350,'INPUT '!$D$16:$D$116)),LOOKUP($B350,'INPUT '!$D$16:$D$116,'INPUT '!$F$16:$F$116),\"0\")","v":"0"},"RACK OF STEEL",null,null,9900002717,1,0,null,null,0,null,null,0,null,null,0,null,null,0,null,null,0]
[9900012718,{"$f":"Data!$A351-9900010000","v":2718},{"$f":"IF(EXACT($B351,LOOKUP($B351,'INPUT '!$D$16:$D$116)),LOOKUP($B351,'INPUT '!$D$16:$D$116,'INPUT '!$E$16:$E$116),\"0\")","v":"0"},{"$f":"IF(EXACT($B351,LOOKUP($B351,'INPUT '!$D$16:$D$116)),LOOKUP($B351,'INPUT '!$D$16:$D$116,'INPUT '!$F$16:$F$116),\"0\")","v":"0"},"RACK OF STEEL",null,null,9900002718,1,0,null,null,0,null,null,0,null,null,0,null,null,0,null,null,0]
[9900012719,{"$f":"Data!$A352-9900010000","v":2719},{"$f":"IF(EXACT($B352,LOOKUP($B352,'INPUT '!$D$16:$D$116)),LOOKUP($B352,'INPUT '!$D$16:$D$116,'INPUT '!$E$16:$E$116),\"0\")","v":"0"},{"$f":"IF(EXACT($B352,LOOKUP($B352,'INPUT '!$D$16:$D$116)),LOOKUP($B352,'INPUT '!$D$16:$D$116,'INPUT '!$F$16:$F$116),\"0\")","v":"0"},"RACK OF STEEL",null,null,9900002719,1,0,null,null,0,null,null,0,null,null,0,null,null,0,null,null,0]
[9900012721,{"$f":"Data!$A353-9900010000","v":2721},{"$f":"IF(EXACT($B353,LOOKUP($B353,'INPUT '!$D$16:$D$116)),LOOKUP($B353,'INPUT '!$D$16:$D$116,'INPUT '!$E$16:$E$116),\"0\")","v":"0"},{"$f":"IF(EXACT($B353,LOOKUP($B353,'INPUT '!$D$16:$D$116)),LOOKUP($B353,'INPUT '!$D$16:$D$116,'INPUT '!$F$16:$F$116),\"0\")","v":"0"},"RACK OF STEEL",null,null,9900002721,1,0,null,null,0,null,null,0,null,null,0,null,null,0,null,null,0]
[9900012722,{"$f":"Data!$A354-9900010000","v":2722},{"$f":"IF(EXACT($B354,LOOKUP($B354,'INPUT '!$D$16:$D$116)),LOOKUP($B354,'INPUT '!$D$16:$D$116,'INPUT '!$E$16:$E$116),\"0\")","v":"0"},{"$f":"IF(EXACT($B354,LOOKUP($B354,'INPUT '!$D$16:$D$116)),LOOKUP($B354,'INPUT '!$D$16:$D$116,'INPUT '!$F$16:$F$116),\"0\")","v":"0"},"RACK OF STEEL",null,null,9900002722,1,0,null,null,0,null,null,0,null,null,0,null,null,0,null,null,0]
[9900012723,{"$f":"Data!$A355-9900010000","v":2723},{"$f":"IF(EXACT($B355,LOOKUP($B355,'INPUT '!$D$16:$D$116)),LOOKUP($B355,'INPUT '!$D$16:$D$116,'INPUT '!$E$16:$E$116),\"0\")","v":"0"},{"$f":"IF(EXACT($B355,LOOKUP($B355,'INPUT '!$D$16:$D$116)),LOOKUP($B355,'INPUT '!$D$16:$D$116,'INPUT '!$F$16:$F$116),\"0\")","v":"0"},"RACK OF STEEL",null,null,9900002723,1,0,null,null,0,null,null,0,null,null,0,null,null,0,null,null,0]
[9900012724,{"$f":"Data!$A356-9900010000","v":2724},{"$f":"IF(EXACT($B356,LOOKUP($B356,'INPUT '!$D$16:$D$116)),LOOKUP($B356,'INPUT '!$D$16:$D$116,'INPUT '!$E$16:$E$116),\"0\")","v":"0"},{"$f":"IF(EXACT($B356,LOOKUP($B356,'INPUT '!$D$16:$D$116)),LOOKUP($B356,'INPUT '!$D$16:$D$116,'INPUT '!$F$16:$F$116),\"0\")","v":"0"},"RACK OF STEEL",null,null,9900002724,1,0,null,null,0,null,null,0,null,null,0,null,null,0,null,null,0]
[9900012725,{"$f":"Data!$A357-9900010000","v":2725},{"$f":"IF(EXACT($B357,LOOKUP($B357,'INPUT '!$D$16:$D$116)),LOOKUP($B357,'INPUT '!$D$16:$D$116,'INPUT '!$E$16:$E$116),\"0\")","v":"0"},{"$f":"IF(EXACT($B357,LOOKUP($B357,'INPUT '!$D$16:$D$116)),LOOKUP($B357,'INPUT '!$D$16:$D$116,'INPUT '!$F$16:$F$116),\"0\")","v":"0"},"RACK OF STEEL",null,null,9900002725,1,0,null,null,0,null,null,0,null,null,0,null,null,0,null,null,0]
[9900012726,{"$f":"Data!$A358-9900010000","v":2726},{"$f":"IF(EXACT($B358,LOOKUP($B358,'INPUT '!$D$16:$D$116)),LOOKUP($B358,'INPUT '!$D$16:$D$116,'INPUT '!$E$16:$E$116),\"0\")","v":"0"},{"$f":"IF(EXACT($B358,LOOKUP($B358,'INPUT '!$D$16:$D$116)),LOOKUP($B358,'INPUT '!$D$16:$D$116,'INPUT '!$F$16:$F$116),\"0\")","v":"0"},"RACK OF STEEL",null,null,9900002726,1,0,null,null,0,null,null,0,null,null,0,null,null,0,null,null,0]
[9900012727,{"$f":"Data!$A359-9900010000","v":2727},{"$f":"IF(EXACT($B359,LOOKUP($B359,'INPUT '!$D$16:$D$116)),LOOKUP($B359,'INPUT '!$D$16:$D$116,'INPUT '!$E$16:$E$116),\"0\")","v":"0"},{"$f":"IF(EXACT($B359,LOOKUP($B359,'INPUT '!$D$16:$D$116)),LOOKUP($B359,'INPUT '!$D$16:$D$116,'INPUT '!$F$16:$F$116),\"0\")","v":"0"},"RACK OF STEEL",null,null,9900002727,1,0,null,null,0,null,null,0,null,null,0,null,null,0,null,null,0]
[9900012728,{"$f":"Data!$A360-9900010000","v":2728},{"$f":"IF(EXACT($B360,LOOKUP($B360,'INPUT '!$D$16:$D$116)),LOOKUP($B360,'INPUT '!$D$16:$D$116,'INPUT '!$E$16:$E$116),\"0\")","v":"0"},{"$f":"IF(EXACT($B360,LOOKUP($B360,'INPUT '!$D$16:$D$116)),LOOKUP($B360,'INPUT '!$D$16:$D$116,'INPUT '!$F$16:$F$116),\"0\")","v":"0"},"RACK OF STEEL",null,null,9900002728,1,0,null,null,0,null,null,0,null,null,0,null,null,0,null,null,0]
[9900012729,{"$f":"Data!$A361-9900010000","v":2729},{"$f":"IF(EXACT($B361,LOOKUP($B361,'INPUT '!$D$16:$D$116)),LOOKUP($B361,'INPUT '!$D$16:$D$116,'INPUT '!$E$16:$E$116),\"0\")","v":"0"},{"$f":"IF(EXACT($B361,LOOKUP($B361,'INPUT '!$D$16:$D$116)),LOOKUP($B361,'INPUT '!$D$16:$D$116,'INPUT '!$F$16:$F$116),\"0\")","v":"0"},"RACK OF STEEL",null,null,9900002729,1,0,null,null,0,null,null,0,null,null,0,null,null,0,null,null,0]
[9900012730,{"$f":"Data!$A362-9900010000","v":2730},{"$f":"IF(EXACT($B362,LOOKUP($B362,'INPUT '!$D$16:$D$116)),LOOKUP($B362,'INPUT '!$D$16:$D$116,'INPUT '!$E$16:$E$116),\"0\")","v":"0"},{"$f":"IF(EXACT($B362,LOOKUP($B362,'INPUT '!$D$16:$D$116)),LOOKUP($B362,'INPUT '!$D$16:$D$116,'INPUT '!$F$16:$F$116),\"0\")","v":"0"},"RACK OF STEEL",null,null,9900002730,1,0,null,null,0,null,null,0,null,null,0,null,null,0,null,null,0]
[9900012731,{"$f":"Data!$A363-9900010000","v":2731},{"$f":"IF(EXACT($B363,LOOKUP($B363,'INPUT '!$D$16:$D$116)),LOOKUP($B363,'INPUT '!$D$16:$D$116,'INPUT '!$E$16:$E$116),\"0\")","v":"0"},{"$f":"IF(EXACT($B363,LOOKUP($B363,'INPUT '!$D$16:$D$116)),LOOKUP($B363,'INPUT '!$D$16:$D$116,'INPUT '!$F$16:$F$116),\"0\")","v":"0"},"RACK OF STEEL",null,null,9900002731,1,0,null,null,0,null,null,0,null,null,0,null,null,0,null,null,0]
[9900012732,{"$f":"Data!$A364-9900010000","v":2732},{"$f":"IF(EXACT($B364,LOOKUP($B364,'INPUT '!$D$16:$D$116)),LOOKUP($B364,'INPUT '!$D$16:$D$116,'INPUT '!$E$16:$E$116),\"0\")","v":"0"},{"$f":"IF(EXACT($B364,LOOKUP($B364,'INPUT '!$D$16:$D$116)),LOOKUP($B364,'INPUT '!$D$16:$D$116,'INPUT '!$F$16:$F$116),\"0\")","v":"0"},"RACK OF STEEL",null,null,9900002732,1,0,null,null,0,null,null,0,null,null,{"$f":"R364*C364","v":0},null,null,0,null,null,0]
[9900012733,{"$f":"Data!$A365-9900010000","v":2733},{"$f":"IF(EXACT($B365,LOOKUP($B365,'INPUT '!$D$16:$D$116)),LOOKUP($B365,'INPUT '!$D$16:$D$116,'INPUT '!$E$16:$E$116),\"0\")","v":"0"},{"$f":"IF(EXACT($B365,LOOKUP($B365,'INPUT '!$D$16:$D$116)),LOOKUP($B365,'INPUT '!$D$16:$D$116,'INPUT '!$F$16:$F$116),\"0\")","v":"0"},"RACK OF STEEL",null,null,9900002733,1,0,null,null,0,null,null,0,null,null,0,null,null,0,null,null,0]
[9900012734,{"$f":"Data!$A366-9900010000","v":2734},{"$f":"IF(EXACT($B366,LOOKUP($B366,'INPUT '!$D$16:$D$116)),LOOKUP($B366,'INPUT '!$D$16:$D$116,'INPUT '!$E$16:$E$116),\"0\")","v":"0"},{"$f":"IF(EXACT($B366,LOOKUP($B366,'INPUT '!$D$16:$D$116)),LOOKUP($B366,'INPUT '!$D$16:$D$116,'INPUT '!$F$16:$F$116),\"0\")","v":"0"},"RACK OF STEEL",null,null,9900002734,1,0,null,null,0,null,null,0,null,null,0,null,null,0,null,null,0]
[9900012750,{"$f":"Data!$A367-9900010000","v":2750},{"$f":"IF(EXACT($B367,LOOKUP($B367,'INPUT '!$D$16:$D$116)),LOOKUP($B367,'INPUT '!$D$16:$D$116,'INPUT '!$E$16:$E$116),\"0\")","v":"0"},{"$f":"IF(EXACT($B367,LOOKUP($B367,'INPUT '!$D$16:$D$116)),LOOKUP($B367,'INPUT '!$D$16:$D$116,'INPUT '!$F$16:$F$116),\"0\")","v":"0"},"RACK OF STEEL",null,null,9900002750,1,0,null,null,0,null,null,0,null,null,0,null,null,0,null,null,0]
[9900012792,{"$f":"Data!$A368-9900010000","v":2792},{"$f":"IF(EXACT($B368,LOOKUP($B368,'INPUT '!$D$16:$D$116)),LOOKUP($B368,'INPUT '!$D$16:$D$116,'INPUT '!$E$16:$E$116),\"0\")","v":"0"},{"$f":"IF(EXACT($B368,LOOKUP($B368,'INPUT '!$D$16:$D$116)),LOOKUP($B368,'INPUT '!$D$16:$D$116,'INPUT '!$F$16:$F$116),\"0\")","v":"0"},"INSERT OF PLASTIC",null,null,9900002792,12,{"$f":"I368*C368","v":0},null,null,{"$f":"L368*C368","v":0},9900000001,1,0,9900000021,3,{"$f":"R368*C368","v":0},9900002793,3,0,9900001041,1,{"$f":"X368*C368","v":0}]
[9900012799,{"$f":"Data!$A369-9900010000","v":2799},{"$f":"IF(EXACT($B369,LOOKUP($B369,'INPUT '!$D$16:$D$116)),LOOKUP($B369,'INPUT '!$D$16:$D$116,'INPUT '!$E$16:$E$116),\"0\")","v":"0"},{"$f":"IF(EXACT($B369,LOOKUP($B369,'INPUT '!$D$16:$D$116)),LOOKUP($B369,'INPUT '!$D$16:$D$116,'INPUT '!$F$16:$F$116),\"0\")","v":"0"},"COMBITAINER",null,null,9900002799,1,0,null,null,0,null,null,{"$f":"O369*C369","v":0},null,null,0,null,null,{"$f":"U369*C369","v":0},null,null,0]
[9900012801,{"$f":"Data!$A370-9900010000","v":2801},{"$f":"IF(EXACT($B370,LOOKUP($B370,'INPUT '!$D$16:$D$116)),LOOKUP($B370,'INPUT '!$D$16:$D$116,'INPUT '!$E$16:$E$116),\"0\")","v":"0"},{"$f":"IF(EXACT($B370,LOOKUP($B370,'INPUT '!$D$16:$D$116)),LOOKUP($B370,'INPUT '!$D$16:$D$116,'INPUT '!$F$16:$F$116),\"0\")","v":"0"},"SUPPORT OF STEEL",null,null,9900002801,14,{"$f":"I370*C370","v":0},9900000062,1,{"$f":"L370*C370","v":0},9900000002,1,{"$f":"O370*C370","v":0},9900000022,1,{"$f":"R370*C370","v":0},9900000072,1,{"$f":"U370*C370","v":0},null,null,{"$f":"X370*C370","v":0}]
[9900012802,{"$f":"Data!$A371-9900010000","v":2802},{"$f":"IF(EXACT($B371,LOOKUP($B371,'INPUT '!$D$16:$D$116)),LOOKUP($B371,'INPUT '!$D$16:$D$116,'INPUT '!$E$16:$E$116),\"0\")","v":"0"},{"$f":"IF(EXACT($B371,LOOKUP($B371,'INPUT '!$D$16:$D$116)),LOOKUP($B371,'INPUT '!$D$16:$D$116,'INPUT '!$F$16:$F$116),\"0\")","v":"0"},"SUPPORT OF STEEL",null,null,9900002802,14,{"$f":"I371*C371","v":0},9900000062,1,{"$f":"L371*C371","v":0},9900000002,1,{"$f":"O371*C371","v":0},9900000022,1,0,9900000072,1,{"$f":"U371*C371","v":0},null,null,{"$f":"X371*C371","v":0}]
[9900012814,{"$f":"Data!$A372-9900010000","v":2814},{"$f":"IF(EXACT($B372,LOOKUP($B372,'INPUT '!$D$16:$D$116)),LOOKUP($B372,'INPUT '!$D$16:$D$116,'INPUT '!$E$16:$E$116),\"0\")","v":"0"},{"$f":"IF(EXACT($B372,LOOKUP($B372,'INPUT '!$D$16:$D$116)),LOOKUP($B372,'INPUT '!$D$16:$D$116,'INPUT '!$F$16:$F$116),\"0\")","v":"0"},"INSERT OF FOAM",null,null,9900002814,20,0,9900000061,1,0,9900000001,1,{"$f":"O372*C372","v":0},9900000021,4,0,9900000071,1,{"$f":"U372*C372","v":0},9900001041,1,0]
[9900012815,{"$f":"Data!$A373-9900010000","v":2815},{"$f":"IF(EXACT($B373,LOOKUP($B373,'INPUT '!$D$16:$D$116)),LOOKUP($B373,'INPUT '!$D$16:$D$116,'INPUT '!$E$16:$E$116),\"0\")","v":"0"},{"$f":"IF(EXACT($B373,LOOKUP($B373,'INPUT '!$D$16:$D$116)),LOOKUP($B373,'INPUT '!$D$16:$D$116,'INPUT '!$F$16:$F$116),\"0\")","v":"0"},"INSERT OF FOAM",null,null,9900002815,14,0,9900000061,1,0,9900000001,1,{"$f":"O373*C373","v":0},9900000021,4,0,9900000071,1,{"$f":"U373*C373","v":0},9900001041,1,0]
[9900012816,{"$f":"Data!$A374-9900010000","v":2816},{"$f":"IF(EXACT($B374,LOOKUP($B374,'INPUT '!$D$16:$D$116)),LOOKUP($B374,'INPUT '!$D$16:$D$116,'INPUT '!$E$16:$E$116),\"0\")","v":"0"},{"$f":"IF(EXACT($B374,LOOKUP($B374,'INPUT '!$D$16:$D$116)),LOOKUP($B374,'INPUT '!$D$16:$D$116,'INPUT '!$F$16:$F$116),\"0\")","v":"0"},"INSERT OF FOAM",null,null,9900002816,18,0,9900000062,1,0,9900000002,1,{"$f":"O374*C374","v":0},9900000022,3,0,9900000072,1,{"$f":"U374*C374","v":0},9900001022,1,0]
[9900012817,{"$f":"Data!$A375-9900010000","v":2817},{"$f":"IF(EXACT($B375,LOOKUP($B375,'INPUT '!$D$16:$D$116)),LOOKUP($B375,'INPUT '!$D$16:$D$116,'INPUT '!$E$16:$E$116),\"0\")","v":"0"},{"$f":"IF(EXACT($B375,LOOKUP($B375,'INPUT '!$D$16:$D$116)),LOOKUP($B375,'INPUT '!$D$16:$D$116,'INPUT '!$F$16:$F$116),\"0\")","v":"0"},"INSERT OF FOAM",null,null,9900002817,18,0,9900000062,1,0,9900000002,1,{"$f":"O375*C375","v":0},9900000022,3,0,9900000072,1,{"$f":"U375*C375","v":0},9900001022,1,0]
[9900013000,{"$f":"Data!$A376-9900010000","v":3000},{"$f":"IF(EXACT($B376,LOOKUP($B376,'INPUT '!$D$16:$D$116)),LOOKUP($B376,'INPUT '!$D$16:$D$116,'INPUT '!$E$16:$E$116),\"0\")","v":"0"},{"$f":"IF(EXACT($B376,LOOKUP($B376,'INPUT '!$D$16:$D$116)),LOOKUP($B376,'INPUT '!$D$16:$D$116,'INPUT '!$F$16:$F$116),\"0\")","v":"0"},"INSERT OF RUBBER",null,null,9900003000,300,{"$f":"I376*C376","v":0},9900000061,1,{"$f":"L376*C376","v":0},9900000001,1,{"$f":"O376*C376","v":0},9900000021,1,{"$f":"R376*C376","v":0},9900000071,1,{"$f":"U376*C376","v":0},null,null,{"$f":"X376*C376","v":0}]
[9900013023,{"$f":"Data!$A377-9900010000","v":3023},{"$f":"IF(EXACT($B377,LOOKUP($B377,'INPUT '!$D$16:$D$116)),LOOKUP($B377,'INPUT '!$D$16:$D$116,'INPUT '!$E$16:$E$116),\"0\")","v":"0"},{"$f":"IF(EXACT($B377,LOOKUP($B377,'INPUT '!$D$16:$D$116)),LOOKUP($B377,'INPUT '!$D$16:$D$116,'INPUT '!$F$16:$F$116),\"0\")","v":"0"},"FIXING SPACER OF PLASTIC",null,null,9900003023,70,0,null,null,0,9900000001,1,0,9900000021,4,0,9900000071,1,0,9900001041,1,0]
[9900013093,{"$f":"Data!$A378-9900010000","v":3093},{"$f":"IF(EXACT($B378,LOOKUP($B378,'INPUT '!$D$16:$D$116)),LOOKUP($B378,'INPUT '!$D$16:$D$116,'INPUT '!$E$16:$E$116),\"0\")","v":"0"},{"$f":"IF(EXACT($B378,LOOKUP($B378,'INPUT '!$D$16:$D$116)),LOOKUP($B378,'INPUT '!$D$16:$D$116,'INPUT '!$F$16:$F$116),\"0\")","v":"0"},"SUPPORT OF STEEL",null,null,9900003093,300,0,null,null,0,9900000001,1,0,9900000021,2,0,9900000071,1,0,null,null,0]
[9900013099,{"$f":"Data!$A379-9900010000","v":3099},{"$f":"IF(EXACT($B379,LOOKUP($B379,'INPUT '!$D$16:$D$116)),LOOKUP($B379,'INPUT '!$D$16:$D$116,'INPUT '!$E$16:$E$116),\"0\")","v":"0"},{"$f":"IF(EXACT($B379,LOOKUP($B379,'INPUT '!$D$16:$D$116)),LOOKUP($B379,'INPUT '!$D$16:$D$116,'INPUT '!$F$16:$F$116),\"0\")","v":"0"},"RACK OF STEEL",null,null,9900003099,1,{"$f":"I379*C379","v":0},null,null,{"$f":"L379*C379","v":0},null,null,{"$f":"O379*C379","v":0},null,null,{"$f":"R379*C379","v":0},null,null,{"$f":"U379*C379","v":0},null,null,{"$f":"X379*C379","v":0}]
[9900013100,{"$f":"Data!$A380-9900010000","v":3100},{"$f":"IF(EXACT($B380,LOOKUP($B380,'INPUT '!$D$16:$D$116)),LOOKUP($B380,'INPUT '!$D$16:$D$116,'INPUT '!$E$16:$E$116),\"0\")","v":"0"},{"$f":"IF(EXACT($B380,LOOKUP($B380,'INPUT '!$D$16:$D$116)),LOOKUP($B380,'INPUT '!$D$16:$D$116,'INPUT '!$F$16:$F$116),\"0\")","v":"0"},"RACK OF STEEL",null,null,9900003100,1,{"$f":"I380*C380","v":0},null,null,{"$f":"L380*C380","v":0},null,null,{"$f":"O380*C380","v":0},null,null,{"$f":"R380*C380","v":0},null,null,{"$f":"U380*C380","v":0},null,null,{"$f":"X380*C380","v":0}]
[9900013101,{"$f":"Data!$A381-9900010000","v":3101},{"$f":"IF(EXACT($B381,LOOKUP($B381,'INPUT '!$D$16:$D$116)),LOOKUP($B381,'INPUT '!$D$16:$D$116,'INPUT '!$E$16:$E$116),\"0\")","v":"0"},{"$f":"IF(EXACT($B381,LOOKUP($B381,'INPUT '!$D$16:$D$116)),LOOKUP($B381,'INPUT '!$D$16:$D$116,'INPUT '!$F$16:$F$116),\"0\")","v":"0"},"COMBITAINER",null,null,9900003101,1,{"$f":"I381*C381","v":0},null,null,{"$f":"L381*C381","v":0},null,null,{"$f":"O381*C381","v":0},null,null,{"$f":"R381*C381","v":0},null,null,{"$f":"U381*C381","v":0},null,null,{"$f":"X381*C381","v":0}]
[9900013103,{"$f":"Data!$A382-9900010000","v":3103},{"$f":"IF(EXACT($B382,LOOKUP($B382,'INPUT '!$D$16:$D$116)),LOOKUP($B382,'INPUT '!$D$16:$D$116,'INPUT '!$E$16:$E$116),\"0\")","v":"0"},{"$f":"IF(EXACT($B382,LOOKUP($B382,'INPUT '!$D$16:$D$116)),LOOKUP($B382,'INPUT '!$D$16:$D$116,'INPUT '!$F$16:$F$116),\"0\")","v":"0"},"RACK OF STEEL",null,null,9900003103,1,{"$f":"I382*C382","v":0},null,null,{"$f":"L382*C382","v":0},null,null,{"$f":"O382*C382","v":0},null,null,{"$f":"R382*C382","v":0},null,null,{"$f":"U382*C382","v":0},null,null,{"$f":"X382*C382","v":0}]
[9900013127,{"$f":"Data!$A383-9900010000","v":3127},{"$f":"IF(EXACT($B383,LOOKUP($B383,'INPUT '!$D$16:$D$116)),LOOKUP($B383,'INPUT '!$D$16:$D$116,'INPUT '!$E$16:$E$116),\"0\")","v":"0"},{"$f":"IF(EXACT($B383,LOOKUP($B383,'INPUT '!$D$16:$D$116)),LOOKUP($B383,'INPUT '!$D$16:$D$116,'INPUT '!$F$16:$F$116),\"0\")","v":"0"},"FIXING SPACER OF WOOD",null,null,9900003127,1,0,null,null,0,null,null,0,null,null,0,null,null,0,null,null,0]
[9900013145,{"$f":"Data!$A384-9900010000","v":3145},{"$f":"IF(EXACT($B384,LOOKUP($B384,'INPUT '!$D$16:$D$116)),LOOKUP($B384,'INPUT '!$D$16:$D$116,'INPUT '!$E$16:$E$116),\"0\")","v":"0"},{"$f":"IF(EXACT($B384,LOOKUP($B384,'INPUT '!$D$16:$D$116)),LOOKUP($B384,'INPUT '!$D$16:$D$116,'INPUT '!$F$16:$F$116),\"0\")","v":"0"},"RACK OF STEEL",null,null,9900003145,1,0,null,null,0,null,null,0,null,null,0,null,null,0,null,null,0]
[9900013183,{"$f":"Data!$A385-9900010000","v":3183},{"$f":"IF(EXACT($B385,LOOKUP($B385,'INPUT '!$D$16:$D$116)),LOOKUP($B385,'INPUT '!$D$16:$D$116,'INPUT '!$E$16:$E$116),\"0\")","v":"0"},{"$f":"IF(EXACT($B385,LOOKUP($B385,'INPUT '!$D$16:$D$116)),LOOKUP($B385,'INPUT '!$D$16:$D$116,'INPUT '!$F$16:$F$116),\"0\")","v":"0"},"FIXING SPACER OF PLASTIC",null,null,9900003183,24,0,null,null,0,9900000001,1,0,null,null,0,9900003184,1,0,null,null,0]
[9900013184,{"$f":"Data!$A386-9900010000","v":3184},{"$f":"IF(EXACT($B386,LOOKUP($B386,'INPUT '!$D$16:$D$116)),LOOKUP($B386,'INPUT '!$D$16:$D$116,'INPUT '!$E$16:$E$116),\"0\")","v":"0"},{"$f":"IF(EXACT($B386,LOOKUP($B386,'INPUT '!$D$16:$D$116)),LOOKUP($B386,'INPUT '!$D$16:$D$116,'INPUT '!$F$16:$F$116),\"0\")","v":"0"},"LID OF PLASTIC","PIECE",null,9900003184,null,0,null,null,0,null,null,0,null,null,0,null,null,0,null,null,0]
[9900013581,{"$f":"Data!$A387-9900010000","v":3581},{"$f":"IF(EXACT($B387,LOOKUP($B387,'INPUT '!$D$16:$D$116)),LOOKUP($B387,'INPUT '!$D$16:$D$116,'INPUT '!$E$16:$E$116),\"0\")","v":"0"},{"$f":"IF(EXACT($B387,LOOKUP($B387,'INPUT '!$D$16:$D$116)),LOOKUP($B387,'INPUT '!$D$16:$D$116,'INPUT '!$F$16:$F$116),\"0\")","v":"0"},"TRAY OF PLASTIC",null,null,9900003581,3,{"$f":"I387*C387","v":0},null,null,{"$f":"L387*C387","v":0},9900000002,1,{"$f":"O387*C387","v":0},null,null,{"$f":"R387*C387","v":0},9900000092,1,{"$f":"U387*C387","v":0},null,null,{"$f":"X387*C387","v":0}]
[9900013871,{"$f":"Data!$A388-9900010000","v":3871},{"$f":"IF(EXACT($B388,LOOKUP($B388,'INPUT '!$D$16:$D$116)),LOOKUP($B388,'INPUT '!$D$16:$D$116,'INPUT '!$E$16:$E$116),\"0\")","v":"0"},{"$f":"IF(EXACT($B388,LOOKUP($B388,'INPUT '!$D$16:$D$116)),LOOKUP($B388,'INPUT '!$D$16:$D$116,'INPUT '!$F$16:$F$116),\"0\")","v":"0"},"SUPPORT OF STEEL",null,null,9900000387,1,{"$f":"I388*C388","v":0},9900008019,1,{"$f":"L388*C388","v":0},null,null,{"$f":"O388*C388","v":0},null,null,0,null,null,{"$f":"U388*C388","v":0},null,null,{"$f":"X388*C388","v":0}]
[9900013926,{"$f":"Data!$A389-9900010000","v":3926},{"$f":"IF(EXACT($B389,LOOKUP($B389,'INPUT '!$D$16:$D$116)),LOOKUP($B389,'INPUT '!$D$16:$D$116,'INPUT '!$E$16:$E$116),\"0\")","v":"0"},{"$f":"IF(EXACT($B389,LOOKUP($B389,'INPUT '!$D$16:$D$116)),LOOKUP($B389,'INPUT '!$D$16:$D$116,'INPUT '!$F$16:$F$116),\"0\")","v":"0"},"FIXING SPACER OF PLASTIC",null,null,9900003926,14,0,null,null,0,null,null,0,null,null,0,null,null,0,null,null,0]
[9900013927,{"$f":"Data!$A390-9900010000","v":3927},{"$f":"IF(EXACT($B390,LOOKUP($B390,'INPUT '!$D$16:$D$116)),LOOKUP($B390,'INPUT '!$D$16:$D$116,'INPUT '!$E$16:$E$116),\"0\")","v":"0"},{"$f":"IF(EXACT($B390,LOOKUP($B390,'INPUT '!$D$16:$D$116)),LOOKUP($B390,'INPUT '!$D$16:$D$116,'INPUT '!$F$16:$F$116),\"0\")","v":"0"},"FIXING SPACER OF PLASTIC",null,null,9900003927,14,0,null,null,0,null,null,0,null,null,0,null,null,0,null,null,0]
[9900014019,{"$f":"Data!$A391-9900010000","v":4019},{"$f":"IF(EXACT($B391,LOOKUP($B391,'INPUT '!$D$16:$D$116)),LOOKUP($B391,'INPUT '!$D$16:$D$116,'INPUT '!$E$16:$E$116),\"0\")","v":"0"},{"$f":"IF(EXACT($B391,LOOKUP($B391,'INPUT '!$D$16:$D$116)),LOOKUP($B391,'INPUT '!$D$16:$D$116,'INPUT '!$F$16:$F$116),\"0\")","v":"0"},"FIXING SPACER OF STEEL/TEXTILE",null,null,9900004019,10,{"$f":"I391*C391","v":0},null,null,{"$f":"L391*C391","v":0},9900000001,1,0,9900000021,1,0,9900000091,1,0,null,null,{"$f":"X391*C391","v":0}]
[9900014020,{"$f":"Data!$A392-9900010000","v":4020},{"$f":"IF(EXACT($B392,LOOKUP($B392,'INPUT '!$D$16:$D$116)),LOOKUP($B392,'INPUT '!$D$16:$D$116,'INPUT '!$E$16:$E$116),\"0\")","v":"0"},{"$f":"IF(EXACT($B392,LOOKUP($B392,'INPUT '!$D$16:$D$116)),LOOKUP($B392,'INPUT '!$D$16:$D$116,'INPUT '!$F$16:$F$116),\"0\")","v":"0"},"FIXING SPACER OF STEEL/TEXTILE",null,null,9900004020,19,0,null,null,0,9900000001,1,0,9900000021,4,0,9900000091,1,0,null,null,0]
[9900014021,{"$f":"Data!$A393-9900010000","v":4021},{"$f":"IF(EXACT($B393,LOOKUP($B393,'INPUT '!$D$16:$D$116)),LOOKUP($B393,'INPUT '!$D$16:$D$116,'INPUT '!$E$16:$E$116),\"0\")","v":"0"},{"$f":"IF(EXACT($B393,LOOKUP($B393,'INPUT '!$D$16:$D$116)),LOOKUP($B393,'INPUT '!$D$16:$D$116,'INPUT '!$F$16:$F$116),\"0\")","v":"0"},"INSERT OF PLASTIC",null,null,9900004021,9,{"$f":"I393*C393","v":0},null,null,{"$f":"L393*C393","v":0},9900000001,1,{"$f":"O393*C393","v":0},9900000021,4,0,9900000071,1,{"$f":"U393*C393","v":0},9900001041,1,{"$f":"X393*C393","v":0}]
[9900014022,{"$f":"Data!$A394-9900010000","v":4022},{"$f":"IF(EXACT($B394,LOOKUP($B394,'INPUT '!$D$16:$D$116)),LOOKUP($B394,'INPUT '!$D$16:$D$116,'INPUT '!$E$16:$E$116),\"0\")","v":"0"},{"$f":"IF(EXACT($B394,LOOKUP($B394,'INPUT '!$D$16:$D$116)),LOOKUP($B394,'INPUT '!$D$16:$D$116,'INPUT '!$F$16:$F$116),\"0\")","v":"0"},"Insert Of Plastic",null,null,9900004022,6,0,null,null,0,9900000001,1,0,9900000021,4,0,9900000071,1,0,9900001041,1,0]
[9900014024,{"$f":"Data!$A395-9900010000","v":4024},{"$f":"IF(EXACT($B395,LOOKUP($B395,'INPUT '!$D$16:$D$116)),LOOKUP($B395,'INPUT '!$D$16:$D$116,'INPUT '!$E$16:$E$116),\"0\")","v":"0"},{"$f":"IF(EXACT($B395,LOOKUP($B395,'INPUT '!$D$16:$D$116)),LOOKUP($B395,'INPUT '!$D$16:$D$116,'INPUT '!$F$16:$F$116),\"0\")","v":"0"},"HANGER OF STEEL",null,null,9900004024,30,{"$f":"I395*C395","v":0},null,null,{"$f":"L395*C395","v":0},9900000009,1,{"$f":"O395*C395","v":0},9900000029,2,0,9900000079,2,{"$f":"U395*C395","v":0},null,null,{"$f":"X395*C395","v":0}]
[9900014152,{"$f":"Data!$A396-9900010000","v":4152},{"$f":"IF(EXACT($B396,LOOKUP($B396,'INPUT '!$D$16:$D$116)),LOOKUP($B396,'INPUT '!$D$16:$D$116,'INPUT '!$E$16:$E$116),\"0\")","v":"0"},{"$f":"IF(EXACT($B396,LOOKUP($B396,'INPUT '!$D$16:$D$116)),LOOKUP($B396,'INPUT '!$D$16:$D$116,'INPUT '!$F$16:$F$116),\"0\")","v":"0"},"BAG OF PLASTIC",null,null,9900004152,600,0,null,null,0,9900000001,1,0,9900000021,4,0,9900000071,1,0,null,null,0]
[9900014205,{"$f":"Data!$A397-9900010000","v":4205},{"$f":"IF(EXACT($B397,LOOKUP($B397,'INPUT '!$D$16:$D$116)),LOOKUP($B397,'INPUT '!$D$16:$D$116,'INPUT '!$E$16:$E$116),\"0\")","v":"0"},{"$f":"IF(EXACT($B397,LOOKUP($B397,'INPUT '!$D$16:$D$116)),LOOKUP($B397,'INPUT '!$D$16:$D$116,'INPUT '!$F$16:$F$116),\"0\")","v":"0"},"FIXING SPACER OF PLASTIC",null,null,9900004205,180,0,null,null,0,9900000001,1,0,9900000021,4,0,9900000071,1,0,9900001041,1,0]
[9900014351,{"$f":"Data!$A398-9900010000","v":4351},{"$f":"IF(EXACT($B398,LOOKUP($B398,'INPUT '!$D$16:$D$116)),LOOKUP($B398,'INPUT '!$D$16:$D$116,'INPUT '!$E$16:$E$116),\"0\")","v":"0"},{"$f":"IF(EXACT($B398,LOOKUP($B398,'INPUT '!$D$16:$D$116)),LOOKUP($B398,'INPUT '!$D$16:$D$116,'INPUT '!$F$16:$F$116),\"0\")","v":"0"},"BOX INSERT",null,null,9900004351,25,0,null,null,0,9900000001,1,0,null,null,0,null,null,0,null,null,0]
[9900014356,{"$f":"Data!$A399-9900010000","v":4356},{"$f":"IF(EXACT($B399,LOOKUP($B399,'INPUT '!$D$16:$D$116)),LOOKUP($B399,'INPUT '!$D$16:$D$116,'INPUT '!$E$16:$E$116),\"0\")","v":"0"},{"$f":"IF(EXACT($B399,LOOKUP($B399,'INPUT '!$D$16:$D$116)),LOOKUP($B399,'INPUT '!$D$16:$D$116,'INPUT '!$F$16:$F$116),\"0\")","v":"0"},"RACK OF STEEL",null,null,9900004356,1,0,null,null,0,null,null,0,null,null,0,null,null,0,null,null,0]
[9900014365,{"$f":"Data!$A400-9900010000","v":4365},{"$f":"IF(EXACT($B400,LOOKUP($B400,'INPUT '!$D$16:$D$116)),LOOKUP($B400,'INPUT '!$D$16:$D$116,'INPUT '!$E$16:$E$116),\"0\")","v":"0"},{"$f":"IF(EXACT($B400,LOOKUP($B400,'INPUT '!$D$16:$D$116)),LOOKUP($B400,'INPUT '!$D$16:$D$116,'INPUT '!$F$16:$F$116),\"0\")","v":"0"},"FIXING SPACER OF PLASTIC",null,null,9900004365,28,0,null,null,0,9900000001,1,0,null,null,0,9900000071,1,0,9900001041,1,0]
[9900014370,{"$f":"Data!$A401-9900010000","v":4370},{"$f":"IF(EXACT($B401,LOOKUP($B401,'INPUT '!$D$16:$D$116)),LOOKUP($B401,'INPUT '!$D$16:$D$116,'INPUT '!$E$16:$E$116),\"0\")","v":"0"},{"$f":"IF(EXACT($B401,LOOKUP($B401,'INPUT '!$D$16:$D$116)),LOOKUP($B401,'INPUT '!$D$16:$D$116,'INPUT '!$F$16:$F$116),\"0\")","v":"0"},"FIXING SPACER OF PLASTIC",null,null,9900004370,16,0,null,null,0,9900000001,1,0,null,null,0,null,null,0,null,null,0]
[9900014378,{"$f":"Data!$A402-9900010000","v":4378},{"$f":"IF(EXACT($B402,LOOKUP($B402,'INPUT '!$D$16:$D$116)),LOOKUP($B402,'INPUT '!$D$16:$D$116,'INPUT '!$E$16:$E$116),\"0\")","v":"0"},{"$f":"IF(EXACT($B402,LOOKUP($B402,'INPUT '!$D$16:$D$116)),LOOKUP($B402,'INPUT '!$D$16:$D$116,'INPUT '!$F$16:$F$116),\"0\")","v":"0"},"FIXING SPACER OF PLASTIC",null,null,9900004378,70,{"$f":"I402*C402","v":0},null,1,{"$f":"L402*C402","v":0},null,null,{"$f":"O402*C402","v":0},null,null,0,null,null,{"$f":"U402*C402","v":0},null,null,{"$f":"X402*C402","v":0}]
[9900014381,{"$f":"Data!$A403-9900010000","v":4381},{"$f":"IF(EXACT($B403,LOOKUP($B403,'INPUT '!$D$16:$D$116)),LOOKUP($B403,'INPUT '!$D$16:$D$116,'INPUT '!$E$16:$E$116),\"0\")","v":"0"},{"$f":"IF(EXACT($B403,LOOKUP($B403,'INPUT '!$D$16:$D$116)),LOOKUP($B403,'INPUT '!$D$16:$D$116,'INPUT '!$F$16:$F$116),\"0\")","v":"0"},"FIXING SPACER OF PLASTIC",null,null,9900004381,70,0,null,1,0,null,null,0,null,null,0,null,null,0,null,null,0]
[9900014387,{"$f":"Data!$A404-9900010000","v":4387},{"$f":"IF(EXACT($B404,LOOKUP($B404,'INPUT '!$D$16:$D$116)),LOOKUP($B404,'INPUT '!$D$16:$D$116,'INPUT '!$E$16:$E$116),\"0\")","v":"0"},{"$f":"IF(EXACT($B404,LOOKUP($B404,'INPUT '!$D$16:$D$116)),LOOKUP($B404,'INPUT '!$D$16:$D$116,'INPUT '!$F$16:$F$116),\"0\")","v":"0"},"FIXING SPACER OF PLASTIC",null,null,9900004387,42,{"$f":"I404*C404","v":0},null,null,{"$f":"L404*C404","v":0},9900000001,1,{"$f":"O404*C404","v":0},9900000021,4,0,9900000071,1,{"$f":"U404*C404","v":0},null,null,{"$f":"X404*C404","v":0}]
[9900014388,{"$f":"Data!$A405-9900010000","v":4388},{"$f":"IF(EXACT($B405,LOOKUP($B405,'INPUT '!$D$16:$D$116)),LOOKUP($B405,'INPUT '!$D$16:$D$116,'INPUT '!$E$16:$E$116),\"0\")","v":"0"},{"$f":"IF(EXACT($B405,LOOKUP($B405,'INPUT '!$D$16:$D$116)),LOOKUP($B405,'INPUT '!$D$16:$D$116,'INPUT '!$F$16:$F$116),\"0\")","v":"0"},"FIXING SPACER OF PLASTIC",null,null,9900004388,20,0,null,null,0,9900000001,1,0,9900000021,4,0,9900000071,1,0,null,null,0]
[9900014390,{"$f":"Data!$A406-9900010000","v":4390},{"$f":"IF(EXACT($B406,LOOKUP($B406,'INPUT '!$D$16:$D$116)),LOOKUP($B406,'INPUT '!$D$16:$D$116,'INPUT '!$E$16:$E$116),\"0\")","v":"0"},{"$f":"IF(EXACT($B406,LOOKUP($B406,'INPUT '!$D$16:$D$116)),LOOKUP($B406,'INPUT '!$D$16:$D$116,'INPUT '!$F$16:$F$116),\"0\")","v":"0"},"FIXING SPACER OF PLASTIC",null,null,9900004390,30,0,null,1,0,null,null,0,null,null,0,null,null,0,9900001041,1,0]
[9900014391,{"$f":"Data!$A407-9900010000","v":4391},{"$f":"IF(EXACT($B407,LOOKUP($B407,'INPUT '!$D$16:$D$116)),LOOKUP($B407,'INPUT '!$D$16:$D$116,'INPUT '!$E$16:$E$116),\"0\")","v":"0"},{"$f":"IF(EXACT($B407,LOOKUP($B407,'INPUT '!$D$16:$D$116)),LOOKUP($B407,'INPUT '!$D$16:$D$116,'INPUT '!$F$16:$F$116),\"0\")","v":"0"},"FIXING SPACER OF PLASTIC",null,null,9900004391,5,0,null,1,0,null,null,0,null,null,0,null,null,0,9900001041,1,0]
[9900014398,{"$f":"Data!$A408-9900010000","v":4398},{"$f":"IF(EXACT($B408,LOOKUP($B408,'INPUT '!$D$16:$D$116)),LOOKUP($B408,'INPUT '!$D$16:$D$116,'INPUT '!$E$16:$E$116),\"0\")","v":"0"},{"$f":"IF(EXACT($B408,LOOKUP($B408,'INPUT '!$D$16:$D$116)),LOOKUP($B408,'INPUT '!$D$16:$D$116,'INPUT '!$F$16:$F$116),\"0\")","v":"0"},"FIXING SPACER OF PLASTIC",null,null,9900004398,70,0,null,1,0,null,null,0,null,null,0,null,null,0,null,null,0]
[9900014399,{"$f":"Data!$A409-9900010000","v":4399},{"$f":"IF(EXACT($B409,LOOKUP($B409,'INPUT '!$D$16:$D$116)),LOOKUP($B409,'INPUT '!$D$16:$D$116,'INPUT '!$E$16:$E$116),\"0\")","v":"0"},{"$f":"IF(EXACT($B409,LOOKUP($B409,'INPUT '!$D$16:$D$116)),LOOKUP($B409,'INPUT '!$D$16:$D$116,'INPUT '!$F$16:$F$116),\"0\")","v":"0"},"FIXING SPACER OF PLASTIC",null,null,9900004399,11,{"$f":"I409*C409","v":0},null,null,{"$f":"L409*C409","v":0},9900000001,1,{"$f":"O409*C409","v":0},null,null,{"$f":"R409*C409","v":0},null,null,{"$f":"U409*C409","v":0},null,null,{"$f":"X409*C409","v":0}]
[9900014400,{"$f":"Data!$A410-9900010000","v":4400},{"$f":"IF(EXACT($B410,LOOKUP($B410,'INPUT '!$D$16:$D$116)),LOOKUP($B410,'INPUT '!$D$16:$D$116,'INPUT '!$E$16:$E$116),\"0\")","v":"0"},{"$f":"IF(EXACT($B410,LOOKUP($B410,'INPUT '!$D$16:$D$116)),LOOKUP($B410,'INPUT '!$D$16:$D$116,'INPUT '!$F$16:$F$116),\"0\")","v":"0"},"PALLET OF WOOD",null,null,9900004400,1,0,null,null,0,null,null,0,null,null,0,null,null,0,null,null,0]
[9900014401,{"$f":"Data!$A411-9900010000","v":4401},{"$f":"IF(EXACT($B411,LOOKUP($B411,'INPUT '!$D$16:$D$116)),LOOKUP($B411,'INPUT '!$D$16:$D$116,'INPUT '!$E$16:$E$116),\"0\")","v":"0"},{"$f":"IF(EXACT($B411,LOOKUP($B411,'INPUT '!$D$16:$D$116)),LOOKUP($B411,'INPUT '!$D$16:$D$116,'INPUT '!$F$16:$F$116),\"0\")","v":"0"},"FIXING SPACER OF PLASTIC",null,null,9900004401,24,0,null,null,0,9900004400,1,0,9900004399,1,0,9900004402,1,0,null,null,0]
[9900014402,{"$f":"Data!$A412-9900010000","v":4402},{"$f":"IF(EXACT($B412,LOOKUP($B412,'INPUT '!$D$16:$D$116)),LOOKUP($B412,'INPUT '!$D$16:$D$116,'INPUT '!$E$16:$E$116),\"0\")","v":"0"},{"$f":"IF(EXACT($B412,LOOKUP($B412,'INPUT '!$D$16:$D$116)),LOOKUP($B412,'INPUT '!$D$16:$D$116,'INPUT '!$F$16:$F$116),\"0\")","v":"0"},"LID OF PLASTIC",null,null,9900004402,25,0,null,null,0,9900004400,1,0,9900004399,1,0,null,null,0,null,null,0]
[9900014403,{"$f":"Data!$A413-9900010000","v":4403},{"$f":"IF(EXACT($B413,LOOKUP($B413,'INPUT '!$D$16:$D$116)),LOOKUP($B413,'INPUT '!$D$16:$D$116,'INPUT '!$E$16:$E$116),\"0\")","v":"0"},{"$f":"IF(EXACT($B413,LOOKUP($B413,'INPUT '!$D$16:$D$116)),LOOKUP($B413,'INPUT '!$D$16:$D$116,'INPUT '!$F$16:$F$116),\"0\")","v":"0"},"PALLET OF WOOD",null,null,9900004403,6,0,null,null,0,null,null,0,null,null,0,null,null,0,null,null,0]
[9900014404,{"$f":"Data!$A414-9900010000","v":4404},{"$f":"IF(EXACT($B414,LOOKUP($B414,'INPUT '!$D$16:$D$116)),LOOKUP($B414,'INPUT '!$D$16:$D$116,'INPUT '!$E$16:$E$116),\"0\")","v":"0"},{"$f":"IF(EXACT($B414,LOOKUP($B414,'INPUT '!$D$16:$D$116)),LOOKUP($B414,'INPUT '!$D$16:$D$116,'INPUT '!$F$16:$F$116),\"0\")","v":"0"},"FIXING SPACER OF PLASTIC",null,null,9900004404,14,0,null,null,0,9900004403,1,0,9900004399,1,0,null,null,0,null,null,0]
[9900014405,{"$f":"Data!$A415-9900010000","v":4405},{"$f":"IF(EXACT($B415,LOOKUP($B415,'INPUT '!$D$16:$D$116)),LOOKUP($B415,'INPUT '!$D$16:$D$116,'INPUT '!$E$16:$E$116),\"0\")","v":"0"},{"$f":"IF(EXACT($B415,LOOKUP($B415,'INPUT '!$D$16:$D$116)),LOOKUP($B415,'INPUT '!$D$16:$D$116,'INPUT '!$F$16:$F$116),\"0\")","v":"0"},"LID OF PLASTIC",null,null,9900004405,14,0,null,null,0,9900004403,1,0,9900004399,1,0,null,null,0,null,null,0]
[9900014406,{"$f":"Data!$A416-9900010000","v":4406},{"$f":"IF(EXACT($B416,LOOKUP($B416,'INPUT '!$D$16:$D$116)),LOOKUP($B416,'INPUT '!$D$16:$D$116,'INPUT '!$E$16:$E$116),\"0\")","v":"0"},{"$f":"IF(EXACT($B416,LOOKUP($B416,'INPUT '!$D$16:$D$116)),LOOKUP($B416,'INPUT '!$D$16:$D$116,'INPUT '!$F$16:$F$116),\"0\")","v":"0"},"PALLET OF WOOD",null,null,9900004406,6,0,null,null,0,null,null,0,null,null,0,null,null,0,null,null,0]
[9900014407,{"$f":"Data!$A417-9900010000","v":4407},{"$f":"IF(EXACT($B417,LOOKUP($B417,'INPUT '!$D$16:$D$116)),LOOKUP($B417,'INPUT '!$D$16:$D$116,'INPUT '!$E$16:$E$116),\"0\")","v":"0"},{"$f":"IF(EXACT($B417,LOOKUP($B417,'INPUT '!$D$16:$D$116)),LOOKUP($B417,'INPUT '!$D$16:$D$116,'INPUT '!$F$16:$F$116),\"0\")","v":"0"},"FIXING SPACER OF PLASTIC",null,null,9900004407,24,0,null,null,0,9900004406,1,0,9900004399,1,0,9900004408,1,0,null,null,0]
[9900014408,{"$f":"Data!$A418-9900010000","v":4408},{"$f":"IF(EXACT($B418,LOOKUP($B418,'INPUT '!$D$16:$D$116)),LOOKUP($B418,'INPUT '!$D$16:$D$116,'INPUT '!$E$16:$E$116),\"0\")","v":"0"},{"$f":"IF(EXACT($B418,LOOKUP($B418,'INPUT '!$D$16:$D$116)),LOOKUP($B418,'INPUT '!$D$16:$D$116,'INPUT '!$F$16:$F$116),\"0\")","v":"0"},"LID OF PLASTIC",null,null,9900004408,25,0,null,null,0,9900004406,1,0,9900004399,1,0,null,null,0,null,null,0]
[9900014448,{"$f":"Data!$A419-9900010000","v":4448},{"$f":"IF(EXACT($B419,LOOKUP($B419,'INPUT '!$D$16:$D$116)),LOOKUP($B419,'INPUT '!$D$16:$D$116,'INPUT '!$E$16:$E$116),\"0\")","v":"0"},{"$f":"IF(EXACT($B419,LOOKUP($B419,'INPUT '!$D$16:$D$116)),LOOKUP($B419,'INPUT '!$D$16:$D$116,'INPUT '!$F$16:$F$116),\"0\")","v":"0"},"FIXING SPACER OF STEEL",null,null,9900004448,200,0,null,null,0,9900000002,1,0,9900000022,1,0,9900000072,1,0,null,null,0]
[9900014450,{"$f":"Data!$A420-9900010000","v":4450},{"$f":"IF(EXACT($B420,LOOKUP($B420,'INPUT '!$D$16:$D$116)),LOOKUP($B420,'INPUT '!$D$16:$D$116,'INPUT '!$E$16:$E$116),\"0\")","v":"0"},{"$f":"IF(EXACT($B420,LOOKUP($B420,'INPUT '!$D$16:$D$116)),LOOKUP($B420,'INPUT '!$D$16:$D$116,'INPUT '!$F$16:$F$116),\"0\")","v":"0"},"FIXING SPACER OF PLASTIC",null,null,9900004450,40,0,9900020750,4,0,9900000002,1,0,null,null,0,9900000072,1,0,null,null,0]
[9900014451,{"$f":"Data!$A421-9900010000","v":4451},{"$f":"IF(EXACT($B421,LOOKUP($B421,'INPUT '!$D$16:$D$116)),LOOKUP($B421,'INPUT '!$D$16:$D$116,'INPUT '!$E$16:$E$116),\"0\")","v":"0"},{"$f":"IF(EXACT($B421,LOOKUP($B421,'INPUT '!$D$16:$D$116)),LOOKUP($B421,'INPUT '!$D$16:$D$116,'INPUT '!$F$16:$F$116),\"0\")","v":"0"},"FIXING SPACER OF PLASTIC",null,null,9900004451,34,0,null,null,0,9900000001,1,0,9900000021,4,0,9900000071,1,0,null,null,0]
[9900014452,{"$f":"Data!$A422-9900010000","v":4452},{"$f":"IF(EXACT($B422,LOOKUP($B422,'INPUT '!$D$16:$D$116)),LOOKUP($B422,'INPUT '!$D$16:$D$116,'INPUT '!$E$16:$E$116),\"0\")","v":"0"},{"$f":"IF(EXACT($B422,LOOKUP($B422,'INPUT '!$D$16:$D$116)),LOOKUP($B422,'INPUT '!$D$16:$D$116,'INPUT '!$F$16:$F$116),\"0\")","v":"0"},"FIXING SPACER OF PLASTIC",null,null,9900004452,34,0,null,null,0,9900000001,1,0,9900000021,4,0,9900000071,1,0,null,null,0]
[9900014453,{"$f":"Data!$A423-9900010000","v":4453},{"$f":"IF(EXACT($B423,LOOKUP($B423,'INPUT '!$D$16:$D$116)),LOOKUP($B423,'INPUT '!$D$16:$D$116,'INPUT '!$E$16:$E$116),\"0\")","v":"0"},{"$f":"IF(EXACT($B423,LOOKUP($B423,'INPUT '!$D$16:$D$116)),LOOKUP($B423,'INPUT '!$D$16:$D$116,'INPUT '!$F$16:$F$116),\"0\")","v":"0"},"FIXING SPACER OF PLASTIC",null,null,9900004453,33,0,null,null,0,9900000001,1,0,9900000021,4,0,9900000071,1,0,null,null,0]
[9900014454,{"$f":"Data!$A424-9900010000","v":4454},{"$f":"IF(EXACT($B424,LOOKUP($B424,'INPUT '!$D$16:$D$116)),LOOKUP($B424,'INPUT '!$D$16:$D$116,'INPUT '!$E$16:$E$116),\"0\")","v":"0"},{"$f":"IF(EXACT($B424,LOOKUP($B424,'INPUT '!$D$16:$D$116)),LOOKUP($B424,'INPUT '!$D$16:$D$116,'INPUT '!$F$16:$F$116),\"0\")","v":"0"},"FIXING SPACER OF PLASTIC",null,null,9900004454,35,0,null,null,0,9900000001,1,0,9900000021,4,0,9900000071,1,0,null,null,0]
[9900014455,{"$f":"Data!$A425-9900010000","v":4455},{"$f":"IF(EXACT($B425,LOOKUP($B425,'INPUT '!$D$16:$D$116)),LOOKUP($B425,'INPUT '!$D$16:$D$116,'INPUT '!$E$16:$E$116),\"0\")","v":"0"},{"$f":"IF(EXACT($B425,LOOKUP($B425,'INPUT '!$D$16:$D$116)),LOOKUP($B425,'INPUT '!$D$16:$D$116,'INPUT '!$F$16:$F$116),\"0\")","v":"0"},"FIXING SPACER OF PLASTIC",null,null,9900004455,38,0,null,null,0,9900000001,1,0,9900000021,4,0,9900000071,1,0,null,null,0]
[9900014456,{"$f":"Data!$A426-9900010000","v":4456},{"$f":"IF(EXACT($B426,LOOKUP($B426,'INPUT '!$D$16:$D$116)),LOOKUP($B426,'INPUT '!$D$16:$D$116,'INPUT '!$E$16:$E$116),\"0\")","v":"0"},{"$f":"IF(EXACT($B426,LOOKUP($B426,'INPUT '!$D$16:$D$116)),LOOKUP($B426,'INPUT '!$D$16:$D$116,'INPUT '!$F$16:$F$116),\"0\")","v":"0"},"FIXING SPACER OF PLASTIC",null,null,9900004456,31,0,null,null,0,9900000001,1,0,9900000021,4,0,9900000071,1,0,null,null,0]
[9900014457,{"$f":"Data!$A427-9900010000","v":4457},{"$f":"IF(EXACT($B427,LOOKUP($B427,'INPUT '!$D$16:$D$116)),LOOKUP($B427,'INPUT '!$D$16:$D$116,'INPUT '!$E$16:$E$116),\"0\")","v":"0"},{"$f":"IF(EXACT($B427,LOOKUP($B427,'INPUT '!$D$16:$D$116)),LOOKUP($B427,'INPUT '!$D$16:$D$116,'INPUT '!$F$16:$F$116),\"0\")","v":"0"},"FIXING SPACER OF PLASTIC",null,null,9900004457,25,0,null,null,0,9900000001,1,0,9900000021,4,0,9900000071,1,0,null,null,0]
[9900014458,{"$f":"Data!$A428-9900010000","v":4458},{"$f":"IF(EXACT($B428,LOOKUP($B428,'INPUT '!$D$16:$D$116)),LOOKUP($B428,'INPUT '!$D$16:$D$116,'INPUT '!$E$16:$E$116),\"0\")","v":"0"},{"$f":"IF(EXACT($B428,LOOKUP($B428,'INPUT '!$D$16:$D$116)),LOOKUP($B428,'INPUT '!$D$16:$D$116,'INPUT '!$F$16:$F$116),\"0\")","v":"0"},"FIXING SPACER OF PLASTIC",null,null,9900004458,12,{"$f":"I428*C428","v":0},null,null,{"$f":"L428*C428","v":0},9900000001,1,{"$f":"O428*C428","v":0},9900000021,2,{"$f":"R428*C428","v":0},9900000071,1,{"$f":"U428*C428","v":0},null,null,{"$f":"X428*C428","v":0}]
[9900014459,{"$f":"Data!$A429-9900010000","v":4459},{"$f":"IF(EXACT($B429,LOOKUP($B429,'INPUT '!$D$16:$D$116)),LOOKUP($B429,'INPUT '!$D$16:$D$116,'INPUT '!$E$16:$E$116),\"0\")","v":"0"},{"$f":"IF(EXACT($B429,LOOKUP($B429,'INPUT '!$D$16:$D$116)),LOOKUP($B429,'INPUT '!$D$16:$D$116,'INPUT '!$F$16:$F$116),\"0\")","v":"0"},"FIXING SPACER OF PLASTIC",null,null,9900004459,20,0,null,null,0,9900000001,1,0,9900000021,4,0,9900000071,1,0,null,null,0]
[9900014460,{"$f":"Data!$A430-9900010000","v":4460},{"$f":"IF(EXACT($B430,LOOKUP($B430,'INPUT '!$D$16:$D$116)),LOOKUP($B430,'INPUT '!$D$16:$D$116,'INPUT '!$E$16:$E$116),\"0\")","v":"0"},{"$f":"IF(EXACT($B430,LOOKUP($B430,'INPUT '!$D$16:$D$116)),LOOKUP($B430,'INPUT '!$D$16:$D$116,'INPUT '!$F$16:$F$116),\"0\")","v":"0"},"RACK OF STEEL",null,null,9900004460,1,0,null,null,0,null,null,0,null,null,0,null,null,0,null,null,0]
[9900014461,{"$f":"Data!$A431-9900010000","v":4461},{"$f":"IF(EXACT($B431,LOOKUP($B431,'INPUT '!$D$16:$D$116)),LOOKUP($B431,'INPUT '!$D$16:$D$116,'INPUT '!$E$16:$E$116),\"0\")","v":"0"},{"$f":"IF(EXACT($B431,LOOKUP($B431,'INPUT '!$D$16:$D$116)),LOOKUP($B431,'INPUT '!$D$16:$D$116,'INPUT '!$F$16:$F$116),\"0\")","v":"0"},"FIXING SPACER OF PLASTIC",null,null,9900004461,12,{"$f":"I431*C431","v":0},null,null,{"$f":"L431*C431","v":0},9900000001,1,{"$f":"O431*C431","v":0},9900000021,4,{"$f":"R431*C431","v":0},9900000071,1,{"$f":"U431*C431","v":0},null,null,{"$f":"X431*C431","v":0}]
[9900014462,{"$f":"Data!$A432-9900010000","v":4462},{"$f":"IF(EXACT($B432,LOOKUP($B432,'INPUT '!$D$16:$D$116)),LOOKUP($B432,'INPUT '!$D$16:$D$116,'INPUT '!$E$16:$E$116),\"0\")","v":"0"},{"$f":"IF(EXACT($B432,LOOKUP($B432,'INPUT '!$D$16:$D$116)),LOOKUP($B432,'INPUT '!$D$16:$D$116,'INPUT '!$F$16:$F$116),\"0\")","v":"0"},"RACK OF STEEL",null,null,9900004462,1,0,null,null,0,null,null,0,null,null,0,null,null,0,null,null,0]
[9900014464,{"$f":"Data!$A433-9900010000","v":4464},{"$f":"IF(EXACT($B433,LOOKUP($B433,'INPUT '!$D$16:$D$116)),LOOKUP($B433,'INPUT '!$D$16:$D$116,'INPUT '!$E$16:$E$116),\"0\")","v":"0"},{"$f":"IF(EXACT($B433,LOOKUP($B433,'INPUT '!$D$16:$D$116)),LOOKUP($B433,'INPUT '!$D$16:$D$116,'INPUT '!$F$16:$F$116),\"0\")","v":"0"},"FIXING SPACER OF PLASTIC",null,null,9900004464,10,0,null,null,0,9900000001,1,0,9900000021,4,0,9900000071,1,0,null,null,0]
[9900014465,{"$f":"Data!$A434-9900010000","v":4465},{"$f":"IF(EXACT($B434,LOOKUP($B434,'INPUT '!$D$16:$D$116)),LOOKUP($B434,'INPUT '!$D$16:$D$116,'INPUT '!$E$16:$E$116),\"0\")","v":"0"},{"$f":"IF(EXACT($B434,LOOKUP($B434,'INPUT '!$D$16:$D$116)),LOOKUP($B434,'INPUT '!$D$16:$D$116,'INPUT '!$F$16:$F$116),\"0\")","v":"0"},"FIXING SPACER OF WOOD",null,null,9900004465,102,0,null,null,0,9900000002,1,0,9900000022,2,0,9900000072,1,0,null,null,0]
[9900014466,{"$f":"Data!$A435-9900010000","v":4466},{"$f":"IF(EXACT($B435,LOOKUP($B435,'INPUT '!$D$16:$D$116)),LOOKUP($B435,'INPUT '!$D$16:$D$116,'INPUT '!$E$16:$E$116),\"0\")","v":"0"},{"$f":"IF(EXACT($B435,LOOKUP($B435,'INPUT '!$D$16:$D$116)),LOOKUP($B435,'INPUT '!$D$16:$D$116,'INPUT '!$F$16:$F$116),\"0\")","v":"0"},"FIXING SPACER OF PLASTIC",null,null,9900004466,12,0,null,null,0,9900000001,1,0,9900000021,4,0,9900000071,1,0,null,null,0]
[9900014467,{"$f":"Data!$A436-9900010000","v":4467},{"$f":"IF(EXACT($B436,LOOKUP($B436,'INPUT '!$D$16:$D$116)),LOOKUP($B436,'INPUT '!$D$16:$D$116,'INPUT '!$E$16:$E$116),\"0\")","v":"0"},{"$f":"IF(EXACT($B436,LOOKUP($B436,'INPUT '!$D$16:$D$116)),LOOKUP($B436,'INPUT '!$D$16:$D$116,'INPUT '!$F$16:$F$116),\"0\")","v":"0"},"FIXING SPACER OF PLASTIC",null,null,9900004467,25,0,null,null,0,9900000001,1,0,9900000021,2,0,9900000071,1,0,null,null,0]
[9900014468,{"$f":"Data!$A437-9900010000","v":4468},{"$f":"IF(EXACT($B437,LOOKUP($B437,'INPUT '!$D$16:$D$116)),LOOKUP($B437,'INPUT '!$D$16:$D$116,'INPUT '!$E$16:$E$116),\"0\")","v":"0"},{"$f":"IF(EXACT($B437,LOOKUP($B437,'INPUT '!$D$16:$D$116)),LOOKUP($B437,'INPUT '!$D$16:$D$116,'INPUT '!$F$16:$F$116),\"0\")","v":"0"},"FIXING SPACER OF PLASTIC",null,null,9900004468,30,0,null,null,0,9900000001,1,0,null,null,0,9900000071,1,0,9900001041,1,0]
[9900014469,{"$f":"Data!$A438-9900010000","v":4469},{"$f":"IF(EXACT($B438,LOOKUP($B438,'INPUT '!$D$16:$D$116)),LOOKUP($B438,'INPUT '!$D$16:$D$116,'INPUT '!$E$16:$E$116),\"0\")","v":"0"},{"$f":"IF(EXACT($B438,LOOKUP($B438,'INPUT '!$D$16:$D$116)),LOOKUP($B438,'INPUT '!$D$16:$D$116,'INPUT '!$F$16:$F$116),\"0\")","v":"0"},"FIXING SPACER OF PLASTIC",null,null,9900004469,10,0,null,null,0,9900000001,1,0,9900000021,1,0,9900000071,1,0,null,null,0]
[9900014472,{"$f":"Data!$A439-9900010000","v":4472},{"$f":"IF(EXACT($B439,LOOKUP($B439,'INPUT '!$D$16:$D$116)),LOOKUP($B439,'INPUT '!$D$16:$D$116,'INPUT '!$E$16:$E$116),\"0\")","v":"0"},{"$f":"IF(EXACT($B439,LOOKUP($B439,'INPUT '!$D$16:$D$116)),LOOKUP($B439,'INPUT '!$D$16:$D$116,'INPUT '!$F$16:$F$116),\"0\")","v":"0"},"FIXING SPACER OF PLASTIC",null,null,9900004472,10,0,null,null,0,9900000001,1,0,9900000021,2,0,9900000071,1,0,9900001021,1,0]
[9900014473,{"$f":"Data!$A440-9900010000","v":4473},{"$f":"IF(EXACT($B440,LOOKUP($B440,'INPUT '!$D$16:$D$116)),LOOKUP($B440,'INPUT '!$D$16:$D$116,'INPUT '!$E$16:$E$116),\"0\")","v":"0"},{"$f":"IF(EXACT($B440,LOOKUP($B440,'INPUT '!$D$16:$D$116)),LOOKUP($B440,'INPUT '!$D$16:$D$116,'INPUT '!$F$16:$F$116),\"0\")","v":"0"},"FIXING SPACER OF PLASTIC",null,null,9900004473,20,0,null,null,0,9900000001,1,0,9900000021,2,0,9900000071,1,0,9900001021,1,0]
[9900014481,{"$f":"Data!$A441-9900010000","v":4481},{"$f":"IF(EXACT($B441,LOOKUP($B441,'INPUT '!$D$16:$D$116)),LOOKUP($B441,'INPUT '!$D$16:$D$116,'INPUT '!$E$16:$E$116),\"0\")","v":"0"},{"$f":"IF(EXACT($B441,LOOKUP($B441,'INPUT '!$D$16:$D$116)),LOOKUP($B441,'INPUT '!$D$16:$D$116,'INPUT '!$F$16:$F$116),\"0\")","v":"0"},"Rack Of Steel",null,null,9900004481,1,0,null,null,0,0,null,0,null,null,0,null,null,0,null,null,0]
[9900014485,{"$f":"Data!$A442-9900010000","v":4485},{"$f":"IF(EXACT($B442,LOOKUP($B442,'INPUT '!$D$16:$D$116)),LOOKUP($B442,'INPUT '!$D$16:$D$116,'INPUT '!$E$16:$E$116),\"0\")","v":"0"},{"$f":"IF(EXACT($B442,LOOKUP($B442,'INPUT '!$D$16:$D$116)),LOOKUP($B442,'INPUT '!$D$16:$D$116,'INPUT '!$F$16:$F$116),\"0\")","v":"0"},"FIXING SPACER OF PLASTIC",null,null,9900004485,5,0,null,null,0,9900000001,1,0,9900000021,2,0,9900000071,1,0,null,null,0]
[9900014487,{"$f":"Data!$A443-9900010000","v":4487},{"$f":"IF(EXACT($B443,LOOKUP($B443,'INPUT '!$D$16:$D$116)),LOOKUP($B443,'INPUT '!$D$16:$D$116,'INPUT '!$E$16:$E$116),\"0\")","v":"0"},{"$f":"IF(EXACT($B443,LOOKUP($B443,'INPUT '!$D$16:$D$116)),LOOKUP($B443,'INPUT '!$D$16:$D$116,'INPUT '!$F$16:$F$116),\"0\")","v":"0"},"FIXING SPACER OF WOOD",null,null,9900004487,5,{"$f":"I443*C443","v":0},null,null,{"$f":"L443*C443","v":0},9900000001,1,{"$f":"O443*C443","v":0},9900000021,1,0,9900000071,1,{"$f":"U443*C443","v":0},null,null,{"$f":"X443*C443","v":0}]
[9900014490,{"$f":"Data!$A444-9900010000","v":4490},{"$f":"IF(EXACT($B444,LOOKUP($B444,'INPUT '!$D$16:$D$116)),LOOKUP($B444,'INPUT '!$D$16:$D$116,'INPUT '!$E$16:$E$116),\"0\")","v":"0"},{"$f":"IF(EXACT($B444,LOOKUP($B444,'INPUT '!$D$16:$D$116)),LOOKUP($B444,'INPUT '!$D$16:$D$116,'INPUT '!$F$16:$F$116),\"0\")","v":"0"},"RACK OF STEEL",null,null,9900004490,1,0,null,null,0,0,null,0,null,null,0,null,null,0,null,null,0]
[9900014494,{"$f":"Data!$A445-9900010000","v":4494},{"$f":"IF(EXACT($B445,LOOKUP($B445,'INPUT '!$D$16:$D$116)),LOOKUP($B445,'INPUT '!$D$16:$D$116,'INPUT '!$E$16:$E$116),\"0\")","v":"0"},{"$f":"IF(EXACT($B445,LOOKUP($B445,'INPUT '!$D$16:$D$116)),LOOKUP($B445,'INPUT '!$D$16:$D$116,'INPUT '!$F$16:$F$116),\"0\")","v":"0"},"FIXING SPACER OF PLASTIC",null,null,9900004494,5,{"$f":"I445*C445","v":0},null,null,{"$f":"L445*C445","v":0},9900000001,1,0,9900000021,2,0,9900000071,1,{"$f":"U445*C445","v":0},null,null,{"$f":"X445*C445","v":0}]
[9900014495,{"$f":"Data!$A446-9900010000","v":4495},{"$f":"IF(EXACT($B446,LOOKUP($B446,'INPUT '!$D$16:$D$116)),LOOKUP($B446,'INPUT '!$D$16:$D$116,'INPUT '!$E$16:$E$116),\"0\")","v":"0"},{"$f":"IF(EXACT($B446,LOOKUP($B446,'INPUT '!$D$16:$D$116)),LOOKUP($B446,'INPUT '!$D$16:$D$116,'INPUT '!$F$16:$F$116),\"0\")","v":"0"},"FIXING SPACER OF WOOD",null,null,9900004495,1,0,null,null,0,9900000001,1,0,9900000021,3,0,9900000071,1,0,null,null,0]
[9900014496,{"$f":"Data!$A447-9900010000","v":4496},{"$f":"IF(EXACT($B447,LOOKUP($B447,'INPUT '!$D$16:$D$116)),LOOKUP($B447,'INPUT '!$D$16:$D$116,'INPUT '!$E$16:$E$116),\"0\")","v":"0"},{"$f":"IF(EXACT($B447,LOOKUP($B447,'INPUT '!$D$16:$D$116)),LOOKUP($B447,'INPUT '!$D$16:$D$116,'INPUT '!$F$16:$F$116),\"0\")","v":"0"},"FIXING SPACER OF PLASTIC",null,null,9900004496,6,{"$f":"I447*C447","v":0},null,null,{"$f":"L447*C447","v":0},9900000001,1,0,9900000021,2,0,9900000071,1,0,null,null,{"$f":"X447*C447","v":0}]
[9900014497,{"$f":"Data!$A448-9900010000","v":4497},{"$f":"IF(EXACT($B448,LOOKUP($B448,'INPUT '!$D$16:$D$116)),LOOKUP($B448,'INPUT '!$D$16:$D$116,'INPUT '!$E$16:$E$116),\"0\")","v":"0"},{"$f":"IF(EXACT($B448,LOOKUP($B448,'INPUT '!$D$16:$D$116)),LOOKUP($B448,'INPUT '!$D$16:$D$116,'INPUT '!$F$16:$F$116),\"0\")","v":"0"},"FIXING SPACER OF PLASTIC",null,null,9900004497,6,0,null,null,0,9900000001,1,0,9900000021,2,0,9900000071,1,0,null,null,0]
[9900014498,{"$f":"Data!$A449-9900010000","v":4498},{"$f":"IF(EXACT($B449,LOOKUP($B449,'INPUT '!$D$16:$D$116)),LOOKUP($B449,'INPUT '!$D$16:$D$116,'INPUT '!$E$16:$E$116),\"0\")","v":"0"},{"$f":"IF(EXACT($B449,LOOKUP($B449,'INPUT '!$D$16:$D$116)),LOOKUP($B449,'INPUT '!$D$16:$D$116,'INPUT '!$F$16:$F$116),\"0\")","v":"0"},"FIXING SPACER OF PLASTIC",null,null,9900004498,100,0,null,null,0,9900000001,1,0,9900000021,2,{"$f":"R449*C449","v":0},9900000071,1,0,null,null,{"$f":"X449*C449","v":0}]
[9900014499,{"$f":"Data!$A450-9900010000","v":4499},{"$f":"IF(EXACT($B450,LOOKUP($B450,'INPUT '!$D$16:$D$116)),LOOKUP($B450,'INPUT '!$D$16:$D$116,'INPUT '!$E$16:$E$116),\"0\")","v":"0"},{"$f":"IF(EXACT($B450,LOOKUP($B450,'INPUT '!$D$16:$D$116)),LOOKUP($B450,'INPUT '!$D$16:$D$116,'INPUT '!$F$16:$F$116),\"0\")","v":"0"},"RACK OF STEEL",null,null,9900004499,1,0,null,null,0,0,null,0,null,null,0,null,null,0,null,null,0]
[9900014512,{"$f":"Data!$A451-9900010000","v":4512},{"$f":"IF(EXACT($B451,LOOKUP($B451,'INPUT '!$D$16:$D$116)),LOOKUP($B451,'INPUT '!$D$16:$D$116,'INPUT '!$E$16:$E$116),\"0\")","v":"0"},{"$f":"IF(EXACT($B451,LOOKUP($B451,'INPUT '!$D$16:$D$116)),LOOKUP($B451,'INPUT '!$D$16:$D$116,'INPUT '!$F$16:$F$116),\"0\")","v":"0"},"RACK OF STEEL",null,null,9900004512,1,0,null,null,0,0,null,0,null,null,0,null,null,0,null,null,0]
[9900014514,{"$f":"Data!$A452-9900010000","v":4514},{"$f":"IF(EXACT($B452,LOOKUP($B452,'INPUT '!$D$16:$D$116)),LOOKUP($B452,'INPUT '!$D$16:$D$116,'INPUT '!$E$16:$E$116),\"0\")","v":"0"},{"$f":"IF(EXACT($B452,LOOKUP($B452,'INPUT '!$D$16:$D$116)),LOOKUP($B452,'INPUT '!$D$16:$D$116,'INPUT '!$F$16:$F$116),\"0\")","v":"0"},"RACK OF STEEL",null,null,9900004514,4,0,null,null,0,0,null,0,null,null,0,null,null,0,null,null,0]
[9900014520,{"$f":"Data!$A453-9900010000","v":4520},{"$f":"IF(EXACT($B453,LOOKUP($B453,'INPUT '!$D$16:$D$116)),LOOKUP($B453,'INPUT '!$D$16:$D$116,'INPUT '!$E$16:$E$116),\"0\")","v":"0"},{"$f":"IF(EXACT($B453,LOOKUP($B453,'INPUT '!$D$16:$D$116)),LOOKUP($B453,'INPUT '!$D$16:$D$116,'INPUT '!$F$16:$F$116),\"0\")","v":"0"},"RACK OF STEEL",null,null,9900004520,1,0,null,null,0,0,null,0,null,null,0,null,null,0,null,null,0]
[9900014521,{"$f":"Data!$A454-9900010000","v":4521},{"$f":"IF(EXACT($B454,LOOKUP($B454,'INPUT '!$D$16:$D$116)),LOOKUP($B454,'INPUT '!$D$16:$D$116,'INPUT '!$E$16:$E$116),\"0\")","v":"0"},{"$f":"IF(EXACT($B454,LOOKUP($B454,'INPUT '!$D$16:$D$116)),LOOKUP($B454,'INPUT '!$D$16:$D$116,'INPUT '!$F$16:$F$116),\"0\")","v":"0"},"SUPPORT OF STEEL",null,null,9900004521,1,0,null,null,0,0,null,0,null,null,0,null,null,0,null,null,0]
[9900014932,{"$f":"Data!$A455-9900010000","v":4932},{"$f":"IF(EXACT($B455,LOOKUP($B455,'INPUT '!$D$16:$D$116)),LOOKUP($B455,'INPUT '!$D$16:$D$116,'INPUT '!$E$16:$E$116),\"0\")","v":"0"},{"$f":"IF(EXACT($B455,LOOKUP($B455,'INPUT '!$D$16:$D$116)),LOOKUP($B455,'INPUT '!$D$16:$D$116,'INPUT '!$F$16:$F$116),\"0\")","v":"0"},"SPACER OF PLYWOOD",null,null,9900004932,28,0,null,null,0,9900000001,1,0,9900000021,3,0,9900000071,1,0,null,null,0]
[9900014935,{"$f":"Data!$A456-9900010000","v":4935},{"$f":"IF(EXACT($B456,LOOKUP($B456,'INPUT '!$D$16:$D$116)),LOOKUP($B456,'INPUT '!$D$16:$D$116,'INPUT '!$E$16:$E$116),\"0\")","v":"0"},{"$f":"IF(EXACT($B456,LOOKUP($B456,'INPUT '!$D$16:$D$116)),LOOKUP($B456,'INPUT '!$D$16:$D$116,'INPUT '!$F$16:$F$116),\"0\")","v":"0"},"FIXING SPACER OF PLASTIC",null,null,9900004935,16,0,null,null,0,9900000002,1,0,9900000022,3,0,9900000072,1,0,null,null,0]
[9900014936,{"$f":"Data!$A457-9900010000","v":4936},{"$f":"IF(EXACT($B457,LOOKUP($B457,'INPUT '!$D$16:$D$116)),LOOKUP($B457,'INPUT '!$D$16:$D$116,'INPUT '!$E$16:$E$116),\"0\")","v":"0"},{"$f":"IF(EXACT($B457,LOOKUP($B457,'INPUT '!$D$16:$D$116)),LOOKUP($B457,'INPUT '!$D$16:$D$116,'INPUT '!$F$16:$F$116),\"0\")","v":"0"},"FIXING SPACER OF PLASTIC",null,null,9900004936,5,{"$f":"I457*C457","v":0},null,null,{"$f":"L457*C457","v":0},9900000001,1,{"$f":"O457*C457","v":0},9900000021,4,{"$f":"R457*C457","v":0},9900000071,1,{"$f":"U457*C457","v":0},null,null,{"$f":"X457*C457","v":0}]
[9900014946,{"$f":"Data!$A458-9900010000","v":4946},{"$f":"IF(EXACT($B458,LOOKUP($B458,'INPUT '!$D$16:$D$116)),LOOKUP($B458,'INPUT '!$D$16:$D$116,'INPUT '!$E$16:$E$116),\"0\")","v":"0"},{"$f":"IF(EXACT($B458,LOOKUP($B458,'INPUT '!$D$16:$D$116)),LOOKUP($B458,'INPUT '!$D$16:$D$116,'INPUT '!$F$16:$F$116),\"0\")","v":"0"},"FIXING SPACER OF PLASTIC",null,null,9900004946,48,0,9900000061,1,0,9900000001,1,0,9900000021,4,0,9900000071,1,0,9900001041,1,0]
[9900014947,{"$f":"Data!$A459-9900010000","v":4947},{"$f":"IF(EXACT($B459,LOOKUP($B459,'INPUT '!$D$16:$D$116)),LOOKUP($B459,'INPUT '!$D$16:$D$116,'INPUT '!$E$16:$E$116),\"0\")","v":"0"},{"$f":"IF(EXACT($B459,LOOKUP($B459,'INPUT '!$D$16:$D$116)),LOOKUP($B459,'INPUT '!$D$16:$D$116,'INPUT '!$F$16:$F$116),\"0\")","v":"0"},"FIXING SPACER OF PLASTIC",null,null,9900004947,14,0,null,null,0,9900000001,1,0,9900000021,4,0,9900000091,1,0,null,null,0]
[9900014948,{"$f":"Data!$A460-9900010000","v":4948},{"$f":"IF(EXACT($B460,LOOKUP($B460,'INPUT '!$D$16:$D$116)),LOOKUP($B460,'INPUT '!$D$16:$D$116,'INPUT '!$E$16:$E$116),\"0\")","v":"0"},{"$f":"IF(EXACT($B460,LOOKUP($B460,'INPUT '!$D$16:$D$116)),LOOKUP($B460,'INPUT '!$D$16:$D$116,'INPUT '!$F$16:$F$116),\"0\")","v":"0"},"FIXING SPACER OF PLASTIC",null,null,9900004948,12,0,null,null,0,9900000001,1,0,9900000021,4,0,9900000071,1,0,9900001041,1,0]
[9900014974,{"$f":"Data!$A461-9900010000","v":4974},{"$f":"IF(EXACT($B461,LOOKUP($B461,'INPUT '!$D$16:$D$116)),LOOKUP($B461,'INPUT '!$D$16:$D$116,'INPUT '!$E$16:$E$116),\"0\")","v":"0"},{"$f":"IF(EXACT($B461,LOOKUP($B461,'INPUT '!$D$16:$D$116)),LOOKUP($B461,'INPUT '!$D$16:$D$116,'INPUT '!$F$16:$F$116),\"0\")","v":"0"},"Rack Of Steel",null,null,9900004974,1,0,null,null,0,null,null,0,null,null,0,null,null,0,null,null,0]
[9900014977,{"$f":"Data!$A462-9900010000","v":4977},{"$f":"IF(EXACT($B462,LOOKUP($B462,'INPUT '!$D$16:$D$116)),LOOKUP($B462,'INPUT '!$D$16:$D$116,'INPUT '!$E$16:$E$116),\"0\")","v":"0"},{"$f":"IF(EXACT($B462,LOOKUP($B462,'INPUT '!$D$16:$D$116)),LOOKUP($B462,'INPUT '!$D$16:$D$116,'INPUT '!$F$16:$F$116),\"0\")","v":"0"},"FIXING SPACER OF PLASTIC",null,null,9900004977,5,{"$f":"I462*C462","v":0},null,null,{"$f":"L462*C462","v":0},9900000005,1,{"$f":"O462*C462","v":0},9900000025,3,0,9900000075,1,{"$f":"U462*C462","v":0},null,null,{"$f":"X462*C462","v":0}]
[9900014978,{"$f":"Data!$A463-9900010000","v":4978},{"$f":"IF(EXACT($B463,LOOKUP($B463,'INPUT '!$D$16:$D$116)),LOOKUP($B463,'INPUT '!$D$16:$D$116,'INPUT '!$E$16:$E$116),\"0\")","v":"0"},{"$f":"IF(EXACT($B463,LOOKUP($B463,'INPUT '!$D$16:$D$116)),LOOKUP($B463,'INPUT '!$D$16:$D$116,'INPUT '!$F$16:$F$116),\"0\")","v":"0"},"FIXING SPACER OF PLASTIC",null,null,9900004978,3,{"$f":"I463*C463","v":0},null,null,{"$f":"L463*C463","v":0},9900000005,1,{"$f":"O463*C463","v":0},9900000025,2,{"$f":"R463*C463","v":0},9900000075,1,{"$f":"U463*C463","v":0},null,null,{"$f":"X463*C463","v":0}]
[9900014980,{"$f":"Data!$A464-9900010000","v":4980},{"$f":"IF(EXACT($B464,LOOKUP($B464,'INPUT '!$D$16:$D$116)),LOOKUP($B464,'INPUT '!$D$16:$D$116,'INPUT '!$E$16:$E$116),\"0\")","v":"0"},{"$f":"IF(EXACT($B464,LOOKUP($B464,'INPUT '!$D$16:$D$116)),LOOKUP($B464,'INPUT '!$D$16:$D$116,'INPUT '!$F$16:$F$116),\"0\")","v":"0"},"BOX OF PLASTIC",null,null,9900004980,80,0,9900004981,80,0,9900000001,1,0,null,null,0,9900000091,1,0,null,null,0]
[9900014981,{"$f":"Data!$A465-9900010000","v":4981},{"$f":"IF(EXACT($B465,LOOKUP($B465,'INPUT '!$D$16:$D$116)),LOOKUP($B465,'INPUT '!$D$16:$D$116,'INPUT '!$E$16:$E$116),\"0\")","v":"0"},{"$f":"IF(EXACT($B465,LOOKUP($B465,'INPUT '!$D$16:$D$116)),LOOKUP($B465,'INPUT '!$D$16:$D$116,'INPUT '!$F$16:$F$116),\"0\")","v":"0"},"LID OF PLASTIC ( Pieces Only )","PIECE",null,9900004981,0,0,null,null,0,null,null,0,null,null,0,null,null,0,null,null,0]
[9900014982,{"$f":"Data!$A466-9900010000","v":4982},{"$f":"IF(EXACT($B466,LOOKUP($B466,'INPUT '!$D$16:$D$116)),LOOKUP($B466,'INPUT '!$D$16:$D$116,'INPUT '!$E$16:$E$116),\"0\")","v":"0"},{"$f":"IF(EXACT($B466,LOOKUP($B466,'INPUT '!$D$16:$D$116)),LOOKUP($B466,'INPUT '!$D$16:$D$116,'INPUT '!$F$16:$F$116),\"0\")","v":"0"},"BOX OF PLASTIC",null,null,9900004982,40,0,9900004983,40,0,9900000001,1,0,null,null,0,9900000091,1,0,null,null,0]
[9900014983,{"$f":"Data!$A467-9900010000","v":4983},{"$f":"IF(EXACT($B467,LOOKUP($B467,'INPUT '!$D$16:$D$116)),LOOKUP($B467,'INPUT '!$D$16:$D$116,'INPUT '!$E$16:$E$116),\"0\")","v":"0"},{"$f":"IF(EXACT($B467,LOOKUP($B467,'INPUT '!$D$16:$D$116)),LOOKUP($B467,'INPUT '!$D$16:$D$116,'INPUT '!$F$16:$F$116),\"0\")","v":"0"},"LID OF PLASTIC ( Pieces Only )","PIECE",null,9900004983,0,0,null,null,0,null,null,0,null,null,0,null,null,0,null,null,0]
[9900014984,{"$f":"Data!$A468-9900010000","v":4984},{"$f":"IF(EXACT($B468,LOOKUP($B468,'INPUT '!$D$16:$D$116)),LOOKUP($B468,'INPUT '!$D$16:$D$116,'INPUT '!$E$16:$E$116),\"0\")","v":"0"},{"$f":"IF(EXACT($B468,LOOKUP($B468,'INPUT '!$D$16:$D$116)),LOOKUP($B468,'INPUT '!$D$16:$D$116,'INPUT '!$F$16:$F$116),\"0\")","v":"0"},"BOX OF PLASTIC",null,null,9900004984,112,0,null,null,0,9900000001,1,0,null,null,0,9900000091,1,0,null,null,0]
[9900014985,{"$f":"Data!$A469-9900010000","v":4985},{"$f":"IF(EXACT($B469,LOOKUP($B469,'INPUT '!$D$16:$D$116)),LOOKUP($B469,'INPUT '!$D$16:$D$116,'INPUT '!$E$16:$E$116),\"0\")","v":"0"},{"$f":"IF(EXACT($B469,LOOKUP($B469,'INPUT '!$D$16:$D$116)),LOOKUP($B469,'INPUT '!$D$16:$D$116,'INPUT '!$F$16:$F$116),\"0\")","v":"0"},"BOX OF PLASTIC",null,null,9900004985,56,0,null,null,0,9900000001,1,0,null,null,0,9900000091,1,0,null,null,0]
[9900014986,{"$f":"Data!$A470-9900010000","v":4986},{"$f":"IF(EXACT($B470,LOOKUP($B470,'INPUT '!$D$16:$D$116)),LOOKUP($B470,'INPUT '!$D$16:$D$116,'INPUT '!$E$16:$E$116),\"0\")","v":"0"},{"$f":"IF(EXACT($B470,LOOKUP($B470,'INPUT '!$D$16:$D$116)),LOOKUP($B470,'INPUT '!$D$16:$D$116,'INPUT '!$F$16:$F$116),\"0\")","v":"0"},"BOX OF PLASTIC",null,null,9900004986,126,0,null,null,0,9900000002,1,0,null,null,0,null,null,0,null,null,0]
[9900015101,{"$f":"Data!$A471-9900010000","v":5101},{"$f":"IF(EXACT($B471,LOOKUP($B471,'INPUT '!$D$16:$D$116)),LOOKUP($B471,'INPUT '!$D$16:$D$116,'INPUT '!$E$16:$E$116),\"0\")","v":"0"},{"$f":"IF(EXACT($B471,LOOKUP($B471,'INPUT '!$D$16:$D$116)),LOOKUP($B471,'INPUT '!$D$16:$D$116,'INPUT '!$F$16:$F$116),\"0\")","v":"0"},"RACK OF STEEL",null,null,9900005101,1,{"$f":"I471*C471","v":0},null,null,{"$f":"L471*C471","v":0},null,null,{"$f":"O471*C471","v":0},null,null,{"$f":"R471*C471","v":0},null,null,{"$f":"U471*C471","v":0},null,null,{"$f":"X471*C471","v":0}]
[9900015022,{"$f":"Data!$A472-9900010000","v":5022},{"$f":"IF(EXACT($B472,LOOKUP($B472,'INPUT '!$D$16:$D$116)),LOOKUP($B472,'INPUT '!$D$16:$D$116,'INPUT '!$E$16:$E$116),\"0\")","v":"0"},{"$f":"IF(EXACT($B472,LOOKUP($B472,'INPUT '!$D$16:$D$116)),LOOKUP($B472,'INPUT '!$D$16:$D$116,'INPUT '!$F$16:$F$116),\"0\")","v":"0"},"FIXING SPACER OF PLASTIC",null,null,9900005022,14,0,null,null,0,9900000001,1,0,9900000021,2,0,9900000071,1,0,null,null,0]
[9900015719,{"$f":"Data!$A473-9900010000","v":5719},{"$f":"IF(EXACT($B473,LOOKUP($B473,'INPUT '!$D$16:$D$116)),LOOKUP($B473,'INPUT '!$D$16:$D$116,'INPUT '!$E$16:$E$116),\"0\")","v":"0"},{"$f":"IF(EXACT($B473,LOOKUP($B473,'INPUT '!$D$16:$D$116)),LOOKUP($B473,'INPUT '!$D$16:$D$116,'INPUT '!$F$16:$F$116),\"0\")","v":"0"},"FIXING SPACER OF PLASTIC",null,null,9900005719,25,0,null,null,0,9900000001,1,0,9900000021,4,0,9900000071,1,0,9900001041,1,0]
[9900016000,{"$f":"Data!$A474-9900010000","v":6000},{"$f":"IF(EXACT($B474,LOOKUP($B474,'INPUT '!$D$16:$D$116)),LOOKUP($B474,'INPUT '!$D$16:$D$116,'INPUT '!$E$16:$E$116),\"0\")","v":"0"},{"$f":"IF(EXACT($B474,LOOKUP($B474,'INPUT '!$D$16:$D$116)),LOOKUP($B474,'INPUT '!$D$16:$D$116,'INPUT '!$F$16:$F$116),\"0\")","v":"0"},"RACK OF STEEL",null,null,9900006000,1,{"$f":"I474*C474","v":0},null,null,{"$f":"L474*C474","v":0},null,null,{"$f":"O474*C474","v":0},null,null,{"$f":"R474*C474","v":0},null,null,{"$f":"U474*C474","v":0},null,null,{"$f":"X474*C474","v":0}]
[9900016001,{"$f":"Data!$A475-9900010000","v":6001},{"$f":"IF(EXACT($B475,LOOKUP($B475,'INPUT '!$D$16:$D$116)),LOOKUP($B475,'INPUT '!$D$16:$D$116,'INPUT '!$E$16:$E$116),\"0\")","v":"0"},{"$f":"IF(EXACT($B475,LOOKUP($B475,'INPUT '!$D$16:$D$116)),LOOKUP($B475,'INPUT '!$D$16:$D$116,'INPUT '!$F$16:$F$116),\"0\")","v":"0"},"RACK OF STEEL",null,null,9900006001,1,{"$f":"I475*C475","v":0},null,null,{"$f":"L475*C475","v":0},null,null,{"$f":"O475*C475","v":0},null,null,{"$f":"R475*C475","v":0},null,null,{"$f":"U475*C475","v":0},null,null,{"$f":"X475*C475","v":0}]
[9900016016,{"$f":"Data!$A476-9900010000","v":6016},{"$f":"IF(EXACT($B476,LOOKUP($B476,'INPUT '!$D$16:$D$116)),LOOKUP($B476,'INPUT '!$D$16:$D$116,'INPUT '!$E$16:$E$116),\"0\")","v":"0"},{"$f":"IF(EXACT($B476,LOOKUP($B476,'INPUT '!$D$16:$D$116)),LOOKUP($B476,'INPUT '!$D$16:$D$116,'INPUT '!$F$16:$F$116),\"0\")","v":"0"},"FIXING SPACER OF WOOD",null,null,9900006016,70,0,null,null,0,9900000001,1,{"$f":"O476*C476","v":0},null,null,0,null,null,0,null,null,0]
[9900016017,{"$f":"Data!$A477-9900010000","v":6017},{"$f":"IF(EXACT($B477,LOOKUP($B477,'INPUT '!$D$16:$D$116)),LOOKUP($B477,'INPUT '!$D$16:$D$116,'INPUT '!$E$16:$E$116),\"0\")","v":"0"},{"$f":"IF(EXACT($B477,LOOKUP($B477,'INPUT '!$D$16:$D$116)),LOOKUP($B477,'INPUT '!$D$16:$D$116,'INPUT '!$F$16:$F$116),\"0\")","v":"0"},"FIXING SPACER OF WOOD",null,null,9900006017,1,0,null,null,0,9900000001,1,{"$f":"O477*C477","v":0},9900000021,5,0,9900000071,1,0,9900001041,2,0]
[9900016018,{"$f":"Data!$A478-9900010000","v":6018},{"$f":"IF(EXACT($B478,LOOKUP($B478,'INPUT '!$D$16:$D$116)),LOOKUP($B478,'INPUT '!$D$16:$D$116,'INPUT '!$E$16:$E$116),\"0\")","v":"0"},{"$f":"IF(EXACT($B478,LOOKUP($B478,'INPUT '!$D$16:$D$116)),LOOKUP($B478,'INPUT '!$D$16:$D$116,'INPUT '!$F$16:$F$116),\"0\")","v":"0"},"FIXING SPACER OF PLASTIC",null,null,9900006018,15,0,null,null,0,9900000001,1,{"$f":"O478*C478","v":0},9900000021,1,0,9900000071,1,0,null,null,0]
[9900016019,{"$f":"Data!$A479-9900010000","v":6019},{"$f":"IF(EXACT($B479,LOOKUP($B479,'INPUT '!$D$16:$D$116)),LOOKUP($B479,'INPUT '!$D$16:$D$116,'INPUT '!$E$16:$E$116),\"0\")","v":"0"},{"$f":"IF(EXACT($B479,LOOKUP($B479,'INPUT '!$D$16:$D$116)),LOOKUP($B479,'INPUT '!$D$16:$D$116,'INPUT '!$F$16:$F$116),\"0\")","v":"0"},"FIXING SPACER OF PLASTIC",null,null,9900006019,11,0,null,null,0,9900000001,1,{"$f":"O479*C479","v":0},9900000021,2,0,9900000071,1,0,null,null,0]
[9900016021,{"$f":"Data!$A480-9900010000","v":6021},{"$f":"IF(EXACT($B480,LOOKUP($B480,'INPUT '!$D$16:$D$116)),LOOKUP($B480,'INPUT '!$D$16:$D$116,'INPUT '!$E$16:$E$116),\"0\")","v":"0"},{"$f":"IF(EXACT($B480,LOOKUP($B480,'INPUT '!$D$16:$D$116)),LOOKUP($B480,'INPUT '!$D$16:$D$116,'INPUT '!$F$16:$F$116),\"0\")","v":"0"},"SPACER OF PLASTIC",null,null,9900006021,125,0,null,null,0,9900000001,1,{"$f":"O480*C480","v":0},9900000021,2,0,9900000071,1,0,null,null,0]
[9900016100,{"$f":"Data!$A481-9900010000","v":6100},{"$f":"IF(EXACT($B481,LOOKUP($B481,'INPUT '!$D$16:$D$116)),LOOKUP($B481,'INPUT '!$D$16:$D$116,'INPUT '!$E$16:$E$116),\"0\")","v":"0"},{"$f":"IF(EXACT($B481,LOOKUP($B481,'INPUT '!$D$16:$D$116)),LOOKUP($B481,'INPUT '!$D$16:$D$116,'INPUT '!$F$16:$F$116),\"0\")","v":"0"},"PALLET OF WOOD (EUR)",null,null,9900006100,null,0,null,null,0,9900006100,1,0,null,null,0,null,null,0,null,null,0]
[9900016101,{"$f":"Data!$A482-9900010000","v":6101},{"$f":"IF(EXACT($B482,LOOKUP($B482,'INPUT '!$D$16:$D$116)),LOOKUP($B482,'INPUT '!$D$16:$D$116,'INPUT '!$E$16:$E$116),\"0\")","v":"0"},{"$f":"IF(EXACT($B482,LOOKUP($B482,'INPUT '!$D$16:$D$116)),LOOKUP($B482,'INPUT '!$D$16:$D$116,'INPUT '!$F$16:$F$116),\"0\")","v":"0"},"PALLET OF WOOD (1/2 EUR)",null,null,9900006101,null,{"$f":"I482*C482","v":0},null,null,{"$f":"L482*C482","v":0},9900006101,1,{"$f":"O482*C482","v":0},null,null,0,null,null,{"$f":"U482*C482","v":0},null,null,{"$f":"X482*C482","v":0}]
[9900016102,{"$f":"Data!$A483-9900010000","v":6102},{"$f":"IF(EXACT($B483,LOOKUP($B483,'INPUT '!$D$16:$D$116)),LOOKUP($B483,'INPUT '!$D$16:$D$116,'INPUT '!$E$16:$E$116),\"0\")","v":"0"},{"$f":"IF(EXACT($B483,LOOKUP($B483,'INPUT '!$D$16:$D$116)),LOOKUP($B483,'INPUT '!$D$16:$D$116,'INPUT '!$F$16:$F$116),\"0\")","v":"0"},"FRAME OF WOOD (EUR)",null,null,9900006102,null,0,null,null,0,9900006100,2,0,9900006102,50,0,null,null,0,null,null,0]
[9900016103,{"$f":"Data!$A484-9900010000","v":6103},{"$f":"IF(EXACT($B484,LOOKUP($B484,'INPUT '!$D$16:$D$116)),LOOKUP($B484,'INPUT '!$D$16:$D$116,'INPUT '!$E$16:$E$116),\"0\")","v":"0"},{"$f":"IF(EXACT($B484,LOOKUP($B484,'INPUT '!$D$16:$D$116)),LOOKUP($B484,'INPUT '!$D$16:$D$116,'INPUT '!$F$16:$F$116),\"0\")","v":"0"},"FRAME OF WOOD (1/2 EUR)",null,null,9900006103,null,{"$f":"I484*C484","v":0},null,null,{"$f":"L484*C484","v":0},9900006101,2,{"$f":"O484*C484","v":0},9900006103,50,0,null,null,{"$f":"U484*C484","v":0},null,null,{"$f":"X484*C484","v":0}]
[9900016104,{"$f":"Data!$A485-9900010000","v":6104},{"$f":"IF(EXACT($B485,LOOKUP($B485,'INPUT '!$D$16:$D$116)),LOOKUP($B485,'INPUT '!$D$16:$D$116,'INPUT '!$E$16:$E$116),\"0\")","v":"0"},{"$f":"IF(EXACT($B485,LOOKUP($B485,'INPUT '!$D$16:$D$116)),LOOKUP($B485,'INPUT '!$D$16:$D$116,'INPUT '!$F$16:$F$116),\"0\")","v":"0"},"LID OF WOOD (EUR)",null,null,9900006104,null,{"$f":"I485*C485","v":0},null,null,{"$f":"L485*C485","v":0},9900006100,1,{"$f":"O485*C485","v":0},null,null,{"$f":"R485*C485","v":0},9900006104,25,{"$f":"U485*C485","v":0},null,null,{"$f":"X485*C485","v":0}]
[9900016166,{"$f":"Data!$A486-9900010000","v":6166},{"$f":"IF(EXACT($B486,LOOKUP($B486,'INPUT '!$D$16:$D$116)),LOOKUP($B486,'INPUT '!$D$16:$D$116,'INPUT '!$E$16:$E$116),\"0\")","v":"0"},{"$f":"IF(EXACT($B486,LOOKUP($B486,'INPUT '!$D$16:$D$116)),LOOKUP($B486,'INPUT '!$D$16:$D$116,'INPUT '!$F$16:$F$116),\"0\")","v":"0"},"RACK OF STEEL",null,null,9900006166,1,0,null,null,0,null,null,0,null,null,0,null,null,0,null,null,0]
[9900016189,{"$f":"Data!$A487-9900010000","v":6189},{"$f":"IF(EXACT($B487,LOOKUP($B487,'INPUT '!$D$16:$D$116)),LOOKUP($B487,'INPUT '!$D$16:$D$116,'INPUT '!$E$16:$E$116),\"0\")","v":"0"},{"$f":"IF(EXACT($B487,LOOKUP($B487,'INPUT '!$D$16:$D$116)),LOOKUP($B487,'INPUT '!$D$16:$D$116,'INPUT '!$F$16:$F$116),\"0\")","v":"0"},"FIXING SPACER OF PLASTIC",null,null,9900006189,14,0,null,null,0,9900000001,1,0,9900000021,4,0,9900000071,1,0,9900001041,1,0]
[9900016193,{"$f":"Data!$A488-9900010000","v":6193},{"$f":"IF(EXACT($B488,LOOKUP($B488,'INPUT '!$D$16:$D$116)),LOOKUP($B488,'INPUT '!$D$16:$D$116,'INPUT '!$E$16:$E$116),\"0\")","v":"0"},{"$f":"IF(EXACT($B488,LOOKUP($B488,'INPUT '!$D$16:$D$116)),LOOKUP($B488,'INPUT '!$D$16:$D$116,'INPUT '!$F$16:$F$116),\"0\")","v":"0"},"FIXING SPACER OF PLASTIC",null,null,9900006193,15,0,null,null,0,9900000001,1,0,9900000021,4,0,9900000071,1,0,9900001041,1,0]
[9900016194,{"$f":"Data!$A489-9900010000","v":6194},{"$f":"IF(EXACT($B489,LOOKUP($B489,'INPUT '!$D$16:$D$116)),LOOKUP($B489,'INPUT '!$D$16:$D$116,'INPUT '!$E$16:$E$116),\"0\")","v":"0"},{"$f":"IF(EXACT($B489,LOOKUP($B489,'INPUT '!$D$16:$D$116)),LOOKUP($B489,'INPUT '!$D$16:$D$116,'INPUT '!$F$16:$F$116),\"0\")","v":"0"},"FIXING SPACER OF PLASTIC",null,null,9900006194,12,0,null,null,0,9900000001,1,0,9900000021,4,0,9900000071,1,0,9900001041,1,0]
[9900016196,{"$f":"Data!$A490-9900010000","v":6196},{"$f":"IF(EXACT($B490,LOOKUP($B490,'INPUT '!$D$16:$D$116)),LOOKUP($B490,'INPUT '!$D$16:$D$116,'INPUT '!$E$16:$E$116),\"0\")","v":"0"},{"$f":"IF(EXACT($B490,LOOKUP($B490,'INPUT '!$D$16:$D$116)),LOOKUP($B490,'INPUT '!$D$16:$D$116,'INPUT '!$F$16:$F$116),\"0\")","v":"0"},"FIXING SPACER OF PLASTIC",null,null,9900006196,8,{"$f":"I490*C490","v":0},null,null,{"$f":"L490*C490","v":0},9900000001,1,{"$f":"O490*C490","v":0},9900000021,4,{"$f":"R490*C490","v":0},9900000071,1,{"$f":"U490*C490","v":0},9900001041,1,{"$f":"X490*C490","v":0}]
[9900016197,{"$f":"Data!$A491-9900010000","v":6197},{"$f":"IF(EXACT($B491,LOOKUP($B491,'INPUT '!$D$16:$D$116)),LOOKUP($B491,'INPUT '!$D$16:$D$116,'INPUT '!$E$16:$E$116),\"0\")","v":"0"},{"$f":"IF(EXACT($B491,LOOKUP($B491,'INPUT '!$D$16:$D$116)),LOOKUP($B491,'INPUT '!$D$16:$D$116,'INPUT '!$F$16:$F$116),\"0\")","v":"0"},"FIXING SPACER OF PLASTIC",null,null,9900006197,6,{"$f":"I491*C491","v":0},null,null,{"$f":"L491*C491","v":0},9900000001,1,{"$f":"O491*C491","v":0},9900000021,3,{"$f":"R491*C491","v":0},9900000071,1,{"$f":"U491*C491","v":0},9900001031,1,{"$f":"X491*C491","v":0}]
[9900016481,{"$f":"Data!$A492-9900010000","v":6481},{"$f":"IF(EXACT($B492,LOOKUP($B492,'INPUT '!$D$16:$D$116)),LOOKUP($B492,'INPUT '!$D$16:$D$116,'INPUT '!$E$16:$E$116),\"0\")","v":"0"},{"$f":"IF(EXACT($B492,LOOKUP($B492,'INPUT '!$D$16:$D$116)),LOOKUP($B492,'INPUT '!$D$16:$D$116,'INPUT '!$F$16:$F$116),\"0\")","v":"0"},"FIXING SPACER OF WOOD",null,null,9900006481,12,0,null,null,0,9900000001,1,0,null,null,0,null,null,0,null,null,0]
[9900016500,{"$f":"Data!$A493-9900010000","v":6500},{"$f":"IF(EXACT($B493,LOOKUP($B493,'INPUT '!$D$16:$D$116)),LOOKUP($B493,'INPUT '!$D$16:$D$116,'INPUT '!$E$16:$E$116),\"0\")","v":"0"},{"$f":"IF(EXACT($B493,LOOKUP($B493,'INPUT '!$D$16:$D$116)),LOOKUP($B493,'INPUT '!$D$16:$D$116,'INPUT '!$F$16:$F$116),\"0\")","v":"0"},"GM INSERT",null,null,9900006500,6,0,null,null,0,null,null,0,null,null,0,null,null,0,null,null,0]
[9900016501,{"$f":"Data!$A494-9900010000","v":6501},{"$f":"IF(EXACT($B494,LOOKUP($B494,'INPUT '!$D$16:$D$116)),LOOKUP($B494,'INPUT '!$D$16:$D$116,'INPUT '!$E$16:$E$116),\"0\")","v":"0"},{"$f":"IF(EXACT($B494,LOOKUP($B494,'INPUT '!$D$16:$D$116)),LOOKUP($B494,'INPUT '!$D$16:$D$116,'INPUT '!$F$16:$F$116),\"0\")","v":"0"},"GM INSERT",null,null,9900006501,15,0,null,null,0,null,null,0,null,null,0,null,null,0,null,null,0]
[9900016502,{"$f":"Data!$A495-9900010000","v":6502},{"$f":"IF(EXACT($B495,LOOKUP($B495,'INPUT '!$D$16:$D$116)),LOOKUP($B495,'INPUT '!$D$16:$D$116,'INPUT '!$E$16:$E$116),\"0\")","v":"0"},{"$f":"IF(EXACT($B495,LOOKUP($B495,'INPUT '!$D$16:$D$116)),LOOKUP($B495,'INPUT '!$D$16:$D$116,'INPUT '!$F$16:$F$116),\"0\")","v":"0"},"GM INSERT",null,null,9900006502,20,0,null,null,0,null,null,0,null,null,0,null,null,0,null,null,0]
[9900016503,{"$f":"Data!$A496-9900010000","v":6503},{"$f":"IF(EXACT($B496,LOOKUP($B496,'INPUT '!$D$16:$D$116)),LOOKUP($B496,'INPUT '!$D$16:$D$116,'INPUT '!$E$16:$E$116),\"0\")","v":"0"},{"$f":"IF(EXACT($B496,LOOKUP($B496,'INPUT '!$D$16:$D$116)),LOOKUP($B496,'INPUT '!$D$16:$D$116,'INPUT '!$F$16:$F$116),\"0\")","v":"0"},"GM INSERT",null,null,9900006503,20,0,null,null,0,null,null,0,null,null,0,null,null,0,null,null,0]
[9900016504,{"$f":"Data!$A497-9900010000","v":6504},{"$f":"IF(EXACT($B497,LOOKUP($B497,'INPUT '!$D$16:$D$116)),LOOKUP($B497,'INPUT '!$D$16:$D$116,'INPUT '!$E$16:$E$116),\"0\")","v":"0"},{"$f":"IF(EXACT($B497,LOOKUP($B497,'INPUT '!$D$16:$D$116)),LOOKUP($B497,'INPUT '!$D$16:$D$116,'INPUT '!$F$16:$F$116),\"0\")","v":"0"},"GM INSERT",null,null,9900006504,24,0,null,null,0,null,null,{"$f":"O497*C497","v":0},null,null,0,null,null,0,null,null,0]
[9900016505,{"$f":"Data!$A498-9900010000","v":6505},{"$f":"IF(EXACT($B498,LOOKUP($B498,'INPUT '!$D$16:$D$116)),LOOKUP($B498,'INPUT '!$D$16:$D$116,'INPUT '!$E$16:$E$116),\"0\")","v":"0"},{"$f":"IF(EXACT($B498,LOOKUP($B498,'INPUT '!$D$16:$D$116)),LOOKUP($B498,'INPUT '!$D$16:$D$116,'INPUT '!$F$16:$F$116),\"0\")","v":"0"},"GM INSERT",null,null,9900006505,3,0,null,null,0,null,null,0,null,null,0,null,null,0,null,null,0]
[9900016507,{"$f":"Data!$A499-9900010000","v":6507},{"$f":"IF(EXACT($B499,LOOKUP($B499,'INPUT '!$D$16:$D$116)),LOOKUP($B499,'INPUT '!$D$16:$D$116,'INPUT '!$E$16:$E$116),\"0\")","v":"0"},{"$f":"IF(EXACT($B499,LOOKUP($B499,'INPUT '!$D$16:$D$116)),LOOKUP($B499,'INPUT '!$D$16:$D$116,'INPUT '!$F$16:$F$116),\"0\")","v":"0"},"GM INSERT",null,null,9900006507,20,{"$f":"I499*C499","v":0},null,null,{"$f":"L499*C499","v":0},null,null,0,null,null,0,null,null,{"$f":"U499*C499","v":0},null,null,{"$f":"X499*C499","v":0}]
[9900016508,{"$f":"Data!$A500-9900010000","v":6508},{"$f":"IF(EXACT($B500,LOOKUP($B500,'INPUT '!$D$16:$D$116)),LOOKUP($B500,'INPUT '!$D$16:$D$116,'INPUT '!$E$16:$E$116),\"0\")","v":"0"},{"$f":"IF(EXACT($B500,LOOKUP($B500,'INPUT '!$D$16:$D$116)),LOOKUP($B500,'INPUT '!$D$16:$D$116,'INPUT '!$F$16:$F$116),\"0\")","v":"0"},"GM INSERT",null,null,9900006508,15,0,null,null,0,null,null,0,null,null,0,null,null,0,null,null,0]
[9900016510,{"$f":"Data!$A501-9900010000","v":6510},{"$f":"IF(EXACT($B501,LOOKUP($B501,'INPUT '!$D$16:$D$116)),LOOKUP($B501,'INPUT '!$D$16:$D$116,'INPUT '!$E$16:$E$116),\"0\")","v":"0"},{"$f":"IF(EXACT($B501,LOOKUP($B501,'INPUT '!$D$16:$D$116)),LOOKUP($B501,'INPUT '!$D$16:$D$116,'INPUT '!$F$16:$F$116),\"0\")","v":"0"},"GM INSERT",null,null,9900006510,26,0,null,null,0,null,null,0,null,null,0,null,null,0,null,null,0]
[9900017013,{"$f":"Data!$A502-9900010000","v":7013},{"$f":"IF(EXACT($B502,LOOKUP($B502,'INPUT '!$D$16:$D$116)),LOOKUP($B502,'INPUT '!$D$16:$D$116,'INPUT '!$E$16:$E$116),\"0\")","v":"0"},{"$f":"IF(EXACT($B502,LOOKUP($B502,'INPUT '!$D$16:$D$116)),LOOKUP($B502,'INPUT '!$D$16:$D$116,'INPUT '!$F$16:$F$116),\"0\")","v":"0"},"RACK OF STEEL",null,null,9900007013,1,{"$f":"I502*C502","v":0},null,null,{"$f":"L502*C502","v":0},null,null,{"$f":"O502*C502","v":0},null,null,{"$f":"R502*C502","v":0},null,null,{"$f":"U502*C502","v":0},null,null,{"$f":"X502*C502","v":0}]
[9900017883,{"$f":"Data!$A503-9900010000","v":7883},{"$f":"IF(EXACT($B503,LOOKUP($B503,'INPUT '!$D$16:$D$116)),LOOKUP($B503,'INPUT '!$D$16:$D$116,'INPUT '!$E$16:$E$116),\"0\")","v":"0"},{"$f":"IF(EXACT($B503,LOOKUP($B503,'INPUT '!$D$16:$D$116)),LOOKUP($B503,'INPUT '!$D$16:$D$116,'INPUT '!$F$16:$F$116),\"0\")","v":"0"},"RACK OF STEEL",null,null,9900007883,1,{"$f":"I503*C503","v":0},null,null,{"$f":"L503*C503","v":0},null,null,{"$f":"O503*C503","v":0},null,null,{"$f":"R503*C503","v":0},null,null,{"$f":"U503*C503","v":0},null,null,{"$f":"X503*C503","v":0}]
[9900018006,{"$f":"Data!$A504-9900010000","v":8006},{"$f":"IF(EXACT($B504,LOOKUP($B504,'INPUT '!$D$16:$D$116)),LOOKUP($B504,'INPUT '!$D$16:$D$116,'INPUT '!$E$16:$E$116),\"0\")","v":"0"},{"$f":"IF(EXACT($B504,LOOKUP($B504,'INPUT '!$D$16:$D$116)),LOOKUP($B504,'INPUT '!$D$16:$D$116,'INPUT '!$F$16:$F$116),\"0\")","v":"0"},"SUPPORT OF STEEL",null,null,9900008006,216,0,9900000062,1,0,9900000002,1,0,9900000022,3,0,9900000072,1,0,null,null,0]
[9900018007,{"$f":"Data!$A505-9900010000","v":8007},{"$f":"IF(EXACT($B505,LOOKUP($B505,'INPUT '!$D$16:$D$116)),LOOKUP($B505,'INPUT '!$D$16:$D$116,'INPUT '!$E$16:$E$116),\"0\")","v":"0"},{"$f":"IF(EXACT($B505,LOOKUP($B505,'INPUT '!$D$16:$D$116)),LOOKUP($B505,'INPUT '!$D$16:$D$116,'INPUT '!$F$16:$F$116),\"0\")","v":"0"},"SUPPORT OF STEEL",null,null,9900008007,50,0,9900000062,1,0,9900000002,1,0,9900000022,2,0,9900000072,1,0,null,null,0]
[9900018010,{"$f":"Data!$A506-9900010000","v":8010},{"$f":"IF(EXACT($B506,LOOKUP($B506,'INPUT '!$D$16:$D$116)),LOOKUP($B506,'INPUT '!$D$16:$D$116,'INPUT '!$E$16:$E$116),\"0\")","v":"0"},{"$f":"IF(EXACT($B506,LOOKUP($B506,'INPUT '!$D$16:$D$116)),LOOKUP($B506,'INPUT '!$D$16:$D$116,'INPUT '!$F$16:$F$116),\"0\")","v":"0"},"SUPPORT OF STEEL",null,null,9900008010,16,0,9900000061,1,0,9900000001,1,0,9900000021,3,0,9900000071,1,0,null,null,0]
[9900018011,{"$f":"Data!$A507-9900010000","v":8011},{"$f":"IF(EXACT($B507,LOOKUP($B507,'INPUT '!$D$16:$D$116)),LOOKUP($B507,'INPUT '!$D$16:$D$116,'INPUT '!$E$16:$E$116),\"0\")","v":"0"},{"$f":"IF(EXACT($B507,LOOKUP($B507,'INPUT '!$D$16:$D$116)),LOOKUP($B507,'INPUT '!$D$16:$D$116,'INPUT '!$F$16:$F$116),\"0\")","v":"0"},"SUPPORT OF STEEL",null,null,9900008011,8,{"$f":"I507*C507","v":0},9900000061,1,{"$f":"L507*C507","v":0},9900000001,1,{"$f":"O507*C507","v":0},9900000021,2,0,9900000071,1,{"$f":"U507*C507","v":0},null,null,{"$f":"X507*C507","v":0}]
[9900018012,{"$f":"Data!$A508-9900010000","v":8012},{"$f":"IF(EXACT($B508,LOOKUP($B508,'INPUT '!$D$16:$D$116)),LOOKUP($B508,'INPUT '!$D$16:$D$116,'INPUT '!$E$16:$E$116),\"0\")","v":"0"},{"$f":"IF(EXACT($B508,LOOKUP($B508,'INPUT '!$D$16:$D$116)),LOOKUP($B508,'INPUT '!$D$16:$D$116,'INPUT '!$F$16:$F$116),\"0\")","v":"0"},"SUPPORT OF STEEL",null,null,9900008012,78,{"$f":"I508*C508","v":0},9900000062,1,{"$f":"L508*C508","v":0},9900000002,1,{"$f":"O508*C508","v":0},9900000022,1,0,9900000072,1,{"$f":"U508*C508","v":0},null,null,{"$f":"X508*C508","v":0}]
[9900018013,{"$f":"Data!$A509-9900010000","v":8013},{"$f":"IF(EXACT($B509,LOOKUP($B509,'INPUT '!$D$16:$D$116)),LOOKUP($B509,'INPUT '!$D$16:$D$116,'INPUT '!$E$16:$E$116),\"0\")","v":"0"},{"$f":"IF(EXACT($B509,LOOKUP($B509,'INPUT '!$D$16:$D$116)),LOOKUP($B509,'INPUT '!$D$16:$D$116,'INPUT '!$F$16:$F$116),\"0\")","v":"0"},"SUPPORT OF STEEL",null,null,9900008013,78,{"$f":"I509*C509","v":0},9900000062,1,{"$f":"L509*C509","v":0},9900000002,1,{"$f":"O509*C509","v":0},9900000022,1,0,9900000072,1,{"$f":"U509*C509","v":0},null,null,{"$f":"X509*C509","v":0}]
[9900018015,{"$f":"Data!$A510-9900010000","v":8015},{"$f":"IF(EXACT($B510,LOOKUP($B510,'INPUT '!$D$16:$D$116)),LOOKUP($B510,'INPUT '!$D$16:$D$116,'INPUT '!$E$16:$E$116),\"0\")","v":"0"},{"$f":"IF(EXACT($B510,LOOKUP($B510,'INPUT '!$D$16:$D$116)),LOOKUP($B510,'INPUT '!$D$16:$D$116,'INPUT '!$F$16:$F$116),\"0\")","v":"0"},"SUPPORT OF STEEL",null,null,9900008015,40,0,9900000062,1,0,9900000002,1,0,9900000022,2,0,9900000072,1,0,null,null,0]
[9900018016,{"$f":"Data!$A511-9900010000","v":8016},{"$f":"IF(EXACT($B511,LOOKUP($B511,'INPUT '!$D$16:$D$116)),LOOKUP($B511,'INPUT '!$D$16:$D$116,'INPUT '!$E$16:$E$116),\"0\")","v":"0"},{"$f":"IF(EXACT($B511,LOOKUP($B511,'INPUT '!$D$16:$D$116)),LOOKUP($B511,'INPUT '!$D$16:$D$116,'INPUT '!$F$16:$F$116),\"0\")","v":"0"},"SUPPORT OF STEEL",null,null,9900008016,25,0,9900000062,1,0,9900000002,1,0,9900000022,2,0,9900000072,1,0,null,null,0]
[9900018017,{"$f":"Data!$A512-9900010000","v":8017},{"$f":"IF(EXACT($B512,LOOKUP($B512,'INPUT '!$D$16:$D$116)),LOOKUP($B512,'INPUT '!$D$16:$D$116,'INPUT '!$E$16:$E$116),\"0\")","v":"0"},{"$f":"IF(EXACT($B512,LOOKUP($B512,'INPUT '!$D$16:$D$116)),LOOKUP($B512,'INPUT '!$D$16:$D$116,'INPUT '!$F$16:$F$116),\"0\")","v":"0"},"SUPPORT OF STEEL",null,null,9900008017,20,0,9900000062,1,0,9900000002,1,0,9900000022,2,0,9900000072,1,0,null,null,0]
[9900018018,{"$f":"Data!$A513-9900010000","v":8018},{"$f":"IF(EXACT($B513,LOOKUP($B513,'INPUT '!$D$16:$D$116)),LOOKUP($B513,'INPUT '!$D$16:$D$116,'INPUT '!$E$16:$E$116),\"0\")","v":"0"},{"$f":"IF(EXACT($B513,LOOKUP($B513,'INPUT '!$D$16:$D$116)),LOOKUP($B513,'INPUT '!$D$16:$D$116,'INPUT '!$F$16:$F$116),\"0\")","v":"0"},"SUPPORT OF STEEL",null,null,9900008018,20,0,9900000062,1,0,9900000002,1,0,9900000022,2,0,9900000072,1,0,null,null,0]
[9900018019,{"$f":"Data!$A514-9900010000","v":8019},{"$f":"IF(EXACT($B514,LOOKUP($B514,'INPUT '!$D$16:$D$116)),LOOKUP($B514,'INPUT '!$D$16:$D$116,'INPUT '!$E$16:$E$116),\"0\")","v":"0"},{"$f":"IF(EXACT($B514,LOOKUP($B514,'INPUT '!$D$16:$D$116)),LOOKUP($B514,'INPUT '!$D$16:$D$116,'INPUT '!$F$16:$F$116),\"0\")","v":"0"},"SUPPORT OF STEEL",null,null,9900008019,50,0,9900000061,1,0,9900000001,1,0,9900000021,2,0,9900000071,1,0,null,null,0]
[9900018020,{"$f":"Data!$A515-9900010000","v":8020},{"$f":"IF(EXACT($B515,LOOKUP($B515,'INPUT '!$D$16:$D$116)),LOOKUP($B515,'INPUT '!$D$16:$D$116,'INPUT '!$E$16:$E$116),\"0\")","v":"0"},{"$f":"IF(EXACT($B515,LOOKUP($B515,'INPUT '!$D$16:$D$116)),LOOKUP($B515,'INPUT '!$D$16:$D$116,'INPUT '!$F$16:$F$116),\"0\")","v":"0"},"SUPPORT OF STEEL",null,null,9900008020,90,0,9900000062,1,0,9900000002,1,0,9900000022,2,0,9900000072,1,0,null,null,0]
[9900018021,{"$f":"Data!$A516-9900010000","v":8021},{"$f":"IF(EXACT($B516,LOOKUP($B516,'INPUT '!$D$16:$D$116)),LOOKUP($B516,'INPUT '!$D$16:$D$116,'INPUT '!$E$16:$E$116),\"0\")","v":"0"},{"$f":"IF(EXACT($B516,LOOKUP($B516,'INPUT '!$D$16:$D$116)),LOOKUP($B516,'INPUT '!$D$16:$D$116,'INPUT '!$F$16:$F$116),\"0\")","v":"0"},"SUPPORT OF STEEL",null,null,9900008021,11,0,9900000061,1,0,9900000001,1,0,9900000021,3,0,9900000071,1,0,null,null,0]
[9900018022,{"$f":"Data!$A517-9900010000","v":8022},{"$f":"IF(EXACT($B517,LOOKUP($B517,'INPUT '!$D$16:$D$116)),LOOKUP($B517,'INPUT '!$D$16:$D$116,'INPUT '!$E$16:$E$116),\"0\")","v":"0"},{"$f":"IF(EXACT($B517,LOOKUP($B517,'INPUT '!$D$16:$D$116)),LOOKUP($B517,'INPUT '!$D$16:$D$116,'INPUT '!$F$16:$F$116),\"0\")","v":"0"},"SUPPORT OF STEEL",null,null,9900008022,45,0,9900000062,1,0,9900000002,1,0,9900000022,1,0,9900000072,1,0,null,null,0]
[9900018025,{"$f":"Data!$A518-9900010000","v":8025},{"$f":"IF(EXACT($B518,LOOKUP($B518,'INPUT '!$D$16:$D$116)),LOOKUP($B518,'INPUT '!$D$16:$D$116,'INPUT '!$E$16:$E$116),\"0\")","v":"0"},{"$f":"IF(EXACT($B518,LOOKUP($B518,'INPUT '!$D$16:$D$116)),LOOKUP($B518,'INPUT '!$D$16:$D$116,'INPUT '!$F$16:$F$116),\"0\")","v":"0"},"SUPPORT OF STEEL",null,null,9900008025,32,0,9900000061,1,0,9900000001,1,0,9900000021,4,0,9900000071,1,0,null,null,0]
[9900018026,{"$f":"Data!$A519-9900010000","v":8026},{"$f":"IF(EXACT($B519,LOOKUP($B519,'INPUT '!$D$16:$D$116)),LOOKUP($B519,'INPUT '!$D$16:$D$116,'INPUT '!$E$16:$E$116),\"0\")","v":"0"},{"$f":"IF(EXACT($B519,LOOKUP($B519,'INPUT '!$D$16:$D$116)),LOOKUP($B519,'INPUT '!$D$16:$D$116,'INPUT '!$F$16:$F$116),\"0\")","v":"0"},"SUPPORT OF STEEL",null,null,9900008026,15,0,9900000061,1,0,9900000001,1,0,9900000021,3,0,9900000071,1,0,null,null,0]
[9900018027,{"$f":"Data!$A520-9900010000","v":8027},{"$f":"IF(EXACT($B520,LOOKUP($B520,'INPUT '!$D$16:$D$116)),LOOKUP($B520,'INPUT '!$D$16:$D$116,'INPUT '!$E$16:$E$116),\"0\")","v":"0"},{"$f":"IF(EXACT($B520,LOOKUP($B520,'INPUT '!$D$16:$D$116)),LOOKUP($B520,'INPUT '!$D$16:$D$116,'INPUT '!$F$16:$F$116),\"0\")","v":"0"},"SUPPORT OF STEEL",null,null,9900008027,10,0,9900000061,1,0,9900000001,1,0,9900000021,3,0,9900000071,1,0,null,null,0]
[9900018028,{"$f":"Data!$A521-9900010000","v":8028},{"$f":"IF(EXACT($B521,LOOKUP($B521,'INPUT '!$D$16:$D$116)),LOOKUP($B521,'INPUT '!$D$16:$D$116,'INPUT '!$E$16:$E$116),\"0\")","v":"0"},{"$f":"IF(EXACT($B521,LOOKUP($B521,'INPUT '!$D$16:$D$116)),LOOKUP($B521,'INPUT '!$D$16:$D$116,'INPUT '!$F$16:$F$116),\"0\")","v":"0"},"SUPPORT OF STEEL",null,null,9900008028,14,0,9900000061,1,0,9900000001,1,0,9900000021,3,0,9900000071,1,0,null,null,0]
[9900018029,{"$f":"Data!$A522-9900010000","v":8029},{"$f":"IF(EXACT($B522,LOOKUP($B522,'INPUT '!$D$16:$D$116)),LOOKUP($B522,'INPUT '!$D$16:$D$116,'INPUT '!$E$16:$E$116),\"0\")","v":"0"},{"$f":"IF(EXACT($B522,LOOKUP($B522,'INPUT '!$D$16:$D$116)),LOOKUP($B522,'INPUT '!$D$16:$D$116,'INPUT '!$F$16:$F$116),\"0\")","v":"0"},"SUPPORT OF STEEL",null,null,9900008029,14,0,9900000061,1,0,9900000001,1,0,9900000021,2,0,9900000071,1,0,null,null,0]
[9900018050,{"$f":"Data!$A523-9900010000","v":8050},{"$f":"IF(EXACT($B523,LOOKUP($B523,'INPUT '!$D$16:$D$116)),LOOKUP($B523,'INPUT '!$D$16:$D$116,'INPUT '!$E$16:$E$116),\"0\")","v":"0"},{"$f":"IF(EXACT($B523,LOOKUP($B523,'INPUT '!$D$16:$D$116)),LOOKUP($B523,'INPUT '!$D$16:$D$116,'INPUT '!$F$16:$F$116),\"0\")","v":"0"},"SUPPORT OF STEEL",null,null,9900008050,65,0,9900000061,1,0,9900000001,1,0,9900000021,2,{"$f":"R523*C523","v":0},9900000071,1,0,null,null,0]
[9900018051,{"$f":"Data!$A524-9900010000","v":8051},{"$f":"IF(EXACT($B524,LOOKUP($B524,'INPUT '!$D$16:$D$116)),LOOKUP($B524,'INPUT '!$D$16:$D$116,'INPUT '!$E$16:$E$116),\"0\")","v":"0"},{"$f":"IF(EXACT($B524,LOOKUP($B524,'INPUT '!$D$16:$D$116)),LOOKUP($B524,'INPUT '!$D$16:$D$116,'INPUT '!$F$16:$F$116),\"0\")","v":"0"},"SUPPORT OF STEEL",null,null,9900008051,65,0,9900000061,1,0,9900000001,1,0,9900000021,2,0,9900000071,1,0,null,null,0]
[9900018059,{"$f":"Data!$A525-9900010000","v":8059},{"$f":"IF(EXACT($B525,LOOKUP($B525,'INPUT '!$D$16:$D$116)),LOOKUP($B525,'INPUT '!$D$16:$D$116,'INPUT '!$E$16:$E$116),\"0\")","v":"0"},{"$f":"IF(EXACT($B525,LOOKUP($B525,'INPUT '!$D$16:$D$116)),LOOKUP($B525,'INPUT '!$D$16:$D$116,'INPUT '!$F$16:$F$116),\"0\")","v":"0"},"SUPPORT OF STEEL",null,null,9900008059,30,0,9900000061,1,0,9900000001,1,0,9900000021,2,0,9900000071,1,0,null,null,0]
[9900018060,{"$f":"Data!$A526-9900010000","v":8060},{"$f":"IF(EXACT($B526,LOOKUP($B526,'INPUT '!$D$16:$D$116)),LOOKUP($B526,'INPUT '!$D$16:$D$116,'INPUT '!$E$16:$E$116),\"0\")","v":"0"},{"$f":"IF(EXACT($B526,LOOKUP($B526,'INPUT '!$D$16:$D$116)),LOOKUP($B526,'INPUT '!$D$16:$D$116,'INPUT '!$F$16:$F$116),\"0\")","v":"0"},"SUPPORT OF STEEL",null,null,9900008060,30,0,9900000062,1,0,9900000002,1,0,9900000022,2,0,9900000072,1,0,null,null,0]
[9900018061,{"$f":"Data!$A527-9900010000","v":8061},{"$f":"IF(EXACT($B527,LOOKUP($B527,'INPUT '!$D$16:$D$116)),LOOKUP($B527,'INPUT '!$D$16:$D$116,'INPUT '!$E$16:$E$116),\"0\")","v":"0"},{"$f":"IF(EXACT($B527,LOOKUP($B527,'INPUT '!$D$16:$D$116)),LOOKUP($B527,'INPUT '!$D$16:$D$116,'INPUT '!$F$16:$F$116),\"0\")","v":"0"},"SUPPORT OF STEEL",null,null,9900008061,100,0,9900000061,1,0,9900000001,1,0,9900000021,2,0,9900000071,1,0,null,null,0]
[9900018062,{"$f":"Data!$A528-9900010000","v":8062},{"$f":"IF(EXACT($B528,LOOKUP($B528,'INPUT '!$D$16:$D$116)),LOOKUP($B528,'INPUT '!$D$16:$D$116,'INPUT '!$E$16:$E$116),\"0\")","v":"0"},{"$f":"IF(EXACT($B528,LOOKUP($B528,'INPUT '!$D$16:$D$116)),LOOKUP($B528,'INPUT '!$D$16:$D$116,'INPUT '!$F$16:$F$116),\"0\")","v":"0"},"SUPPORT OF STEEL",null,null,9900008062,30,0,9900000062,1,0,9900000002,1,0,9900000022,1,0,9900000072,1,0,null,null,0]
[9900018063,{"$f":"Data!$A529-9900010000","v":8063},{"$f":"IF(EXACT($B529,LOOKUP($B529,'INPUT '!$D$16:$D$116)),LOOKUP($B529,'INPUT '!$D$16:$D$116,'INPUT '!$E$16:$E$116),\"0\")","v":"0"},{"$f":"IF(EXACT($B529,LOOKUP($B529,'INPUT '!$D$16:$D$116)),LOOKUP($B529,'INPUT '!$D$16:$D$116,'INPUT '!$F$16:$F$116),\"0\")","v":"0"},"SUPPORT OF STEEL",null,null,9900008063,30,0,9900000062,1,0,9900000002,1,0,9900000022,1,0,9900000072,1,0,null,null,0]
[9900018064,{"$f":"Data!$A530-9900010000","v":8064},{"$f":"IF(EXACT($B530,LOOKUP($B530,'INPUT '!$D$16:$D$116)),LOOKUP($B530,'INPUT '!$D$16:$D$116,'INPUT '!$E$16:$E$116),\"0\")","v":"0"},{"$f":"IF(EXACT($B530,LOOKUP($B530,'INPUT '!$D$16:$D$116)),LOOKUP($B530,'INPUT '!$D$16:$D$116,'INPUT '!$F$16:$F$116),\"0\")","v":"0"},"SUPPORT OF STEEL",null,null,9900008064,35,0,9900000062,1,0,9900000002,1,0,9900000022,2,0,9900000072,1,0,null,null,0]
[9900018065,{"$f":"Data!$A531-9900010000","v":8065},{"$f":"IF(EXACT($B531,LOOKUP($B531,'INPUT '!$D$16:$D$116)),LOOKUP($B531,'INPUT '!$D$16:$D$116,'INPUT '!$E$16:$E$116),\"0\")","v":"0"},{"$f":"IF(EXACT($B531,LOOKUP($B531,'INPUT '!$D$16:$D$116)),LOOKUP($B531,'INPUT '!$D$16:$D$116,'INPUT '!$F$16:$F$116),\"0\")","v":"0"},"SUPPORT OF STEEL",null,null,9900008065,80,0,9900000062,1,0,9900000002,1,0,9900000022,2,0,9900000072,1,0,null,null,0]
[9900018066,{"$f":"Data!$A532-9900010000","v":8066},{"$f":"IF(EXACT($B532,LOOKUP($B532,'INPUT '!$D$16:$D$116)),LOOKUP($B532,'INPUT '!$D$16:$D$116,'INPUT '!$E$16:$E$116),\"0\")","v":"0"},{"$f":"IF(EXACT($B532,LOOKUP($B532,'INPUT '!$D$16:$D$116)),LOOKUP($B532,'INPUT '!$D$16:$D$116,'INPUT '!$F$16:$F$116),\"0\")","v":"0"},"SUPPORT OF STEEL",null,null,9900008066,80,0,9900000062,1,0,9900000002,1,0,9900000022,2,0,9900000072,1,0,null,null,0]
[9900018067,{"$f":"Data!$A533-9900010000","v":8067},{"$f":"IF(EXACT($B533,LOOKUP($B533,'INPUT '!$D$16:$D$116)),LOOKUP($B533,'INPUT '!$D$16:$D$116,'INPUT '!$E$16:$E$116),\"0\")","v":"0"},{"$f":"IF(EXACT($B533,LOOKUP($B533,'INPUT '!$D$16:$D$116)),LOOKUP($B533,'INPUT '!$D$16:$D$116,'INPUT '!$F$16:$F$116),\"0\")","v":"0"},"SUPPORT OF STEEL",null,null,9900008067,10,0,9900000062,1,0,9900000002,1,0,9900000022,1,0,9900000072,1,0,null,null,0]
[9900018068,{"$f":"Data!$A534-9900010000","v":8068},{"$f":"IF(EXACT($B534,LOOKUP($B534,'INPUT '!$D$16:$D$116)),LOOKUP($B534,'INPUT '!$D$16:$D$116,'INPUT '!$E$16:$E$116),\"0\")","v":"0"},{"$f":"IF(EXACT($B534,LOOKUP($B534,'INPUT '!$D$16:$D$116)),LOOKUP($B534,'INPUT '!$D$16:$D$116,'INPUT '!$F$16:$F$116),\"0\")","v":"0"},"SUPPORT OF STEEL",null,null,9900008068,10,0,9900000062,1,0,9900000002,1,0,9900000022,1,0,9900000072,1,0,null,null,0]
[9900018069,{"$f":"Data!$A535-9900010000","v":8069},{"$f":"IF(EXACT($B535,LOOKUP($B535,'INPUT '!$D$16:$D$116)),LOOKUP($B535,'INPUT '!$D$16:$D$116,'INPUT '!$E$16:$E$116),\"0\")","v":"0"},{"$f":"IF(EXACT($B535,LOOKUP($B535,'INPUT '!$D$16:$D$116)),LOOKUP($B535,'INPUT '!$D$16:$D$116,'INPUT '!$F$16:$F$116),\"0\")","v":"0"},"SUPPORT OF STEEL",null,null,9900008069,60,0,9900000062,1,0,9900000002,1,0,9900000022,1,0,9900000072,1,0,null,null,0]
[9900018070,{"$f":"Data!$A536-9900010000","v":8070},{"$f":"IF(EXACT($B536,LOOKUP($B536,'INPUT '!$D$16:$D$116)),LOOKUP($B536,'INPUT '!$D$16:$D$116,'INPUT '!$E$16:$E$116),\"0\")","v":"0"},{"$f":"IF(EXACT($B536,LOOKUP($B536,'INPUT '!$D$16:$D$116)),LOOKUP($B536,'INPUT '!$D$16:$D$116,'INPUT '!$F$16:$F$116),\"0\")","v":"0"},"SUPPORT OF STEEL",null,null,9900008070,60,0,9900000062,1,0,9900000002,1,0,9900000022,1,0,9900000072,1,0,null,null,0]
[9900018075,{"$f":"Data!$A537-9900010000","v":8075},{"$f":"IF(EXACT($B537,LOOKUP($B537,'INPUT '!$D$16:$D$116)),LOOKUP($B537,'INPUT '!$D$16:$D$116,'INPUT '!$E$16:$E$116),\"0\")","v":"0"},{"$f":"IF(EXACT($B537,LOOKUP($B537,'INPUT '!$D$16:$D$116)),LOOKUP($B537,'INPUT '!$D$16:$D$116,'INPUT '!$F$16:$F$116),\"0\")","v":"0"},"SUPPORT OF STEEL",null,null,9900008075,10,{"$f":"I537*C537","v":0},9900000062,1,{"$f":"L537*C537","v":0},9900000002,1,{"$f":"O537*C537","v":0},9900000022,1,{"$f":"R537*C537","v":0},9900000072,1,{"$f":"U537*C537","v":0},null,null,{"$f":"X537*C537","v":0}]
[9900018076,{"$f":"Data!$A538-9900010000","v":8076},{"$f":"IF(EXACT($B538,LOOKUP($B538,'INPUT '!$D$16:$D$116)),LOOKUP($B538,'INPUT '!$D$16:$D$116,'INPUT '!$E$16:$E$116),\"0\")","v":"0"},{"$f":"IF(EXACT($B538,LOOKUP($B538,'INPUT '!$D$16:$D$116)),LOOKUP($B538,'INPUT '!$D$16:$D$116,'INPUT '!$F$16:$F$116),\"0\")","v":"0"},"SUPPORT OF STEEL",null,null,9900008076,10,{"$f":"I538*C538","v":0},9900000062,1,{"$f":"L538*C538","v":0},9900000002,1,{"$f":"O538*C538","v":0},9900000022,1,{"$f":"R538*C538","v":0},9900000072,1,{"$f":"U538*C538","v":0},null,null,{"$f":"X538*C538","v":0}]
[9900018077,{"$f":"Data!$A539-9900010000","v":8077},{"$f":"IF(EXACT($B539,LOOKUP($B539,'INPUT '!$D$16:$D$116)),LOOKUP($B539,'INPUT '!$D$16:$D$116,'INPUT '!$E$16:$E$116),\"0\")","v":"0"},{"$f":"IF(EXACT($B539,LOOKUP($B539,'INPUT '!$D$16:$D$116)),LOOKUP($B539,'INPUT '!$D$16:$D$116,'INPUT '!$F$16:$F$116),\"0\")","v":"0"},"SUPPORT OF STEEL",null,null,9900008077,28,0,9900000062,1,0,9900000002,1,0,9900000022,2,0,9900000072,1,0,null,null,0]
[9900018078,{"$f":"Data!$A540-9900010000","v":8078},{"$f":"IF(EXACT($B540,LOOKUP($B540,'INPUT '!$D$16:$D$116)),LOOKUP($B540,'INPUT '!$D$16:$D$116,'INPUT '!$E$16:$E$116),\"0\")","v":"0"},{"$f":"IF(EXACT($B540,LOOKUP($B540,'INPUT '!$D$16:$D$116)),LOOKUP($B540,'INPUT '!$D$16:$D$116,'INPUT '!$F$16:$F$116),\"0\")","v":"0"},"SUPPORT OF STEEL",null,null,9900008078,28,0,9900000062,1,0,9900000002,1,0,9900000022,2,0,9900000072,1,0,null,null,0]
[9900018079,{"$f":"Data!$A541-9900010000","v":8079},{"$f":"IF(EXACT($B541,LOOKUP($B541,'INPUT '!$D$16:$D$116)),LOOKUP($B541,'INPUT '!$D$16:$D$116,'INPUT '!$E$16:$E$116),\"0\")","v":"0"},{"$f":"IF(EXACT($B541,LOOKUP($B541,'INPUT '!$D$16:$D$116)),LOOKUP($B541,'INPUT '!$D$16:$D$116,'INPUT '!$F$16:$F$116),\"0\")","v":"0"},"SUPPORT OF STEEL",null,null,9900008079,30,0,9900000062,1,0,9900000002,1,0,9900000022,2,0,9900000072,1,0,null,null,0]
[9900018080,{"$f":"Data!$A542-9900010000","v":8080},{"$f":"IF(EXACT($B542,LOOKUP($B542,'INPUT '!$D$16:$D$116)),LOOKUP($B542,'INPUT '!$D$16:$D$116,'INPUT '!$E$16:$E$116),\"0\")","v":"0"},{"$f":"IF(EXACT($B542,LOOKUP($B542,'INPUT '!$D$16:$D$116)),LOOKUP($B542,'INPUT '!$D$16:$D$116,'INPUT '!$F$16:$F$116),\"0\")","v":"0"},"SUPPORT OF STEEL",null,null,9900008080,30,0,9900000062,1,0,9900000002,1,0,9900000022,2,0,9900000072,1,0,null,null,0]
[9900018081,{"$f":"Data!$A543-9900010000","v":8081},{"$f":"IF(EXACT($B543,LOOKUP($B543,'INPUT '!$D$16:$D$116)),LOOKUP($B543,'INPUT '!$D$16:$D$116,'INPUT '!$E$16:$E$116),\"0\")","v":"0"},{"$f":"IF(EXACT($B543,LOOKUP($B543,'INPUT '!$D$16:$D$116)),LOOKUP($B543,'INPUT '!$D$16:$D$116,'INPUT '!$F$16:$F$116),\"0\")","v":"0"},"SUPPORT OF STEEL",null,null,9900008081,84,0,9900000062,1,0,9900000002,1,0,9900000022,1,0,9900000072,1,0,null,null,0]
[9900018082,{"$f":"Data!$A544-9900010000","v":8082},{"$f":"IF(EXACT($B544,LOOKUP($B544,'INPUT '!$D$16:$D$116)),LOOKUP($B544,'INPUT '!$D$16:$D$116,'INPUT '!$E$16:$E$116),\"0\")","v":"0"},{"$f":"IF(EXACT($B544,LOOKUP($B544,'INPUT '!$D$16:$D$116)),LOOKUP($B544,'INPUT '!$D$16:$D$116,'INPUT '!$F$16:$F$116),\"0\")","v":"0"},"SUPPORT OF STEEL",null,null,9900008082,30,0,9900000062,1,0,9900000002,1,0,9900000022,3,0,9900000072,1,0,null,null,0]
[9900018083,{"$f":"Data!$A545-9900010000","v":8083},{"$f":"IF(EXACT($B545,LOOKUP($B545,'INPUT '!$D$16:$D$116)),LOOKUP($B545,'INPUT '!$D$16:$D$116,'INPUT '!$E$16:$E$116),\"0\")","v":"0"},{"$f":"IF(EXACT($B545,LOOKUP($B545,'INPUT '!$D$16:$D$116)),LOOKUP($B545,'INPUT '!$D$16:$D$116,'INPUT '!$F$16:$F$116),\"0\")","v":"0"},"SUPPORT OF STEEL",null,null,9900008083,25,0,9900000062,1,0,9900000002,1,0,9900000022,1,0,9900000072,1,0,null,null,0]
[9900018084,{"$f":"Data!$A546-9900010000","v":8084},{"$f":"IF(EXACT($B546,LOOKUP($B546,'INPUT '!$D$16:$D$116)),LOOKUP($B546,'INPUT '!$D$16:$D$116,'INPUT '!$E$16:$E$116),\"0\")","v":"0"},{"$f":"IF(EXACT($B546,LOOKUP($B546,'INPUT '!$D$16:$D$116)),LOOKUP($B546,'INPUT '!$D$16:$D$116,'INPUT '!$F$16:$F$116),\"0\")","v":"0"},"SUPPORT OF STEEL",null,null,9900008084,25,0,9900000062,1,0,9900000002,1,0,9900000022,1,0,9900000072,1,0,null,null,0]
[9900018085,{"$f":"Data!$A547-9900010000","v":8085},{"$f":"IF(EXACT($B547,LOOKUP($B547,'INPUT '!$D$16:$D$116)),LOOKUP($B547,'INPUT '!$D$16:$D$116,'INPUT '!$E$16:$E$116),\"0\")","v":"0"},{"$f":"IF(EXACT($B547,LOOKUP($B547,'INPUT '!$D$16:$D$116)),LOOKUP($B547,'INPUT '!$D$16:$D$116,'INPUT '!$F$16:$F$116),\"0\")","v":"0"},"SUPPORT OF STEEL",null,null,9900008085,65,0,9900000062,1,0,9900000002,1,0,9900000022,2,0,9900000072,1,0,null,null,0]
[9900018086,{"$f":"Data!$A548-9900010000","v":8086},{"$f":"IF(EXACT($B548,LOOKUP($B548,'INPUT '!$D$16:$D$116)),LOOKUP($B548,'INPUT '!$D$16:$D$116,'INPUT '!$E$16:$E$116),\"0\")","v":"0"},{"$f":"IF(EXACT($B548,LOOKUP($B548,'INPUT '!$D$16:$D$116)),LOOKUP($B548,'INPUT '!$D$16:$D$116,'INPUT '!$F$16:$F$116),\"0\")","v":"0"},"SUPPORT OF STEEL",null,null,9900008086,65,0,9900000062,1,0,9900000002,1,0,9900000022,2,0,9900000072,1,0,null,null,0]
[9900018150,{"$f":"Data!$A549-9900010000","v":8150},{"$f":"IF(EXACT($B549,LOOKUP($B549,'INPUT '!$D$16:$D$116)),LOOKUP($B549,'INPUT '!$D$16:$D$116,'INPUT '!$E$16:$E$116),\"0\")","v":"0"},{"$f":"IF(EXACT($B549,LOOKUP($B549,'INPUT '!$D$16:$D$116)),LOOKUP($B549,'INPUT '!$D$16:$D$116,'INPUT '!$F$16:$F$116),\"0\")","v":"0"},"SUPPORT OF STEEL",null,null,9900008150,50,0,9900000061,1,0,9900000001,1,0,9900000021,3,0,9900000071,1,0,null,null,0]
[9900018151,{"$f":"Data!$A550-9900010000","v":8151},{"$f":"IF(EXACT($B550,LOOKUP($B550,'INPUT '!$D$16:$D$116)),LOOKUP($B550,'INPUT '!$D$16:$D$116,'INPUT '!$E$16:$E$116),\"0\")","v":"0"},{"$f":"IF(EXACT($B550,LOOKUP($B550,'INPUT '!$D$16:$D$116)),LOOKUP($B550,'INPUT '!$D$16:$D$116,'INPUT '!$F$16:$F$116),\"0\")","v":"0"},"SUPPORT OF STEEL",null,null,9900008151,20,0,9900000062,1,0,9900000002,1,0,9900000022,2,0,9900000072,1,0,null,null,0]
[9900018152,{"$f":"Data!$A551-9900010000","v":8152},{"$f":"IF(EXACT($B551,LOOKUP($B551,'INPUT '!$D$16:$D$116)),LOOKUP($B551,'INPUT '!$D$16:$D$116,'INPUT '!$E$16:$E$116),\"0\")","v":"0"},{"$f":"IF(EXACT($B551,LOOKUP($B551,'INPUT '!$D$16:$D$116)),LOOKUP($B551,'INPUT '!$D$16:$D$116,'INPUT '!$F$16:$F$116),\"0\")","v":"0"},"SUPPORT OF STEEL",null,null,9900008152,30,0,9900000062,1,0,9900000002,1,0,9900000022,3,0,9900000072,1,0,null,null,0]
[9900018153,{"$f":"Data!$A552-9900010000","v":8153},{"$f":"IF(EXACT($B552,LOOKUP($B552,'INPUT '!$D$16:$D$116)),LOOKUP($B552,'INPUT '!$D$16:$D$116,'INPUT '!$E$16:$E$116),\"0\")","v":"0"},{"$f":"IF(EXACT($B552,LOOKUP($B552,'INPUT '!$D$16:$D$116)),LOOKUP($B552,'INPUT '!$D$16:$D$116,'INPUT '!$F$16:$F$116),\"0\")","v":"0"},"SUPPORT OF STEEL",null,null,9900008153,25,0,9900000062,1,0,9900000002,1,0,9900000022,2,0,9900000072,1,0,null,null,0]
[9900018154,{"$f":"Data!$A553-9900010000","v":8154},{"$f":"IF(EXACT($B553,LOOKUP($B553,'INPUT '!$D$16:$D$116)),LOOKUP($B553,'INPUT '!$D$16:$D$116,'INPUT '!$E$16:$E$116),\"0\")","v":"0"},{"$f":"IF(EXACT($B553,LOOKUP($B553,'INPUT '!$D$16:$D$116)),LOOKUP($B553,'INPUT '!$D$16:$D$116,'INPUT '!$F$16:$F$116),\"0\")","v":"0"},"SUPPORT OF STEEL",null,null,9900008154,25,0,9900000062,1,0,9900000002,1,0,9900000022,2,0,9900000072,1,0,null,null,0]
[9900018160,{"$f":"Data!$A554-9900010000","v":8160},{"$f":"IF(EXACT($B554,LOOKUP($B554,'INPUT '!$D$16:$D$116)),LOOKUP($B554,'INPUT '!$D$16:$D$116,'INPUT '!$E$16:$E$116),\"0\")","v":"0"},{"$f":"IF(EXACT($B554,LOOKUP($B554,'INPUT '!$D$16:$D$116)),LOOKUP($B554,'INPUT '!$D$16:$D$116,'INPUT '!$F$16:$F$116),\"0\")","v":"0"},"SUPPORT OF STEEL",null,null,9900008160,31,0,9900000061,1,0,9900000001,1,0,9900000021,2,0,9900000071,1,0,null,null,0]
[9900018161,{"$f":"Data!$A555-9900010000","v":8161},{"$f":"IF(EXACT($B555,LOOKUP($B555,'INPUT '!$D$16:$D$116)),LOOKUP($B555,'INPUT '!$D$16:$D$116,'INPUT '!$E$16:$E$116),\"0\")","v":"0"},{"$f":"IF(EXACT($B555,LOOKUP($B555,'INPUT '!$D$16:$D$116)),LOOKUP($B555,'INPUT '!$D$16:$D$116,'INPUT '!$F$16:$F$116),\"0\")","v":"0"},"SUPPORT OF STEEL",null,null,9900008161,16,0,9900000061,1,0,9900000001,1,0,9900000021,2,0,9900000071,1,0,null,null,0]
[9900018162,{"$f":"Data!$A556-9900010000","v":8162},{"$f":"IF(EXACT($B556,LOOKUP($B556,'INPUT '!$D$16:$D$116)),LOOKUP($B556,'INPUT '!$D$16:$D$116,'INPUT '!$E$16:$E$116),\"0\")","v":"0"},{"$f":"IF(EXACT($B556,LOOKUP($B556,'INPUT '!$D$16:$D$116)),LOOKUP($B556,'INPUT '!$D$16:$D$116,'INPUT '!$F$16:$F$116),\"0\")","v":"0"},"SUPPORT OF STEEL",null,null,9900008162,20,0,9900000061,1,0,9900000001,1,0,9900000021,3,0,9900000071,1,0,null,null,0]
[9900018170,{"$f":"Data!$A557-9900010000","v":8170},{"$f":"IF(EXACT($B557,LOOKUP($B557,'INPUT '!$D$16:$D$116)),LOOKUP($B557,'INPUT '!$D$16:$D$116,'INPUT '!$E$16:$E$116),\"0\")","v":"0"},{"$f":"IF(EXACT($B557,LOOKUP($B557,'INPUT '!$D$16:$D$116)),LOOKUP($B557,'INPUT '!$D$16:$D$116,'INPUT '!$F$16:$F$116),\"0\")","v":"0"},"SUPPORT OF STEEL",null,null,9900008170,70,0,9900000062,1,0,9900000002,1,0,9900000022,2,0,9900000072,1,0,null,null,0]
[9900018171,{"$f":"Data!$A558-9900010000","v":8171},{"$f":"IF(EXACT($B558,LOOKUP($B558,'INPUT '!$D$16:$D$116)),LOOKUP($B558,'INPUT '!$D$16:$D$116,'INPUT '!$E$16:$E$116),\"0\")","v":"0"},{"$f":"IF(EXACT($B558,LOOKUP($B558,'INPUT '!$D$16:$D$116)),LOOKUP($B558,'INPUT '!$D$16:$D$116,'INPUT '!$F$16:$F$116),\"0\")","v":"0"},"SUPPORT OF STEEL",null,null,9900008171,70,0,9900000062,1,0,9900000002,1,0,9900000022,2,0,9900000072,1,0,null,null,0]
[9900018172,{"$f":"Data!$A559-9900010000","v":8172},{"$f":"IF(EXACT($B559,LOOKUP($B559,'INPUT '!$D$16:$D$116)),LOOKUP($B559,'INPUT '!$D$16:$D$116,'INPUT '!$E$16:$E$116),\"0\")","v":"0"},{"$f":"IF(EXACT($B559,LOOKUP($B559,'INPUT '!$D$16:$D$116)),LOOKUP($B559,'INPUT '!$D$16:$D$116,'INPUT '!$F$16:$F$116),\"0\")","v":"0"},"SUPPORT OF STEEL",null,null,9900008172,50,0,9900000062,1,0,9900000002,1,0,9900000022,3,0,9900000072,1,0,null,null,0]
[9900018173,{"$f":"Data!$A560-9900010000","v":8173},{"$f":"IF(EXACT($B560,LOOKUP($B560,'INPUT '!$D$16:$D$116)),LOOKUP($B560,'INPUT '!$D$16:$D$116,'INPUT '!$E$16:$E$116),\"0\")","v":"0"},{"$f":"IF(EXACT($B560,LOOKUP($B560,'INPUT '!$D$16:$D$116)),LOOKUP($B560,'INPUT '!$D$16:$D$116,'INPUT '!$F$16:$F$116),\"0\")","v":"0"},"SUPPORT OF STEEL",null,null,9900008173,50,0,9900000062,1,0,9900000002,1,0,9900000022,3,0,9900000072,1,0,null,null,0]
[9900018174,{"$f":"Data!$A561-9900010000","v":8174},{"$f":"IF(EXACT($B561,LOOKUP($B561,'INPUT '!$D$16:$D$116)),LOOKUP($B561,'INPUT '!$D$16:$D$116,'INPUT '!$E$16:$E$116),\"0\")","v":"0"},{"$f":"IF(EXACT($B561,LOOKUP($B561,'INPUT '!$D$16:$D$116)),LOOKUP($B561,'INPUT '!$D$16:$D$116,'INPUT '!$F$16:$F$116),\"0\")","v":"0"},"SUPPORT OF STEEL",null,null,9900008174,50,0,9900000062,1,0,9900000002,1,0,9900000022,3,0,9900000072,1,0,null,null,0]
[9900018175,{"$f":"Data!$A562-9900010000","v":8175},{"$f":"IF(EXACT($B562,LOOKUP($B562,'INPUT '!$D$16:$D$116)),LOOKUP($B562,'INPUT '!$D$16:$D$116,'INPUT '!$E$16:$E$116),\"0\")","v":"0"},{"$f":"IF(EXACT($B562,LOOKUP($B562,'INPUT '!$D$16:$D$116)),LOOKUP($B562,'INPUT '!$D$16:$D$116,'INPUT '!$F$16:$F$116),\"0\")","v":"0"},"SUPPORT OF STEEL",null,null,9900008175,50,0,9900000062,1,0,9900000002,1,0,9900000022,3,0,9900000072,1,0,null,null,0]
[9900018176,{"$f":"Data!$A563-9900010000","v":8176},{"$f":"IF(EXACT($B563,LOOKUP($B563,'INPUT '!$D$16:$D$116)),LOOKUP($B563,'INPUT '!$D$16:$D$116,'INPUT '!$E$16:$E$116),\"0\")","v":"0"},{"$f":"IF(EXACT($B563,LOOKUP($B563,'INPUT '!$D$16:$D$116)),LOOKUP($B563,'INPUT '!$D$16:$D$116,'INPUT '!$F$16:$F$116),\"0\")","v":"0"},"SUPPORT OF STEEL",null,null,9900008176,50,0,9900000062,1,0,9900000002,1,0,9900000022,3,0,9900000072,1,0,null,null,0]
[9900018177,{"$f":"Data!$A564-9900010000","v":8177},{"$f":"IF(EXACT($B564,LOOKUP($B564,'INPUT '!$D$16:$D$116)),LOOKUP($B564,'INPUT '!$D$16:$D$116,'INPUT '!$E$16:$E$116),\"0\")","v":"0"},{"$f":"IF(EXACT($B564,LOOKUP($B564,'INPUT '!$D$16:$D$116)),LOOKUP($B564,'INPUT '!$D$16:$D$116,'INPUT '!$F$16:$F$116),\"0\")","v":"0"},"SUPPORT OF STEEL",null,null,9900008177,50,0,9900000062,1,0,9900000002,1,0,9900000022,3,0,9900000072,1,0,null,null,0]
[9900018178,{"$f":"Data!$A565-9900010000","v":8178},{"$f":"IF(EXACT($B565,LOOKUP($B565,'INPUT '!$D$16:$D$116)),LOOKUP($B565,'INPUT '!$D$16:$D$116,'INPUT '!$E$16:$E$116),\"0\")","v":"0"},{"$f":"IF(EXACT($B565,LOOKUP($B565,'INPUT '!$D$16:$D$116)),LOOKUP($B565,'INPUT '!$D$16:$D$116,'INPUT '!$F$16:$F$116),\"0\")","v":"0"},"SUPPORT OF STEEL",null,null,9900008178,30,0,9900000062,1,0,9900000002,1,0,9900000022,2,0,9900000072,1,0,null,null,0]
[9900018179,{"$f":"Data!$A566-9900010000","v":8179},{"$f":"IF(EXACT($B566,LOOKUP($B566,'INPUT '!$D$16:$D$116)),LOOKUP($B566,'INPUT '!$D$16:$D$116,'INPUT '!$E$16:$E$116),\"0\")","v":"0"},{"$f":"IF(EXACT($B566,LOOKUP($B566,'INPUT '!$D$16:$D$116)),LOOKUP($B566,'INPUT '!$D$16:$D$116,'INPUT '!$F$16:$F$116),\"0\")","v":"0"},"SUPPORT OF STEEL",null,null,9900008179,30,0,9900000062,1,0,9900000002,1,0,9900000022,2,0,9900000072,1,0,null,null,0]
[9900018180,{"$f":"Data!$A567-9900010000","v":8180},{"$f":"IF(EXACT($B567,LOOKUP($B567,'INPUT '!$D$16:$D$116)),LOOKUP($B567,'INPUT '!$D$16:$D$116,'INPUT '!$E$16:$E$116),\"0\")","v":"0"},{"$f":"IF(EXACT($B567,LOOKUP($B567,'INPUT '!$D$16:$D$116)),LOOKUP($B567,'INPUT '!$D$16:$D$116,'INPUT '!$F$16:$F$116),\"0\")","v":"0"},"SUPPORT OF STEEL",null,null,9900008180,40,0,9900000062,1,0,9900000002,1,0,9900000022,2,0,9900000072,1,0,null,null,0]
[9900018181,{"$f":"Data!$A568-9900010000","v":8181},{"$f":"IF(EXACT($B568,LOOKUP($B568,'INPUT '!$D$16:$D$116)),LOOKUP($B568,'INPUT '!$D$16:$D$116,'INPUT '!$E$16:$E$116),\"0\")","v":"0"},{"$f":"IF(EXACT($B568,LOOKUP($B568,'INPUT '!$D$16:$D$116)),LOOKUP($B568,'INPUT '!$D$16:$D$116,'INPUT '!$F$16:$F$116),\"0\")","v":"0"},"SUPPORT OF STEEL",null,null,9900008181,40,0,9900000062,1,0,9900000002,1,{"$f":"O568*C568","v":0},9900000022,2,0,9900000072,1,0,null,null,0]
[9900018182,{"$f":"Data!$A569-9900010000","v":8182},{"$f":"IF(EXACT($B569,LOOKUP($B569,'INPUT '!$D$16:$D$116)),LOOKUP($B569,'INPUT '!$D$16:$D$116,'INPUT '!$E$16:$E$116),\"0\")","v":"0"},{"$f":"IF(EXACT($B569,LOOKUP($B569,'INPUT '!$D$16:$D$116)),LOOKUP($B569,'INPUT '!$D$16:$D$116,'INPUT '!$F$16:$F$116),\"0\")","v":"0"},"SUPPORT OF STEEL",null,null,9900008182,40,0,9900000062,1,0,9900000002,1,0,9900000022,2,0,9900000072,1,0,null,null,0]
[9900018183,{"$f":"Data!$A570-9900010000","v":8183},{"$f":"IF(EXACT($B570,LOOKUP($B570,'INPUT '!$D$16:$D$116)),LOOKUP($B570,'INPUT '!$D$16:$D$116,'INPUT '!$E$16:$E$116),\"0\")","v":"0"},{"$f":"IF(EXACT($B570,LOOKUP($B570,'INPUT '!$D$16:$D$116)),LOOKUP($B570,'INPUT '!$D$16:$D$116,'INPUT '!$F$16:$F$116),\"0\")","v":"0"},"SUPPORT OF STEEL",null,null,9900008183,40,{"$f":"I570*C570","v":0},9900000062,1,{"$f":"L570*C570","v":0},9900000002,1,0,9900000022,2,0,9900000072,1,{"$f":"U570*C570","v":0},null,null,{"$f":"X570*C570","v":0}]
[9900018184,{"$f":"Data!$A571-9900010000","v":8184},{"$f":"IF(EXACT($B571,LOOKUP($B571,'INPUT '!$D$16:$D$116)),LOOKUP($B571,'INPUT '!$D$16:$D$116,'INPUT '!$E$16:$E$116),\"0\")","v":"0"},{"$f":"IF(EXACT($B571,LOOKUP($B571,'INPUT '!$D$16:$D$116)),LOOKUP($B571,'INPUT '!$D$16:$D$116,'INPUT '!$F$16:$F$116),\"0\")","v":"0"},"SUPPORT OF STEEL",null,null,9900008184,40,0,9900000062,1,0,9900000002,1,0,9900000022,2,0,9900000072,1,0,null,null,0]
[9900018185,{"$f":"Data!$A572-9900010000","v":8185},{"$f":"IF(EXACT($B572,LOOKUP($B572,'INPUT '!$D$16:$D$116)),LOOKUP($B572,'INPUT '!$D$16:$D$116,'INPUT '!$E$16:$E$116),\"0\")","v":"0"},{"$f":"IF(EXACT($B572,LOOKUP($B572,'INPUT '!$D$16:$D$116)),LOOKUP($B572,'INPUT '!$D$16:$D$116,'INPUT '!$F$16:$F$116),\"0\")","v":"0"},"SUPPORT OF STEEL",null,null,9900008185,50,0,9900000061,1,0,9900000001,1,0,9900000021,2,0,9900000071,1,0,null,null,0]
[9900018186,{"$f":"Data!$A573-9900010000","v":8186},{"$f":"IF(EXACT($B573,LOOKUP($B573,'INPUT '!$D$16:$D$116)),LOOKUP($B573,'INPUT '!$D$16:$D$116,'INPUT '!$E$16:$E$116),\"0\")","v":"0"},{"$f":"IF(EXACT($B573,LOOKUP($B573,'INPUT '!$D$16:$D$116)),LOOKUP($B573,'INPUT '!$D$16:$D$116,'INPUT '!$F$16:$F$116),\"0\")","v":"0"},"SUPPORT OF STEEL",null,null,9900008186,50,0,9900000061,1,0,9900000001,1,0,9900000021,2,0,9900000071,1,0,null,null,0]
[9900018187,{"$f":"Data!$A574-9900010000","v":8187},{"$f":"IF(EXACT($B574,LOOKUP($B574,'INPUT '!$D$16:$D$116)),LOOKUP($B574,'INPUT '!$D$16:$D$116,'INPUT '!$E$16:$E$116),\"0\")","v":"0"},{"$f":"IF(EXACT($B574,LOOKUP($B574,'INPUT '!$D$16:$D$116)),LOOKUP($B574,'INPUT '!$D$16:$D$116,'INPUT '!$F$16:$F$116),\"0\")","v":"0"},"SUPPORT OF STEEL",null,null,9900008187,50,0,9900000061,1,0,9900000001,1,0,9900000021,2,0,9900000071,1,0,null,null,0]
[9900018188,{"$f":"Data!$A575-9900010000","v":8188},{"$f":"IF(EXACT($B575,LOOKUP($B575,'INPUT '!$D$16:$D$116)),LOOKUP($B575,'INPUT '!$D$16:$D$116,'INPUT '!$E$16:$E$116),\"0\")","v":"0"},{"$f":"IF(EXACT($B575,LOOKUP($B575,'INPUT '!$D$16:$D$116)),LOOKUP($B575,'INPUT '!$D$16:$D$116,'INPUT '!$F$16:$F$116),\"0\")","v":"0"},"SUPPORT OF STEEL",null,null,9900008188,50,0,9900000061,1,0,9900000001,1,0,9900000021,2,0,9900000071,1,0,null,null,0]
[9900018189,{"$f":"Data!$A576-9900010000","v":8189},{"$f":"IF(EXACT($B576,LOOKUP($B576,'INPUT '!$D$16:$D$116)),LOOKUP($B576,'INPUT '!$D$16:$D$116,'INPUT '!$E$16:$E$116),\"0\")","v":"0"},{"$f":"IF(EXACT($B576,LOOKUP($B576,'INPUT '!$D$16:$D$116)),LOOKUP($B576,'INPUT '!$D$16:$D$116,'INPUT '!$F$16:$F$116),\"0\")","v":"0"},"SUPPORT OF STEEL",null,null,9900008189,20,0,9900000062,1,0,9900000002,1,0,9900000022,2,0,9900000072,1,0,null,null,0]
[9900018192,{"$f":"Data!$A577-9900010000","v":8192},{"$f":"IF(EXACT($B577,LOOKUP($B577,'INPUT '!$D$16:$D$116)),LOOKUP($B577,'INPUT '!$D$16:$D$116,'INPUT '!$E$16:$E$116),\"0\")","v":"0"},{"$f":"IF(EXACT($B577,LOOKUP($B577,'INPUT '!$D$16:$D$116)),LOOKUP($B577,'INPUT '!$D$16:$D$116,'INPUT '!$F$16:$F$116),\"0\")","v":"0"},"SUPPORT OF STEEL",null,null,9900008192,28,{"$f":"I577*C577","v":0},9900000062,1,{"$f":"L577*C577","v":0},9900000002,1,{"$f":"O577*C577","v":0},9900000022,3,0,9900000072,1,{"$f":"U577*C577","v":0},null,null,{"$f":"X577*C577","v":0}]
[9900018193,{"$f":"Data!$A578-9900010000","v":8193},{"$f":"IF(EXACT($B578,LOOKUP($B578,'INPUT '!$D$16:$D$116)),LOOKUP($B578,'INPUT '!$D$16:$D$116,'INPUT '!$E$16:$E$116),\"0\")","v":"0"},{"$f":"IF(EXACT($B578,LOOKUP($B578,'INPUT '!$D$16:$D$116)),LOOKUP($B578,'INPUT '!$D$16:$D$116,'INPUT '!$F$16:$F$116),\"0\")","v":"0"},"SUPPORT OF STEEL",null,null,9900008193,30,{"$f":"I578*C578","v":0},9900000062,1,0,9900000002,1,0,9900000022,2,{"$f":"R578*C578","v":0},9900000072,1,0,null,null,{"$f":"X578*C578","v":0}]
[9900018194,{"$f":"Data!$A579-9900010000","v":8194},{"$f":"IF(EXACT($B579,LOOKUP($B579,'INPUT '!$D$16:$D$116)),LOOKUP($B579,'INPUT '!$D$16:$D$116,'INPUT '!$E$16:$E$116),\"0\")","v":"0"},{"$f":"IF(EXACT($B579,LOOKUP($B579,'INPUT '!$D$16:$D$116)),LOOKUP($B579,'INPUT '!$D$16:$D$116,'INPUT '!$F$16:$F$116),\"0\")","v":"0"},"SUPPORT OF STEEL",null,null,9900008194,30,{"$f":"I579*C579","v":0},9900000062,1,{"$f":"L579*C579","v":0},9900000002,1,{"$f":"O579*C579","v":0},9900000022,2,{"$f":"R579*C579","v":0},9900000072,1,{"$f":"U579*C579","v":0},null,null,{"$f":"X579*C579","v":0}]
[9900018200,{"$f":"Data!$A580-9900010000","v":8200},{"$f":"IF(EXACT($B580,LOOKUP($B580,'INPUT '!$D$16:$D$116)),LOOKUP($B580,'INPUT '!$D$16:$D$116,'INPUT '!$E$16:$E$116),\"0\")","v":"0"},{"$f":"IF(EXACT($B580,LOOKUP($B580,'INPUT '!$D$16:$D$116)),LOOKUP($B580,'INPUT '!$D$16:$D$116,'INPUT '!$F$16:$F$116),\"0\")","v":"0"},"SUPPORT OF STEEL",null,null,9900008200,36,0,9900000062,3,0,9900000002,1,0,9900000022,2,0,9900000072,1,0,null,null,0]
[9900018201,{"$f":"Data!$A581-9900010000","v":8201},{"$f":"IF(EXACT($B581,LOOKUP($B581,'INPUT '!$D$16:$D$116)),LOOKUP($B581,'INPUT '!$D$16:$D$116,'INPUT '!$E$16:$E$116),\"0\")","v":"0"},{"$f":"IF(EXACT($B581,LOOKUP($B581,'INPUT '!$D$16:$D$116)),LOOKUP($B581,'INPUT '!$D$16:$D$116,'INPUT '!$F$16:$F$116),\"0\")","v":"0"},"SUPPORT OF STEEL",null,null,9900008201,36,0,9900000062,3,0,9900000002,1,0,9900000022,2,0,9900000072,1,0,null,null,0]
[9900018203,{"$f":"Data!$A582-9900010000","v":8203},{"$f":"IF(EXACT($B582,LOOKUP($B582,'INPUT '!$D$16:$D$116)),LOOKUP($B582,'INPUT '!$D$16:$D$116,'INPUT '!$E$16:$E$116),\"0\")","v":"0"},{"$f":"IF(EXACT($B582,LOOKUP($B582,'INPUT '!$D$16:$D$116)),LOOKUP($B582,'INPUT '!$D$16:$D$116,'INPUT '!$F$16:$F$116),\"0\")","v":"0"},"SUPPORT OF STEEL",null,null,9900008203,36,0,9900000061,1,0,9900000001,1,0,9900000021,2,0,9900000071,1,0,null,null,0]
[9900018205,{"$f":"Data!$A583-9900010000","v":8205},{"$f":"IF(EXACT($B583,LOOKUP($B583,'INPUT '!$D$16:$D$116)),LOOKUP($B583,'INPUT '!$D$16:$D$116,'INPUT '!$E$16:$E$116),\"0\")","v":"0"},{"$f":"IF(EXACT($B583,LOOKUP($B583,'INPUT '!$D$16:$D$116)),LOOKUP($B583,'INPUT '!$D$16:$D$116,'INPUT '!$F$16:$F$116),\"0\")","v":"0"},"SUPPORT OF STEEL",null,null,9900008205,6,{"$f":"I583*C583","v":0},9900000061,1,{"$f":"L583*C583","v":0},9900000001,1,{"$f":"O583*C583","v":0},9900000021,3,{"$f":"R583*C583","v":0},9900000071,1,{"$f":"U583*C583","v":0},null,null,{"$f":"X583*C583","v":0}]
[9900018206,{"$f":"Data!$A584-9900010000","v":8206},{"$f":"IF(EXACT($B584,LOOKUP($B584,'INPUT '!$D$16:$D$116)),LOOKUP($B584,'INPUT '!$D$16:$D$116,'INPUT '!$E$16:$E$116),\"0\")","v":"0"},{"$f":"IF(EXACT($B584,LOOKUP($B584,'INPUT '!$D$16:$D$116)),LOOKUP($B584,'INPUT '!$D$16:$D$116,'INPUT '!$F$16:$F$116),\"0\")","v":"0"},"SUPPORT OF STEEL",null,null,9900008206,5,{"$f":"I584*C584","v":0},9900000062,1,0,9900000002,1,0,9900000022,1,0,9900000072,1,{"$f":"U584*C584","v":0},null,null,0]
[9900018207,{"$f":"Data!$A585-9900010000","v":8207},{"$f":"IF(EXACT($B585,LOOKUP($B585,'INPUT '!$D$16:$D$116)),LOOKUP($B585,'INPUT '!$D$16:$D$116,'INPUT '!$E$16:$E$116),\"0\")","v":"0"},{"$f":"IF(EXACT($B585,LOOKUP($B585,'INPUT '!$D$16:$D$116)),LOOKUP($B585,'INPUT '!$D$16:$D$116,'INPUT '!$F$16:$F$116),\"0\")","v":"0"},"SUPPORT OF STEEL",null,null,9900008207,5,{"$f":"I585*C585","v":0},9900000062,1,0,9900000002,1,0,9900000022,1,0,9900000072,1,{"$f":"U585*C585","v":0},null,null,0]
[9900018221,{"$f":"Data!$A586-9900010000","v":8221},{"$f":"IF(EXACT($B586,LOOKUP($B586,'INPUT '!$D$16:$D$116)),LOOKUP($B586,'INPUT '!$D$16:$D$116,'INPUT '!$E$16:$E$116),\"0\")","v":"0"},{"$f":"IF(EXACT($B586,LOOKUP($B586,'INPUT '!$D$16:$D$116)),LOOKUP($B586,'INPUT '!$D$16:$D$116,'INPUT '!$F$16:$F$116),\"0\")","v":"0"},"BATTEN OF WOOD",null,null,9900008221,76,0,9900000061,1,{"$f":"L586*C586","v":0},9900000001,1,0,9900000021,4,0,9900000071,1,0,null,null,0]
[9900018223,{"$f":"Data!$A587-9900010000","v":8223},{"$f":"IF(EXACT($B587,LOOKUP($B587,'INPUT '!$D$16:$D$116)),LOOKUP($B587,'INPUT '!$D$16:$D$116,'INPUT '!$E$16:$E$116),\"0\")","v":"0"},{"$f":"IF(EXACT($B587,LOOKUP($B587,'INPUT '!$D$16:$D$116)),LOOKUP($B587,'INPUT '!$D$16:$D$116,'INPUT '!$F$16:$F$116),\"0\")","v":"0"},"SUPPORT OF STEEL",null,null,9900008223,20,{"$f":"I587*C587","v":0},null,null,{"$f":"L587*C587","v":0},9900000002,1,0,9900000022,2,0,9900000072,1,{"$f":"U587*C587","v":0},null,null,0]
[9900018224,{"$f":"Data!$A588-9900010000","v":8224},{"$f":"IF(EXACT($B588,LOOKUP($B588,'INPUT '!$D$16:$D$116)),LOOKUP($B588,'INPUT '!$D$16:$D$116,'INPUT '!$E$16:$E$116),\"0\")","v":"0"},{"$f":"IF(EXACT($B588,LOOKUP($B588,'INPUT '!$D$16:$D$116)),LOOKUP($B588,'INPUT '!$D$16:$D$116,'INPUT '!$F$16:$F$116),\"0\")","v":"0"},"SUPPORT OF STEEL",null,null,9900008224,20,{"$f":"I588*C588","v":0},null,null,{"$f":"L588*C588","v":0},9900000002,1,0,9900000022,2,0,9900000072,1,{"$f":"U588*C588","v":0},null,null,0]
[9900018405,{"$f":"Data!$A589-9900010000","v":8405},{"$f":"IF(EXACT($B589,LOOKUP($B589,'INPUT '!$D$16:$D$116)),LOOKUP($B589,'INPUT '!$D$16:$D$116,'INPUT '!$E$16:$E$116),\"0\")","v":"0"},{"$f":"IF(EXACT($B589,LOOKUP($B589,'INPUT '!$D$16:$D$116)),LOOKUP($B589,'INPUT '!$D$16:$D$116,'INPUT '!$F$16:$F$116),\"0\")","v":"0"},"FUNDO WOOD KIT",null,null,9900008405,7,0,null,null,0,null,null,0,null,null,0,null,null,0,null,null,0]
[9900019101,{"$f":"Data!$A590-9900010000","v":9101},{"$f":"IF(EXACT($B590,LOOKUP($B590,'INPUT '!$D$16:$D$116)),LOOKUP($B590,'INPUT '!$D$16:$D$116,'INPUT '!$E$16:$E$116),\"0\")","v":"0"},{"$f":"IF(EXACT($B590,LOOKUP($B590,'INPUT '!$D$16:$D$116)),LOOKUP($B590,'INPUT '!$D$16:$D$116,'INPUT '!$F$16:$F$116),\"0\")","v":"0"},"ANTE PIN",null,null,9900009101,400,0,null,null,0,9900000001,1,0,null,null,0,null,null,0,null,null,0]
[9900019103,{"$f":"Data!$A591-9900010000","v":9103},{"$f":"IF(EXACT($B591,LOOKUP($B591,'INPUT '!$D$16:$D$116)),LOOKUP($B591,'INPUT '!$D$16:$D$116,'INPUT '!$E$16:$E$116),\"0\")","v":"0"},{"$f":"IF(EXACT($B591,LOOKUP($B591,'INPUT '!$D$16:$D$116)),LOOKUP($B591,'INPUT '!$D$16:$D$116,'INPUT '!$F$16:$F$116),\"0\")","v":"0"},"L-DECK BOARD",null,null,9900009103,520,0,null,null,0,9900000001,1,0,null,null,0,null,null,0,null,null,0]
[9900019104,{"$f":"Data!$A592-9900010000","v":9104},{"$f":"IF(EXACT($B592,LOOKUP($B592,'INPUT '!$D$16:$D$116)),LOOKUP($B592,'INPUT '!$D$16:$D$116,'INPUT '!$E$16:$E$116),\"0\")","v":"0"},{"$f":"IF(EXACT($B592,LOOKUP($B592,'INPUT '!$D$16:$D$116)),LOOKUP($B592,'INPUT '!$D$16:$D$116,'INPUT '!$F$16:$F$116),\"0\")","v":"0"},"L-RUNNER 22MM",null,null,9900009104,520,0,null,null,0,9900000001,1,0,null,null,0,null,null,0,null,null,0]
[9900019105,{"$f":"Data!$A593-9900010000","v":9105},{"$f":"IF(EXACT($B593,LOOKUP($B593,'INPUT '!$D$16:$D$116)),LOOKUP($B593,'INPUT '!$D$16:$D$116,'INPUT '!$E$16:$E$116),\"0\")","v":"0"},{"$f":"IF(EXACT($B593,LOOKUP($B593,'INPUT '!$D$16:$D$116)),LOOKUP($B593,'INPUT '!$D$16:$D$116,'INPUT '!$F$16:$F$116),\"0\")","v":"0"},"L-RUNNER 32MM",null,null,9900009105,300,0,null,null,0,9900000001,1,0,null,null,0,null,null,0,null,null,0]
[9900019106,{"$f":"Data!$A594-9900010000","v":9106},{"$f":"IF(EXACT($B594,LOOKUP($B594,'INPUT '!$D$16:$D$116)),LOOKUP($B594,'INPUT '!$D$16:$D$116,'INPUT '!$E$16:$E$116),\"0\")","v":"0"},{"$f":"IF(EXACT($B594,LOOKUP($B594,'INPUT '!$D$16:$D$116)),LOOKUP($B594,'INPUT '!$D$16:$D$116,'INPUT '!$F$16:$F$116),\"0\")","v":"0"},"L-DECK BOARD W. KALLE PIN",null,null,9900009106,520,0,null,null,0,9900000001,1,0,null,null,0,null,null,0,null,null,0]
[9900019107,{"$f":"Data!$A595-9900010000","v":9107},{"$f":"IF(EXACT($B595,LOOKUP($B595,'INPUT '!$D$16:$D$116)),LOOKUP($B595,'INPUT '!$D$16:$D$116,'INPUT '!$E$16:$E$116),\"0\")","v":"0"},{"$f":"IF(EXACT($B595,LOOKUP($B595,'INPUT '!$D$16:$D$116)),LOOKUP($B595,'INPUT '!$D$16:$D$116,'INPUT '!$F$16:$F$116),\"0\")","v":"0"},"K-DECK BOARD",null,null,9900009107,520,0,null,null,0,9900000001,1,0,null,null,0,null,null,0,null,null,0]
[9900019108,{"$f":"Data!$A596-9900010000","v":9108},{"$f":"IF(EXACT($B596,LOOKUP($B596,'INPUT '!$D$16:$D$116)),LOOKUP($B596,'INPUT '!$D$16:$D$116,'INPUT '!$E$16:$E$116),\"0\")","v":"0"},{"$f":"IF(EXACT($B596,LOOKUP($B596,'INPUT '!$D$16:$D$116)),LOOKUP($B596,'INPUT '!$D$16:$D$116,'INPUT '!$F$16:$F$116),\"0\")","v":"0"},"K-RUNNER 22MM",null,null,9900009108,520,0,null,null,0,9900000001,1,0,null,null,0,null,null,0,null,null,0]
[9900019109,{"$f":"Data!$A597-9900010000","v":9109},{"$f":"IF(EXACT($B597,LOOKUP($B597,'INPUT '!$D$16:$D$116)),LOOKUP($B597,'INPUT '!$D$16:$D$116,'INPUT '!$E$16:$E$116),\"0\")","v":"0"},{"$f":"IF(EXACT($B597,LOOKUP($B597,'INPUT '!$D$16:$D$116)),LOOKUP($B597,'INPUT '!$D$16:$D$116,'INPUT '!$F$16:$F$116),\"0\")","v":"0"},"K-RUNNER 32MM",null,null,9900009109,300,0,null,null,0,9900000001,1,0,null,null,{"$f":"R597*C597","v":0},null,null,0,null,null,0]
[9900019110,{"$f":"Data!$A598-9900010000","v":9110},{"$f":"IF(EXACT($B598,LOOKUP($B598,'INPUT '!$D$16:$D$116)),LOOKUP($B598,'INPUT '!$D$16:$D$116,'INPUT '!$E$16:$E$116),\"0\")","v":"0"},{"$f":"IF(EXACT($B598,LOOKUP($B598,'INPUT '!$D$16:$D$116)),LOOKUP($B598,'INPUT '!$D$16:$D$116,'INPUT '!$F$16:$F$116),\"0\")","v":"0"},"F-RUNNER 22MM & DECK BOARD",null,null,9900009110,315,0,null,null,0,9900000001,1,0,null,null,0,null,null,0,null,null,0]
[9900019111,{"$f":"Data!$A599-9900010000","v":9111},{"$f":"IF(EXACT($B599,LOOKUP($B599,'INPUT '!$D$16:$D$116)),LOOKUP($B599,'INPUT '!$D$16:$D$116,'INPUT '!$E$16:$E$116),\"0\")","v":"0"},{"$f":"IF(EXACT($B599,LOOKUP($B599,'INPUT '!$D$16:$D$116)),LOOKUP($B599,'INPUT '!$D$16:$D$116,'INPUT '!$F$16:$F$116),\"0\")","v":"0"},"F-RUNNER 32MM",null,null,9900009111,224,0,null,null,0,9900000001,1,0,null,null,0,null,null,0,null,null,0]
[9900019112,{"$f":"Data!$A600-9900010000","v":9112},{"$f":"IF(EXACT($B600,LOOKUP($B600,'INPUT '!$D$16:$D$116)),LOOKUP($B600,'INPUT '!$D$16:$D$116,'INPUT '!$E$16:$E$116),\"0\")","v":"0"},{"$f":"IF(EXACT($B600,LOOKUP($B600,'INPUT '!$D$16:$D$116)),LOOKUP($B600,'INPUT '!$D$16:$D$116,'INPUT '!$F$16:$F$116),\"0\")","v":"0"},"G-RUNNER 22MM & DECK BOARD",null,null,9900009112,520,0,null,null,0,9900000001,1,0,null,null,0,null,null,0,null,null,0]
[9900019113,{"$f":"Data!$A601-9900010000","v":9113},{"$f":"IF(EXACT($B601,LOOKUP($B601,'INPUT '!$D$16:$D$116)),LOOKUP($B601,'INPUT '!$D$16:$D$116,'INPUT '!$E$16:$E$116),\"0\")","v":"0"},{"$f":"IF(EXACT($B601,LOOKUP($B601,'INPUT '!$D$16:$D$116)),LOOKUP($B601,'INPUT '!$D$16:$D$116,'INPUT '!$F$16:$F$116),\"0\")","v":"0"},"G-RUNNER 32MM",null,null,9900009113,300,0,null,null,0,9900000001,1,0,null,null,0,null,null,0,null,null,0]
[9900019114,{"$f":"Data!$A602-9900010000","v":9114},{"$f":"IF(EXACT($B602,LOOKUP($B602,'INPUT '!$D$16:$D$116)),LOOKUP($B602,'INPUT '!$D$16:$D$116,'INPUT '!$E$16:$E$116),\"0\")","v":"0"},{"$f":"IF(EXACT($B602,LOOKUP($B602,'INPUT '!$D$16:$D$116)),LOOKUP($B602,'INPUT '!$D$16:$D$116,'INPUT '!$F$16:$F$116),\"0\")","v":"0"},"H-RUNNER 22MM & DECK BOARD",null,null,9900009114,520,0,null,null,0,9900000001,1,0,null,null,0,null,null,0,null,null,0]
[9900019115,{"$f":"Data!$A603-9900010000","v":9115},{"$f":"IF(EXACT($B603,LOOKUP($B603,'INPUT '!$D$16:$D$116)),LOOKUP($B603,'INPUT '!$D$16:$D$116,'INPUT '!$E$16:$E$116),\"0\")","v":"0"},{"$f":"IF(EXACT($B603,LOOKUP($B603,'INPUT '!$D$16:$D$116)),LOOKUP($B603,'INPUT '!$D$16:$D$116,'INPUT '!$F$16:$F$116),\"0\")","v":"0"},"H-RUNNER 32MM",null,null,9900009115,300,0,null,null,0,9900000001,1,0,null,null,0,null,null,0,null,null,0]
[9900019116,{"$f":"Data!$A604-9900010000","v":9116},{"$f":"IF(EXACT($B604,LOOKUP($B604,'INPUT '!$D$16:$D$116)),LOOKUP($B604,'INPUT '!$D$16:$D$116,'INPUT '!$E$16:$E$116),\"0\")","v":"0"},{"$f":"IF(EXACT($B604,LOOKUP($B604,'INPUT '!$D$16:$D$116)),LOOKUP($B604,'INPUT '!$D$16:$D$116,'INPUT '!$F$16:$F$116),\"0\")","v":"0"},"701-RUNNER 22MM & DECK BOARD",null,null,9900009116,520,0,null,null,0,9900000001,1,0,null,null,0,null,null,0,null,null,0]
[9900019117,{"$f":"Data!$A605-9900010000","v":9117},{"$f":"IF(EXACT($B605,LOOKUP($B605,'INPUT '!$D$16:$D$116)),LOOKUP($B605,'INPUT '!$D$16:$D$116,'INPUT '!$E$16:$E$116),\"0\")","v":"0"},{"$f":"IF(EXACT($B605,LOOKUP($B605,'INPUT '!$D$16:$D$116)),LOOKUP($B605,'INPUT '!$D$16:$D$116,'INPUT '!$F$16:$F$116),\"0\")","v":"0"},"701-RUNNER 32MM",null,null,9900009117,300,0,null,null,0,9900000001,1,0,null,null,0,null,null,0,null,null,0]
[9900019118,{"$f":"Data!$A606-9900010000","v":9118},{"$f":"IF(EXACT($B606,LOOKUP($B606,'INPUT '!$D$16:$D$116)),LOOKUP($B606,'INPUT '!$D$16:$D$116,'INPUT '!$E$16:$E$116),\"0\")","v":"0"},{"$f":"IF(EXACT($B606,LOOKUP($B606,'INPUT '!$D$16:$D$116)),LOOKUP($B606,'INPUT '!$D$16:$D$116,'INPUT '!$F$16:$F$116),\"0\")","v":"0"},"724-RUNNER 22MM & DECK BOARD",null,null,9900009118,520,0,null,null,0,9900000001,1,0,null,null,0,null,null,0,null,null,0]
[9900019119,{"$f":"Data!$A607-9900010000","v":9119},{"$f":"IF(EXACT($B607,LOOKUP($B607,'INPUT '!$D$16:$D$116)),LOOKUP($B607,'INPUT '!$D$16:$D$116,'INPUT '!$E$16:$E$116),\"0\")","v":"0"},{"$f":"IF(EXACT($B607,LOOKUP($B607,'INPUT '!$D$16:$D$116)),LOOKUP($B607,'INPUT '!$D$16:$D$116,'INPUT '!$F$16:$F$116),\"0\")","v":"0"},"724-RUNNER 32MM",null,null,9900009119,300,0,null,null,0,9900000001,1,0,null,null,0,null,null,0,null,null,0]
[9900019120,{"$f":"Data!$A608-9900010000","v":9120},{"$f":"IF(EXACT($B608,LOOKUP($B608,'INPUT '!$D$16:$D$116)),LOOKUP($B608,'INPUT '!$D$16:$D$116,'INPUT '!$E$16:$E$116),\"0\")","v":"0"},{"$f":"IF(EXACT($B608,LOOKUP($B608,'INPUT '!$D$16:$D$116)),LOOKUP($B608,'INPUT '!$D$16:$D$116,'INPUT '!$F$16:$F$116),\"0\")","v":"0"},"1575-RUNNER",null,null,9900009120,224,0,null,null,0,9900000001,1,0,null,null,0,null,null,0,null,null,0]
[9900019126,{"$f":"Data!$A609-9900010000","v":9126},{"$f":"IF(EXACT($B609,LOOKUP($B609,'INPUT '!$D$16:$D$116)),LOOKUP($B609,'INPUT '!$D$16:$D$116,'INPUT '!$E$16:$E$116),\"0\")","v":"0"},{"$f":"IF(EXACT($B609,LOOKUP($B609,'INPUT '!$D$16:$D$116)),LOOKUP($B609,'INPUT '!$D$16:$D$116,'INPUT '!$F$16:$F$116),\"0\")","v":"0"},"HINGE- PIN",null,null,9900009126,37500,{"$f":"I609*C609","v":0},null,null,{"$f":"L609*C609","v":0},9900006101,1,{"$f":"O609*C609","v":0},9900006102,1,{"$f":"R609*C609","v":0},9900006104,1,{"$f":"U609*C609","v":0},null,null,{"$f":"X609*C609","v":0}]
[9900019202,{"$f":"Data!$A610-9900010000","v":9202},{"$f":"IF(EXACT($B610,LOOKUP($B610,'INPUT '!$D$16:$D$116)),LOOKUP($B610,'INPUT '!$D$16:$D$116,'INPUT '!$E$16:$E$116),\"0\")","v":"0"},{"$f":"IF(EXACT($B610,LOOKUP($B610,'INPUT '!$D$16:$D$116)),LOOKUP($B610,'INPUT '!$D$16:$D$116,'INPUT '!$F$16:$F$116),\"0\")","v":"0"},"RACK OF STEEL",null,null,9900009202,1,{"$f":"I610*C610","v":0},null,null,{"$f":"L610*C610","v":0},null,null,{"$f":"O610*C610","v":0},null,null,0,null,null,{"$f":"U610*C610","v":0},null,null,{"$f":"X610*C610","v":0}]
[9900019203,{"$f":"Data!$A611-9900010000","v":9203},{"$f":"IF(EXACT($B611,LOOKUP($B611,'INPUT '!$D$16:$D$116)),LOOKUP($B611,'INPUT '!$D$16:$D$116,'INPUT '!$E$16:$E$116),\"0\")","v":"0"},{"$f":"IF(EXACT($B611,LOOKUP($B611,'INPUT '!$D$16:$D$116)),LOOKUP($B611,'INPUT '!$D$16:$D$116,'INPUT '!$F$16:$F$116),\"0\")","v":"0"},"SUPPORT OF STEEL",null,null,9900009203,30,{"$f":"I611*C611","v":0},9900000061,1,{"$f":"L611*C611","v":0},9900000001,1,{"$f":"O611*C611","v":0},9900000021,2,0,9900000071,1,{"$f":"U611*C611","v":0},null,null,{"$f":"X611*C611","v":0}]
[9900019204,{"$f":"Data!$A612-9900010000","v":9204},{"$f":"IF(EXACT($B612,LOOKUP($B612,'INPUT '!$D$16:$D$116)),LOOKUP($B612,'INPUT '!$D$16:$D$116,'INPUT '!$E$16:$E$116),\"0\")","v":"0"},{"$f":"IF(EXACT($B612,LOOKUP($B612,'INPUT '!$D$16:$D$116)),LOOKUP($B612,'INPUT '!$D$16:$D$116,'INPUT '!$F$16:$F$116),\"0\")","v":"0"},"RACK OF STEEL",null,null,9900009204,1,{"$f":"I612*C612","v":0},null,null,{"$f":"L612*C612","v":0},null,null,{"$f":"O612*C612","v":0},null,null,{"$f":"R612*C612","v":0},null,null,{"$f":"U612*C612","v":0},null,null,{"$f":"X612*C612","v":0}]
[9900019208,{"$f":"Data!$A613-9900010000","v":9208},{"$f":"IF(EXACT($B613,LOOKUP($B613,'INPUT '!$D$16:$D$116)),LOOKUP($B613,'INPUT '!$D$16:$D$116,'INPUT '!$E$16:$E$116),\"0\")","v":"0"},{"$f":"IF(EXACT($B613,LOOKUP($B613,'INPUT '!$D$16:$D$116)),LOOKUP($B613,'INPUT '!$D$16:$D$116,'INPUT '!$F$16:$F$116),\"0\")","v":"0"},"FIXING SPACER OF PLASTIC",null,null,9900009208,1,0,9900009209,1,0,9900001424,1,0,9900009210,1,0,null,null,0,null,null,0]
[9900019211,{"$f":"Data!$A614-9900010000","v":9211},{"$f":"IF(EXACT($B614,LOOKUP($B614,'INPUT '!$D$16:$D$116)),LOOKUP($B614,'INPUT '!$D$16:$D$116,'INPUT '!$E$16:$E$116),\"0\")","v":"0"},{"$f":"IF(EXACT($B614,LOOKUP($B614,'INPUT '!$D$16:$D$116)),LOOKUP($B614,'INPUT '!$D$16:$D$116,'INPUT '!$F$16:$F$116),\"0\")","v":"0"},"FIXING SPACER KIT (9211 & 9212)",null,null,9900029211,33,{"$f":"I614*C614","v":0},null,null,0,9900000001,1,0,9900000021,4,0,9900000071,1,0,null,null,{"$f":"X614*C614","v":0}]
[9900019240,{"$f":"Data!$A615-9900010000","v":9240},{"$f":"IF(EXACT($B615,LOOKUP($B615,'INPUT '!$D$16:$D$116)),LOOKUP($B615,'INPUT '!$D$16:$D$116,'INPUT '!$E$16:$E$116),\"0\")","v":"0"},{"$f":"IF(EXACT($B615,LOOKUP($B615,'INPUT '!$D$16:$D$116)),LOOKUP($B615,'INPUT '!$D$16:$D$116,'INPUT '!$F$16:$F$116),\"0\")","v":"0"},"PALLET BOX OF WOOD",null,null,9900009240,6,{"$f":"I615*C615","v":0},null,null,{"$f":"L615*C615","v":0},null,null,{"$f":"O615*C615","v":0},null,null,0,null,null,{"$f":"U615*C615","v":0},null,null,{"$f":"X615*C615","v":0}]
[9900019250,{"$f":"Data!$A616-9900010000","v":9250},{"$f":"IF(EXACT($B616,LOOKUP($B616,'INPUT '!$D$16:$D$116)),LOOKUP($B616,'INPUT '!$D$16:$D$116,'INPUT '!$E$16:$E$116),\"0\")","v":"0"},{"$f":"IF(EXACT($B616,LOOKUP($B616,'INPUT '!$D$16:$D$116)),LOOKUP($B616,'INPUT '!$D$16:$D$116,'INPUT '!$F$16:$F$116),\"0\")","v":"0"},"RACK OF STEEL",null,null,9900009250,1,{"$f":"I616*C616","v":0},null,null,{"$f":"L616*C616","v":0},null,null,{"$f":"O616*C616","v":0},null,null,0,null,null,{"$f":"U616*C616","v":0},null,null,{"$f":"X616*C616","v":0}]
[9900019251,{"$f":"Data!$A617-9900010000","v":9251},{"$f":"IF(EXACT($B617,LOOKUP($B617,'INPUT '!$D$16:$D$116)),LOOKUP($B617,'INPUT '!$D$16:$D$116,'INPUT '!$E$16:$E$116),\"0\")","v":"0"},{"$f":"IF(EXACT($B617,LOOKUP($B617,'INPUT '!$D$16:$D$116)),LOOKUP($B617,'INPUT '!$D$16:$D$116,'INPUT '!$F$16:$F$116),\"0\")","v":"0"},"RACK OF STEEL",null,null,9900009251,1,{"$f":"I617*C617","v":0},null,null,{"$f":"L617*C617","v":0},null,null,{"$f":"O617*C617","v":0},null,null,0,null,null,{"$f":"U617*C617","v":0},null,null,{"$f":"X617*C617","v":0}]
[9900019280,{"$f":"Data!$A618-9900010000","v":9280},{"$f":"IF(EXACT($B618,LOOKUP($B618,'INPUT '!$D$16:$D$116)),LOOKUP($B618,'INPUT '!$D$16:$D$116,'INPUT '!$E$16:$E$116),\"0\")","v":"0"},{"$f":"IF(EXACT($B618,LOOKUP($B618,'INPUT '!$D$16:$D$116)),LOOKUP($B618,'INPUT '!$D$16:$D$116,'INPUT '!$F$16:$F$116),\"0\")","v":"0"},"PALLET BOX OF STEEL /WOOD",null,null,9900009280,1,{"$f":"I618*C618","v":0},null,null,{"$f":"L618*C618","v":0},null,null,{"$f":"O618*C618","v":0},null,null,0,null,null,{"$f":"U618*C618","v":0},null,null,{"$f":"X618*C618","v":0}]
[9900019294,{"$f":"Data!$A619-9900010000","v":9294},{"$f":"IF(EXACT($B619,LOOKUP($B619,'INPUT '!$D$16:$D$116)),LOOKUP($B619,'INPUT '!$D$16:$D$116,'INPUT '!$E$16:$E$116),\"0\")","v":"0"},{"$f":"IF(EXACT($B619,LOOKUP($B619,'INPUT '!$D$16:$D$116)),LOOKUP($B619,'INPUT '!$D$16:$D$116,'INPUT '!$F$16:$F$116),\"0\")","v":"0"},"SUPPORT OF MINERAL WOOL",null,null,9900009294,null,0,9900009295,8,0,9900009294,1,0,9900009296,4,0,null,null,0,null,null,0]
[9900019295,{"$f":"Data!$A620-9900010000","v":9295},{"$f":"IF(EXACT($B620,LOOKUP($B620,'INPUT '!$D$16:$D$116)),LOOKUP($B620,'INPUT '!$D$16:$D$116,'INPUT '!$E$16:$E$116),\"0\")","v":"0"},{"$f":"IF(EXACT($B620,LOOKUP($B620,'INPUT '!$D$16:$D$116)),LOOKUP($B620,'INPUT '!$D$16:$D$116,'INPUT '!$F$16:$F$116),\"0\")","v":"0"},"Bundle of ABSORBENT OF MINERAL",null,null,9900009295,1,0,null,null,0,null,null,0,null,null,0,null,null,0,null,null,0]
[9900019296,{"$f":"Data!$A621-9900010000","v":9296},{"$f":"IF(EXACT($B621,LOOKUP($B621,'INPUT '!$D$16:$D$116)),LOOKUP($B621,'INPUT '!$D$16:$D$116,'INPUT '!$E$16:$E$116),\"0\")","v":"0"},{"$f":"IF(EXACT($B621,LOOKUP($B621,'INPUT '!$D$16:$D$116)),LOOKUP($B621,'INPUT '!$D$16:$D$116,'INPUT '!$F$16:$F$116),\"0\")","v":"0"},"Bundle of SUPPORT OF MINERAL WOOL",null,null,9900009296,1,0,null,null,0,null,null,0,null,null,0,null,null,0,null,null,0]
[null,null,{"$f":"IF(EXACT($B622,LOOKUP($B622,'INPUT '!$D$16:$D$116)),LOOKUP($B622,'INPUT '!$D$16:$D$116,'INPUT '!$E$16:$E$116),\"0\")","v":"0"},{"$f":"IF(EXACT($B622,LOOKUP($B622,'INPUT '!$D$16:$D$116)),LOOKUP($B622,'INPUT '!$D$16:$D$116,'INPUT '!$F$16:$F$116),\"0\")","v":"0"},null,null,null,null,null,0,null,null,0,null,null,0,null,null,0,null,null,0,null,null,0]
[null,null,{"$f":"IF(EXACT($B623,LOOKUP($B623,'INPUT '!$D$16:$D$116)),LOOKUP($B623,'INPUT '!$D$16:$D$116,'INPUT '!$E$16:$E$116),\"0\")","v":"0"},{"$f":"IF(EXACT($B623,LOOKUP($B623,'INPUT '!$D$16:$D$116)),LOOKUP($B623,'INPUT '!$D$16:$D$116,'INPUT '!$F$16:$F$116),\"0\")","v":"0"},null,null,null,null,null,0,null,null,0,null,null,0,null,null,0,null,null,0,null,null,0]
[null,null,{"$f":"IF(EXACT($B624,LOOKUP($B624,'INPUT '!$D$16:$D$116)),LOOKUP($B624,'INPUT '!$D$16:$D$116,'INPUT '!$E$16:$E$116),\"0\")","v":"0"},{"$f":"IF(EXACT($B624,LOOKUP($B624,'INPUT '!$D$16:$D$116)),LOOKUP($B624,'INPUT '!$D$16:$D$116,'INPUT '!$F$16:$F$116),\"0\")","v":"0"},null,null,null,null,null,0,null,null,0,null,null,0,null,null,0,null,null,0,null,null,0]
[null,null,{"$f":"IF(EXACT($B625,LOOKUP($B625,'INPUT '!$D$16:$D$116)),LOOKUP($B625,'INPUT '!$D$16:$D$116,'INPUT '!$E$16:$E$116),\"0\")","v":"0"},{"$f":"IF(EXACT($B625,LOOKUP($B625,'INPUT '!$D$16:$D$116)),LOOKUP($B625,'INPUT '!$D$16:$D$116,'INPUT '!$F$16:$F$116),\"0\")","v":"0"},null,null,null,null,null,0,null,null,0,null,null,0,null,null,0,null,null,0,null,null,0]
[null,null,{"$f":"IF(EXACT($B626,LOOKUP($B626,'INPUT '!$D$16:$D$116)),LOOKUP($B626,'INPUT '!$D$16:$D$116,'INPUT '!$E$16:$E$116),\"0\")","v":"0"},{"$f":"IF(EXACT($B626,LOOKUP($B626,'INPUT '!$D$16:$D$116)),LOOKUP($B626,'INPUT '!$D$16:$D$116,'INPUT '!$F$16:$F$116),\"0\")","v":"0"},null,null,null,null,null,0,null,null,0,null,null,0,null,null,0,null,null,0,null,null,0]
[null,null,{"$f":"IF(EXACT($B627,LOOKUP($B627,'INPUT '!$D$16:$D$116)),LOOKUP($B627,'INPUT '!$D$16:$D$116,'INPUT '!$E$16:$E$116),\"0\")","v":"0"},{"$f":"IF(EXACT($B627,LOOKUP($B627,'INPUT '!$D$16:$D$116)),LOOKUP($B627,'INPUT '!$D$16:$D$116,'INPUT '!$F$16:$F$116),\"0\")","v":"0"},null,null,null,null,null,0,null,null,0,null,null,0,null,null,0,null,null,0,null,null,0]
[null,null,{"$f":"IF(EXACT($B628,LOOKUP($B628,'INPUT '!$D$16:$D$116)),LOOKUP($B628,'INPUT '!$D$16:$D$116,'INPUT '!$E$16:$E$116),\"0\")","v":"0"},{"$f":"IF(EXACT($B628,LOOKUP($B628,'INPUT '!$D$16:$D$116)),LOOKUP($B628,'INPUT '!$D$16:$D$116,'INPUT '!$F$16:$F$116),\"0\")","v":"0"},null,null,null,null,null,0,null,null,0,null,null,0,null,null,0,null,null,0,null,null,0]
[null,null,{"$f":"IF(EXACT($B629,LOOKUP($B629,'INPUT '!$D$16:$D$116)),LOOKUP($B629,'INPUT '!$D$16:$D$116,'INPUT '!$E$16:$E$116),\"0\")","v":"0"},{"$f":"IF(EXACT($B629,LOOKUP($B629,'INPUT '!$D$16:$D$116)),LOOKUP($B629,'INPUT '!$D$16:$D$116,'INPUT '!$F$16:$F$116),\"0\")","v":"0"},null,null,null,null,null,0,null,null,0,null,null,0,null,null,0,null,null,0,null,null,0]
[null,null,{"$f":"IF(EXACT($B630,LOOKUP($B630,'INPUT '!$D$16:$D$116)),LOOKUP($B630,'INPUT '!$D$16:$D$116,'INPUT '!$E$16:$E$116),\"0\")","v":"0"},{"$f":"IF(EXACT($B630,LOOKUP($B630,'INPUT '!$D$16:$D$116)),LOOKUP($B630,'INPUT '!$D$16:$D$116,'INPUT '!$F$16:$F$116),\"0\")","v":"0"},null,null,null,null,null,0,null,null,0,null,null,0,null,null,0,null,null,0,null,null,0]
[null,null,{"$f":"IF(EXACT($B631,LOOKUP($B631,'INPUT '!$D$16:$D$116)),LOOKUP($B631,'INPUT '!$D$16:$D$116,'INPUT '!$E$16:$E$116),\"0\")","v":"0"},{"$f":"IF(EXACT($B631,LOOKUP($B631,'INPUT '!$D$16:$D$116)),LOOKUP($B631,'INPUT '!$D$16:$D$116,'INPUT '!$F$16:$F$116),\"0\")","v":"0"},null,null,null,null,null,0,null,null,0,null,null,0,null,null,0,null,null,0,null,null,0]
[null,null,{"$f":"IF(EXACT($B632,LOOKUP($B632,'INPUT '!$D$16:$D$116)),LOOKUP($B632,'INPUT '!$D$16:$D$116,'INPUT '!$E$16:$E$116),\"0\")","v":"0"},{"$f":"IF(EXACT($B632,LOOKUP($B632,'INPUT '!$D$16:$D$116)),LOOKUP($B632,'INPUT '!$D$16:$D$116,'INPUT '!$F$16:$F$116),\"0\")","v":"0"},null,null,null,null,null,0,null,null,0,null,null,0,null,null,0,null,null,0,null,null,0]
[null,null,{"$f":"IF(EXACT($B633,LOOKUP($B633,'INPUT '!$D$16:$D$116)),LOOKUP($B633,'INPUT '!$D$16:$D$116,'INPUT '!$E$16:$E$116),\"0\")","v":"0"},{"$f":"IF(EXACT($B633,LOOKUP($B633,'INPUT '!$D$16:$D$116)),LOOKUP($B633,'INPUT '!$D$16:$D$116,'INPUT '!$F$16:$F$116),\"0\")","v":"0"},null,null,null,null,null,0,null,null,0,null,null,0,null,null,0,null,null,0,null,null,0]
[null,null,{"$f":"IF(EXACT($B634,LOOKUP($B634,'INPUT '!$D$16:$D$116)),LOOKUP($B634,'INPUT '!$D$16:$D$116,'INPUT '!$E$16:$E$116),\"0\")","v":"0"},{"$f":"IF(EXACT($B634,LOOKUP($B634,'INPUT '!$D$16:$D$116)),LOOKUP($B634,'INPUT '!$D$16:$D$116,'INPUT '!$F$16:$F$116),\"0\")","v":"0"},null,null,null,null,null,0,null,null,0,null,null,0,null,null,0,null,null,0,null,null,0]
[null,null,{"$f":"IF(EXACT($B635,LOOKUP($B635,'INPUT '!$D$16:$D$116)),LOOKUP($B635,'INPUT '!$D$16:$D$116,'INPUT '!$E$16:$E$116),\"0\")","v":"0"},{"$f":"IF(EXACT($B635,LOOKUP($B635,'INPUT '!$D$16:$D$116)),LOOKUP($B635,'INPUT '!$D$16:$D$116,'INPUT '!$F$16:$F$116),\"0\")","v":"0"},null,null,null,null,null,0,null,null,0,null,null,0,null,null,0,null,null,0,null,null,0]
[null,null,{"$f":"IF(EXACT($B636,LOOKUP($B636,'INPUT '!$D$16:$D$116)),LOOKUP($B636,'INPUT '!$D$16:$D$116,'INPUT '!$E$16:$E$116),\"0\")","v":"0"},{"$f":"IF(EXACT($B636,LOOKUP($B636,'INPUT '!$D$16:$D$116)),LOOKUP($B636,'INPUT '!$D$16:$D$116,'INPUT '!$F$16:$F$116),\"0\")","v":"0"},null,null,null,null,null,0,null,null,0,null,null,0,null,null,0,null,null,0,null,null,0]
[null,null,{"$f":"IF(EXACT($B637,LOOKUP($B637,'INPUT '!$D$16:$D$116)),LOOKUP($B637,'INPUT '!$D$16:$D$116,'INPUT '!$E$16:$E$116),\"0\")","v":"0"},{"$f":"IF(EXACT($B637,LOOKUP($B637,'INPUT '!$D$16:$D$116)),LOOKUP($B637,'INPUT '!$D$16:$D$116,'INPUT '!$F$16:$F$116),\"0\")","v":"0"},null,null,null,null,null,0,null,null,0,null,null,0,null,null,0,null,null,0,null,null,0]
[null,null,{"$f":"IF(EXACT($B638,LOOKUP($B638,'INPUT '!$D$16:$D$116)),LOOKUP($B638,'INPUT '!$D$16:$D$116,'INPUT '!$E$16:$E$116),\"0\")","v":"0"},{"$f":"IF(EXACT($B638,LOOKUP($B638,'INPUT '!$D$16:$D$116)),LOOKUP($B638,'INPUT '!$D$16:$D$116,'INPUT '!$F$16:$F$116),\"0\")","v":"0"},null,null,null,null,null,0,null,null,0,null,null,0,null,null,0,null,null,0,null,null,0]
[null,null,{"$f":"IF(EXACT($B639,LOOKUP($B639,'INPUT '!$D$16:$D$116)),LOOKUP($B639,'INPUT '!$D$16:$D$116,'INPUT '!$E$16:$E$116),\"0\")","v":"0"},{"$f":"IF(EXACT($B639,LOOKUP($B639,'INPUT '!$D$16:$D$116)),LOOKUP($B639,'INPUT '!$D$16:$D$116,'INPUT '!$F$16:$F$116),\"0\")","v":"0"},null,null,null,null,null,0,null,null,0,null,null,0,null,null,0,null,null,0,null,null,0]
[null,null,{"$f":"IF(EXACT($B640,LOOKUP($B640,'INPUT '!$D$16:$D$116)),LOOKUP($B640,'INPUT '!$D$16:$D$116,'INPUT '!$E$16:$E$116),\"0\")","v":"0"},{"$f":"IF(EXACT($B640,LOOKUP($B640,'INPUT '!$D$16:$D$116)),LOOKUP($B640,'INPUT '!$D$16:$D$116,'INPUT '!$F$16:$F$116),\"0\")","v":"0"},null,null,null,null,null,0,null,null,0,null,null,0,null,null,0,null,null,0,null,null,0]
[null,null,{"$f":"IF(EXACT($B641,LOOKUP($B641,'INPUT '!$D$16:$D$116)),LOOKUP($B641,'INPUT '!$D$16:$D$116,'INPUT '!$E$16:$E$116),\"0\")","v":"0"},{"$f":"IF(EXACT($B641,LOOKUP($B641,'INPUT '!$D$16:$D$116)),LOOKUP($B641,'INPUT '!$D$16:$D$116,'INPUT '!$F$16:$F$116),\"0\")","v":"0"},null,null,null,null,null,0,null,null,0,null,null,0,null,null,0,null,null,0,null,null,0]
[null,null,{"$f":"IF(EXACT($B642,LOOKUP($B642,'INPUT '!$D$16:$D$116)),LOOKUP($B642,'INPUT '!$D$16:$D$116,'INPUT '!$E$16:$E$116),\"0\")","v":"0"},{"$f":"IF(EXACT($B642,LOOKUP($B642,'INPUT '!$D$16:$D$116)),LOOKUP($B642,'INPUT '!$D$16:$D$116,'INPUT '!$F$16:$F$116),\"0\")","v":"0"},null,null,null,null,null,0,null,null,0,null,null,0,null,null,0,null,null,0,null,null,0]
[null,null,{"$f":"IF(EXACT($B643,LOOKUP($B643,'INPUT '!$D$16:$D$116)),LOOKUP($B643,'INPUT '!$D$16:$D$116,'INPUT '!$E$16:$E$116),\"0\")","v":"0"},{"$f":"IF(EXACT($B643,LOOKUP($B643,'INPUT '!$D$16:$D$116)),LOOKUP($B643,'INPUT '!$D$16:$D$116,'INPUT '!$F$16:$F$116),\"0\")","v":"0"},null,null,null,null,null,0,null,null,0,null,null,0,null,null,0,null,null,0,null,null,0]
[null,null,{"$f":"IF(EXACT($B644,LOOKUP($B644,'INPUT '!$D$16:$D$116)),LOOKUP($B644,'INPUT '!$D$16:$D$116,'INPUT '!$E$16:$E$116),\"0\")","v":"0"},{"$f":"IF(EXACT($B644,LOOKUP($B644,'INPUT '!$D$16:$D$116)),LOOKUP($B644,'INPUT '!$D$16:$D$116,'INPUT '!$F$16:$F$116),\"0\")","v":"0"},null,null,null,null,null,0,null,null,0,null,null,0,null,null,0,null,null,0,null,null,0]
[null,null,{"$f":"IF(EXACT($B645,LOOKUP($B645,'INPUT '!$D$16:$D$116)),LOOKUP($B645,'INPUT '!$D$16:$D$116,'INPUT '!$E$16:$E$116),\"0\")","v":"0"},{"$f":"IF(EXACT($B645,LOOKUP($B645,'INPUT '!$D$16:$D$116)),LOOKUP($B645,'INPUT '!$D$16:$D$116,'INPUT '!$F$16:$F$116),\"0\")","v":"0"},null,null,null,null,null,0,null,null,0,null,null,0,null,null,0,null,null,0,null,null,0]
[null,null,{"$f":"IF(EXACT($B646,LOOKUP($B646,'INPUT '!$D$16:$D$116)),LOOKUP($B646,'INPUT '!$D$16:$D$116,'INPUT '!$E$16:$E$116),\"0\")","v":"0"},{"$f":"IF(EXACT($B646,LOOKUP($B646,'INPUT '!$D$16:$D$116)),LOOKUP($B646,'INPUT '!$D$16:$D$116,'INPUT '!$F$16:$F$116),\"0\")","v":"0"},null,null,null,null,null,0,null,null,0,null,null,0,null,null,0,null,null,0,null,null,0]
[null,null,{"$f":"IF(EXACT($B647,LOOKUP($B647,'INPUT '!$D$16:$D$116)),LOOKUP($B647,'INPUT '!$D$16:$D$116,'INPUT '!$E$16:$E$116),\"0\")","v":"0"},{"$f":"IF(EXACT($B647,LOOKUP($B647,'INPUT '!$D$16:$D$116)),LOOKUP($B647,'INPUT '!$D$16:$D$116,'INPUT '!$F$16:$F$116),\"0\")","v":"0"},null,null,null,null,null,0,null,null,0,null,null,0,null,null,0,null,null,0,null,null,0]
[null,null,{"$f":"IF(EXACT($B648,LOOKUP($B648,'INPUT '!$D$16:$D$116)),LOOKUP($B648,'INPUT '!$D$16:$D$116,'INPUT '!$E$16:$E$116),\"0\")","v":"0"},{"$f":"IF(EXACT($B648,LOOKUP($B648,'INPUT '!$D$16:$D$116)),LOOKUP($B648,'INPUT '!$D$16:$D$116,'INPUT '!$F$16:$F$116),\"0\")","v":"0"},null,null,null,null,null,0,null,null,0,null,null,0,null,null,0,null,null,0,null,null,0]
[null,null,{"$f":"IF(EXACT($B649,LOOKUP($B649,'INPUT '!$D$16:$D$116)),LOOKUP($B649,'INPUT '!$D$16:$D$116,'INPUT '!$E$16:$E$116),\"0\")","v":"0"},{"$f":"IF(EXACT($B649,LOOKUP($B649,'INPUT '!$D$16:$D$116)),LOOKUP($B649,'INPUT '!$D$16:$D$116,'INPUT '!$F$16:$F$116),\"0\")","v":"0"},null,null,null,null,null,0,null,null,0,null,null,0,null,null,0,null,null,0,null,null,0]
[null,null,{"$f":"IF(EXACT($B650,LOOKUP($B650,'INPUT '!$D$16:$D$116)),LOOKUP($B650,'INPUT '!$D$16:$D$116,'INPUT '!$E$16:$E$116),\"0\")","v":"0"},{"$f":"IF(EXACT($B650,LOOKUP($B650,'INPUT '!$D$16:$D$116)),LOOKUP($B650,'INPUT '!$D$16:$D$116,'INPUT '!$F$16:$F$116),\"0\")","v":"0"},null,null,null,null,null,0,null,null,0,null,null,{"$f":"O650*C650","v":0},null,null,0,null,null,0,null,null,0]
[null,null,{"$f":"IF(EXACT($B651,LOOKUP($B651,'INPUT '!$D$16:$D$116)),LOOKUP($B651,'INPUT '!$D$16:$D$116,'INPUT '!$E$16:$E$116),\"0\")","v":"0"},{"$f":"IF(EXACT($B651,LOOKUP($B651,'INPUT '!$D$16:$D$116)),LOOKUP($B651,'INPUT '!$D$16:$D$116,'INPUT '!$F$16:$F$116),\"0\")","v":"0"},null,null,null,null,null,0,null,null,0,null,null,0,null,null,0,null,null,0,null,null,0]
[null,null,{"$f":"IF(EXACT($B652,LOOKUP($B652,'INPUT '!$D$16:$D$116)),LOOKUP($B652,'INPUT '!$D$16:$D$116,'INPUT '!$E$16:$E$116),\"0\")","v":"0"},{"$f":"IF(EXACT($B652,LOOKUP($B652,'INPUT '!$D$16:$D$116)),LOOKUP($B652,'INPUT '!$D$16:$D$116,'INPUT '!$F$16:$F$116),\"0\")","v":"0"},null,null,null,null,null,{"$f":"I652*C652","v":0},null,null,{"$f":"L652*C652","v":0},null,null,0,null,null,0,null,null,{"$f":"U652*C652","v":0},null,null,{"$f":"X652*C652","v":0}]
[null,null,{"$f":"IF(EXACT($B653,LOOKUP($B653,'INPUT '!$D$16:$D$116)),LOOKUP($B653,'INPUT '!$D$16:$D$116,'INPUT '!$E$16:$E$116),\"0\")","v":"0"},{"$f":"IF(EXACT($B653,LOOKUP($B653,'INPUT '!$D$16:$D$116)),LOOKUP($B653,'INPUT '!$D$16:$D$116,'INPUT '!$F$16:$F$116),\"0\")","v":"0"},null,null,null,null,null,0,null,null,0,null,null,0,null,null,0,null,null,0,null,null,0]
[null,null,{"$f":"IF(EXACT($B654,LOOKUP($B654,'INPUT '!$D$16:$D$116)),LOOKUP($B654,'INPUT '!$D$16:$D$116,'INPUT '!$E$16:$E$116),\"0\")","v":"0"},{"$f":"IF(EXACT($B654,LOOKUP($B654,'INPUT '!$D$16:$D$116)),LOOKUP($B654,'INPUT '!$D$16:$D$116,'INPUT '!$F$16:$F$116),\"0\")","v":"0"},null,null,null,null,null,0,null,null,0,null,null,0,null,null,0,null,null,0,null,null,0]
[null,null,{"$f":"IF(EXACT($B655,LOOKUP($B655,'INPUT '!$D$16:$D$116)),LOOKUP($B655,'INPUT '!$D$16:$D$116,'INPUT '!$E$16:$E$116),\"0\")","v":"0"},{"$f":"IF(EXACT($B655,LOOKUP($B655,'INPUT '!$D$16:$D$116)),LOOKUP($B655,'INPUT '!$D$16:$D$116,'INPUT '!$F$16:$F$116),\"0\")","v":"0"},null,null,null,null,null,0,null,null,0,null,null,0,null,null,0,null,null,0,null,null,0]
[null,null,{"$f":"IF(EXACT($B656,LOOKUP($B656,'INPUT '!$D$16:$D$116)),LOOKUP($B656,'INPUT '!$D$16:$D$116,'INPUT '!$E$16:$E$116),\"0\")","v":"0"},{"$f":"IF(EXACT($B656,LOOKUP($B656,'INPUT '!$D$16:$D$116)),LOOKUP($B656,'INPUT '!$D$16:$D$116,'INPUT '!$F$16:$F$116),\"0\")","v":"0"},null,null,null,null,null,0,null,null,0,null,null,0,null,null,0,null,null,0,null,null,0]
[null,null,{"$f":"IF(EXACT($B657,LOOKUP($B657,'INPUT '!$D$16:$D$116)),LOOKUP($B657,'INPUT '!$D$16:$D$116,'INPUT '!$E$16:$E$116),\"0\")","v":"0"},{"$f":"IF(EXACT($B657,LOOKUP($B657,'INPUT '!$D$16:$D$116)),LOOKUP($B657,'INPUT '!$D$16:$D$116,'INPUT '!$F$16:$F$116),\"0\")","v":"0"},null,null,null,null,null,0,null,null,0,null,null,0,null,null,0,null,null,0,null,null,0]
[null,null,{"$f":"IF(EXACT($B658,LOOKUP($B658,'INPUT '!$D$16:$D$116)),LOOKUP($B658,'INPUT '!$D$16:$D$116,'INPUT '!$E$16:$E$116),\"0\")","v":"0"},{"$f":"IF(EXACT($B658,LOOKUP($B658,'INPUT '!$D$16:$D$116)),LOOKUP($B658,'INPUT '!$D$16:$D$116,'INPUT '!$F$16:$F$116),\"0\")","v":"0"},null,null,null,null,null,0,null,null,0,null,null,0,null,null,0,null,null,0,null,null,0]
[null,null,{"$f":"IF(EXACT($B659,LOOKUP($B659,'INPUT '!$D$16:$D$116)),LOOKUP($B659,'INPUT '!$D$16:$D$116,'INPUT '!$E$16:$E$116),\"0\")","v":"0"},{"$f":"IF(EXACT($B659,LOOKUP($B659,'INPUT '!$D$16:$D$116)),LOOKUP($B659,'INPUT '!$D$16:$D$116,'INPUT '!$F$16:$F$116),\"0\")","v":"0"},null,null,null,null,null,0,null,null,0,null,null,0,null,null,0,null,null,0,null,null,0]
[null,null,{"$f":"IF(EXACT($B660,LOOKUP($B660,'INPUT '!$D$16:$D$116)),LOOKUP($B660,'INPUT '!$D$16:$D$116,'INPUT '!$E$16:$E$116),\"0\")","v":"0"},{"$f":"IF(EXACT($B660,LOOKUP($B660,'INPUT '!$D$16:$D$116)),LOOKUP($B660,'INPUT '!$D$16:$D$116,'INPUT '!$F$16:$F$116),\"0\")","v":"0"},null,null,null,null,null,0,null,null,0,null,null,0,null,null,0,null,null,0,null,null,0]
[null,null,{"$f":"IF(EXACT($B661,LOOKUP($B661,'INPUT '!$D$16:$D$116)),LOOKUP($B661,'INPUT '!$D$16:$D$116,'INPUT '!$E$16:$E$116),\"0\")","v":"0"},{"$f":"IF(EXACT($B661,LOOKUP($B661,'INPUT '!$D$16:$D$116)),LOOKUP($B661,'INPUT '!$D$16:$D$116,'INPUT '!$F$16:$F$116),\"0\")","v":"0"},null,null,null,null,null,0,null,null,0,null,null,0,null,null,0,null,null,0,null,null,0]
[null,null,{"$f":"IF(EXACT($B662,LOOKUP($B662,'INPUT '!$D$16:$D$116)),LOOKUP($B662,'INPUT '!$D$16:$D$116,'INPUT '!$E$16:$E$116),\"0\")","v":"0"},{"$f":"IF(EXACT($B662,LOOKUP($B662,'INPUT '!$D$16:$D$116)),LOOKUP($B662,'INPUT '!$D$16:$D$116,'INPUT '!$F$16:$F$116),\"0\")","v":"0"},null,null,null,null,null,0,null,null,0,null,null,0,null,null,0,null,null,0,null,null,0]
[null,null,{"$f":"IF(EXACT($B663,LOOKUP($B663,'INPUT '!$D$16:$D$116)),LOOKUP($B663,'INPUT '!$D$16:$D$116,'INPUT '!$E$16:$E$116),\"0\")","v":"0"},{"$f":"IF(EXACT($B663,LOOKUP($B663,'INPUT '!$D$16:$D$116)),LOOKUP($B663,'INPUT '!$D$16:$D$116,'INPUT '!$F$16:$F$116),\"0\")","v":"0"},null,null,null,null,null,0,null,null,0,null,null,0,null,null,0,null,null,0,null,null,0]
[null,null,{"$f":"IF(EXACT($B664,LOOKUP($B664,'INPUT '!$D$16:$D$116)),LOOKUP($B664,'INPUT '!$D$16:$D$116,'INPUT '!$E$16:$E$116),\"0\")","v":"0"},{"$f":"IF(EXACT($B664,LOOKUP($B664,'INPUT '!$D$16:$D$116)),LOOKUP($B664,'INPUT '!$D$16:$D$116,'INPUT '!$F$16:$F$116),\"0\")","v":"0"},null,null,null,null,null,0,null,null,0,null,null,0,null,null,{"$f":"R664*C664","v":0},null,null,0,null,null,0]
[null,null,{"$f":"IF(EXACT($B665,LOOKUP($B665,'INPUT '!$D$16:$D$116)),LOOKUP($B665,'INPUT '!$D$16:$D$116,'INPUT '!$E$16:$E$116),\"0\")","v":"0"},{"$f":"IF(EXACT($B665,LOOKUP($B665,'INPUT '!$D$16:$D$116)),LOOKUP($B665,'INPUT '!$D$16:$D$116,'INPUT '!$F$16:$F$116),\"0\")","v":"0"},null,null,null,null,null,0,null,null,0,null,null,0,null,null,0,null,null,0,null,null,0]
[null,null,{"$f":"IF(EXACT($B666,LOOKUP($B666,'INPUT '!$D$16:$D$116)),LOOKUP($B666,'INPUT '!$D$16:$D$116,'INPUT '!$E$16:$E$116),\"0\")","v":"0"},{"$f":"IF(EXACT($B666,LOOKUP($B666,'INPUT '!$D$16:$D$116)),LOOKUP($B666,'INPUT '!$D$16:$D$116,'INPUT '!$F$16:$F$116),\"0\")","v":"0"},null,null,null,null,null,0,null,null,0,null,null,0,null,null,0,null,null,0,null,null,0]
[null,null,{"$f":"IF(EXACT($B667,LOOKUP($B667,'INPUT '!$D$16:$D$116)),LOOKUP($B667,'INPUT '!$D$16:$D$116,'INPUT '!$E$16:$E$116),\"0\")","v":"0"},{"$f":"IF(EXACT($B667,LOOKUP($B667,'INPUT '!$D$16:$D$116)),LOOKUP($B667,'INPUT '!$D$16:$D$116,'INPUT '!$F$16:$F$116),\"0\")","v":"0"},null,null,null,null,null,0,null,null,0,null,null,0,null,null,0,null,null,0,null,null,0]
[null,null,{"$f":"IF(EXACT($B668,LOOKUP($B668,'INPUT '!$D$16:$D$116)),LOOKUP($B668,'INPUT '!$D$16:$D$116,'INPUT '!$E$16:$E$116),\"0\")","v":"0"},{"$f":"IF(EXACT($B668,LOOKUP($B668,'INPUT '!$D$16:$D$116)),LOOKUP($B668,'INPUT '!$D$16:$D$116,'INPUT '!$F$16:$F$116),\"0\")","v":"0"},null,null,null,null,null,0,null,null,0,null,null,0,null,null,0,null,null,0,null,null,0]
[null,null,{"$f":"IF(EXACT($B669,LOOKUP($B669,'INPUT '!$D$16:$D$116)),LOOKUP($B669,'INPUT '!$D$16:$D$116,'INPUT '!$E$16:$E$116),\"0\")","v":"0"},{"$f":"IF(EXACT($B669,LOOKUP($B669,'INPUT '!$D$16:$D$116)),LOOKUP($B669,'INPUT '!$D$16:$D$116,'INPUT '!$F$16:$F$116),\"0\")","v":"0"},null,null,null,null,null,0,null,null,0,null,null,0,null,null,0,null,null,0,null,null,0]
[null,null,{"$f":"IF(EXACT($B670,LOOKUP($B670,'INPUT '!$D$16:$D$116)),LOOKUP($B670,'INPUT '!$D$16:$D$116,'INPUT '!$E$16:$E$116),\"0\")","v":"0"},{"$f":"IF(EXACT($B670,LOOKUP($B670,'INPUT '!$D$16:$D$116)),LOOKUP($B670,'INPUT '!$D$16:$D$116,'INPUT '!$F$16:$F$116),\"0\")","v":"0"},null,null,null,null,null,0,null,null,0,null,null,0,null,null,0,null,null,0,null,null,0]
[null,null,{"$f":"IF(EXACT($B671,LOOKUP($B671,'INPUT '!$D$16:$D$116)),LOOKUP($B671,'INPUT '!$D$16:$D$116,'INPUT '!$E$16:$E$116),\"0\")","v":"0"},{"$f":"IF(EXACT($B671,LOOKUP($B671,'INPUT '!$D$16:$D$116)),LOOKUP($B671,'INPUT '!$D$16:$D$116,'INPUT '!$F$16:$F$116),\"0\")","v":"0"},null,null,null,null,null,0,null,null,0,null,null,0,null,null,0,null,null,0,null,null,0]
[null,null,{"$f":"IF(EXACT($B672,LOOKUP($B672,'INPUT '!$D$16:$D$116)),LOOKUP($B672,'INPUT '!$D$16:$D$116,'INPUT '!$E$16:$E$116),\"0\")","v":"0"},{"$f":"IF(EXACT($B672,LOOKUP($B672,'INPUT '!$D$16:$D$116)),LOOKUP($B672,'INPUT '!$D$16:$D$116,'INPUT '!$F$16:$F$116),\"0\")","v":"0"},null,null,null,null,null,0,null,null,0,null,null,0,null,null,0,null,null,0,null,null,0]
[null,null,{"$f":"IF(EXACT($B673,LOOKUP($B673,'INPUT '!$D$16:$D$116)),LOOKUP($B673,'INPUT '!$D$16:$D$116,'INPUT '!$E$16:$E$116),\"0\")","v":"0"},{"$f":"IF(EXACT($B673,LOOKUP($B673,'INPUT '!$D$16:$D$116)),LOOKUP($B673,'INPUT '!$D$16:$D$116,'INPUT '!$F$16:$F$116),\"0\")","v":"0"},null,null,null,null,null,0,null,null,0,null,null,0,null,null,0,null,null,0,null,null,0]
[null,null,{"$f":"IF(EXACT($B674,LOOKUP($B674,'INPUT '!$D$16:$D$116)),LOOKUP($B674,'INPUT '!$D$16:$D$116,'INPUT '!$E$16:$E$116),\"0\")","v":"0"},{"$f":"IF(EXACT($B674,LOOKUP($B674,'INPUT '!$D$16:$D$116)),LOOKUP($B674,'INPUT '!$D$16:$D$116,'INPUT '!$F$16:$F$116),\"0\")","v":"0"},null,null,null,null,null,0,null,null,0,null,null,0,null,null,0,null,null,0,null,null,0]
[null,null,{"$f":"IF(EXACT($B675,LOOKUP($B675,'INPUT '!$D$16:$D$116)),LOOKUP($B675,'INPUT '!$D$16:$D$116,'INPUT '!$E$16:$E$116),\"0\")","v":"0"},{"$f":"IF(EXACT($B675,LOOKUP($B675,'INPUT '!$D$16:$D$116)),LOOKUP($B675,'INPUT '!$D$16:$D$116,'INPUT '!$F$16:$F$116),\"0\")","v":"0"},null,null,null,null,null,0,null,null,0,null,null,0,null,null,0,null,null,0,null,null,0]
[null,null,{"$f":"IF(EXACT($B676,LOOKUP($B676,'INPUT '!$D$16:$D$116)),LOOKUP($B676,'INPUT '!$D$16:$D$116,'INPUT '!$E$16:$E$116),\"0\")","v":"0"},{"$f":"IF(EXACT($B676,LOOKUP($B676,'INPUT '!$D$16:$D$116)),LOOKUP($B676,'INPUT '!$D$16:$D$116,'INPUT '!$F$16:$F$116),\"0\")","v":"0"},null,null,null,null,null,0,null,null,0,null,null,0,null,null,0,null,null,0,null,null,0]
[null,null,{"$f":"IF(EXACT($B677,LOOKUP($B677,'INPUT '!$D$16:$D$116)),LOOKUP($B677,'INPUT '!$D$16:$D$116,'INPUT '!$E$16:$E$116),\"0\")","v":"0"},{"$f":"IF(EXACT($B677,LOOKUP($B677,'INPUT '!$D$16:$D$116)),LOOKUP($B677,'INPUT '!$D$16:$D$116,'INPUT '!$F$16:$F$116),\"0\")","v":"0"},null,null,null,null,null,0,null,null,0,null,null,0,null,null,0,null,null,0,null,null,0]
[null,null,{"$f":"IF(EXACT($B678,LOOKUP($B678,'INPUT '!$D$16:$D$116)),LOOKUP($B678,'INPUT '!$D$16:$D$116,'INPUT '!$E$16:$E$116),\"0\")","v":"0"},{"$f":"IF(EXACT($B678,LOOKUP($B678,'INPUT '!$D$16:$D$116)),LOOKUP($B678,'INPUT '!$D$16:$D$116,'INPUT '!$F$16:$F$116),\"0\")","v":"0"},null,null,null,null,null,0,null,null,0,null,null,0,null,null,0,null,null,0,null,null,0]
[null,null,{"$f":"IF(EXACT($B679,LOOKUP($B679,'INPUT '!$D$16:$D$116)),LOOKUP($B679,'INPUT '!$D$16:$D$116,'INPUT '!$E$16:$E$116),\"0\")","v":"0"},{"$f":"IF(EXACT($B679,LOOKUP($B679,'INPUT '!$D$16:$D$116)),LOOKUP($B679,'INPUT '!$D$16:$D$116,'INPUT '!$F$16:$F$116),\"0\")","v":"0"},null,null,null,null,null,0,null,null,0,null,null,0,null,null,0,null,null,0,null,null,0]
[null,null,{"$f":"IF(EXACT($B680,LOOKUP($B680,'INPUT '!$D$16:$D$116)),LOOKUP($B680,'INPUT '!$D$16:$D$116,'INPUT '!$E$16:$E$116),\"0\")","v":"0"},{"$f":"IF(EXACT($B680,LOOKUP($B680,'INPUT '!$D$16:$D$116)),LOOKUP($B680,'INPUT '!$D$16:$D$116,'INPUT '!$F$16:$F$116),\"0\")","v":"0"},null,null,null,null,null,0,null,null,0,null,null,0,null,null,0,null,null,0,null,null,0]
[null,null,{"$f":"IF(EXACT($B681,LOOKUP($B681,'INPUT '!$D$16:$D$116)),LOOKUP($B681,'INPUT '!$D$16:$D$116,'INPUT '!$E$16:$E$116),\"0\")","v":"0"},{"$f":"IF(EXACT($B681,LOOKUP($B681,'INPUT '!$D$16:$D$116)),LOOKUP($B681,'INPUT '!$D$16:$D$116,'INPUT '!$F$16:$F$116),\"0\")","v":"0"},null,null,null,null,null,0,null,null,0,null,null,0,null,null,0,null,null,0,null,null,0]
[null,null,{"$f":"IF(EXACT($B682,LOOKUP($B682,'INPUT '!$D$16:$D$116)),LOOKUP($B682,'INPUT '!$D$16:$D$116,'INPUT '!$E$16:$E$116),\"0\")","v":"0"},{"$f":"IF(EXACT($B682,LOOKUP($B682,'INPUT '!$D$16:$D$116)),LOOKUP($B682,'INPUT '!$D$16:$D$116,'INPUT '!$F$16:$F$116),\"0\")","v":"0"},null,null,null,null,null,0,null,null,0,null,null,0,null,null,0,null,null,0,null,null,0]
[null,null,{"$f":"IF(EXACT($B683,LOOKUP($B683,'INPUT '!$D$16:$D$116)),LOOKUP($B683,'INPUT '!$D$16:$D$116,'INPUT '!$E$16:$E$116),\"0\")","v":"0"},{"$f":"IF(EXACT($B683,LOOKUP($B683,'INPUT '!$D$16:$D$116)),LOOKUP($B683,'INPUT '!$D$16:$D$116,'INPUT '!$F$16:$F$116),\"0\")","v":"0"},null,null,null,null,null,0,null,null,0,null,null,0,null,null,0,null,null,0,null,null,0]
[null,null,{"$f":"IF(EXACT($B684,LOOKUP($B684,'INPUT '!$D$16:$D$116)),LOOKUP($B684,'INPUT '!$D$16:$D$116,'INPUT '!$E$16:$E$116),\"0\")","v":"0"},{"$f":"IF(EXACT($B684,LOOKUP($B684,'INPUT '!$D$16:$D$116)),LOOKUP($B684,'INPUT '!$D$16:$D$116,'INPUT '!$F$16:$F$116),\"0\")","v":"0"},null,null,null,null,null,0,null,null,0,null,null,0,null,null,0,null,null,0,null,null,0]
[null,null,{"$f":"IF(EXACT($B685,LOOKUP($B685,'INPUT '!$D$16:$D$116)),LOOKUP($B685,'INPUT '!$D$16:$D$116,'INPUT '!$E$16:$E$116),\"0\")","v":"0"},{"$f":"IF(EXACT($B685,LOOKUP($B685,'INPUT '!$D$16:$D$116)),LOOKUP($B685,'INPUT '!$D$16:$D$116,'INPUT '!$F$16:$F$116),\"0\")","v":"0"},null,null,null,null,null,0,null,null,0,null,null,0,null,null,0,null,null,0,null,null,0]
[null,null,{"$f":"IF(EXACT($B686,LOOKUP($B686,'INPUT '!$D$16:$D$116)),LOOKUP($B686,'INPUT '!$D$16:$D$116,'INPUT '!$E$16:$E$116),\"0\")","v":"0"},{"$f":"IF(EXACT($B686,LOOKUP($B686,'INPUT '!$D$16:$D$116)),LOOKUP($B686,'INPUT '!$D$16:$D$116,'INPUT '!$F$16:$F$116),\"0\")","v":"0"},null,null,null,null,null,0,null,null,0,null,null,0,null,null,0,null,null,0,null,null,0]
[null,null,{"$f":"IF(EXACT($B687,LOOKUP($B687,'INPUT '!$D$16:$D$116)),LOOKUP($B687,'INPUT '!$D$16:$D$116,'INPUT '!$E$16:$E$116),\"0\")","v":"0"},{"$f":"IF(EXACT($B687,LOOKUP($B687,'INPUT '!$D$16:$D$116)),LOOKUP($B687,'INPUT '!$D$16:$D$116,'INPUT '!$F$16:$F$116),\"0\")","v":"0"},null,null,null,null,null,0,null,null,0,null,null,0,null,null,0,null,null,0,null,null,0]
[null,null,{"$f":"IF(EXACT($B688,LOOKUP($B688,'INPUT '!$D$16:$D$116)),LOOKUP($B688,'INPUT '!$D$16:$D$116,'INPUT '!$E$16:$E$116),\"0\")","v":"0"},{"$f":"IF(EXACT($B688,LOOKUP($B688,'INPUT '!$D$16:$D$116)),LOOKUP($B688,'INPUT '!$D$16:$D$116,'INPUT '!$F$16:$F$116),\"0\")","v":"0"},null,null,null,null,null,0,null,null,0,null,null,0,null,null,0,null,null,0,null,null,0]
[null,null,{"$f":"IF(EXACT($B689,LOOKUP($B689,'INPUT '!$D$16:$D$116)),LOOKUP($B689,'INPUT '!$D$16:$D$116,'INPUT '!$E$16:$E$116),\"0\")","v":"0"},{"$f":"IF(EXACT($B689,LOOKUP($B689,'INPUT '!$D$16:$D$116)),LOOKUP($B689,'INPUT '!$D$16:$D$116,'INPUT '!$F$16:$F$116),\"0\")","v":"0"},null,null,null,null,null,0,null,null,0,null,null,0,null,null,0,null,null,0,null,null,0]
[null,null,{"$f":"IF(EXACT($B690,LOOKUP($B690,'INPUT '!$D$16:$D$116)),LOOKUP($B690,'INPUT '!$D$16:$D$116,'INPUT '!$E$16:$E$116),\"0\")","v":"0"},{"$f":"IF(EXACT($B690,LOOKUP($B690,'INPUT '!$D$16:$D$116)),LOOKUP($B690,'INPUT '!$D$16:$D$116,'INPUT '!$F$16:$F$116),\"0\")","v":"0"},null,null,null,null,null,0,null,null,0,null,null,0,null,null,0,null,null,0,null,null,0]
[null,null,{"$f":"IF(EXACT($B691,LOOKUP($B691,'INPUT '!$D$16:$D$116)),LOOKUP($B691,'INPUT '!$D$16:$D$116,'INPUT '!$E$16:$E$116),\"0\")","v":"0"},{"$f":"IF(EXACT($B691,LOOKUP($B691,'INPUT '!$D$16:$D$116)),LOOKUP($B691,'INPUT '!$D$16:$D$116,'INPUT '!$F$16:$F$116),\"0\")","v":"0"},null,null,null,null,null,0,null,null,0,null,null,0,null,null,0,null,null,0,null,null,0]
[null,null,{"$f":"IF(EXACT($B692,LOOKUP($B692,'INPUT '!$D$16:$D$116)),LOOKUP($B692,'INPUT '!$D$16:$D$116,'INPUT '!$E$16:$E$116),\"0\")","v":"0"},{"$f":"IF(EXACT($B692,LOOKUP($B692,'INPUT '!$D$16:$D$116)),LOOKUP($B692,'INPUT '!$D$16:$D$116,'INPUT '!$F$16:$F$116),\"0\")","v":"0"},null,null,null,null,null,0,null,null,0,null,null,0,null,null,0,null,null,0,null,null,0]
[null,null,{"$f":"IF(EXACT($B693,LOOKUP($B693,'INPUT '!$D$16:$D$116)),LOOKUP($B693,'INPUT '!$D$16:$D$116,'INPUT '!$E$16:$E$116),\"0\")","v":"0"},{"$f":"IF(EXACT($B693,LOOKUP($B693,'INPUT '!$D$16:$D$116)),LOOKUP($B693,'INPUT '!$D$16:$D$116,'INPUT '!$F$16:$F$116),\"0\")","v":"0"},null,null,null,null,null,0,null,null,0,null,null,0,null,null,0,null,null,0,null,null,0]
[null,null,{"$f":"IF(EXACT($B694,LOOKUP($B694,'INPUT '!$D$16:$D$116)),LOOKUP($B694,'INPUT '!$D$16:$D$116,'INPUT '!$E$16:$E$116),\"0\")","v":"0"},{"$f":"IF(EXACT($B694,LOOKUP($B694,'INPUT '!$D$16:$D$116)),LOOKUP($B694,'INPUT '!$D$16:$D$116,'INPUT '!$F$16:$F$116),\"0\")","v":"0"},null,null,null,null,null,0,null,null,0,null,null,0,null,null,0,null,null,0,null,null,0]
[null,null,{"$f":"IF(EXACT($B695,LOOKUP($B695,'INPUT '!$D$16:$D$116)),LOOKUP($B695,'INPUT '!$D$16:$D$116,'INPUT '!$E$16:$E$116),\"0\")","v":"0"},{"$f":"IF(EXACT($B695,LOOKUP($B695,'INPUT '!$D$16:$D$116)),LOOKUP($B695,'INPUT '!$D$16:$D$116,'INPUT '!$F$16:$F$116),\"0\")","v":"0"},null,null,null,null,null,0,null,null,0,null,null,0,null,null,0,null,null,0,null,null,0]
[null,null,{"$f":"IF(EXACT($B696,LOOKUP($B696,'INPUT '!$D$16:$D$116)),LOOKUP($B696,'INPUT '!$D$16:$D$116,'INPUT '!$E$16:$E$116),\"0\")","v":"0"},{"$f":"IF(EXACT($B696,LOOKUP($B696,'INPUT '!$D$16:$D$116)),LOOKUP($B696,'INPUT '!$D$16:$D$116,'INPUT '!$F$16:$F$116),\"0\")","v":"0"},null,null,null,null,null,0,null,null,0,null,null,0,null,null,0,null,null,0,null,null,0]
[null,null,{"$f":"IF(EXACT($B697,LOOKUP($B697,'INPUT '!$D$16:$D$116)),LOOKUP($B697,'INPUT '!$D$16:$D$116,'INPUT '!$E$16:$E$116),\"0\")","v":"0"},{"$f":"IF(EXACT($B697,LOOKUP($B697,'INPUT '!$D$16:$D$116)),LOOKUP($B697,'INPUT '!$D$16:$D$116,'INPUT '!$F$16:$F$116),\"0\")","v":"0"},null,null,null,null,null,0,null,null,0,null,null,0,null,null,0,null,null,0,null,null,0]
[null,null,{"$f":"IF(EXACT($B698,LOOKUP($B698,'INPUT '!$D$16:$D$116)),LOOKUP($B698,'INPUT '!$D$16:$D$116,'INPUT '!$E$16:$E$116),\"0\")","v":"0"},{"$f":"IF(EXACT($B698,LOOKUP($B698,'INPUT '!$D$16:$D$116)),LOOKUP($B698,'INPUT '!$D$16:$D$116,'INPUT '!$F$16:$F$116),\"0\")","v":"0"},null,null,null,null,null,0,null,null,0,null,null,0,null,null,0,null,null,0,null,null,0]
[null,null,{"$f":"IF(EXACT($B699,LOOKUP($B699,'INPUT '!$D$16:$D$116)),LOOKUP($B699,'INPUT '!$D$16:$D$116,'INPUT '!$E$16:$E$116),\"0\")","v":"0"},{"$f":"IF(EXACT($B699,LOOKUP($B699,'INPUT '!$D$16:$D$116)),LOOKUP($B699,'INPUT '!$D$16:$D$116,'INPUT '!$F$16:$F$116),\"0\")","v":"0"},null,null,null,null,null,0,null,null,0,null,null,0,null,null,0,null,null,0,null,null,0]
[null,null,{"$f":"IF(EXACT($B700,LOOKUP($B700,'INPUT '!$D$16:$D$116)),LOOKUP($B700,'INPUT '!$D$16:$D$116,'INPUT '!$E$16:$E$116),\"0\")","v":"0"},{"$f":"IF(EXACT($B700,LOOKUP($B700,'INPUT '!$D$16:$D$116)),LOOKUP($B700,'INPUT '!$D$16:$D$116,'INPUT '!$F$16:$F$116),\"0\")","v":"0"},null,null,null,null,null,0,null,null,0,null,null,0,null,null,0,null,null,0,null,null,0]
[null,null,{"$f":"IF(EXACT($B701,LOOKUP($B701,'INPUT '!$D$16:$D$116)),LOOKUP($B701,'INPUT '!$D$16:$D$116,'INPUT '!$E$16:$E$116),\"0\")","v":"0"},{"$f":"IF(EXACT($B701,LOOKUP($B701,'INPUT '!$D$16:$D$116)),LOOKUP($B701,'INPUT '!$D$16:$D$116,'INPUT '!$F$16:$F$116),\"0\")","v":"0"},null,null,null,null,null,0,null,null,0,null,null,0,null,null,0,null,null,0,null,null,0]
[null,null,{"$f":"IF(EXACT($B702,LOOKUP($B702,'INPUT '!$D$16:$D$116)),LOOKUP($B702,'INPUT '!$D$16:$D$116,'INPUT '!$E$16:$E$116),\"0\")","v":"0"},{"$f":"IF(EXACT($B702,LOOKUP($B702,'INPUT '!$D$16:$D$116)),LOOKUP($B702,'INPUT '!$D$16:$D$116,'INPUT '!$F$16:$F$116),\"0\")","v":"0"},null,null,null,null,null,0,null,null,0,null,null,0,null,null,0,null,null,0,null,null,0]
[null,null,{"$f":"IF(EXACT($B703,LOOKUP($B703,'INPUT '!$D$16:$D$116)),LOOKUP($B703,'INPUT '!$D$16:$D$116,'INPUT '!$E$16:$E$116),\"0\")","v":"0"},{"$f":"IF(EXACT($B703,LOOKUP($B703,'INPUT '!$D$16:$D$116)),LOOKUP($B703,'INPUT '!$D$16:$D$116,'INPUT '!$F$16:$F$116),\"0\")","v":"0"},null,null,null,null,null,0,null,null,0,null,null,0,null,null,0,null,null,0,null,null,0]
[null,null,{"$f":"IF(EXACT($B704,LOOKUP($B704,'INPUT '!$D$16:$D$116)),LOOKUP($B704,'INPUT '!$D$16:$D$116,'INPUT '!$E$16:$E$116),\"0\")","v":"0"},{"$f":"IF(EXACT($B704,LOOKUP($B704,'INPUT '!$D$16:$D$116)),LOOKUP($B704,'INPUT '!$D$16:$D$116,'INPUT '!$F$16:$F$116),\"0\")","v":"0"},null,null,null,null,null,0,null,null,0,null,null,0,null,null,0,null,null,0,null,null,0]
[null,null,{"$f":"IF(EXACT($B705,LOOKUP($B705,'INPUT '!$D$16:$D$116)),LOOKUP($B705,'INPUT '!$D$16:$D$116,'INPUT '!$E$16:$E$116),\"0\")","v":"0"},{"$f":"IF(EXACT($B705,LOOKUP($B705,'INPUT '!$D$16:$D$116)),LOOKUP($B705,'INPUT '!$D$16:$D$116,'INPUT '!$F$16:$F$116),\"0\")","v":"0"},null,null,null,null,null,0,null,null,0,null,null,0,null,null,0,null,null,0,null,null,0]
[null,null,{"$f":"IF(EXACT($B706,LOOKUP($B706,'INPUT '!$D$16:$D$116)),LOOKUP($B706,'INPUT '!$D$16:$D$116,'INPUT '!$E$16:$E$116),\"0\")","v":"0"},{"$f":"IF(EXACT($B706,LOOKUP($B706,'INPUT '!$D$16:$D$116)),LOOKUP($B706,'INPUT '!$D$16:$D$116,'INPUT '!$F$16:$F$116),\"0\")","v":"0"},null,null,null,null,null,0,null,null,0,null,null,0,null,null,0,null,null,0,null,null,0]
[null,null,{"$f":"IF(EXACT($B707,LOOKUP($B707,'INPUT '!$D$16:$D$116)),LOOKUP($B707,'INPUT '!$D$16:$D$116,'INPUT '!$E$16:$E$116),\"0\")","v":"0"},{"$f":"IF(EXACT($B707,LOOKUP($B707,'INPUT '!$D$16:$D$116)),LOOKUP($B707,'INPUT '!$D$16:$D$116,'INPUT '!$F$16:$F$116),\"0\")","v":"0"},null,null,null,null,null,0,null,null,0,null,null,0,null,null,0,null,null,0,null,null,0]
[null,null,{"$f":"IF(EXACT($B708,LOOKUP($B708,'INPUT '!$D$16:$D$116)),LOOKUP($B708,'INPUT '!$D$16:$D$116,'INPUT '!$E$16:$E$116),\"0\")","v":"0"},{"$f":"IF(EXACT($B708,LOOKUP($B708,'INPUT '!$D$16:$D$116)),LOOKUP($B708,'INPUT '!$D$16:$D$116,'INPUT '!$F$16:$F$116),\"0\")","v":"0"},null,null,null,null,null,0,null,null,0,null,null,0,null,null,0,null,null,0,null,null,0]
[null,null,{"$f":"IF(EXACT($B709,LOOKUP($B709,'INPUT '!$D$16:$D$116)),LOOKUP($B709,'INPUT '!$D$16:$D$116,'INPUT '!$E$16:$E$116),\"0\")","v":"0"},{"$f":"IF(EXACT($B709,LOOKUP($B709,'INPUT '!$D$16:$D$116)),LOOKUP($B709,'INPUT '!$D$16:$D$116,'INPUT '!$F$16:$F$116),\"0\")","v":"0"},null,null,null,null,null,0,null,null,0,null,null,0,null,null,0,null,null,0,null,null,0]
[null,null,{"$f":"IF(EXACT($B710,LOOKUP($B710,'INPUT '!$D$16:$D$116)),LOOKUP($B710,'INPUT '!$D$16:$D$116,'INPUT '!$E$16:$E$116),\"0\")","v":"0"},{"$f":"IF(EXACT($B710,LOOKUP($B710,'INPUT '!$D$16:$D$116)),LOOKUP($B710,'INPUT '!$D$16:$D$116,'INPUT '!$F$16:$F$116),\"0\")","v":"0"},null,null,null,null,null,0,null,null,0,null,null,0,null,null,0,null,null,0,null,null,0]
[null,null,{"$f":"IF(EXACT($B711,LOOKUP($B711,'INPUT '!$D$16:$D$116)),LOOKUP($B711,'INPUT '!$D$16:$D$116,'INPUT '!$E$16:$E$116),\"0\")","v":"0"},{"$f":"IF(EXACT($B711,LOOKUP($B711,'INPUT '!$D$16:$D$116)),LOOKUP($B711,'INPUT '!$D$16:$D$116,'INPUT '!$F$16:$F$116),\"0\")","v":"0"},null,null,null,null,null,0,null,null,0,null,null,0,null,null,0,null,null,0,null,null,0]
[null,null,{"$f":"IF(EXACT($B712,LOOKUP($B712,'INPUT '!$D$16:$D$116)),LOOKUP($B712,'INPUT '!$D$16:$D$116,'INPUT '!$E$16:$E$116),\"0\")","v":"0"},{"$f":"IF(EXACT($B712,LOOKUP($B712,'INPUT '!$D$16:$D$116)),LOOKUP($B712,'INPUT '!$D$16:$D$116,'INPUT '!$F$16:$F$116),\"0\")","v":"0"},null,null,null,null,null,0,null,null,0,null,null,0,null,null,0,null,null,0,null,null,0]
[null,null,{"$f":"IF(EXACT($B713,LOOKUP($B713,'INPUT '!$D$16:$D$116)),LOOKUP($B713,'INPUT '!$D$16:$D$116,'INPUT '!$E$16:$E$116),\"0\")","v":"0"},{"$f":"IF(EXACT($B713,LOOKUP($B713,'INPUT '!$D$16:$D$116)),LOOKUP($B713,'INPUT '!$D$16:$D$116,'INPUT '!$F$16:$F$116),\"0\")","v":"0"},null,null,null,null,null,0,null,null,0,null,null,0,null,null,0,null,null,0,null,null,0]
[null,null,{"$f":"IF(EXACT($B714,LOOKUP($B714,'INPUT '!$D$16:$D$116)),LOOKUP($B714,'INPUT '!$D$16:$D$116,'INPUT '!$E$16:$E$116),\"0\")","v":"0"},{"$f":"IF(EXACT($B714,LOOKUP($B714,'INPUT '!$D$16:$D$116)),LOOKUP($B714,'INPUT '!$D$16:$D$116,'INPUT '!$F$16:$F$116),\"0\")","v":"0"},null,null,null,null,null,0,null,null,0,null,null,{"$f":"O714*C714","v":0},null,null,0,null,null,0,null,null,0]
[null,null,{"$f":"IF(EXACT($B715,LOOKUP($B715,'INPUT '!$D$16:$D$116)),LOOKUP($B715,'INPUT '!$D$16:$D$116,'INPUT '!$E$16:$E$116),\"0\")","v":"0"},{"$f":"IF(EXACT($B715,LOOKUP($B715,'INPUT '!$D$16:$D$116)),LOOKUP($B715,'INPUT '!$D$16:$D$116,'INPUT '!$F$16:$F$116),\"0\")","v":"0"},null,null,null,null,null,0,null,null,0,null,null,0,null,null,0,null,null,0,null,null,0]
[null,null,{"$f":"IF(EXACT($B716,LOOKUP($B716,'INPUT '!$D$16:$D$116)),LOOKUP($B716,'INPUT '!$D$16:$D$116,'INPUT '!$E$16:$E$116),\"0\")","v":"0"},{"$f":"IF(EXACT($B716,LOOKUP($B716,'INPUT '!$D$16:$D$116)),LOOKUP($B716,'INPUT '!$D$16:$D$116,'INPUT '!$F$16:$F$116),\"0\")","v":"0"},null,null,null,null,null,{"$f":"I716*C716","v":0},null,null,{"$f":"L716*C716","v":0},null,null,0,null,null,0,null,null,{"$f":"U716*C716","v":0},null,null,{"$f":"X716*C716","v":0}]
[null,null,{"$f":"IF(EXACT($B717,LOOKUP($B717,'INPUT '!$D$16:$D$116)),LOOKUP($B717,'INPUT '!$D$16:$D$116,'INPUT '!$E$16:$E$116),\"0\")","v":"0"},{"$f":"IF(EXACT($B717,LOOKUP($B717,'INPUT '!$D$16:$D$116)),LOOKUP($B717,'INPUT '!$D$16:$D$116,'INPUT '!$F$16:$F$116),\"0\")","v":"0"},null,null,null,null,null,0,null,null,0,null,null,0,null,null,0,null,null,0,null,null,0]
[null,null,{"$f":"IF(EXACT($B718,LOOKUP($B718,'INPUT '!$D$16:$D$116)),LOOKUP($B718,'INPUT '!$D$16:$D$116,'INPUT '!$E$16:$E$116),\"0\")","v":"0"},{"$f":"IF(EXACT($B718,LOOKUP($B718,'INPUT '!$D$16:$D$116)),LOOKUP($B718,'INPUT '!$D$16:$D$116,'INPUT '!$F$16:$F$116),\"0\")","v":"0"},null,null,null,null,null,0,null,null,0,null,null,0,null,null,0,null,null,0,null,null,0]
[null,null,{"$f":"IF(EXACT($B719,LOOKUP($B719,'INPUT '!$D$16:$D$116)),LOOKUP($B719,'INPUT '!$D$16:$D$116,'INPUT '!$E$16:$E$116),\"0\")","v":"0"},{"$f":"IF(EXACT($B719,LOOKUP($B719,'INPUT '!$D$16:$D$116)),LOOKUP($B719,'INPUT '!$D$16:$D$116,'INPUT '!$F$16:$F$116),\"0\")","v":"0"},null,null,null,null,null,0,null,null,0,null,null,0,null,null,0,null,null,0,null,null,0]
[null,null,{"$f":"IF(EXACT($B720,LOOKUP($B720,'INPUT '!$D$16:$D$116)),LOOKUP($B720,'INPUT '!$D$16:$D$116,'INPUT '!$E$16:$E$116),\"0\")","v":"0"},{"$f":"IF(EXACT($B720,LOOKUP($B720,'INPUT '!$D$16:$D$116)),LOOKUP($B720,'INPUT '!$D$16:$D$116,'INPUT '!$F$16:$F$116),\"0\")","v":"0"},null,null,null,null,null,0,null,null,0,null,null,0,null,null,0,null,null,0,null,null,0]
[null,null,{"$f":"IF(EXACT($B721,LOOKUP($B721,'INPUT '!$D$16:$D$116)),LOOKUP($B721,'INPUT '!$D$16:$D$116,'INPUT '!$E$16:$E$116),\"0\")","v":"0"},{"$f":"IF(EXACT($B721,LOOKUP($B721,'INPUT '!$D$16:$D$116)),LOOKUP($B721,'INPUT '!$D$16:$D$116,'INPUT '!$F$16:$F$116),\"0\")","v":"0"},null,null,null,null,null,0,null,null,0,null,null,0,null,null,0,null,null,0,null,null,0]
[null,null,{"$f":"IF(EXACT($B722,LOOKUP($B722,'INPUT '!$D$16:$D$116)),LOOKUP($B722,'INPUT '!$D$16:$D$116,'INPUT '!$E$16:$E$116),\"0\")","v":"0"},{"$f":"IF(EXACT($B722,LOOKUP($B722,'INPUT '!$D$16:$D$116)),LOOKUP($B722,'INPUT '!$D$16:$D$116,'INPUT '!$F$16:$F$116),\"0\")","v":"0"},null,null,null,null,null,0,null,null,0,null,null,0,null,null,0,null,null,0,null,null,0]
[null,null,{"$f":"IF(EXACT($B723,LOOKUP($B723,'INPUT '!$D$16:$D$116)),LOOKUP($B723,'INPUT '!$D$16:$D$116,'INPUT '!$E$16:$E$116),\"0\")","v":"0"},{"$f":"IF(EXACT($B723,LOOKUP($B723,'INPUT '!$D$16:$D$116)),LOOKUP($B723,'INPUT '!$D$16:$D$116,'INPUT '!$F$16:$F$116),\"0\")","v":"0"},null,null,null,null,null,0,null,null,0,null,null,0,null,null,0,null,null,0,null,null,0]
[null,null,{"$f":"IF(EXACT($B724,LOOKUP($B724,'INPUT '!$D$16:$D$116)),LOOKUP($B724,'INPUT '!$D$16:$D$116,'INPUT '!$E$16:$E$116),\"0\")","v":"0"},{"$f":"IF(EXACT($B724,LOOKUP($B724,'INPUT '!$D$16:$D$116)),LOOKUP($B724,'INPUT '!$D$16:$D$116,'INPUT '!$F$16:$F$116),\"0\")","v":"0"},null,null,null,null,null,0,null,null,0,null,null,0,null,null,0,null,null,0,null,null,0]
[null,null,{"$f":"IF(EXACT($B725,LOOKUP($B725,'INPUT '!$D$16:$D$116)),LOOKUP($B725,'INPUT '!$D$16:$D$116,'INPUT '!$E$16:$E$116),\"0\")","v":"0"},{"$f":"IF(EXACT($B725,LOOKUP($B725,'INPUT '!$D$16:$D$116)),LOOKUP($B725,'INPUT '!$D$16:$D$116,'INPUT '!$F$16:$F$116),\"0\")","v":"0"},null,null,null,null,null,0,null,null,0,null,null,0,null,null,0,null,null,0,null,null,0]
[null,null,{"$f":"IF(EXACT($B726,LOOKUP($B726,'INPUT '!$D$16:$D$116)),LOOKUP($B726,'INPUT '!$D$16:$D$116,'INPUT '!$E$16:$E$116),\"0\")","v":"0"},{"$f":"IF(EXACT($B726,LOOKUP($B726,'INPUT '!$D$16:$D$116)),LOOKUP($B726,'INPUT '!$D$16:$D$116,'INPUT '!$F$16:$F$116),\"0\")","v":"0"},null,null,null,null,null,0,null,null,0,null,null,0,null,null,0,null,null,0,null,null,0]
[null,null,{"$f":"IF(EXACT($B727,LOOKUP($B727,'INPUT '!$D$16:$D$116)),LOOKUP($B727,'INPUT '!$D$16:$D$116,'INPUT '!$E$16:$E$116),\"0\")","v":"0"},{"$f":"IF(EXACT($B727,LOOKUP($B727,'INPUT '!$D$16:$D$116)),LOOKUP($B727,'INPUT '!$D$16:$D$116,'INPUT '!$F$16:$F$116),\"0\")","v":"0"},null,null,null,null,null,0,null,null,0,null,null,0,null,null,0,null,null,0,null,null,0]
[null,null,{"$f":"IF(EXACT($B728,LOOKUP($B728,'INPUT '!$D$16:$D$116)),LOOKUP($B728,'INPUT '!$D$16:$D$116,'INPUT '!$E$16:$E$116),\"0\")","v":"0"},{"$f":"IF(EXACT($B728,LOOKUP($B728,'INPUT '!$D$16:$D$116)),LOOKUP($B728,'INPUT '!$D$16:$D$116,'INPUT '!$F$16:$F$116),\"0\")","v":"0"},null,null,null,null,null,0,null,null,0,null,null,0,null,null,{"$f":"R728*C728","v":0},null,null,0,null,null,0]
[null,null,{"$f":"IF(EXACT($B729,LOOKUP($B729,'INPUT '!$D$16:$D$116)),LOOKUP($B729,'INPUT '!$D$16:$D$116,'INPUT '!$E$16:$E$116),\"0\")","v":"0"},{"$f":"IF(EXACT($B729,LOOKUP($B729,'INPUT '!$D$16:$D$116)),LOOKUP($B729,'INPUT '!$D$16:$D$116,'INPUT '!$F$16:$F$116),\"0\")","v":"0"},null,null,null,null,null,0,null,null,0,null,null,0,null,null,0,null,null,0,null,null,0]
[null,null,{"$f":"IF(EXACT($B730,LOOKUP($B730,'INPUT '!$D$16:$D$116)),LOOKUP($B730,'INPUT '!$D$16:$D$116,'INPUT '!$E$16:$E$116),\"0\")","v":"0"},{"$f":"IF(EXACT($B730,LOOKUP($B730,'INPUT '!$D$16:$D$116)),LOOKUP($B730,'INPUT '!$D$16:$D$116,'INPUT '!$F$16:$F$116),\"0\")","v":"0"},null,null,null,null,null,0,null,null,0,null,null,0,null,null,0,null,null,0,null,null,0]
[null,null,{"$f":"IF(EXACT($B731,LOOKUP($B731,'INPUT '!$D$16:$D$116)),LOOKUP($B731,'INPUT '!$D$16:$D$116,'INPUT '!$E$16:$E$116),\"0\")","v":"0"},{"$f":"IF(EXACT($B731,LOOKUP($B731,'INPUT '!$D$16:$D$116)),LOOKUP($B731,'INPUT '!$D$16:$D$116,'INPUT '!$F$16:$F$116),\"0\")","v":"0"},null,null,null,null,null,0,null,null,0,null,null,0,null,null,0,null,null,0,null,null,0]
[null,null,{"$f":"IF(EXACT($B732,LOOKUP($B732,'INPUT '!$D$16:$D$116)),LOOKUP($B732,'INPUT '!$D$16:$D$116,'INPUT '!$E$16:$E$116),\"0\")","v":"0"},{"$f":"IF(EXACT($B732,LOOKUP($B732,'INPUT '!$D$16:$D$116)),LOOKUP($B732,'INPUT '!$D$16:$D$116,'INPUT '!$F$16:$F$116),\"0\")","v":"0"},null,null,null,null,null,0,null,null,0,null,null,0,null,null,0,null,null,0,null,null,0]
[null,null,{"$f":"IF(EXACT($B733,LOOKUP($B733,'INPUT '!$D$16:$D$116)),LOOKUP($B733,'INPUT '!$D$16:$D$116,'INPUT '!$E$16:$E$116),\"0\")","v":"0"},{"$f":"IF(EXACT($B733,LOOKUP($B733,'INPUT '!$D$16:$D$116)),LOOKUP($B733,'INPUT '!$D$16:$D$116,'INPUT '!$F$16:$F$116),\"0\")","v":"0"},null,null,null,null,null,0,null,null,0,null,null,0,null,null,0,null,null,0,null,null,0]
[null,null,{"$f":"IF(EXACT($B734,LOOKUP($B734,'INPUT '!$D$16:$D$116)),LOOKUP($B734,'INPUT '!$D$16:$D$116,'INPUT '!$E$16:$E$116),\"0\")","v":"0"},{"$f":"IF(EXACT($B734,LOOKUP($B734,'INPUT '!$D$16:$D$116)),LOOKUP($B734,'INPUT '!$D$16:$D$116,'INPUT '!$F$16:$F$116),\"0\")","v":"0"},null,null,null,null,null,0,null,null,0,null,null,0,null,null,0,null,null,0,null,null,0]
[null,null,{"$f":"IF(EXACT($B735,LOOKUP($B735,'INPUT '!$D$16:$D$116)),LOOKUP($B735,'INPUT '!$D$16:$D$116,'INPUT '!$E$16:$E$116),\"0\")","v":"0"},{"$f":"IF(EXACT($B735,LOOKUP($B735,'INPUT '!$D$16:$D$116)),LOOKUP($B735,'INPUT '!$D$16:$D$116,'INPUT '!$F$16:$F$116),\"0\")","v":"0"},null,null,null,null,null,0,null,null,0,null,null,0,null,null,0,null,null,0,null,null,0]
[null,null,{"$f":"IF(EXACT($B736,LOOKUP($B736,'INPUT '!$D$16:$D$116)),LOOKUP($B736,'INPUT '!$D$16:$D$116,'INPUT '!$E$16:$E$116),\"0\")","v":"0"},{"$f":"IF(EXACT($B736,LOOKUP($B736,'INPUT '!$D$16:$D$116)),LOOKUP($B736,'INPUT '!$D$16:$D$116,'INPUT '!$F$16:$F$116),\"0\")","v":"0"},null,null,null,null,null,0,null,null,0,null,null,0,null,null,0,null,null,0,null,null,0]
[null,null,{"$f":"IF(EXACT($B737,LOOKUP($B737,'INPUT '!$D$16:$D$116)),LOOKUP($B737,'INPUT '!$D$16:$D$116,'INPUT '!$E$16:$E$116),\"0\")","v":"0"},{"$f":"IF(EXACT($B737,LOOKUP($B737,'INPUT '!$D$16:$D$116)),LOOKUP($B737,'INPUT '!$D$16:$D$116,'INPUT '!$F$16:$F$116),\"0\")","v":"0"},null,null,null,null,null,0,null,null,0,null,null,0,null,null,0,null,null,0,null,null,0]
[null,null,{"$f":"IF(EXACT($B738,LOOKUP($B738,'INPUT '!$D$16:$D$116)),LOOKUP($B738,'INPUT '!$D$16:$D$116,'INPUT '!$E$16:$E$116),\"0\")","v":"0"},{"$f":"IF(EXACT($B738,LOOKUP($B738,'INPUT '!$D$16:$D$116)),LOOKUP($B738,'INPUT '!$D$16:$D$116,'INPUT '!$F$16:$F$116),\"0\")","v":"0"},null,null,null,null,null,0,null,null,0,null,null,0,null,null,0,null,null,0,null,null,0]
[null,null,{"$f":"IF(EXACT($B739,LOOKUP($B739,'INPUT '!$D$16:$D$116)),LOOKUP($B739,'INPUT '!$D$16:$D$116,'INPUT '!$E$16:$E$116),\"0\")","v":"0"},{"$f":"IF(EXACT($B739,LOOKUP($B739,'INPUT '!$D$16:$D$116)),LOOKUP($B739,'INPUT '!$D$16:$D$116,'INPUT '!$F$16:$F$116),\"0\")","v":"0"},null,null,null,null,null,0,null,null,0,null,null,0,null,null,0,null,null,0,null,null,0]
[null,null,{"$f":"IF(EXACT($B740,LOOKUP($B740,'INPUT '!$D$16:$D$116)),LOOKUP($B740,'INPUT '!$D$16:$D$116,'INPUT '!$E$16:$E$116),\"0\")","v":"0"},{"$f":"IF(EXACT($B740,LOOKUP($B740,'INPUT '!$D$16:$D$116)),LOOKUP($B740,'INPUT '!$D$16:$D$116,'INPUT '!$F$16:$F$116),\"0\")","v":"0"},null,null,null,null,null,0,null,null,0,null,null,0,null,null,0,null,null,0,null,null,0]
[null,null,{"$f":"IF(EXACT($B741,LOOKUP($B741,'INPUT '!$D$16:$D$116)),LOOKUP($B741,'INPUT '!$D$16:$D$116,'INPUT '!$E$16:$E$116),\"0\")","v":"0"},{"$f":"IF(EXACT($B741,LOOKUP($B741,'INPUT '!$D$16:$D$116)),LOOKUP($B741,'INPUT '!$D$16:$D$116,'INPUT '!$F$16:$F$116),\"0\")","v":"0"},null,null,null,null,null,0,null,null,0,null,null,0,null,null,0,null,null,0,null,null,0]
[null,null,{"$f":"IF(EXACT($B742,LOOKUP($B742,'INPUT '!$D$16:$D$116)),LOOKUP($B742,'INPUT '!$D$16:$D$116,'INPUT '!$E$16:$E$116),\"0\")","v":"0"},{"$f":"IF(EXACT($B742,LOOKUP($B742,'INPUT '!$D$16:$D$116)),LOOKUP($B742,'INPUT '!$D$16:$D$116,'INPUT '!$F$16:$F$116),\"0\")","v":"0"},null,null,null,null,null,0,null,null,0,null,null,0,null,null,0,null,null,0,null,null,0]
[null,null,{"$f":"IF(EXACT($B743,LOOKUP($B743,'INPUT '!$D$16:$D$116)),LOOKUP($B743,'INPUT '!$D$16:$D$116,'INPUT '!$E$16:$E$116),\"0\")","v":"0"},{"$f":"IF(EXACT($B743,LOOKUP($B743,'INPUT '!$D$16:$D$116)),LOOKUP($B743,'INPUT '!$D$16:$D$116,'INPUT '!$F$16:$F$116),\"0\")","v":"0"},null,null,null,null,null,0,null,null,0,null,null,0,null,null,0,null,null,0,null,null,0]
[null,null,{"$f":"IF(EXACT($B744,LOOKUP($B744,'INPUT '!$D$16:$D$116)),LOOKUP($B744,'INPUT '!$D$16:$D$116,'INPUT '!$E$16:$E$116),\"0\")","v":"0"},{"$f":"IF(EXACT($B744,LOOKUP($B744,'INPUT '!$D$16:$D$116)),LOOKUP($B744,'INPUT '!$D$16:$D$116,'INPUT '!$F$16:$F$116),\"0\")","v":"0"},null,null,null,null,null,0,null,null,0,null,null,0,null,null,0,null,null,0,null,null,0]
[null,null,{"$f":"IF(EXACT($B745,LOOKUP($B745,'INPUT '!$D$16:$D$116)),LOOKUP($B745,'INPUT '!$D$16:$D$116,'INPUT '!$E$16:$E$116),\"0\")","v":"0"},{"$f":"IF(EXACT($B745,LOOKUP($B745,'INPUT '!$D$16:$D$116)),LOOKUP($B745,'INPUT '!$D$16:$D$116,'INPUT '!$F$16:$F$116),\"0\")","v":"0"},null,null,null,null,null,0,null,null,0,null,null,0,null,null,0,null,null,0,null,null,0]
[null,null,{"$f":"IF(EXACT($B746,LOOKUP($B746,'INPUT '!$D$16:$D$116)),LOOKUP($B746,'INPUT '!$D$16:$D$116,'INPUT '!$E$16:$E$116),\"0\")","v":"0"},{"$f":"IF(EXACT($B746,LOOKUP($B746,'INPUT '!$D$16:$D$116)),LOOKUP($B746,'INPUT '!$D$16:$D$116,'INPUT '!$F$16:$F$116),\"0\")","v":"0"},null,null,null,null,null,0,null,null,0,null,null,0,null,null,0,null,null,0,null,null,0]
[null,null,{"$f":"IF(EXACT($B747,LOOKUP($B747,'INPUT '!$D$16:$D$116)),LOOKUP($B747,'INPUT '!$D$16:$D$116,'INPUT '!$E$16:$E$116),\"0\")","v":"0"},{"$f":"IF(EXACT($B747,LOOKUP($B747,'INPUT '!$D$16:$D$116)),LOOKUP($B747,'INPUT '!$D$16:$D$116,'INPUT '!$F$16:$F$116),\"0\")","v":"0"},null,null,null,null,null,0,null,null,0,null,null,0,null,null,0,null,null,0,null,null,0]
[null,null,{"$f":"IF(EXACT($B748,LOOKUP($B748,'INPUT '!$D$16:$D$116)),LOOKUP($B748,'INPUT '!$D$16:$D$116,'INPUT '!$E$16:$E$116),\"0\")","v":"0"},{"$f":"IF(EXACT($B748,LOOKUP($B748,'INPUT '!$D$16:$D$116)),LOOKUP($B748,'INPUT '!$D$16:$D$116,'INPUT '!$F$16:$F$116),\"0\")","v":"0"},null,null,null,null,null,0,null,null,0,null,null,0,null,null,0,null,null,0,null,null,0]
[null,null,{"$f":"IF(EXACT($B749,LOOKUP($B749,'INPUT '!$D$16:$D$116)),LOOKUP($B749,'INPUT '!$D$16:$D$116,'INPUT '!$E$16:$E$116),\"0\")","v":"0"},{"$f":"IF(EXACT($B749,LOOKUP($B749,'INPUT '!$D$16:$D$116)),LOOKUP($B749,'INPUT '!$D$16:$D$116,'INPUT '!$F$16:$F$116),\"0\")","v":"0"},null,null,null,null,null,0,null,null,0,null,null,0,null,null,0,null,null,0,null,null,0]
[null,null,{"$f":"IF(EXACT($B750,LOOKUP($B750,'INPUT '!$D$16:$D$116)),LOOKUP($B750,'INPUT '!$D$16:$D$116,'INPUT '!$E$16:$E$116),\"0\")","v":"0"},{"$f":"IF(EXACT($B750,LOOKUP($B750,'INPUT '!$D$16:$D$116)),LOOKUP($B750,'INPUT '!$D$16:$D$116,'INPUT '!$F$16:$F$116),\"0\")","v":"0"},null,null,null,null,null,0,null,null,0,null,null,0,null,null,0,null,null,0,null,null,0]
[null,null,{"$f":"IF(EXACT($B751,LOOKUP($B751,'INPUT '!$D$16:$D$116)),LOOKUP($B751,'INPUT '!$D$16:$D$116,'INPUT '!$E$16:$E$116),\"0\")","v":"0"},{"$f":"IF(EXACT($B751,LOOKUP($B751,'INPUT '!$D$16:$D$116)),LOOKUP($B751,'INPUT '!$D$16:$D$116,'INPUT '!$F$16:$F$116),\"0\")","v":"0"},null,null,null,null,null,0,null,null,0,null,null,0,null,null,0,null,null,0,null,null,0]
[null,null,{"$f":"IF(EXACT($B752,LOOKUP($B752,'INPUT '!$D$16:$D$116)),LOOKUP($B752,'INPUT '!$D$16:$D$116,'INPUT '!$E$16:$E$116),\"0\")","v":"0"},{"$f":"IF(EXACT($B752,LOOKUP($B752,'INPUT '!$D$16:$D$116)),LOOKUP($B752,'INPUT '!$D$16:$D$116,'INPUT '!$F$16:$F$116),\"0\")","v":"0"},null,null,null,null,null,0,null,null,0,null,null,0,null,null,0,null,null,0,null,null,0]
[null,null,{"$f":"IF(EXACT($B753,LOOKUP($B753,'INPUT '!$D$16:$D$116)),LOOKUP($B753,'INPUT '!$D$16:$D$116,'INPUT '!$E$16:$E$116),\"0\")","v":"0"},{"$f":"IF(EXACT($B753,LOOKUP($B753,'INPUT '!$D$16:$D$116)),LOOKUP($B753,'INPUT '!$D$16:$D$116,'INPUT '!$F$16:$F$116),\"0\")","v":"0"},null,null,null,null,null,0,null,null,0,null,null,0,null,null,0,null,null,0,null,null,0]
[null,null,{"$f":"IF(EXACT($B754,LOOKUP($B754,'INPUT '!$D$16:$D$116)),LOOKUP($B754,'INPUT '!$D$16:$D$116,'INPUT '!$E$16:$E$116),\"0\")","v":"0"},{"$f":"IF(EXACT($B754,LOOKUP($B754,'INPUT '!$D$16:$D$116)),LOOKUP($B754,'INPUT '!$D$16:$D$116,'INPUT '!$F$16:$F$116),\"0\")","v":"0"},null,null,null,null,null,0,null,null,0,null,null,0,null,null,0,null,null,0,null,null,0]
[null,null,{"$f":"IF(EXACT($B755,LOOKUP($B755,'INPUT '!$D$16:$D$116)),LOOKUP($B755,'INPUT '!$D$16:$D$116,'INPUT '!$E$16:$E$116),\"0\")","v":"0"},{"$f":"IF(EXACT($B755,LOOKUP($B755,'INPUT '!$D$16:$D$116)),LOOKUP($B755,'INPUT '!$D$16:$D$116,'INPUT '!$F$16:$F$116),\"0\")","v":"0"},null,null,null,null,null,0,null,null,0,null,null,0,null,null,0,null,null,0,null,null,0]
[null,null,{"$f":"IF(EXACT($B756,LOOKUP($B756,'INPUT '!$D$16:$D$116)),LOOKUP($B756,'INPUT '!$D$16:$D$116,'INPUT '!$E$16:$E$116),\"0\")","v":"0"},{"$f":"IF(EXACT($B756,LOOKUP($B756,'INPUT '!$D$16:$D$116)),LOOKUP($B756,'INPUT '!$D$16:$D$116,'INPUT '!$F$16:$F$116),\"0\")","v":"0"},null,null,null,null,null,0,null,null,0,null,null,0,null,null,0,null,null,0,null,null,0]
[null,null,{"$f":"IF(EXACT($B757,LOOKUP($B757,'INPUT '!$D$16:$D$116)),LOOKUP($B757,'INPUT '!$D$16:$D$116,'INPUT '!$E$16:$E$116),\"0\")","v":"0"},{"$f":"IF(EXACT($B757,LOOKUP($B757,'INPUT '!$D$16:$D$116)),LOOKUP($B757,'INPUT '!$D$16:$D$116,'INPUT '!$F$16:$F$116),\"0\")","v":"0"},null,null,null,null,null,0,null,null,0,null,null,0,null,null,0,null,null,0,null,null,0]
[null,null,{"$f":"IF(EXACT($B758,LOOKUP($B758,'INPUT '!$D$16:$D$116)),LOOKUP($B758,'INPUT '!$D$16:$D$116,'INPUT '!$E$16:$E$116),\"0\")","v":"0"},{"$f":"IF(EXACT($B758,LOOKUP($B758,'INPUT '!$D$16:$D$116)),LOOKUP($B758,'INPUT '!$D$16:$D$116,'INPUT '!$F$16:$F$116),\"0\")","v":"0"},null,null,null,null,null,0,null,null,0,null,null,0,null,null,0,null,null,0,null,null,0]
[null,null,{"$f":"IF(EXACT($B759,LOOKUP($B759,'INPUT '!$D$16:$D$116)),LOOKUP($B759,'INPUT '!$D$16:$D$116,'INPUT '!$E$16:$E$116),\"0\")","v":"0"},{"$f":"IF(EXACT($B759,LOOKUP($B759,'INPUT '!$D$16:$D$116)),LOOKUP($B759,'INPUT '!$D$16:$D$116,'INPUT '!$F$16:$F$116),\"0\")","v":"0"},null,null,null,null,null,0,null,null,0,null,null,0,null,null,0,null,null,0,null,null,0]
[null,null,{"$f":"IF(EXACT($B760,LOOKUP($B760,'INPUT '!$D$16:$D$116)),LOOKUP($B760,'INPUT '!$D$16:$D$116,'INPUT '!$E$16:$E$116),\"0\")","v":"0"},{"$f":"IF(EXACT($B760,LOOKUP($B760,'INPUT '!$D$16:$D$116)),LOOKUP($B760,'INPUT '!$D$16:$D$116,'INPUT '!$F$16:$F$116),\"0\")","v":"0"},null,null,null,null,null,0,null,null,0,null,null,0,null,null,0,null,null,0,null,null,0]
[null,null,{"$f":"IF(EXACT($B761,LOOKUP($B761,'INPUT '!$D$16:$D$116)),LOOKUP($B761,'INPUT '!$D$16:$D$116,'INPUT '!$E$16:$E$116),\"0\")","v":"0"},{"$f":"IF(EXACT($B761,LOOKUP($B761,'INPUT '!$D$16:$D$116)),LOOKUP($B761,'INPUT '!$D$16:$D$116,'INPUT '!$F$16:$F$116),\"0\")","v":"0"},null,null,null,null,null,0,null,null,0,null,null,0,null,null,0,null,null,0,null,null,0]
[null,null,{"$f":"IF(EXACT($B762,LOOKUP($B762,'INPUT '!$D$16:$D$116)),LOOKUP($B762,'INPUT '!$D$16:$D$116,'INPUT '!$E$16:$E$116),\"0\")","v":"0"},{"$f":"IF(EXACT($B762,LOOKUP($B762,'INPUT '!$D$16:$D$116)),LOOKUP($B762,'INPUT '!$D$16:$D$116,'INPUT '!$F$16:$F$116),\"0\")","v":"0"},null,null,null,null,null,0,null,null,0,null,null,0,null,null,0,null,null,0,null,null,0]
[null,null,{"$f":"IF(EXACT($B763,LOOKUP($B763,'INPUT '!$D$16:$D$116)),LOOKUP($B763,'INPUT '!$D$16:$D$116,'INPUT '!$E$16:$E$116),\"0\")","v":"0"},{"$f":"IF(EXACT($B763,LOOKUP($B763,'INPUT '!$D$16:$D$116)),LOOKUP($B763,'INPUT '!$D$16:$D$116,'INPUT '!$F$16:$F$116),\"0\")","v":"0"},null,null,null,null,null,0,null,null,0,null,null,0,null,null,0,null,null,0,null,null,0]
[null,null,{"$f":"IF(EXACT($B764,LOOKUP($B764,'INPUT '!$D$16:$D$116)),LOOKUP($B764,'INPUT '!$D$16:$D$116,'INPUT '!$E$16:$E$116),\"0\")","v":"0"},{"$f":"IF(EXACT($B764,LOOKUP($B764,'INPUT '!$D$16:$D$116)),LOOKUP($B764,'INPUT '!$D$16:$D$116,'INPUT '!$F$16:$F$116),\"0\")","v":"0"},null,null,null,null,null,0,null,null,0,null,null,0,null,null,0,null,null,0,null,null,0]
[null,null,{"$f":"IF(EXACT($B765,LOOKUP($B765,'INPUT '!$D$16:$D$116)),LOOKUP($B765,'INPUT '!$D$16:$D$116,'INPUT '!$E$16:$E$116),\"0\")","v":"0"},{"$f":"IF(EXACT($B765,LOOKUP($B765,'INPUT '!$D$16:$D$116)),LOOKUP($B765,'INPUT '!$D$16:$D$116,'INPUT '!$F$16:$F$116),\"0\")","v":"0"},null,null,null,null,null,0,null,null,0,null,null,0,null,null,0,null,null,0,null,null,0]
[null,null,{"$f":"IF(EXACT($B766,LOOKUP($B766,'INPUT '!$D$16:$D$116)),LOOKUP($B766,'INPUT '!$D$16:$D$116,'INPUT '!$E$16:$E$116),\"0\")","v":"0"},{"$f":"IF(EXACT($B766,LOOKUP($B766,'INPUT '!$D$16:$D$116)),LOOKUP($B766,'INPUT '!$D$16:$D$116,'INPUT '!$F$16:$F$116),\"0\")","v":"0"},null,null,null,null,null,0,null,null,0,null,null,0,null,null,0,null,null,0,null,null,0]
[null,null,{"$f":"IF(EXACT($B767,LOOKUP($B767,'INPUT '!$D$16:$D$116)),LOOKUP($B767,'INPUT '!$D$16:$D$116,'INPUT '!$E$16:$E$116),\"0\")","v":"0"},{"$f":"IF(EXACT($B767,LOOKUP($B767,'INPUT '!$D$16:$D$116)),LOOKUP($B767,'INPUT '!$D$16:$D$116,'INPUT '!$F$16:$F$116),\"0\")","v":"0"},null,null,null,null,null,0,null,null,0,null,null,0,null,null,0,null,null,0,null,null,0]
[null,null,{"$f":"IF(EXACT($B768,LOOKUP($B768,'INPUT '!$D$16:$D$116)),LOOKUP($B768,'INPUT '!$D$16:$D$116,'INPUT '!$E$16:$E$116),\"0\")","v":"0"},{"$f":"IF(EXACT($B768,LOOKUP($B768,'INPUT '!$D$16:$D$116)),LOOKUP($B768,'INPUT '!$D$16:$D$116,'INPUT '!$F$16:$F$116),\"0\")","v":"0"},null,null,null,null,null,0,null,null,0,null,null,0,null,null,0,null,null,0,null,null,0]
[null,null,{"$f":"IF(EXACT($B769,LOOKUP($B769,'INPUT '!$D$16:$D$116)),LOOKUP($B769,'INPUT '!$D$16:$D$116,'INPUT '!$E$16:$E$116),\"0\")","v":"0"},{"$f":"IF(EXACT($B769,LOOKUP($B769,'INPUT '!$D$16:$D$116)),LOOKUP($B769,'INPUT '!$D$16:$D$116,'INPUT '!$F$16:$F$116),\"0\")","v":"0"},null,null,null,null,null,0,null,null,0,null,null,0,null,null,0,null,null,0,null,null,0]
[null,null,{"$f":"IF(EXACT($B770,LOOKUP($B770,'INPUT '!$D$16:$D$116)),LOOKUP($B770,'INPUT '!$D$16:$D$116,'INPUT '!$E$16:$E$116),\"0\")","v":"0"},{"$f":"IF(EXACT($B770,LOOKUP($B770,'INPUT '!$D$16:$D$116)),LOOKUP($B770,'INPUT '!$D$16:$D$116,'INPUT '!$F$16:$F$116),\"0\")","v":"0"},null,null,null,null,null,0,null,null,0,null,null,0,null,null,0,null,null,0,null,null,0]
[null,null,{"$f":"IF(EXACT($B771,LOOKUP($B771,'INPUT '!$D$16:$D$116)),LOOKUP($B771,'INPUT '!$D$16:$D$116,'INPUT '!$E$16:$E$116),\"0\")","v":"0"},{"$f":"IF(EXACT($B771,LOOKUP($B771,'INPUT '!$D$16:$D$116)),LOOKUP($B771,'INPUT '!$D$16:$D$116,'INPUT '!$F$16:$F$116),\"0\")","v":"0"},null,null,null,null,null,0,null,null,0,null,null,0,null,null,0,null,null,0,null,null,0]
[null,null,{"$f":"IF(EXACT($B772,LOOKUP($B772,'INPUT '!$D$16:$D$116)),LOOKUP($B772,'INPUT '!$D$16:$D$116,'INPUT '!$E$16:$E$116),\"0\")","v":"0"},{"$f":"IF(EXACT($B772,LOOKUP($B772,'INPUT '!$D$16:$D$116)),LOOKUP($B772,'INPUT '!$D$16:$D$116,'INPUT '!$F$16:$F$116),\"0\")","v":"0"},null,null,null,null,null,0,null,null,0,null,null,0,null,null,0,null,null,0,null,null,0]
[null,null,{"$f":"IF(EXACT($B773,LOOKUP($B773,'INPUT '!$D$16:$D$116)),LOOKUP($B773,'INPUT '!$D$16:$D$116,'INPUT '!$E$16:$E$116),\"0\")","v":"0"},{"$f":"IF(EXACT($B773,LOOKUP($B773,'INPUT '!$D$16:$D$116)),LOOKUP($B773,'INPUT '!$D$16:$D$116,'INPUT '!$F$16:$F$116),\"0\")","v":"0"},null,null,null,null,null,0,null,null,0,null,null,0,null,null,0,null,null,0,null,null,0]
[null,null,{"$f":"IF(EXACT($B774,LOOKUP($B774,'INPUT '!$D$16:$D$116)),LOOKUP($B774,'INPUT '!$D$16:$D$116,'INPUT '!$E$16:$E$116),\"0\")","v":"0"},{"$f":"IF(EXACT($B774,LOOKUP($B774,'INPUT '!$D$16:$D$116)),LOOKUP($B774,'INPUT '!$D$16:$D$116,'INPUT '!$F$16:$F$116),\"0\")","v":"0"},null,null,null,null,null,0,null,null,0,null,null,0,null,null,0,null,null,0,null,null,0]
[null,null,{"$f":"IF(EXACT($B775,LOOKUP($B775,'INPUT '!$D$16:$D$116)),LOOKUP($B775,'INPUT '!$D$16:$D$116,'INPUT '!$E$16:$E$116),\"0\")","v":"0"},{"$f":"IF(EXACT($B775,LOOKUP($B775,'INPUT '!$D$16:$D$116)),LOOKUP($B775,'INPUT '!$D$16:$D$116,'INPUT '!$F$16:$F$116),\"0\")","v":"0"},null,null,null,null,null,0,null,null,0,null,null,0,null,null,0,null,null,0,null,null,0]
[null,null,{"$f":"IF(EXACT($B776,LOOKUP($B776,'INPUT '!$D$16:$D$116)),LOOKUP($B776,'INPUT '!$D$16:$D$116,'INPUT '!$E$16:$E$116),\"0\")","v":"0"},{"$f":"IF(EXACT($B776,LOOKUP($B776,'INPUT '!$D$16:$D$116)),LOOKUP($B776,'INPUT '!$D$16:$D$116,'INPUT '!$F$16:$F$116),\"0\")","v":"0"},null,null,null,null,null,0,null,null,0,null,null,0,null,null,0,null,null,0,null,null,0]
[null,null,{"$f":"IF(EXACT($B777,LOOKUP($B777,'INPUT '!$D$16:$D$116)),LOOKUP($B777,'INPUT '!$D$16:$D$116,'INPUT '!$E$16:$E$116),\"0\")","v":"0"},{"$f":"IF(EXACT($B777,LOOKUP($B777,'INPUT '!$D$16:$D$116)),LOOKUP($B777,'INPUT '!$D$16:$D$116,'INPUT '!$F$16:$F$116),\"0\")","v":"0"},null,null,null,null,null,0,null,null,0,null,null,0,null,null,0,null,null,0,null,null,0]
[null,null,{"$f":"IF(EXACT($B778,LOOKUP($B778,'INPUT '!$D$16:$D$116)),LOOKUP($B778,'INPUT '!$D$16:$D$116,'INPUT '!$E$16:$E$116),\"0\")","v":"0"},{"$f":"IF(EXACT($B778,LOOKUP($B778,'INPUT '!$D$16:$D$116)),LOOKUP($B778,'INPUT '!$D$16:$D$116,'INPUT '!$F$16:$F$116),\"0\")","v":"0"},null,null,null,null,null,0,null,null,0,null,null,{"$f":"O778*C778","v":0},null,null,0,null,null,0,null,null,0]
[null,null,{"$f":"IF(EXACT($B779,LOOKUP($B779,'INPUT '!$D$16:$D$116)),LOOKUP($B779,'INPUT '!$D$16:$D$116,'INPUT '!$E$16:$E$116),\"0\")","v":"0"},{"$f":"IF(EXACT($B779,LOOKUP($B779,'INPUT '!$D$16:$D$116)),LOOKUP($B779,'INPUT '!$D$16:$D$116,'INPUT '!$F$16:$F$116),\"0\")","v":"0"},null,null,null,null,null,0,null,null,0,null,null,0,null,null,0,null,null,0,null,null,0]
[null,null,{"$f":"IF(EXACT($B780,LOOKUP($B780,'INPUT '!$D$16:$D$116)),LOOKUP($B780,'INPUT '!$D$16:$D$116,'INPUT '!$E$16:$E$116),\"0\")","v":"0"},{"$f":"IF(EXACT($B780,LOOKUP($B780,'INPUT '!$D$16:$D$116)),LOOKUP($B780,'INPUT '!$D$16:$D$116,'INPUT '!$F$16:$F$116),\"0\")","v":"0"},null,null,null,null,null,{"$f":"I780*C780","v":0},null,null,{"$f":"L780*C780","v":0},null,null,0,null,null,0,null,null,{"$f":"U780*C780","v":0},null,null,{"$f":"X780*C780","v":0}]
[null,null,{"$f":"IF(EXACT($B781,LOOKUP($B781,'INPUT '!$D$16:$D$116)),LOOKUP($B781,'INPUT '!$D$16:$D$116,'INPUT '!$E$16:$E$116),\"0\")","v":"0"},{"$f":"IF(EXACT($B781,LOOKUP($B781,'INPUT '!$D$16:$D$116)),LOOKUP($B781,'INPUT '!$D$16:$D$116,'INPUT '!$F$16:$F$116),\"0\")","v":"0"},null,null,null,null,null,0,null,null,0,null,null,0,null,null,0,null,null,0,null,null,0]
[null,null,{"$f":"IF(EXACT($B782,LOOKUP($B782,'INPUT '!$D$16:$D$116)),LOOKUP($B782,'INPUT '!$D$16:$D$116,'INPUT '!$E$16:$E$116),\"0\")","v":"0"},{"$f":"IF(EXACT($B782,LOOKUP($B782,'INPUT '!$D$16:$D$116)),LOOKUP($B782,'INPUT '!$D$16:$D$116,'INPUT '!$F$16:$F$116),\"0\")","v":"0"},null,null,null,null,null,0,null,null,0,null,null,0,null,null,0,null,null,0,null,null,0]
[null,null,{"$f":"IF(EXACT($B783,LOOKUP($B783,'INPUT '!$D$16:$D$116)),LOOKUP($B783,'INPUT '!$D$16:$D$116,'INPUT '!$E$16:$E$116),\"0\")","v":"0"},{"$f":"IF(EXACT($B783,LOOKUP($B783,'INPUT '!$D$16:$D$116)),LOOKUP($B783,'INPUT '!$D$16:$D$116,'INPUT '!$F$16:$F$116),\"0\")","v":"0"},null,null,null,null,null,0,null,null,0,null,null,0,null,null,0,null,null,0,null,null,0]
[null,null,{"$f":"IF(EXACT($B784,LOOKUP($B784,'INPUT '!$D$16:$D$116)),LOOKUP($B784,'INPUT '!$D$16:$D$116,'INPUT '!$E$16:$E$116),\"0\")","v":"0"},{"$f":"IF(EXACT($B784,LOOKUP($B784,'INPUT '!$D$16:$D$116)),LOOKUP($B784,'INPUT '!$D$16:$D$116,'INPUT '!$F$16:$F$116),\"0\")","v":"0"},null,null,null,null,null,0,null,null,0,null,null,0,null,null,0,null,null,0,null,null,0]
[null,null,{"$f":"IF(EXACT($B785,LOOKUP($B785,'INPUT '!$D$16:$D$116)),LOOKUP($B785,'INPUT '!$D$16:$D$116,'INPUT '!$E$16:$E$116),\"0\")","v":"0"},{"$f":"IF(EXACT($B785,LOOKUP($B785,'INPUT '!$D$16:$D$116)),LOOKUP($B785,'INPUT '!$D$16:$D$116,'INPUT '!$F$16:$F$116),\"0\")","v":"0"},null,null,null,null,null,0,null,null,0,null,null,0,null,null,0,null,null,0,null,null,0]
[null,null,{"$f":"IF(EXACT($B786,LOOKUP($B786,'INPUT '!$D$16:$D$116)),LOOKUP($B786,'INPUT '!$D$16:$D$116,'INPUT '!$E$16:$E$116),\"0\")","v":"0"},{"$f":"IF(EXACT($B786,LOOKUP($B786,'INPUT '!$D$16:$D$116)),LOOKUP($B786,'INPUT '!$D$16:$D$116,'INPUT '!$F$16:$F$116),\"0\")","v":"0"},null,null,null,null,null,0,null,null,0,null,null,0,null,null,0,null,null,0,null,null,0]
[null,null,{"$f":"IF(EXACT($B787,LOOKUP($B787,'INPUT '!$D$16:$D$116)),LOOKUP($B787,'INPUT '!$D$16:$D$116,'INPUT '!$E$16:$E$116),\"0\")","v":"0"},{"$f":"IF(EXACT($B787,LOOKUP($B787,'INPUT '!$D$16:$D$116)),LOOKUP($B787,'INPUT '!$D$16:$D$116,'INPUT '!$F$16:$F$116),\"0\")","v":"0"},null,null,null,null,null,0,null,null,0,null,null,0,null,null,0,null,null,0,null,null,0]
[null,null,{"$f":"IF(EXACT($B788,LOOKUP($B788,'INPUT '!$D$16:$D$116)),LOOKUP($B788,'INPUT '!$D$16:$D$116,'INPUT '!$E$16:$E$116),\"0\")","v":"0"},{"$f":"IF(EXACT($B788,LOOKUP($B788,'INPUT '!$D$16:$D$116)),LOOKUP($B788,'INPUT '!$D$16:$D$116,'INPUT '!$F$16:$F$116),\"0\")","v":"0"},null,null,null,null,null,0,null,null,0,null,null,0,null,null,0,null,null,0,null,null,0]
[null,null,{"$f":"IF(EXACT($B789,LOOKUP($B789,'INPUT '!$D$16:$D$116)),LOOKUP($B789,'INPUT '!$D$16:$D$116,'INPUT '!$E$16:$E$116),\"0\")","v":"0"},{"$f":"IF(EXACT($B789,LOOKUP($B789,'INPUT '!$D$16:$D$116)),LOOKUP($B789,'INPUT '!$D$16:$D$116,'INPUT '!$F$16:$F$116),\"0\")","v":"0"},null,null,null,null,null,0,null,null,0,null,null,0,null,null,0,null,null,0,null,null,0]
[null,null,{"$f":"IF(EXACT($B790,LOOKUP($B790,'INPUT '!$D$16:$D$116)),LOOKUP($B790,'INPUT '!$D$16:$D$116,'INPUT '!$E$16:$E$116),\"0\")","v":"0"},{"$f":"IF(EXACT($B790,LOOKUP($B790,'INPUT '!$D$16:$D$116)),LOOKUP($B790,'INPUT '!$D$16:$D$116,'INPUT '!$F$16:$F$116),\"0\")","v":"0"},null,null,null,null,null,0,null,null,0,null,null,0,null,null,0,null,null,0,null,null,0]
[null,null,{"$f":"IF(EXACT($B791,LOOKUP($B791,'INPUT '!$D$16:$D$116)),LOOKUP($B791,'INPUT '!$D$16:$D$116,'INPUT '!$E$16:$E$116),\"0\")","v":"0"},{"$f":"IF(EXACT($B791,LOOKUP($B791,'INPUT '!$D$16:$D$116)),LOOKUP($B791,'INPUT '!$D$16:$D$116,'INPUT '!$F$16:$F$116),\"0\")","v":"0"},null,null,null,null,null,0,null,null,0,null,null,0,null,null,0,null,null,0,null,null,0]
[null,null,{"$f":"IF(EXACT($B792,LOOKUP($B792,'INPUT '!$D$16:$D$116)),LOOKUP($B792,'INPUT '!$D$16:$D$116,'INPUT '!$E$16:$E$116),\"0\")","v":"0"},{"$f":"IF(EXACT($B792,LOOKUP($B792,'INPUT '!$D$16:$D$116)),LOOKUP($B792,'INPUT '!$D$16:$D$116,'INPUT '!$F$16:$F$116),\"0\")","v":"0"},null,null,null,null,null,0,null,null,0,null,null,0,null,null,{"$f":"R792*C792","v":0},null,null,0,null,null,0]
[null,null,{"$f":"IF(EXACT($B793,LOOKUP($B793,'INPUT '!$D$16:$D$116)),LOOKUP($B793,'INPUT '!$D$16:$D$116,'INPUT '!$E$16:$E$116),\"0\")","v":"0"},{"$f":"IF(EXACT($B793,LOOKUP($B793,'INPUT '!$D$16:$D$116)),LOOKUP($B793,'INPUT '!$D$16:$D$116,'INPUT '!$F$16:$F$116),\"0\")","v":"0"},null,null,null,null,null,0,null,null,0,null,null,0,null,null,0,null,null,0,null,null,0]
[null,null,{"$f":"IF(EXACT($B794,LOOKUP($B794,'INPUT '!$D$16:$D$116)),LOOKUP($B794,'INPUT '!$D$16:$D$116,'INPUT '!$E$16:$E$116),\"0\")","v":"0"},{"$f":"IF(EXACT($B794,LOOKUP($B794,'INPUT '!$D$16:$D$116)),LOOKUP($B794,'INPUT '!$D$16:$D$116,'INPUT '!$F$16:$F$116),\"0\")","v":"0"},null,null,null,null,null,0,null,null,0,null,null,0,null,null,0,null,null,0,null,null,0]
[null,null,{"$f":"IF(EXACT($B795,LOOKUP($B795,'INPUT '!$D$16:$D$116)),LOOKUP($B795,'INPUT '!$D$16:$D$116,'INPUT '!$E$16:$E$116),\"0\")","v":"0"},{"$f":"IF(EXACT($B795,LOOKUP($B795,'INPUT '!$D$16:$D$116)),LOOKUP($B795,'INPUT '!$D$16:$D$116,'INPUT '!$F$16:$F$116),\"0\")","v":"0"},null,null,null,null,null,0,null,null,0,null,null,0,null,null,0,null,null,0,null,null,0]
[null,null,{"$f":"IF(EXACT($B796,LOOKUP($B796,'INPUT '!$D$16:$D$116)),LOOKUP($B796,'INPUT '!$D$16:$D$116,'INPUT '!$E$16:$E$116),\"0\")","v":"0"},{"$f":"IF(EXACT($B796,LOOKUP($B796,'INPUT '!$D$16:$D$116)),LOOKUP($B796,'INPUT '!$D$16:$D$116,'INPUT '!$F$16:$F$116),\"0\")","v":"0"},null,null,null,null,null,0,null,null,0,null,null,0,null,null,0,null,null,0,null,null,0]
[null,null,{"$f":"IF(EXACT($B797,LOOKUP($B797,'INPUT '!$D$16:$D$116)),LOOKUP($B797,'INPUT '!$D$16:$D$116,'INPUT '!$E$16:$E$116),\"0\")","v":"0"},{"$f":"IF(EXACT($B797,LOOKUP($B797,'INPUT '!$D$16:$D$116)),LOOKUP($B797,'INPUT '!$D$16:$D$116,'INPUT '!$F$16:$F$116),\"0\")","v":"0"},null,null,null,null,null,0,null,null,0,null,null,0,null,null,0,null,null,0,null,null,0]
[null,null,{"$f":"IF(EXACT($B798,LOOKUP($B798,'INPUT '!$D$16:$D$116)),LOOKUP($B798,'INPUT '!$D$16:$D$116,'INPUT '!$E$16:$E$116),\"0\")","v":"0"},{"$f":"IF(EXACT($B798,LOOKUP($B798,'INPUT '!$D$16:$D$116)),LOOKUP($B798,'INPUT '!$D$16:$D$116,'INPUT '!$F$16:$F$116),\"0\")","v":"0"},null,null,null,null,null,0,null,null,0,null,null,0,null,null,0,null,null,0,null,null,0]
[null,null,{"$f":"IF(EXACT($B799,LOOKUP($B799,'INPUT '!$D$16:$D$116)),LOOKUP($B799,'INPUT '!$D$16:$D$116,'INPUT '!$E$16:$E$116),\"0\")","v":"0"},{"$f":"IF(EXACT($B799,LOOKUP($B799,'INPUT '!$D$16:$D$116)),LOOKUP($B799,'INPUT '!$D$16:$D$116,'INPUT '!$F$16:$F$116),\"0\")","v":"0"},null,null,null,null,null,0,null,null,0,null,null,0,null,null,0,null,null,0,null,null,0]
[null,null,{"$f":"IF(EXACT($B800,LOOKUP($B800,'INPUT '!$D$16:$D$116)),LOOKUP($B800,'INPUT '!$D$16:$D$116,'INPUT '!$E$16:$E$116),\"0\")","v":"0"},{"$f":"IF(EXACT($B800,LOOKUP($B800,'INPUT '!$D$16:$D$116)),LOOKUP($B800,'INPUT '!$D$16:$D$116,'INPUT '!$F$16:$F$116),\"0\")","v":"0"},null,null,null,null,null,0,null,null,0,null,null,0,null,null,0,null,null,0,null,null,0]
[null,null,{"$f":"IF(EXACT($B801,LOOKUP($B801,'INPUT '!$D$16:$D$116)),LOOKUP($B801,'INPUT '!$D$16:$D$116,'INPUT '!$E$16:$E$116),\"0\")","v":"0"},{"$f":"IF(EXACT($B801,LOOKUP($B801,'INPUT '!$D$16:$D$116)),LOOKUP($B801,'INPUT '!$D$16:$D$116,'INPUT '!$F$16:$F$116),\"0\")","v":"0"},null,null,null,null,null,0,null,null,0,null,null,0,null,null,0,null,null,0,null,null,0]
[null,null,{"$f":"IF(EXACT($B802,LOOKUP($B802,'INPUT '!$D$16:$D$116)),LOOKUP($B802,'INPUT '!$D$16:$D$116,'INPUT '!$E$16:$E$116),\"0\")","v":"0"},{"$f":"IF(EXACT($B802,LOOKUP($B802,'INPUT '!$D$16:$D$116)),LOOKUP($B802,'INPUT '!$D$16:$D$116,'INPUT '!$F$16:$F$116),\"0\")","v":"0"},null,null,null,null,null,0,null,null,0,null,null,0,null,null,0,null,null,0,null,null,0]
[null,null,{"$f":"IF(EXACT($B803,LOOKUP($B803,'INPUT '!$D$16:$D$116)),LOOKUP($B803,'INPUT '!$D$16:$D$116,'INPUT '!$E$16:$E$116),\"0\")","v":"0"},{"$f":"IF(EXACT($B803,LOOKUP($B803,'INPUT '!$D$16:$D$116)),LOOKUP($B803,'INPUT '!$D$16:$D$116,'INPUT '!$F$16:$F$116),\"0\")","v":"0"},null,null,null,null,null,0,null,null,0,null,null,0,null,null,0,null,null,0,null,null,0]
[null,null,{"$f":"IF(EXACT($B804,LOOKUP($B804,'INPUT '!$D$16:$D$116)),LOOKUP($B804,'INPUT '!$D$16:$D$116,'INPUT '!$E$16:$E$116),\"0\")","v":"0"},{"$f":"IF(EXACT($B804,LOOKUP($B804,'INPUT '!$D$16:$D$116)),LOOKUP($B804,'INPUT '!$D$16:$D$116,'INPUT '!$F$16:$F$116),\"0\")","v":"0"},null,null,null,null,null,0,null,null,0,null,null,0,null,null,0,null,null,0,null,null,0]
[null,null,{"$f":"IF(EXACT($B805,LOOKUP($B805,'INPUT '!$D$16:$D$116)),LOOKUP($B805,'INPUT '!$D$16:$D$116,'INPUT '!$E$16:$E$116),\"0\")","v":"0"},{"$f":"IF(EXACT($B805,LOOKUP($B805,'INPUT '!$D$16:$D$116)),LOOKUP($B805,'INPUT '!$D$16:$D$116,'INPUT '!$F$16:$F$116),\"0\")","v":"0"},null,null,null,null,null,0,null,null,0,null,null,0,null,null,0,null,null,0,null,null,0]
[null,null,{"$f":"IF(EXACT($B806,LOOKUP($B806,'INPUT '!$D$16:$D$116)),LOOKUP($B806,'INPUT '!$D$16:$D$116,'INPUT '!$E$16:$E$116),\"0\")","v":"0"},{"$f":"IF(EXACT($B806,LOOKUP($B806,'INPUT '!$D$16:$D$116)),LOOKUP($B806,'INPUT '!$D$16:$D$116,'INPUT '!$F$16:$F$116),\"0\")","v":"0"},null,null,null,null,null,0,null,null,0,null,null,0,null,null,0,null,null,0,null,null,0]
[null,null,{"$f":"IF(EXACT($B807,LOOKUP($B807,'INPUT '!$D$16:$D$116)),LOOKUP($B807,'INPUT '!$D$16:$D$116,'INPUT '!$E$16:$E$116),\"0\")","v":"0"},{"$f":"IF(EXACT($B807,LOOKUP($B807,'INPUT '!$D$16:$D$116)),LOOKUP($B807,'INPUT '!$D$16:$D$116,'INPUT '!$F$16:$F$116),\"0\")","v":"0"},null,null,null,null,null,0,null,null,0,null,null,0,null,null,0,null,null,0,null,null,0]
[null,null,{"$f":"IF(EXACT($B808,LOOKUP($B808,'INPUT '!$D$16:$D$116)),LOOKUP($B808,'INPUT '!$D$16:$D$116,'INPUT '!$E$16:$E$116),\"0\")","v":"0"},{"$f":"IF(EXACT($B808,LOOKUP($B808,'INPUT '!$D$16:$D$116)),LOOKUP($B808,'INPUT '!$D$16:$D$116,'INPUT '!$F$16:$F$116),\"0\")","v":"0"},null,null,null,null,null,0,null,null,0,null,null,0,null,null,0,null,null,0,null,null,0]
[null,null,{"$f":"IF(EXACT($B809,LOOKUP($B809,'INPUT '!$D$16:$D$116)),LOOKUP($B809,'INPUT '!$D$16:$D$116,'INPUT '!$E$16:$E$116),\"0\")","v":"0"},{"$f":"IF(EXACT($B809,LOOKUP($B809,'INPUT '!$D$16:$D$116)),LOOKUP($B809,'INPUT '!$D$16:$D$116,'INPUT '!$F$16:$F$116),\"0\")","v":"0"},null,null,null,null,null,0,null,null,0,null,null,0,null,null,0,null,null,0,null,null,0]
[null,null,{"$f":"IF(EXACT($B810,LOOKUP($B810,'INPUT '!$D$16:$D$116)),LOOKUP($B810,'INPUT '!$D$16:$D$116,'INPUT '!$E$16:$E$116),\"0\")","v":"0"},{"$f":"IF(EXACT($B810,LOOKUP($B810,'INPUT '!$D$16:$D$116)),LOOKUP($B810,'INPUT '!$D$16:$D$116,'INPUT '!$F$16:$F$116),\"0\")","v":"0"},null,null,null,null,null,0,null,null,0,null,null,0,null,null,0,null,null,0,null,null,0]
[null,null,{"$f":"IF(EXACT($B811,LOOKUP($B811,'INPUT '!$D$16:$D$116)),LOOKUP($B811,'INPUT '!$D$16:$D$116,'INPUT '!$E$16:$E$116),\"0\")","v":"0"},{"$f":"IF(EXACT($B811,LOOKUP($B811,'INPUT '!$D$16:$D$116)),LOOKUP($B811,'INPUT '!$D$16:$D$116,'INPUT '!$F$16:$F$116),\"0\")","v":"0"},null,null,null,null,null,0,null,null,0,null,null,0,null,null,0,null,null,0,null,null,0]
[null,null,{"$f":"IF(EXACT($B812,LOOKUP($B812,'INPUT '!$D$16:$D$116)),LOOKUP($B812,'INPUT '!$D$16:$D$116,'INPUT '!$E$16:$E$116),\"0\")","v":"0"},{"$f":"IF(EXACT($B812,LOOKUP($B812,'INPUT '!$D$16:$D$116)),LOOKUP($B812,'INPUT '!$D$16:$D$116,'INPUT '!$F$16:$F$116),\"0\")","v":"0"},null,null,null,null,null,0,null,null,0,null,null,0,null,null,0,null,null,0,null,null,0]
[null,null,{"$f":"IF(EXACT($B813,LOOKUP($B813,'INPUT '!$D$16:$D$116)),LOOKUP($B813,'INPUT '!$D$16:$D$116,'INPUT '!$E$16:$E$116),\"0\")","v":"0"},{"$f":"IF(EXACT($B813,LOOKUP($B813,'INPUT '!$D$16:$D$116)),LOOKUP($B813,'INPUT '!$D$16:$D$116,'INPUT '!$F$16:$F$116),\"0\")","v":"0"},null,null,null,null,null,0,null,null,0,null,null,0,null,null,0,null,null,0,null,null,0]
[null,null,{"$f":"IF(EXACT($B814,LOOKUP($B814,'INPUT '!$D$16:$D$116)),LOOKUP($B814,'INPUT '!$D$16:$D$116,'INPUT '!$E$16:$E$116),\"0\")","v":"0"},{"$f":"IF(EXACT($B814,LOOKUP($B814,'INPUT '!$D$16:$D$116)),LOOKUP($B814,'INPUT '!$D$16:$D$116,'INPUT '!$F$16:$F$116),\"0\")","v":"0"},null,null,null,null,null,0,null,null,0,null,null,0,null,null,0,null,null,0,null,null,0]
[null,null,{"$f":"IF(EXACT($B815,LOOKUP($B815,'INPUT '!$D$16:$D$116)),LOOKUP($B815,'INPUT '!$D$16:$D$116,'INPUT '!$E$16:$E$116),\"0\")","v":"0"},{"$f":"IF(EXACT($B815,LOOKUP($B815,'INPUT '!$D$16:$D$116)),LOOKUP($B815,'INPUT '!$D$16:$D$116,'INPUT '!$F$16:$F$116),\"0\")","v":"0"},null,null,null,null,null,0,null,null,0,null,null,0,null,null,0,null,null,0,null,null,0]
[null,null,{"$f":"IF(EXACT($B816,LOOKUP($B816,'INPUT '!$D$16:$D$116)),LOOKUP($B816,'INPUT '!$D$16:$D$116,'INPUT '!$E$16:$E$116),\"0\")","v":"0"},{"$f":"IF(EXACT($B816,LOOKUP($B816,'INPUT '!$D$16:$D$116)),LOOKUP($B816,'INPUT '!$D$16:$D$116,'INPUT '!$F$16:$F$116),\"0\")","v":"0"},null,null,null,null,null,0,null,null,0,null,null,0,null,null,0,null,null,0,null,null,0]
[null,null,{"$f":"IF(EXACT($B817,LOOKUP($B817,'INPUT '!$D$16:$D$116)),LOOKUP($B817,'INPUT '!$D$16:$D$116,'INPUT '!$E$16:$E$116),\"0\")","v":"0"},{"$f":"IF(EXACT($B817,LOOKUP($B817,'INPUT '!$D$16:$D$116)),LOOKUP($B817,'INPUT '!$D$16:$D$116,'INPUT '!$F$16:$F$116),\"0\")","v":"0"},null,null,null,null,null,0,null,null,0,null,null,0,null,null,0,null,null,0,null,null,0]
[null,null,{"$f":"IF(EXACT($B818,LOOKUP($B818,'INPUT '!$D$16:$D$116)),LOOKUP($B818,'INPUT '!$D$16:$D$116,'INPUT '!$E$16:$E$116),\"0\")","v":"0"},{"$f":"IF(EXACT($B818,LOOKUP($B818,'INPUT '!$D$16:$D$116)),LOOKUP($B818,'INPUT '!$D$16:$D$116,'INPUT '!$F$16:$F$116),\"0\")","v":"0"},null,null,null,null,null,0,null,null,0,null,null,0,null,null,0,null,null,0,null,null,0]
[null,null,{"$f":"IF(EXACT($B819,LOOKUP($B819,'INPUT '!$D$16:$D$116)),LOOKUP($B819,'INPUT '!$D$16:$D$116,'INPUT '!$E$16:$E$116),\"0\")","v":"0"},{"$f":"IF(EXACT($B819,LOOKUP($B819,'INPUT '!$D$16:$D$116)),LOOKUP($B819,'INPUT '!$D$16:$D$116,'INPUT '!$F$16:$F$116),\"0\")","v":"0"},null,null,null,null,null,0,null,null,0,null,null,0,null,null,0,null,null,0,null,null,0]
[null,null,{"$f":"IF(EXACT($B820,LOOKUP($B820,'INPUT '!$D$16:$D$116)),LOOKUP($B820,'INPUT '!$D$16:$D$116,'INPUT '!$E$16:$E$116),\"0\")","v":"0"},{"$f":"IF(EXACT($B820,LOOKUP($B820,'INPUT '!$D$16:$D$116)),LOOKUP($B820,'INPUT '!$D$16:$D$116,'INPUT '!$F$16:$F$116),\"0\")","v":"0"},null,null,null,null,null,0,null,null,0,null,null,0,null,null,0,null,null,0,null,null,0]
[null,null,{"$f":"IF(EXACT($B821,LOOKUP($B821,'INPUT '!$D$16:$D$116)),LOOKUP($B821,'INPUT '!$D$16:$D$116,'INPUT '!$E$16:$E$116),\"0\")","v":"0"},{"$f":"IF(EXACT($B821,LOOKUP($B821,'INPUT '!$D$16:$D$116)),LOOKUP($B821,'INPUT '!$D$16:$D$116,'INPUT '!$F$16:$F$116),\"0\")","v":"0"},null,null,null,null,null,0,null,null,0,null,null,0,null,null,0,null,null,0,null,null,0]
[null,null,{"$f":"IF(EXACT($B822,LOOKUP($B822,'INPUT '!$D$16:$D$116)),LOOKUP($B822,'INPUT '!$D$16:$D$116,'INPUT '!$E$16:$E$116),\"0\")","v":"0"},{"$f":"IF(EXACT($B822,LOOKUP($B822,'INPUT '!$D$16:$D$116)),LOOKUP($B822,'INPUT '!$D$16:$D$116,'INPUT '!$F$16:$F$116),\"0\")","v":"0"},null,null,null,null,null,0,null,null,0,null,null,0,null,null,0,null,null,0,null,null,0]
[null,null,{"$f":"IF(EXACT($B823,LOOKUP($B823,'INPUT '!$D$16:$D$116)),LOOKUP($B823,'INPUT '!$D$16:$D$116,'INPUT '!$E$16:$E$116),\"0\")","v":"0"},{"$f":"IF(EXACT($B823,LOOKUP($B823,'INPUT '!$D$16:$D$116)),LOOKUP($B823,'INPUT '!$D$16:$D$116,'INPUT '!$F$16:$F$116),\"0\")","v":"0"},null,null,null,null,null,0,null,null,0,null,null,0,null,null,0,null,null,0,null,null,0]
[null,null,{"$f":"IF(EXACT($B824,LOOKUP($B824,'INPUT '!$D$16:$D$116)),LOOKUP($B824,'INPUT '!$D$16:$D$116,'INPUT '!$E$16:$E$116),\"0\")","v":"0"},{"$f":"IF(EXACT($B824,LOOKUP($B824,'INPUT '!$D$16:$D$116)),LOOKUP($B824,'INPUT '!$D$16:$D$116,'INPUT '!$F$16:$F$116),\"0\")","v":"0"},null,null,null,null,null,0,null,null,0,null,null,0,null,null,0,null,null,0,null,null,0]
[null,null,{"$f":"IF(EXACT($B825,LOOKUP($B825,'INPUT '!$D$16:$D$116)),LOOKUP($B825,'INPUT '!$D$16:$D$116,'INPUT '!$E$16:$E$116),\"0\")","v":"0"},{"$f":"IF(EXACT($B825,LOOKUP($B825,'INPUT '!$D$16:$D$116)),LOOKUP($B825,'INPUT '!$D$16:$D$116,'INPUT '!$F$16:$F$116),\"0\")","v":"0"},null,null,null,null,null,0,null,null,0,null,null,0,null,null,0,null,null,0,null,null,0]
[null,null,{"$f":"IF(EXACT($B826,LOOKUP($B826,'INPUT '!$D$16:$D$116)),LOOKUP($B826,'INPUT '!$D$16:$D$116,'INPUT '!$E$16:$E$116),\"0\")","v":"0"},{"$f":"IF(EXACT($B826,LOOKUP($B826,'INPUT '!$D$16:$D$116)),LOOKUP($B826,'INPUT '!$D$16:$D$116,'INPUT '!$F$16:$F$116),\"0\")","v":"0"},null,null,null,null,null,0,null,null,0,null,null,0,null,null,0,null,null,0,null,null,0]
[null,null,{"$f":"IF(EXACT($B827,LOOKUP($B827,'INPUT '!$D$16:$D$116)),LOOKUP($B827,'INPUT '!$D$16:$D$116,'INPUT '!$E$16:$E$116),\"0\")","v":"0"},{"$f":"IF(EXACT($B827,LOOKUP($B827,'INPUT '!$D$16:$D$116)),LOOKUP($B827,'INPUT '!$D$16:$D$116,'INPUT '!$F$16:$F$116),\"0\")","v":"0"},null,null,null,null,null,0,null,null,0,null,null,0,null,null,0,null,null,0,null,null,0]
[null,null,{"$f":"IF(EXACT($B828,LOOKUP($B828,'INPUT '!$D$16:$D$116)),LOOKUP($B828,'INPUT '!$D$16:$D$116,'INPUT '!$E$16:$E$116),\"0\")","v":"0"},{"$f":"IF(EXACT($B828,LOOKUP($B828,'INPUT '!$D$16:$D$116)),LOOKUP($B828,'INPUT '!$D$16:$D$116,'INPUT '!$F$16:$F$116),\"0\")","v":"0"},null,null,null,null,null,0,null,null,0,null,null,0,null,null,0,null,null,0,null,null,0]
[null,null,{"$f":"IF(EXACT($B829,LOOKUP($B829,'INPUT '!$D$16:$D$116)),LOOKUP($B829,'INPUT '!$D$16:$D$116,'INPUT '!$E$16:$E$116),\"0\")","v":"0"},{"$f":"IF(EXACT($B829,LOOKUP($B829,'INPUT '!$D$16:$D$116)),LOOKUP($B829,'INPUT '!$D$16:$D$116,'INPUT '!$F$16:$F$116),\"0\")","v":"0"},null,null,null,null,null,0,null,null,0,null,null,0,null,null,0,null,null,0,null,null,0]
[null,null,{"$f":"IF(EXACT($B830,LOOKUP($B830,'INPUT '!$D$16:$D$116)),LOOKUP($B830,'INPUT '!$D$16:$D$116,'INPUT '!$E$16:$E$116),\"0\")","v":"0"},{"$f":"IF(EXACT($B830,LOOKUP($B830,'INPUT '!$D$16:$D$116)),LOOKUP($B830,'INPUT '!$D$16:$D$116,'INPUT '!$F$16:$F$116),\"0\")","v":"0"},null,null,null,null,null,0,null,null,0,null,null,0,null,null,0,null,null,0,null,null,0]
[null,null,{"$f":"IF(EXACT($B831,LOOKUP($B831,'INPUT '!$D$16:$D$116)),LOOKUP($B831,'INPUT '!$D$16:$D$116,'INPUT '!$E$16:$E$116),\"0\")","v":"0"},{"$f":"IF(EXACT($B831,LOOKUP($B831,'INPUT '!$D$16:$D$116)),LOOKUP($B831,'INPUT '!$D$16:$D$116,'INPUT '!$F$16:$F$116),\"0\")","v":"0"},null,null,null,null,null,0,null,null,0,null,null,0,null,null,0,null,null,0,null,null,0]
[null,null,{"$f":"IF(EXACT($B832,LOOKUP($B832,'INPUT '!$D$16:$D$116)),LOOKUP($B832,'INPUT '!$D$16:$D$116,'INPUT '!$E$16:$E$116),\"0\")","v":"0"},{"$f":"IF(EXACT($B832,LOOKUP($B832,'INPUT '!$D$16:$D$116)),LOOKUP($B832,'INPUT '!$D$16:$D$116,'INPUT '!$F$16:$F$116),\"0\")","v":"0"},null,null,null,null,null,0,null,null,0,null,null,0,null,null,0,null,null,0,null,null,0]
[null,null,{"$f":"IF(EXACT($B833,LOOKUP($B833,'INPUT '!$D$16:$D$116)),LOOKUP($B833,'INPUT '!$D$16:$D$116,'INPUT '!$E$16:$E$116),\"0\")","v":"0"},{"$f":"IF(EXACT($B833,LOOKUP($B833,'INPUT '!$D$16:$D$116)),LOOKUP($B833,'INPUT '!$D$16:$D$116,'INPUT '!$F$16:$F$116),\"0\")","v":"0"},null,null,null,null,null,0,null,null,0,null,null,0,null,null,0,null,null,0,null,null,0]
[null,null,{"$f":"IF(EXACT($B834,LOOKUP($B834,'INPUT '!$D$16:$D$116)),LOOKUP($B834,'INPUT '!$D$16:$D$116,'INPUT '!$E$16:$E$116),\"0\")","v":"0"},{"$f":"IF(EXACT($B834,LOOKUP($B834,'INPUT '!$D$16:$D$116)),LOOKUP($B834,'INPUT '!$D$16:$D$116,'INPUT '!$F$16:$F$116),\"0\")","v":"0"},null,null,null,null,null,0,null,null,0,null,null,0,null,null,0,null,null,0,null,null,0]
[null,null,{"$f":"IF(EXACT($B835,LOOKUP($B835,'INPUT '!$D$16:$D$116)),LOOKUP($B835,'INPUT '!$D$16:$D$116,'INPUT '!$E$16:$E$116),\"0\")","v":"0"},{"$f":"IF(EXACT($B835,LOOKUP($B835,'INPUT '!$D$16:$D$116)),LOOKUP($B835,'INPUT '!$D$16:$D$116,'INPUT '!$F$16:$F$116),\"0\")","v":"0"},null,null,null,null,null,0,null,null,0,null,null,0,null,null,0,null,null,0,null,null,0]
[null,null,{"$f":"IF(EXACT($B836,LOOKUP($B836,'INPUT '!$D$16:$D$116)),LOOKUP($B836,'INPUT '!$D$16:$D$116,'INPUT '!$E$16:$E$116),\"0\")","v":"0"},{"$f":"IF(EXACT($B836,LOOKUP($B836,'INPUT '!$D$16:$D$116)),LOOKUP($B836,'INPUT '!$D$16:$D$116,'INPUT '!$F$16:$F$116),\"0\")","v":"0"},null,null,null,null,null,0,null,null,0,null,null,0,null,null,0,null,null,0,null,null,0]
[null,null,{"$f":"IF(EXACT($B837,LOOKUP($B837,'INPUT '!$D$16:$D$116)),LOOKUP($B837,'INPUT '!$D$16:$D$116,'INPUT '!$E$16:$E$116),\"0\")","v":"0"},{"$f":"IF(EXACT($B837,LOOKUP($B837,'INPUT '!$D$16:$D$116)),LOOKUP($B837,'INPUT '!$D$16:$D$116,'INPUT '!$F$16:$F$116),\"0\")","v":"0"},null,null,null,null,null,0,null,null,0,null,null,0,null,null,0,null,null,0,null,null,0]

{"sheet":"Releaser list ","index":4,"n_rows":5946,"n_cols":5,"rows_kept":5946,"cut":false,"hidden":true,"merged":[]}
["Customer","SLOC","Name","City","Cty"]
[211000325,1000,"VOLVO BUS WROCLAW","WROCLAW","PL"]
[211001492,1002,"VOLVO PARTS WROCLAW","WROCLAW","PL"]
[211003536,1003,"RENAULT TRUCKS BLAINVILLE","Blainville-sur-Orne","FR"]
[211001626,1004,"Lundgrens Askim","ASKIM","SE"]
[211001572,1005,"PMC Hyd Askim","ASKIM","SE"]
[211007383,1006,"DBK David+Baader Gmbh","Rülzheim","DE"]
[211008335,1007,"KUMWOO ENG CO.,LTD","JINJU","KR"]
[211005452,1008,"Embtec AB","Stenkullen","SE"]
[211005267,1009,"Ferrero S.P.A","Casalgrasso","IT"]
[211001486,1012,"VOLVO PARTS VENISSIEUX","Vénissieux","FR"]
[211900256,1013,"Volvo Parts Gent","OOSTAKKER","BE"]
[211002540,1014,"DECCAN BANGARAPE","BANGARAPET","IN"]
[211002564,1015,"Sakthi Auto Component Limited","ERODE","IN"]
[211004378,1016,"Donaldson Do Brasil Equip","Atibaia","BR"]
[211005698,1017,"Horton Inc","Britton","US"]
[211004491,1019,"Volvo Equipamentos De Construção","Pederneiras, Sp","BR"]
[211001382,1020,"VOLVO TRUCKS TUVE PROD","Göteborg","SE"]
[211004421,1021,"Volvo Do Brasil Production","Curitiba-Pr","BR"]
[211900186,1022,"Volvo Bussar Ab","Borås","SE"]
[211000027,1024,"VOLVO TRUCKS NEW RIVER VALLEY","DUBLIN","US"]
[211000016,1025,"VOLVO TRUCKS UMEÅ","UMEÅ","SE"]
[211005455,1026,"VOLVO BUS SÄFFLE","Säffle","SE"]
[211000312,1027,"VOLVO TRUCKS GENT","GENT-OOSTAKKER","BE"]
[211001296,1028,"VCE ESKILSTUNA","ESKILSTUNA","SE"]
[211000054,1029,"VCE HALLSBERG CAB DIV","Hallsberg","SE"]
[211005699,1031,"Triple Cities Mack Parts","Pittston","US"]
[211005700,1032,"Diemer Diesel Service","Batesville","US"]
[211005701,1033,"M A Caribbean Corporation","Caguas, Pr","US"]
[211005702,1034,"Gulf Coast Truck & Equip","Mobile","US"]
[211005703,1035,"Rees Truck & Trailer Inc","Lawton","US"]
[211005704,1036,"Stang Sales & Service Com","Menominee","US"]
[211005705,1037,"Performance Truck-Lufkin","Lufkin","US"]
[211005706,1038,"Tucker'S Truck Inc Fordyc","Fordyce","US"]
[211005707,1039,"French-Ellison Trk Ctr Lt","Laredo","US"]
[211005708,1040,"Bruckner Truck Sales","Dallas","US"]
[211005709,1041,"Kearny Mesa Truck Center","San Diego","US"]
[211005710,1042,"Tec La Mirada","La Mirada","US"]
[211005711,1043,"Mack Trucks Inc Tm Yard","Macungie","US"]
[211004409,1044,"Dex Pecas E Componentes P","Curitiba","BR"]
[211004464,1045,"Stema Ind. E Com. Ltda","Jau","BR"]
[211004528,1046,"Kondor Ind Mecanica Ltda.","Sao Paulo","BR"]
[211004517,1047,"Gage Do Brasil Ltda","Maua","BR"]
[211004463,1048,"Wiest S.A","Jaragua Do Sul,","BR"]
[211004525,1049,"Mvc Componentes Plasticos","São Jose Dos Pinhais","BR"]
[211004544,1050,"Zf Do Brasil Sa","Sorocaba","BR"]
[211004372,1051,"Moltec Molas De Precisao","Araucaria","BR"]
[211004488,1052,"Bruning Tecnometal Ltda.","Panambi-Rs","BR"]
[211004393,1053,"Robert Bosch Ltda.","Campinas-Sp","BR"]
[211004458,1054,"Schrader Bridgeport Brasi","Jacarei - Sp.","BR"]
[211004483,1055,"Alka3 Industria De Autope","Osasco","BR"]
[211004470,1056,"Neumayer","Jundiai","BR"]
[211004509,1057,"Coml E Indl Auto Pecas Ci","S.Caetano Sul - Sp","BR"]
[211004432,1058,"Dana S.A.Industria Ltda","Diadema-Sp","BR"]
[211004479,1059,"Tecnocurva Ind.Pecas Auto","Mogi Das Cruzes","BR"]
[211004457,1060,"Industrias Mangotex Ltda.","Itu-Sp","BR"]
[211004443,1061,"Vdo Do Brasil Medidores","Guarulhos-Sp","BR"]
[211004545,1062,"Johnson Controls Ps Do Br","Sorocaba","BR"]
[211004486,1063,"Meritor Do Brasil Ltda.","Osasco-Sp","BR"]
[211004448,1064,"Filtros Mann Ltda.","Indaiatuba-Sp","BR"]
[211900033,1065,"Sachs Automotive Ltda.","S.B.Do Campo-Sp","BR"]
[211004516,1066,"Rassini-Nhk Autopecas Ltd","Sao Ber Do Camp","BR"]
[211004540,1067,"Thyssen Group Hoesch","Sao Paulo-Sp","BR"]
[211004386,1068,"Teksid Do Brasil Ltda.","Betim-Mg","BR"]
[211004510,1069,"Magius Metalurgica Indust","S.Jose Pinhais - Pr","BR"]
[211004422,1070,"Robert Bosch Ltda.","Curitiba-Pr","BR"]
[211004529,1071,"Torcomp Usinagem E Compon","Sao Paulo","BR"]
[211004438,1072,"Dana Industrias Ltda","Gravatai","BR"]
[211004410,1073,"Ibratec Ind. Bras. Art.","Curitiba","BR"]
[211004473,1074,"Hellerman Do Brasil Ind.C","Jundiai  -Sp","BR"]
[211000352,1075,"MAQUINAS AGRICOLAS","POMPEIA","BR"]
[211004474,1076,"Sifco Sa","Jundiai-Sp","BR"]
[211004553,1077,"Wabco Do Brasil Ind E Com","Sumare","BR"]
[211004424,1078,"Freudenberg Componentes","Diadema","BR"]
[211004530,1079,"Delga Industria E Com S/A","Sao Paulo","BR"]
[211004431,1081,"Toro Ind Com","Diadema - Sp","BR"]
[211004536,1082,"Imi Norgren Herion Ltda/F","Sao Paulo - Sp","BR"]
[211004538,1083,"Voith Turbo Automotive Lt","Sao Paulo  - Sp","BR"]
[211004408,1084,"Lalberti Industria Mecan","Colombo-Pr","BR"]
[211004391,1085,"Pilkington Brasil Ltda.","Cacapava Sp","BR"]
[211004518,1086,"Basf Sa","São Bernardo Do Campo","BR"]
[211004439,1087,"Thermoglass Ind.Com.Ltda","Guarulhos","BR"]
[211004472,1088,"Plascar Ind. De Comp Plás","Jundiaí","BR"]
[211004411,1089,"Denso Do Brasil","Curitiba","BR"]
[211004475,1090,"Alpino Industria Metalurg","Jundiai-Sp","BR"]
[211004425,1091,"Isringhausen Industrial","Diadema","BR"]
[211906179,1092,"Henkel","Jundiai","BR"]
[211004380,1094,"Du Pont Do Brasil S.A.","Barra Mansa-Rj","BR"]
[211004377,1095,"Mahle Behr","Aruja","BR"]
[211000351,1096,"SCHULZ S.A.","Joinville, SC","BR"]
[211004401,1097,"Jost Brasil Sistemas Auto","Caxias Do Sul","BR"]
[211004507,1098,"Mahle Metal Leve","S.B.Do Campo-Sp","BR"]
[211004521,1099,"Eaton Ltda","Sao Jose Dos Campos","BR"]
[211900034,1100,"Tkm Indústria De Artefato","Diadema-Sp","BR"]
[211004539,1101,"Refal Ind.E Com.De Rebite","Sao Paulo - Sp","BR"]
[211004412,1102,"Pk Cables Do Brasil Ind","Curitiba","BR"]
[211004413,1104,"Vexilom Emblemas Tecnicos","Curitiba","BR"]
[211004559,1105,"Plascar Ind De Comp Plást","Varginha","BR"]
[211004440,1106,"Lepe Industria E Comercio","Guarulhos","BR"]
[211004508,1107,"Tecnoperfil Taurus Ltda","Sao Bernardo do Campo","BR"]
[211004427,1108,"Resil Ind E Com","Diadema","BR"]
[211004444,1109,"Cummins Brasil Ltda.- Hol","Guarulhos-Sp","BR"]
[211004541,1110,"Valeo Sistemas Automot.Lt","Sao Paulo-Sp","BR"]
[211004406,1111,"Fras-Le S.A.","Caxias Do Sul - Rs","BR"]
[211004505,1112,"Rieter Ello Artf.Fib.Tex.","S.B. Do Campo - Sp","BR"]
[211004519,1113,"Luksnova S.As. Industria","Sao Bernardo Do","BR"]
[211004542,1114,"Knorr Bremse Sistemas,Bra","Sao Paulo-Sp","BR"]
[211004480,1115,"Mahle Metal Leve Ltda","Mogi-Guacu-Sp","BR"]
[211004434,1116,"Fagor Ederlan Brasileira","Extrema, Mg","BR"]
[211004428,1117,"Tirreno Ind E Com Prod Qu","Diadema","BR"]
[211004441,1118,"Honeywell Indústria Autom","Guarulhos","BR"]
[211004396,1119,"Thyssenkrupp Metalurgica","Campo Limpo Pau","BR"]
[211004462,1120,"Wiest Sa","Jaragua Do Sul","BR"]
[211004465,1121,"Metalurgica Wetzel Sa","Joinville","BR"]
[211004554,1122,"Cinpal Cia Indl De Peças","Taboao Da Serra","BR"]
[211004376,1123,"Hubner Ind Mecanica Ltda","Araucaria, Pr","BR"]
[211004384,1124,"Farina Componentes Automo","Bento Goncalves","BR"]
[211900036,1125,"Parker Hannifing Ind.Com","São José Dos Ca","BR"]
[211004447,1126,"Metalurgica Hassmann Sa","Imigrante","BR"]
[211004402,1127,"Master Sistemas Automotiv","Caxias Do Sul","BR"]
[211004551,1128,"Lang Mekra Do Brasil Ltda","Sorocaba- Sp","BR"]
[211004549,1129,"Robert Bosch Direção Autom.","Sorocaba  -  Sp","BR"]
[211004481,1130,"Martinrea Honsel Brasil","Monte Mor","BR"]
[211004371,1131,"Sachs Autom.Brasil Ltda.","Araraquara - Sp","BR"]
[211004452,1132,"Stabilus Ltda","Itajuba - Mg","BR"]
[211004449,1133,"Progeral Ind De Art Plast","Ipero","BR"]
[211004471,1134,"Kongsberg Automotive","Jundiai","BR"]
[211004550,1135,"Lemforder Do Brasil Ltda.","Sorocaba - Sp.","BR"]
[211004487,1136,"Cidade Clima De Pal. Com","Palmeira","BR"]
[211004375,1137,"Starsprings Do Brasil Ltd","Araucaria - Pr.","BR"]
[211004522,1138,"Prolind Industrial Ltda","Sao Jose Dos Ca","BR"]
[211001285,1139,"Hydro Extrusion Sweden AB","VETLANDA","SE"]
[211004537,1140,"Sabo Sistemas Automotivos","São Paulo  -  S","BR"]
[211005456,1141,"Volvo Penta Dealers Swede","","SE"]
[211005107,1142,"Volvo Penta Dealers Franc","","FR"]
[211005642,1145,"Volvo Penta Dealers Slova SKXX","","SK"]
[211005223,1148,"Volvo Penta Dealers Hunga","","HU"]
[211004561,1149,"Volvo Penta Dealers Austr","Austria","AT"]
[211004562,1150,"Volvo Penta Dealers Spain","Spain","AT"]
[211004414,1151,"Embrart","Curitiba","BR"]
[211004382,1152,"JHD Componentes Mecanicos","Bauru","BR"]
[211004489,1153,"Ind Com Maq.E Equip.Pedro","Pederneiras","BR"]
[211004383,1154,"Ind. Tudor Sp De Baterias","Bauru","BR"]
[211004496,1155,"Requiph Ind.Com.Equip.Hid","Piracicaba - Sp","BR"]
[211004370,1156,"Tecnoroad Rodas Pneus Lt","Americana","BR"]
[211004556,1157,"Resfri Ar Climat Equip","Vacaria","BR"]
[211004531,1158,"Metokote Brasil Ltda","Sao Paulo","BR"]
[211004552,1159,"Metalac S.A.Ind.E Comerci","Sorocaba-Sp","BR"]
[211004403,1160,"Randon S.A. Implementos E","Caxias Do Sul","BR"]
[211004557,1161,"Eaton Ltda","Valinhos","BR"]
[211004398,1162,"International Ind Automot","Canoas","BR"]
[211004392,1163,"Ab Sistemas De Freios","Campinas, Sp","BR"]
[211004415,1164,"Fontaine","Curitiba","BR"]
[211004532,1166,"International Indústria","Sao Paulo","BR"]
[211004546,1167,"Schaeffler Brasil Ltda","Sorocaba","BR"]
[211004469,1169,"Daytec Ltda","Juatuba - Mg","BR"]
[211004381,1170,"Melco Automotive Do Brasi","Barueri - Sp","BR"]
[211004407,1171,"Betenheuserömontanini Ltd","Colombo - Pr.","BR"]
[211004543,1172,"Ask Do Brasil Ltda","Sete Lagoas","BR"]
[211004547,1173,"Dana Industrias Ltda","Sorocaba","BR"]
[211004369,1175,"Quantum Ind. E Com. De Eq","Alm. Tamandaré ","BR"]
[211004429,1177,"Truck Bus BRDID 117","Diadema","BR"]
[211004405,1178,"Dambroz Ind. Mec. E Matal","Caxias Do Sul,","BR"]
[211004527,1179,"Aksys Do Brasil Ltda","São Jose Dos Pinhais","BR"]
[211004513,1180,"Trw Automotive Ltda","Santo Andre","BR"]
[211004494,1181,"Elring Klinger Do Brasil","Piracicaba","BR"]
[211004451,1182,"Mahle Metal Leve S/A","Itajuba","BR"]
[211004482,1183,"Kspg Automotive Brasil","Nova Odessa  Sp","BR"]
[211004533,1184,"Tecnotubo Ind Peças Tubul","Sao Paulo","BR"]
[211004442,1185,"Eaton Divisão Ghd","Guarulhos - Sp","BR"]
[211004478,1186,"Mocdrol Hidraulica Ltda","Mococa","BR"]
[211004461,1188,"Ind Brasileira Componente","Jaguariuna  Sp","BR"]
[211004476,1189,"Ccs Tecnologia E Servicos","Limeira","BR"]
[211004490,1190,"Pedertractor, Ind.E Com.D","Pederneiras","BR"]
[211004515,1191,"Fundimisa Fundição Usinag","Santo Angelo","BR"]
[211004548,1192,"Manuli Hidraulica Brasil","Sorocaba","BR"]
[211004495,1193,"Rkm Equip Hidraulicos Lt","Piracicaba","BR"]
[211004388,1194,"Ethos Industrial Ltda.","Boituva, Sp","BR"]
[211004436,1195,"Dini Textil In","Ferraz De Vasco","BR"]
[211004390,1196,"V. S. De Lima & Cia Ltda","Bragança Paulis","BR"]
[211004455,1197,"Maxbolt Ind. E Com. De Me","Itupeva","BR"]
[211004555,1198,"Autoneum Brasil Texteis","Taubate, Sp","BR"]
[211004456,1199,"Fomeco Do Brasil Ind. Met","Itupeva, Sp","BR"]
[211004395,1200,"Metalsa Brasil Ind Com Au","Campo Largo  Pr","BR"]
[211004477,1201,"Pro-Metal Industrial Ltda","Limeira","BR"]
[211004497,1202,"Obenaus Ind E Com De Mola","Pomerode","BR"]
[211004450,1203,"Yazaki Do Brasil Ltda","Irati","BR"]
[211004399,1205,"Maxiforja Componentes Aut","Canoas","BR"]
[211004394,1206,"Pk Cables Brazil","Campo Alegre, S","BR"]
[211004460,1207,"Titanx Refrigeração De Mo","Jaguariuna","BR"]
[211004373,1208,"Leax Do Brasil Ltda","Araucaria","BR"]
[211004512,1209,"MGI Coutier","Jundiaí","BR"]
[211004466,1210,"Tupy S.A","Joinville","BR"]
[211004416,1211,"Kimadeiras Industria Come","Curitiba","BR"]
[211004374,1212,"Chevron Brasil Lubrifican","Araucaria","BR"]
[211004520,1213,"Manserv - Montagem E Man","Sao Caetano Do","BR"]
[211004430,1215,"Elanders Artcopy Rep De","Diadema","BR"]
[211004397,1216,"Soluemba Embalagens Indus","Campo Magro, Pr","BR"]
[211004417,1217,"Bras Onda Papelao Ondulad","Curitiba","BR"]
[211004468,1219,"Wetzel S.A - Divisao Ferr","Joinville, Sc","BR"]
[211004523,1222,"Haldex Do Brasil Ind. E C","São José Dos Ca","BR"]
[211004485,1223,"Nekarth Ind.De Pecas E Ma","Osasco, Sp","BR"]
[211004446,1224,"Thyssenkrupp Bilstein","Ibirite, Mg","BR"]
[211004501,1225,"Painco Indústria E Comérc","Rio Das Pedras,","BR"]
[211004368,1226,"Rotomixbrasil Indústria E","Agudos","BR"]
[211004499,1228,"Hubner Componentes E Sist","Ponta Grossa","BR"]
[211004535,1229,"Croma Revestimentos Tecni","São Paulo","BR"]
[211004437,1231,"Whb Fundição S.A","Glória Do Goitá","BR"]
[211004445,1232,"Reale Industria E Comerci","Hortolandia","BR"]
[211004511,1233,"Sulbras Moldes E Plastico","Salto","BR"]
[211001313,1234,"Gnotec Reftele Ab","Reftele","SE"]
[211004453,1237,"Veyance Technologies Bras","Itapevi","BR"]
[211004435,1238,"Isringhausen Industrial","Fazenda Rio Grande","BR"]
[211004389,1239,"Verzino Industrial Ltda","Braganca Paulis","BR"]
[211006977,1241,"Metalurgica Gerarduzzi","Caracas","VE"]
[211004379,1243,"Italtractor Landroni Ltda","Atibaia, Sp","BR"]
[211004467,1244,"Granaco Fundicao Ltda","Joinville","BR"]
[211004500,1246,"Benteler Sist Automotivos","Porto Real    R","BR"]
[211004420,1247,"Whb Fundicao S.A","Curitiba","BR"]
[211001350,1248,"Chr Berner Mölnl","Mölnlycke","SE"]
[211004498,1249,"Bosch Rexroth Ltda","Pomerode","BR"]
[211004387,1250,"Electro Aco Altona S A","Blumenau","BR"]
[211001370,1253,"Havd Group Mdal","Mölndal ","SE"]
[211005458,1254,"Anders Bard Träprodukter","Broaryd","SE"]
[211005712,1256,"Aring Equipment Company","Butler","US"]
[211005713,1257,"Aring Equipment Company","Madison","US"]
[211005714,1258,"Aring Equipment Company","Eau Claire","US"]
[211005715,1259,"Aring Equipment Company","De Pere","US"]
[211005716,1261,"Associated Supply Company","Lubbock","US"]
[211005717,1262,"Associated Supply Company","Odessa","US"]
[211005718,1263,"Associated Supply Company","Amarillo","US"]
[211005461,1264,"Vida Pack Pall","Hestra","SE"]
[211000460,1265,"Talent Plastics Gislaved AB","GISLAVED","SE"]
[211005463,1267,"Ljungbergs Snickeri Ab","Älvängen","SE"]
[211005467,1271,"Lydde Mekaniska Verkstad","Kinna","SE"]
[211005468,1272,"J.A. Adolfsson Ab","Tranemo","SE"]
[211005469,1273,"APak AB","Mölndal","SE"]
[211003418,1274,"Sealed Air Aneby","ANEBY","SE"]
[211005470,1275,"Rydaholms Träförädling Ab","Rydaholm","SE"]
[211005471,1276,"Ljungbergs Snickeri Ab","Skepplanda","SE"]
[211000461,1278,"T Ahlgren Skillr","SKILLINGARYD","SE"]
[211005473,1280,"Vida Packaging","Ryd","SE"]
[211000462,1281,"Proton Skillryd","SKILLINGARYD","SE"]
[211005475,1283,"Ljungbergs Snickeri","Vänersborg","SE"]
[211002153,1289,"Rekyl Anderstorp","ANDERSTORP","SE"]
[211005481,1290,"Vida Packaging Logistics","Borlänge","SE"]
[211001261,1291,"Denson Logistics Ab","Botsmark","SE"]
[211002154,1293,"Indlås Nassjo","Nässjö","SE"]
[211001263,1294,"ELPRESS KRAMFORS","KRAMFORS","SE"]
[211005482,1295,"Goodtech Solutions Manufa","Arvika","SE"]
[211002159,1297,"BTT Kisa","KISA","SE"]
[211001273,1298,"Norma Sweden AB","ANDERSTORP","SE"]
[211005483,1299,"Andrénplast Ab","Göteborg","SE"]
[211001275,1300,"A C Kristinehamn","KRISTINEHAMN","SE"]
[211002161,1301,"Prototal Jkpg","Jönköping","SE"]
[211005719,1302,"Wright Equipment","East Peoria","US"]
[211005720,1303,"Mcallister Equipment Co.","Rockford","US"]
[211001425,1304,"Autoliv Vårgårda","Vårgårda","SE"]
[211005721,1306,"Power Equipment Company","Denver","US"]
[211005722,1307,"Sierra Machinery","El Paso","US"]
[211005723,1308,"Golden Equipment Company","Albuquerque","US"]
[211004585,1309,"Wajax Industries Limited","Grand Prairie,","CA"]
[211004586,1310,"Strongco, Inc.","Fort Mcmurray,","CA"]
[211001279,1311,"EUROFORM TRANAS","Tranås","SE"]
[211001281,1312,"Horda Gr Horda","HORDA","SE"]
[211001614,1313,"Horda Gr Horda","BOR","SE"]
[211001324,1314,"Horda S Horda","HORDA","SE"]
[211005724,1315,"Rami - Ra Miller Industri","Grand Haven","US"]
[211001282,1316,"Automatind Gävle","Gävle","SE"]
[211903767,1318,"Quehenberger Logistics GmbH","Eberstalzell","AT"]
[211906295,1319,"Parker Hannifin Manufacturing","Falköping","SE"]
[211001286,1321,"Stena Stal Molko","MOLKOM","SE"]
[211001287,1322,"Landqv Mek Nosse","NOSSEBRO","SE"]
[211001288,1323,"Bufab Swe Värnam","Värnamo","SE"]
[211900213,1324,"Borflex Corvol","Corvol-l'Orgueilleux","FR"]
[211005450,1325,"Al-Futtaim Auto & Machine","Jeddah","SA"]
[211002169,1326,"Holmgrens Gnosjo","Gnosjö","SE"]
[211900214,1327,"Saipa Diesel Ind Mfg Co","Tehran","KD"]
[211000208,1328,"VOLVO BUS UDDEVALLA","Uddevalla","SE"]
[211001292,1331,"LEAX Mek Koping","Köping","SE"]
[211001293,1332,"Autotube Ulriceh","ULRICEHAMN","SE"]
[211001294,1333,"Bharat Karlskoga","KARLSKOGA","SE"]
[211001298,1335,"BorgB Finspång","Finspång","SE"]
[211001335,1339,"Isringh Kbacka","KUNGSBACKA","SE"]
[211001302,1340,"Bra Vision Braås","Braås","SE"]
[211906155,1342,"Aktiebolaget Mönsterås Metalls","Mönsterås","SE"]
[211001308,1343,"Mekanotjänst Lju","LJUSDAL","SE"]
[211007293,1345,"NORDIC PLASTICS Trelleb.","TRELLEBORG","SE"]
[211009034,1347,"NGC CORNAGLIA DO BRASIL MAQUINAS","SÃO JOSE DOS PINHAIS","BR"]
[211002185,1348,"Sv Expand Atvbrg","Åtvidaberg","SE"]
[211005485,1349,"Landegrens Legomek Ab","Norrköping","SE"]
[211001312,1350,"Dafo Vehicle Fire Protection AB","STOCKHOLM","SE"]
[211904836,1351,"Esma Försäljning AB","Spånga","SE"]
[211002187,1352,"Joba Rörteknik AB","Linköping","SE"]
[211900264,1356,"Koito Europe Ltd","Droitwich","GB"]
[211001317,1357,"Eliasson & Lund Industrial Partner","Göteborg","SE"]
[211001543,1358,"Specma Tranemo","TRANEMO","SE"]
[211001318,1359,"FUJI ESKILSTUNA","ESKILSTUNA","SE"]
[211004570,1360,"1360 Ghent Handling & Distribu","Gent","BE"]
[211001320,1361,"Auson Kungsbacka","KUNGSBACKA","SE"]
[211001595,1362,"NITATOR HYLTEBRU","HYLTEBRUK","SE"]
[211001323,1363,"EMAB ERL ANDERST","ANDERSTORP","SE"]
[211906184,1364,"Starsprings AB","HERRLJUNGA","SE"]
[211005405,1365,"General Engineering Servi","Ruwi","OM"]
[211005726,1368,"Tyler Equipment Corporati","East Longmeadow","US"]
[211001332,1369,"Flodins Filter AB","LYSEKIL","SE"]
[211001333,1370,"Trell Auto Fheda","FORSHEDA","SE"]
[211001336,1372,"Suzuki Garphytt","GARPHYTTAN","SE"]
[211001338,1374,"Saint-Gobain Isover Ab","Billesholm","SE"]
[211001316,1375,"Int Alum Etuna","ESKILSTUNA","SE"]
[211001340,1376,"Bulten GOTHENBURG","Göteborg","SE"]
[211005728,1377,"American Cooling Systems","Grand Rapids","US"]
[211900039,1378,"Tokyo Radiator Mfg Co LTD","Fujisawa City,","JP"]
[211900040,1379,"Tokyo Roki Co Ltd","Kusatsu","JP"]
[211002191,1380,"Brano Hradec","Hradec-nad-Moravici","CZ"]
[211001341,1382,"Tilka Trad Monst","Mönsterås","SE"]
[211903761,1383,"Hydroscand Orebro","Örebro","SE"]
[211900187,1387,"ASTOR KONZ. 1st WH","AJKA","HU"]
[211900188,1388,"Ang Industries Ltd INNDA","Noida","IN"]
[211906117,1389,"NIPPON ROISSY","ROISSY-EN-FRANCE","FR"]
[211904110,1390,"Bulten Hallstahammar","HALLSTAHAMMAR","SE"]
[211001347,1391,"HGF Halmstad","HALMSTAD","SE"]
[211005486,1393,"Helens Rör Ab","Halmstad","SE"]
[211001353,1394,"H Ror Halmstad","KNARED","SE"]
[211903769,1395,"Lago Industri AB","Halmstad","SE"]
[211003727,1396,"ITW Sv Bredaryd","BREDARYD","SE"]
[211005729,1397,"Rotor Clip Co. Inc.","Somerset","US"]
[211001357,1398,"Lesj Ind Hljung","HERRLJUNGA","SE"]
[211001358,1399,"Heurlins Vberg","VARBERG","SE"]
[211001361,1401,"Autotube","VARBERG","SE"]
[211005489,1402,"Volvo Technology Ab","Göteborg","SE"]
[211001364,1403,"Holsby Holsbybr","HOLSBYBRUNN","SE"]
[211900217,1404,"Leax Skaraborg AB","Falköping","SE"]
[211905587,1406,"AQ Special Sheet Metal AB","Lyrestad","SE"]
[211001367,1407,"NOLATO GOTENE","Götene","SE"]
[211001369,1408,"FAMECO HILLERSTO","HILLERSTORP","SE"]
[211001371,1409,"Be-Ge Stece Ab","Mönsterås","SE"]
[211001372,1410,"Ind Gummi Skogas","Skogås","SE"]
[211002196,1412,"NEDSCHROEF STLJE","Södertälje","SE"]
[211001375,1413,"Primo Limmared","LIMMARED","SE"]
[211905352,1414,"SPX FLOW TECHNOLOGY POLAND SP.Z O.O","BYDGOSZCZ","PL"]
[211000365,1415,"Volvo Penta Utv.","Göteborg","SE"]
[211005491,1416,"Kärnsund Wood Link Ab","Kållered","SE"]
[211001386,1419,"Json Met Orebro","Örebro","SE"]
[211005493,1420,"Fundo Components Ab","Charlottenberg","SE"]
[211001480,1421,"NYA ARVIKA","ARVIKA","SE"]
[211001387,1422,"FORGEX SWEDEN AB","ARVIKA","SE"]
[211903988,1423,"CEVA Logistic","Willebroek","BE"]
[211005340,1424,"Volvo Industrial De Mexic","Tultitlan","MX"]
[211005731,1426,"Core Materials Corp","Gaffney","US"]
[211900042,1427,"Volmaquinaria De Contr. E","GUADALAJARA","ES"]
[211002200,1429,"Samp Bentivoglio","BENTIVOGLIO","IT"]
[211001406,1431,"Kockums Kallinge","KALLINGE","SE"]
[211002202,1434,"ESTAMPAC MUTILVA","MUTILVA ALTA","ES"]
[211005495,1436,"Alfapac Ab","Åsbro","SE"]
[211001373,1437,"Momento Flen","FLEN","SE"]
[211001408,1438,"KB Comp Orkellj","Örkelljunga","SE"]
[211005733,1442,"Lydall Westex","Hamptonville","US"]
[211001413,1443,"KBM Kville Torsl","TORSLANDA","SE"]
[211001417,1446,"Boxholms Pr Boxh","BOXHOLM","SE"]
[211001419,1447,"International Aluminium Casting","HULTSFRED","SE"]
[211001421,1448,"J&P Ind Ostersu","Östersund ","SE"]
[211001422,1449,"ESSVE KUNGALV","Kungälv","SE"]
[211003419,1450,"Borox Eneryda","ENERYDA","SE"]
[211001426,1451,"Ribo Verken VF","Västra Frölunda","SE"]
[211001525,1452,"Lesj Fjad Lesjfs","Lesjöfors","SE"]
[211003448,1454,"GA Lindberg Mlnl","Mölnlycke","SE"]
[211001427,1455,"Linde M Lindesbg","LINDESBERG","SE"]
[211003350,1456,"Weland AB","Smålandsstenar","SE"]
[211001430,1457,"ProtIndPul Atorp","ANDERSTORP","SE"]
[211001434,1458,"Ljuders Nickelsilfverfabrik AB","HOVMANTORP","SE"]
[211001435,1459,"Metallfabriken Ljunghäll Ab","Södra Vi","SE"]
[211001436,1460,"Ljungarps Ljugps","LJUNGSARP","SE"]
[211904107,1461,"Schoneweiss & Co Gmbh Werk II","Gevelsberg","DE"]
[211001604,1462,"A-Extrusion Ab","ALSTERMO","SE"]
[211001438,1463,"NOLATO SKANES FA","Skånes Fagerhult","SE"]
[211005734,1464,"Flagler Construction Equi","Fort Myers","US"]
[211005735,1465,"Flagler Construction Equi","Jacksonville","US"]
[211005736,1466,"Flagler Construction Equi","Davie","US"]
[211005737,1467,"Rudd Equipment Company","Leetsdale","US"]
[211005738,1468,"Rudd Equipment Company","Clearfield","US"]
[211905785,1469,"Elanders Sverige Ab","Borås","SE"]
[211001444,1470,"Marcus Komp Järn","Järna","SE"]
[211001445,1472,"Precomp Ulrhamn","ULRICEHAMN","SE"]
[211002209,1473,"Mistra Harjumaa","RAASIKU","EE"]
[211001446,1474,"Spring Sys Trsas","Torsås","SE"]
[211001447,1475,"Plastex Skeftea","Skellefteå","SE"]
[211002210,1476,"Westfalia Metal Hoses GmbH","HILCHENBACH","DE"]
[211007311,1477,"AB KILS AUTOMATSVARVNING","KIL","SE"]
[211001450,1478,"Gnotec Kinnared AB","KINNARED","SE"]
[211001451,1480,"REHC Amal","Åmål","SE"]
[211001452,1481,"Shiloh Industries AB Forsheda","FORSHEDA","SE"]
[211002211,1482,"Mitras Winsford","Winsford","GB"]
[211004869,1483,"Agrostroj Pelhrimov","Pelhrimov","CZ"]
[211002213,1484,"FORM-PLAST BYDGO","BYDGOSZCZ","PL"]
[211903903,1485,"HellermannTyton AB","Arlandastad","SE"]
[211001456,1488,"Calix Eskilstuna","ESKILSTUNA","SE"]
[211003351,1489,"Rehobot Etuna","ESKILSTUNA","SE"]
[211900043,1490,"Mayer'S Cars And Trucks","Tel Aviv-Yafo","IL"]
[211005268,1491,"Volvo Ce Italia Spa","Anzola dell'Emilia","IT"]
[211900220,1492,"Nordlings Sågverk & Träva","Rävlanda","SE"]
[211004563,1493,"Ascendum Baumaschinen Österreich GmbH","Bergheim/Salzbu","AT"]
[211005739,1494,"Rl Hudson & Company","Broken Arrow","US"]
[211905851,1497,"Arno-Remmen AB","KRISTINEHAMN","SE"]
[211002219,1498,"DONALDSON DOMJEA","DOMJEAN","FR"]
[211905567,1499,"DHL service logistique","Saint-Quentin-Fallavier","FR"]
[211002222,1501,"Casappa Cavalli","Collecchio","IT"]
[211002223,1502,"Promens Annezin","ANNEZIN","FR"]
[211005501,1504,"Titanx Engine Cooling Ab","Sölvesborg","SE"]
[211001472,1505,"Plast Ori Atorp","ANDERSTORP","SE"]
[211005643,1506,"CHEMOSVIT STROJCHEM, s.r.o.","Svit","SK"]
[211005060,1507,"Gates Pt Spain , Sa","Balsareny","ES"]
[211003423,1509,"BE-GE Oskarshamn","OSKARSHAMN","SE"]
[211001474,1510,"NITATOR OSKARSTR","Oskarström","SE"]
[211002235,1511,"ADEmis Grenoble","GRENOBLE","FR"]
[211001476,1512,"Gotlands Gummifabrik AB","HEMSE","SE"]
[211903811,1513,"Dachser Se c/o OSRAM","Überherrn","DE"]
[211001479,1514,"Profilgr Aseda","Åseda","SE"]
[211000220,1515,"GKN","KÖPING","SE"]
[211001481,1516,"Beslag och Metall","Ekenässjön","SE"]
[211002236,1517,"Courbis Romans","ROMANS","FR"]
[211002237,1518,"Mecanique Aurec","Aurec-sur-Loire","FR"]
[211001503,1519,"Perfekta Industrier AB","ARVIKA","SE"]
[211001505,1520,"Hydrosc Got","Göteborg","SE"]
[211001506,1521,"NORDISKA K AMAL","Åmål","SE"]
[211001507,1522,"Oetiker Sweden Ab","ANDERSTORP","SE"]
[211002238,1523,"Masselini Petit","Le Petit-Quevilly","FR"]
[211001509,1524,"NOLATO HISINGS B","HISINGS BACKA","SE"]
[211001511,1525,"Prestando Tborg","TRELLEBORG","SE"]
[211002239,1526,"Metallox Mably","MABLY","FR"]
[211002240,1527,"Stauff Vineuil","VINEUIL","FR"]
[211002242,1528,"Valbormida Busa","Busano","IT"]
[211002241,1529,"Valbormida Bubb","BUBBIO","IT"]
[211002243,1530,"Buisard Sable Su","Sablé-sur-Sarthe","FR"]
[211001513,1531,"Ling Met Hlltrp","HILLERSTORP","SE"]
[211001517,1532,"AGES METALL URYD","UNNARYD","SE"]
[211002245,1534,"Poncin Tarare","TARARE","FR"]
[211000050,1535,"VCE BELLEY","Belley","FR"]
[211002246,1536,"Cooper S Bielsko","BIELSKO-BIALA","PL"]
[211904737,1537,"Ekenas Mekaniska AB","Ekenässjön","SE"]
[211900222,1538,"Leif Carpmans Ab","Hjo","SE"]
[211002248,1539,"DONG HWAN CHANG","CHANGWON","KR"]
[211009052,1540,"AQ Segerstrom & Svensson Konkursbo","ESKILSTUNA","SE"]
[211001530,1541,"Tibnor Kpg","Köping","SE"]
[211003589,1542,"DS Smith Packaging Sweden AB","MARIESTAD","SE"]
[211005323,1544,"DONGSUNG TCS Co Ltd","Gimhae","KR"]
[211904740,1545,"IAC Group Skara","Skara","SE"]
[211001536,1546,"Trelleborg Ersmark","ERSMARK","SE"]
[211005503,1547,"Strangnas Mekaniska Ab","Strängnäs","SE"]
[211005504,1548,"Presto Brandsäkerhet Ab","Katrineholm","SE"]
[211900044,1551,"Nakata Plant","Toyama","JP"]
[211001539,1552,"VBG Vanersborg","Vänersborg","SE"]
[211900267,1554,"Volvo Penta Canada","Vancouver B C","CA"]
[211001544,1555,"Specma","Västra Frölunda","SE"]
[211002252,1556,"SHIN IL PRECISION CO.LTD","Gangneung","KR"]
[211005506,1558,"Anva Polytech Ab","Sunne","SE"]
[211904609,1559,"NMC Cellfoam AB","Malmö","SE"]
[211005324,1560,"Whanam Electronics Co. Lt","INCHEON","KR"]
[211001588,1561,"Stonerdg Orebro","Örebro","SE"]
[211900045,1562,"Logistica Subirana","BARCELONA","ES"]
[211002150,1563,"Maskina Alvesta","ALVESTA","SE"]
[211002271,1564,"DENSO EUR WEESP","WEESP","NL"]
[211005099,1565,"Marine Center Finland Oy","Helsingfors","FI"]
[211001437,1566,"KLINGER SWEDEN AB","Järfälla","SE"]
[211002155,1568,"IndPartn Etuna","ESKILSTUNA","SE"]
[211003475,1569,"Tibnor Kpg","BREDARYD","SE"]
[211002291,1573,"ACGB Bavent","BAVENT","FR"]
[211002620,1574,"Pierb Yutz","Basse-Ham","FR"]
[211900577,1575,"Defontaine Sa","La Bruffière","FR"]
[211004137,1577,"Mitsub Born","BORN","NL"]
[211002668,1580,"Buderus Wetzlar","WETZLAR","DE"]
[211002750,1581,"ZAMPART KARLSTAD","KARLSTAD","SE"]
[211003421,1583,"Hygap Oskarstrom","Oskarström","SE"]
[211900691,1584,"SKF Sverige AB","LANDSKRONA","SE"]
[211005100,1585,"Oy Rolac Ab","Vanda","FI"]
[211002923,1586,"FONDERIE VENISSI","Vénissieux","FR"]
[211003479,1587,"Cofat Mateur","TUNIS","TN"]
[211004423,1588,"VOLVO DO BRASIL VEICULOS","São Jose dos Pinhais","BR"]
[211900046,1589,"Volvo Peru S.A./Pdc","Callao","PE"]
[211002255,1590,"Sungjin Kimhae","Gimhae","KR"]
[211003447,1591,"Alps Electric Ireland Ltd","Cork","IE"]
[211905102,1593,"Continental Regensburg(LAGO A3)","Regensburg","DE"]
[211005507,1594,"Proton Finishing Forsheda","Forsheda","SE"]
[211000204,1595,"EBP","Olofström","SE"]
[211002156,1596,"Svenska Magnetfabriken Ab","Västerås","SE"]
[211001439,1597,"Bewi Automotive AB","SKARA","SE"]
[211002378,1599,"Bosch Esp Aranj","ARANJUEZ","ES"]
[211001529,1600,"DOMETIC SCAN VF","Västra Frölunda","SE"]
[211905763,1602,"Talleres Fabio Murga S.A.","Balmaseda","ES"]
[211003402,1605,"TVA Verc Loker","LOKEREN","BE"]
[211005644,1606,"Sachs Slovakia S.R.O.","Trnava","SK"]
[211001330,1608,"ProCell i Linkoping AB","LINKÖPING","SE"]
[211905736,1609,"DELPHI AUTO GOT","Göteborg","SE"]
[211903894,1612,"SDMO Industrie","Guipavas","FR"]
[211005325,1613,"Heungkuk Metaltech Co.,","Asan","KR"]
[211002168,1614,"Rman Varnamo","Värnamo","SE"]
[211001545,1615,"Specma Hydraulic AB","Våxtorp","SE"]
[211002492,1617,"Bucher Frutingen","FRUTIGEN","CH"]
[211003466,1618,"Weland Plastic AB","Smålandsstenar","SE"]
[211005646,1619,"Pps Group A.S.","Detva","SK"]
[211900047,1622,"Valeo Auto-Electric Gmbh","Veszprem","HU"]
[211003477,1623,"SKF Poznan","POZNAN","PL"]
[211007284,1625,"KNORR BREM.","GLOS","FR"]
[211001735,1626,"Punch Powertrain StTruiden","Sint-Truiden","BE"]
[211000450,1627,"VOLVO BUS PREVOST CANADA","QUÉBEC","CA"]
[211005050,1629,"Bilia Entreprenörmaskiner","Roskilde","DK"]
[211002671,1630,"O/Cava Meccanica S.p.a.","Ferrere","IT"]
[211905866,1631,"Aptiv Services Poland S.A.","Jelesnia","PL"]
[211005509,1632,"VLC c/o Schenker","Göteborg","SE"]
[211004016,1633,"AC Oggiona C S S","OGGIONA CON SANTO STEFANO","IT"]
[211001554,1635,"Rosenfors Bruk AB","ROSENFORS","SE"]
[211001504,1638,"P Hannifin Boras","Borås","SE"]
[211001556,1639,"Lesj Band Varnmo","Värnamo","SE"]
[211002157,1640,"Stokvist Norrkpg","Norrköping","SE"]
[211900578,1642,"R.BOSCH/TRANSLOG","MONDEVILLE","FR"]
[211900048,1643,"P.P.C. Sa","Chaleins","FR"]
[211003312,1644,"Pierb Lanciano","LANCIANO","IT"]
[211002262,1645,"DARCHEM STOCKTON","Stockton-on-Tees","GB"]
[211001561,1647,"Tidbeck Ljungsa","LJUNGSARP","SE"]
[211001531,1648,"Tibnor Kpg Kpg","Köping","SE"]
[211001563,1649,"Sonnergr Ver Mln","Mölndal","SE"]
[211001564,1650,"Brickpack Laholm","LAHOLM","SE"]
[211003978,1651,"Ovako Sweden AB","HOFORS","SE"]
[211904111,1652,"SKF Sverige","Göteborg","SE"]
[211906185,1653,"Ovako Sweden AB","Hällefors","SE"]
[211001567,1654,"Tibnor","ESKILSTUNA","SE"]
[211001571,1657,"P Hannifin Skvde","Skövde","SE"]
[211900271,1658,"Trelleborg Industrial Pro","Havdhem","SE"]
[211001573,1659,"Tenhults Pressgjuteri Ab","Tenhult","SE"]
[211900579,1660,"HALDEX BRAKE","LANDSKRONA","SE"]
[211001577,1662,"Titanx Engine Cooling Ab","Linköping","SE"]
[211905351,1663,"Trelleborg Logisitics Center","TRELLEBORG","SE"]
[211001580,1666,"NATIONAL G HALMS","HALMSTAD","SE"]
[211001581,1667,"Gnutti Carlo Sweden AB","ALVESTA","SE"]
[211005512,1668,"Eqpack Ab","Eskilstuna","SE"]
[211001582,1669,"Uppak Mek Skryd","SKILLINGARYD","SE"]
[211005513,1670,"Smk Ab","Skövde","SE"]
[211001584,1672,"Prestando Kalmar AB","KALMAR","SE"]
[211001587,1675,"Specma Motala","MOTALA","SE"]
[211002266,1677,"Witzenm Huddinge","HUDDINGE","SE"]
[211005741,1678,"Minequip Corp.","Miami","US"]
[211900049,1679,"Leax Tidaholm AB","Tidaholm","SE"]
[211001593,1680,"PartnerTech Karlskoga AB","Karlskoga","SE"]
[211001521,1681,"Bewi packaging AB","Värnamo","SE"]
[211001410,1682,"Trelleborg Sealing Profiles Sw","Värnamo","SE"]
[211900580,1683,"ALPS c/o SCHENKER","Göteborg","SE"]
[211001594,1684,"AGES Machin.Värnamo AB","Värnamo","SE"]
[211002267,1685,"Promens Zevenaar","ZEVENAAR","NL"]
[211001602,1686,"Trell Orebro","Örebro","SE"]
[211001605,1687,"Gnutti Kungsor","Kungsör","SE"]
[211005742,1689,"Arnold Machinery Company","Idaho Falls","US"]
[211005743,1690,"Arnold Machinery Company","Meridian","US"]
[211005744,1691,"Arnold Machinery Co. Of A","Phoenix","US"]
[211005745,1692,"Asc Construction Equipmen","Ringgold","US"]
[211005746,1693,"Scott Construction Equipm","Memphis","US"]
[211005747,1694,"Rudd Equipment Company","Indianapolis","US"]
[211005748,1695,"Rudd Equipment Company","Corbin","US"]
[211005749,1696,"Rudd Equipment Company","Saint Louis","US"]
[211004587,1697,"Strongco - Sheridan Atlan","Dartmouth, Bc.","CA"]
[211004588,1698,"Strongco Equipment","Mount Pearl, Nf","CA"]
[211004589,1699,"Strongco, Inc","Moncton, Nb, Ca","CA"]
[211005750,1701,"Rudd Equipment Company","Fort Wayne","US"]
[211001611,1702,"PRESS KOGYO SWEDEN AB","OSKARSHAMN","SE"]
[211001612,1703,"CJ Autom Dalstor","DALSTORP","SE"]
[211001616,1704,"Xponent Etuna","ESKILSTUNA","SE"]
[211900581,1705,"CHEMETALL AB","Hisings Kärra","SE"]
[211001433,1706,"FUELTECH RONNEBY","RONNEBY","SE"]
[211001301,1707,"Talent Plastics Laxa AB","Laxå","SE"]
[211003444,1708,"VMR Wacol","WACOL","AU"]
[211001377,1709,"Bolleb Emb Bolle","BOLLEBYGD","SE"]
[211001627,1711,"Parker Hannifin AB","Borås","SE"]
[211900582,1712,"Dos Krausos Logistic","HAMBURG","DE"]
[211904621,1714,"KGK LogC Enkpg","Enköping","SE"]
[211005516,1715,"Ulinco Ab","Landvetter","SE"]
[211001280,1717,"TI Gr Autom Lidk","Lidköping","SE"]
[211005383,1718,"Koni B.V.","Oud-Beijerland","NL"]
[211005751,1720,"Special Fab & Machine, In","Lexington","US"]
[211001650,1722,"TIM Hapert","HAPERT","NL"]
[211900051,1724,"Sh.Yushan C/O Schenker Logistic","Göteborg","SE"]
[211002276,1727,"Mitsubishi Turbocharger And En","Almere","NL"]
[211005517,1728,"Volvo Truck&Bus Dealer Sw","Göteborg","SE"]
[211005752,1729,"Hadlock Plastics Corporat","Geneva","US"]
[211001876,1730,"Dekalin B.V.Brand Of Diffuther","Hapert","NL"]
[211002272,1731,"JTEKT Eur Almere","ALMERE","NL"]
[211005753,1733,"Hill Manufacturing Inc","Wauseon","US"]
[211001657,1734,"Voestalp Putte","PUTTE","NL"]
[211005113,1735,"Forgex France Sas","Monthermé","FR"]
[211003535,1737,"RENAULT TRUCKS VENISSIEUX","Vénissieux","FR"]
[211002294,1738,"Valeovis Mazamet","MAZAMET","FR"]
[211900583,1740,"BMV (NTN-SNR ROULEM.)","Chambéry","FR"]
[211005115,1741,"U-Shin France Sas","Nevers","FR"]
[211002309,1742,"Sofedit Le Theil","Le Theil-sur-Huisne","FR"]
[211906192,1743,"Hendrickson DOUAI","DOUAI","FR"]
[211005116,1744,"Polytech Sa","Autechaux","FR"]
[211002683,1745,"Contitech Anoflex Sas","Caluire-et-Cuire","FR"]
[211904720,1746,"PERNAT EMILIE SA","MARIGNIER","FR"]
[211005754,1747,"Boyd Corporation","Gaffney","US"]
[211005117,1748,"Viatemis","Saint-Victor","FR"]
[211005118,1750,"Autoneum France Sasu","Lachapelle-aux-Pots","FR"]
[211002301,1752,"SMC Col Champd","CHAMPDIEU","FR"]
[211900228,1753,"Bukomeca","Arandon","FR"]
[211002304,1754,"DELTA METAL ISSO","ISSOUDUN","FR"]
[211900052,1756,"CLERC ET CARDONE – HEF DURFERRIT","Andrézieux-Bouthéon","FR"]
[211001670,1757,"Timken Colmar","COLMAR","FR"]
[211001701,1759,"Cooper S Vitre","VITRE","FR"]
[211001671,1760,"Isodelta Vouille","Vouillé","FR"]
[211001672,1761,"Vernet SAS","Ollainville","FR"]
[211005120,1763,"Castmetal Colombier","Colombier-Fontaine","FR"]
[211003985,1766,"Telma St Ouen","Saint-Ouen-l'Aumône","FR"]
[211905609,1767,"Paulstra Segre","Segré","FR"]
[211900230,1769,"Parker Hannifin France Sa","Évreux","FR"]
[211001680,1770,"Vignal Systems","Corbas","FR"]
[211005121,1772,"Estamfor Novatera","Les Hautes-Rivières","FR"]
[211906067,1775,"Hendrickson France SAS","Chatenois les Forges","FR"]
[211001681,1776,"Soc Nov Sable","Sablé-sur-Sarthe","FR"]
[211904113,1779,"SMRC","Gondecourt","FR"]
[211005755,1781,"Trw Commercial Steering D","Lebanon","US"]
[211002114,1782,"VOLVO TRUCKS/MACK TRUCKS WACOL","WACOL","AU"]
[211005756,1783,"Fsw Plant #2","Cleveland","US"]
[211001685,1784,"CASTMETAL FEURS","FEURS","FR"]
[211005757,1786,"Orbis","Bardstown","US"]
[211002325,1787,"Nordiq Habo","HABO","SE"]
[211002327,1788,"Martinrea Mostol","MOSTOLES-MADRID","ES"]
[211004870,1789,"Rubena A.S.","Hradec Králové","CZ"]
[211005123,1790,"RENAULT TRUCKS BOURG","Bourg-en-Bresse","FR"]
[211003538,1791,"RENAULT TRUCKS BOURG SAW","Bourg-en-Bresse","FR"]
[211003900,1792,"Texelis Limoges","LIMOGES","FR"]
[211003365,1793,"RENAULT TRUCKS GOVERNMENTAL","LIMOGES","FR"]
[211003542,1794,"LIMOGES REMAN RENAULT TRUCKS","LIMOGES","FR"]
[211002920,1795,"VOLVO POWERTRAIN VENISSIEUX","Vénissieux","FR"]
[211003540,1796,"VOLVO POWERTRAIN ST PRIEST","Saint-Priest","FR"]
[211003541,1797,"VT/RT TRUCKS GRENTHEVILLE SAW","GRENTHEVILLE","FR"]
[211005758,1799,"Grede Ii Llc - Biscoe","Biscoe","US"]
[211005124,1800,"Ste Nouvelle Foissy","Saint-Marceau","FR"]
[211904964,1801,"Jost Logistics","Hoerdt","FR"]
[211905346,1803,"FIDAY GESTION","Chassey-lès-Scey","FR"]
[211900053,1804,"VOISARD MANUFACT.","SHELBY","US"]
[211005760,1805,"Walker Machine & Foundry","Roanoke","US"]
[211001700,1806,"PRECIFORGE","THIERS","FR"]
[211005761,1807,"Gb Manufacturing Co","Delta","US"]
[211001702,1808,"Rehau Enterprise SA","Poix-de-Picardie","FR"]
[211900054,1809,"Will-Burt Company","Orrville","US"]
[211005126,1810,"Mann+Hummel France","Louverné","FR"]
[211004104,1811,"Plst Omn A Flixe","FLIXECOURT","FR"]
[211904974,1812,"DELPHI HUN SZOM HUSZY","SZOMBATHELY","HU"]
[211005763,1813,"Meritor","York","US"]
[211005764,1814,"Gkn Driveline North Ameri","Roxboro","US"]
[211005765,1815,"Prevost Car Inc.","South Plainfield","US"]
[211900278,1816,"Volvo Road Machinery Warehouse","Shippensburg","US"]
[211004591,1818,"Accucam","Cambridge, On","CA"]
[211005766,1819,"Pleasurecraft Marine Engi","Little Mountain","US"]
[211002330,1823,"SANOK RUBBER","SANOK","PL"]
[211002331,1824,"Burnside Carlow","CARLOW","IE"]
[211004346,1825,"Rane Tamilnada","TAMILNADA","IN"]
[211002332,1827,"Greystal","Montreuil-Bellay","FR"]
[211005127,1828,"SN Fonderies Collignon","Deville","FR"]
[211002334,1829,"Hans Zewe GmbH Tholey","THOLEY","DE"]
[211002335,1830,"Interhydra Selm","SELM","DE"]
[211002337,1831,"Setaplst Lambre","LAMBRECHT","DE"]
[211002338,1832,"SKARKE RIMNBACH","RIMBACH","DE"]
[211002340,1833,"W Stauff Neuenr","NEUENRADE","DE"]
[211002341,1834,"Soliver Rumbeke","RUMBEKE","BE"]
[211001807,1835,"DONALDSON FIL HU","HULL","GB"]
[211001712,1836,"I T Godd Roesle","ROESELARE","BE"]
[211905027,1840,"Envelbag NV","Anzegem","BE"]
[211002349,1841,"PolySeal Zele","ZELE","BE"]
[211001722,1842,"Struct Izegem","IZEGEM","BE"]
[211000213,1844,"FAURECIA Industrie NV","Gent","BE"]
[211001458,1846,"Conpipe Halltorp","HALLTORP","SE"]
[211001725,1847,"JUMI Pl Diepenb","DIEPENBEEK","BE"]
[211001728,1848,"Toelev Wetteren","WETTEREN","BE"]
[211004938,1849,"Stopfix-Bremse Schröter","Geretsried","DE"]
[211001730,1850,"Alro D-Stokkem","DILSEN-STOKKEM","BE"]
[211904063,1851,"Wihag Stadtilm","STADTILM","DE"]
[211002359,1852,"TMS Met Grenvenm","GREVENMACHER","LU"]
[211001459,1853,"Stromsh Tranas","Tranås","SE"]
[211900192,1854,"Nikro S.R.O.","Dolný Kubín","SK"]
[211005768,1856,"Curtis Machine Co Inc.","Dodge City","US"]
[211005769,1857,"Modine (Lawrenceburg)","Lawrenceburg","US"]
[211005770,1858,"Prevost Car Inc. (Florida","Jacksonville","US"]
[211001739,1859,"Vitalo Meuleb","MEULEBEKE","BE"]
[211002364,1861,"Cebi Luxembourg S.A.","STEINSEL","LU"]
[211002365,1862,"B&B Andrzej Wroc","WROCLAW","PL"]
[211001740,1863,"Mahle Krotoszyn","KROTOSZYN","PL"]
[211002366,1864,"Astromal Wilkowi","WILKOWICE","PL"]
[211900584,1865,"Ster Sp. Z O.O.","SZAMOTULY","PL"]
[211002369,1867,"TE Connectivity","MARTINSRIED","DE"]
[211003438,1868,"Maier Hildbghsn","HILDBURGHAUSEN","DE"]
[211001461,1869,"Pejo Nykpg","Nyköping","SE"]
[211005063,1870,"Grupos Diferenciales S.A.","Vitoria-Gasteiz","ES"]
[211005064,1871,"Castmetal Vitoria","Vitoria-Gasteiz","ES"]
[211003764,1872,"Seg Automotive S.A.U","ADAL-TRETO","ES"]
[211900585,1873,"FACT. CINCO SOLUC.","GUADALAJARA","ES"]
[211900055,1874,"Essa Palau S.A. C/ Aiguad","Barcelona","ES"]
[211005068,1877,"Doga S.A.","Abrera","ES"]
[211005069,1878,"Gestamp Esmar Sa","Barcelona","ES"]
[211001758,1879,"Simo Tarragona","TARRAGONA","ES"]
[211001752,1880,"TRW Pamplona","PAMPLONA","ES"]
[211005519,1882,"Lantmännen Maskin Ab","Hedemora","SE"]
[211001763,1883,"DELPHI DIESEL ST","Stonehouse","GB"]
[211001765,1884,"Truck Lite Cradl","Cradley Heath","GB"]
[211905354,1887,"Raicam Clutch Ltd","Redditch","GB"]
[211005520,1888,"Preciform Ab","Eskilstuna","SE"]
[211005771,1889,"Albee Industries, Inc.","San Diego","US"]
[211005772,1890,"Austral International Co","Miami","US"]
[211005179,1891,"Eminox Ltd","Gainsborough","GB"]
[211005773,1892,"Bayview Yachtcrafters Inc","Harrison Township","US"]
[211005774,1893,"Blue Water Marine","Harrison Township","US"]
[211005775,1894,"Blue Water Marine Repair","TAMPA","US"]
[211005776,1895,"Boats By George Inc","GLENS FALLS","US"]
[211005777,1896,"Chinook Marine Repair","Chinook","US"]
[211005778,1897,"D & R Boats Inc","SOUTH PLAINFIELD","US"]
[211005779,1898,"Dare Marina","Grafton","US"]
[211005780,1900,"Diesel Power Equipment Co","Omaha","US"]
[211001790,1901,"Sogefi Tredegar","TREDEGAR","GB"]
[211005781,1902,"Fay'S Boat Yard Inc","CONCORD","US"]
[211005782,1903,"Fortier Boats Inc","FALL RIVER","US"]
[211005783,1904,"French Creek Marina","Clayton","US"]
[211005784,1905,"Gary Wood'S Marine Inc","Palm City","US"]
[211005785,1906,"Hebco Inc.","Abbeville","US"]
[211005786,1907,"Helmuts Marine Service","San Rafael","US"]
[211005787,1908,"Intermarine Inc","Dania Beach","US"]
[211005788,1909,"Islands Marine Center","Lopez Island","US"]
[211005789,1911,"Jas Marine Service Inc.","WEST PALM BEACH","US"]
[211005790,1912,"Katolight Corporation","Mankato","US"]
[211005791,1913,"Kelly'S Port","Osage Beach","US"]
[211005792,1915,"Kcs International Inc (Ib","Oconto","US"]
[211005793,1916,"Lake Norman Marina Inc","MOORESVILLE","US"]
[211005794,1917,"Lighthouse Marine Inc","Gig Harbor","US"]
[211005795,1918,"Macdougalls Cape Cod Mari","Falmouth","US"]
[211005796,1919,"Marine Masters","Houston","US"]
[211003709,1920,"Linecross Oakham","OAKHAM","GB"]
[211005797,1921,"Maritime Fabrications Inc","BELLINGHAM","US"]
[211005798,1922,"Marysville Marine Dist In","Marysville","US"]
[211005799,1923,"Marysville Marine South","White House","US"]
[211005800,1924,"Marysville Marine Distrib","Sun Prairie","US"]
[211005801,1925,"Mcdonnell Marine Service","Bloomfield","US"]
[211005802,1926,"Mcdurmon Distributing Inc","Fenton","US"]
[211005803,1927,"New England Detroit Diese","Portland","US"]
[211005804,1928,"Power Products Systems Ll","Wakefield","US"]
[211005805,1929,"Hap O'Neill Inc.","Saint Petersburg","US"]
[211005806,1930,"Oak Hill Marina, Inc.","SPENCER","US"]
[211005180,1931,"Meritor Hvbs Ltd","Cwmbran","GB"]
[211900586,1932,"KABY ENGINEERS LTD","LEICESTER","GB"]
[211005807,1934,"Pacific Power Boats","Portland","US"]
[211005808,1935,"Wmjb Marine, Inc.","Hypoluxo","US"]
[211002391,1936,"NORMA NEWBURY","NEWBURY","GB"]
[211007286,1937,"CUMMINS TURBO TECH.","HUDDERSFIELD","GB"]
[211900282,1938,"Ups Scs France S.A.S","Saint-Quentin-Fallavier","FR"]
[211900283,1939,"Ups Scs Uk Ltd","Dewsbury","GB"]
[211906002,1941,"Parker Hannifin Grantham","Grantham","GB"]
[211005809,1942,"Russell Marine Inc.","Worcester","US"]
[211005810,1943,"Resort Associates (Sba)","Ketchikan","US"]
[211005811,1944,"Sea & Ski Marina","Costa Mesa","US"]
[211005182,1945,"Pailton Engineering Limit","Coventry","GB"]
[211005812,1946,"Seward Heavy Industrial P","Seward","US"]
[211002393,1947,"DEUTZ KOELN","Köln","DE"]
[211001805,1948,"Bostik Stafford","STAFFORD","GB"]
[211003265,1949,"Blachford UK Ltd","CHESTERFIELD","GB"]
[211005813,1950,"Statewide Marine Services","BRICKTOWN","US"]
[211005814,1951,"Strong'S Marine, Inc.","RIVERHEAD","US"]
[211005815,1952,"Sun Power Diesel & Marine","Dania Beach","US"]
[211005816,1953,"Taylor'S Boats Inc","Draper","US"]
[211005817,1954,"Texas Marine","Beaumont","US"]
[211001468,1955,"SEKAT","KATRINEHOLM","SE"]
[211005818,1957,"The Slalom Shop Inc","Lewisville","US"]
[211005819,1958,"Thornes Marine","Stockton","US"]
[211002395,1959,"Superform Worch","Worcester","GB"]
[211005820,1960,"Tyler Equipment Company","Berlin","US"]
[211005821,1961,"Usa Power Inc","Miami","US"]
[211005822,1962,"Power House Marina","North Miami","US"]
[211005823,1963,"Ufo Parasail Of Hawaii In","Lahaina","US"]
[211005824,1964,"Vosbury Marine & Recreati","Annapolis","US"]
[211005825,1965,"3A Marine Service Inc","Hingham","US"]
[211005826,1966,"Volvo Penta Plus 4 Admin.","Minnetonka","US"]
[211005827,1967,"Western Branch Ddc","Portsmouth","US"]
[211001809,1968,"Boydell Burnley","Burnley","GB"]
[211002217,1970,"BWA Bradford","BRADFORD","GB"]
[211001811,1971,"Brockmoor Brierl","BRIERLEY HILL","GB"]
[211002396,1972,"Widney Manufacturing Ltd","BIRMINGHAM","GB"]
[211002397,1973,"ZF NOTTINGHAM","Nottingham","GB"]
[211005828,1974,"MGM Brakes Murphy","Murphy","US"]
[211001707,1975,"MGM Brakes Cloverdale, CA","CLOVERDALE","US"]
[211002398,1978,"Bolton Plast Bol","BOLTON","GB"]
[211001601,1980,"Bumax AB Ashammar","Åshammar","SE"]
[211001829,1981,"Titan Steel Kidd","KIDDERMINSTER","GB"]
[211001832,1982,"Gates Power Transmission","DUMFRIES","GB"]
[211005434,1983,"Contitech Romania Power","Timisoara","RO"]
[211005521,1984,"Gestamp Hardtech Ab","Luleå","SE"]
[211004573,1988,"Vbg Group Truck Equipment","Beringen","BE"]
[211900056,1990,"Reutter Sk S.R.O.","Myjava","SK"]
[211900589,1991,"Nedschroef Altena Gmbh","WERDOHL","DE"]
[211004941,1992,"U-Shin Deutschland","Erdweg","DE"]
[211905071,1994,"Aussenlager Harz Guss Zorge GmbH","Nordhausen","DE"]
[211001844,1995,"Witte Velberg","VELBERT","DE"]
[211904820,1996,"Pierb Neuss","Neuss","DE"]
[211001848,1997,"L Kostal Lueden","Lüdenscheid","DE"]
[211002040,1998,"Wormser Rhlein","RÖTHLEIN","DE"]
[211002014,1999,"KOYO Bear Halle","HALLE","DE"]
[211900590,2000,"Schaeffler Austria","BERNDORF","AT"]
[211001852,2002,"Allig Giengen/B","GIENGEN/BRENZ","DE"]
[211900284,2003,"Kamax-Werke, Rudolf Kelle","Osterode am Harz","DE"]
[211001854,2004,"Kamax Homberg","HOMBERG","DE"]
[211001855,2005,"August F Velbert","VELBERT","DE"]
[211001857,2006,"PARKER HANNIFIN GMBH + CO KG","BIELEFELD","DE"]
[211900232,2009,"Götz Logistik Gmbh","Nürnberg","DE"]
[211002418,2010,"Mahle Plettenb","PLETTENBERG","DE"]
[211001859,2011,"Brose Wuppertal","WUPPERTAL","DE"]
[211900686,2012,"BOGE Elastmetall GmbH","Simmern/Hunsrück","DE"]
[211005522,2013,"VOLVO PENTA VARA","Vara","SE"]
[211002058,2019,"3M EDC Juechen","Jüchen","DE"]
[211002420,2020,"ELRING KL RUNKEL","RUNKEL","DE"]
[211001870,2021,"Isringhausen Lemgo","LEMGO","DE"]
[211002433,2022,"Contitech Antriebssyste GmbH","HANNOVER","DE"]
[211001872,2023,"Contitech Luftfedersyst.","HANNOVER","DE"]
[211002436,2024,"Contitech Hannov","HANNOVER","DE"]
[211904108,2025,"ContiTech Schlauch GmbH","Northeim","DE"]
[211004944,2026,"Contitech Schlauch Gmbh","Korbach","DE"]
[211900592,2027,"Hella Distribution GmbH","ERWITTE","DE"]
[211001874,2028,"Gesenkschmiede Schneider GmbH","AALEN","DE"]
[211905715,2030,"Joyson Safety Systems Aschaffenburg","ASCHAFFENBURG","DE"]
[211001877,2031,"ELRING KL. DETTINGEN","DETTINGEN/ERMS","DE"]
[211905635,2034,"Variopack Homb","Homburg (Saar)","DE"]
[211001883,2035,"NEDSCHROEF PLETT","PLETTENBERG","DE"]
[211001884,2036,"ThyssenK Homburg","HOMBURG","DE"]
[211001886,2038,"NEDSCHROEF SAARL","SAARLOUIS","DE"]
[211001888,2039,"Martinrea Mesche","MESCHEDE","DE"]
[211002438,2040,"Polytec Voerde","VOERDE","DE"]
[211004947,2042,"3K Warner Turbosystems Gm","Kirchheimbolanden","DE"]
[211001894,2043,"R Bosch Salzgitt","SALZGITTER","DE"]
[211001895,2044,"Bosch Schwieberd","SCHWIEBERDINGEN","DE"]
[211001896,2045,"Bosch Goettingen","Göttingen","DE"]
[211905137,2046,"FAURECIA E.C.T. GERMANY GMBH","Finnentrop","DE"]
[211004948,2047,"Federal Mogul Dresden Gmb","Dresden","DE"]
[211004359,2048,"Fondium Mettmann GmbH","METTMANN","DE"]
[211004949,2049,"Concentric Hof Gmbh","Hof","DE"]
[211900233,2050,"Fastenrath Befestigungste","PLETTENBERG","DE"]
[211004951,2051,"Webasto Thermo & Comfort","Neubrandenburg","DE"]
[211900057,2052,"Happich Gmbh","Velbert","DE"]
[211900593,2057,"ZF BOGE ELASTMETALL","DAMME","DE"]
[211001909,2058,"Litens Auto Geln","GELNHAUSEN","DE"]
[211900058,2059,"Dienstleistungs Und Logistic","Kirchberg","DE"]
[211900059,2061,"Strojmetal Aluminium Forging s.r.o.","Kamenice","CZ"]
[211002459,2063,"FICOSA WOLFENBUE","Wolfenbüttel","DE"]
[211002463,2064,"SKF Hockenh","HOCKENHEIM","DE"]
[211004957,2065,"Federal-Mogul Friedberg","Friedberg","DE"]
[211900060,2066,"Linden Gmbh","Lüdenscheid","DE"]
[211002467,2068,"Thordsen Hamburg","HAMBURG","DE"]
[211002468,2069,"Federal-Mogul Bremsbelag GMBH","GLINDE","DE"]
[211905895,2070,"Werner Keppeler","Schongau","DE"]
[211001922,2071,"Carl Walt Wupper","WUPPERTAL","DE"]
[211001925,2072,"Schmitter Thuen","Thüngen","DE"]
[211002471,2073,"Gerflor St-Loup","SAINT-LOUP","FR"]
[211003456,2074,"H Ror Middelfart","MIDDELFART","DK"]
[211905411,2076,"Continental Automotive GmbH","Bebra","DE"]
[211002472,2077,"Eaton Trucks Components Spolka","Tczew","PL"]
[211002473,2078,"CONTINENTAL ADRSPACH","Horní Adrspach","CZ"]
[211900665,2079,"BLG Logistics Solutions","EISENACH","DE"]
[211002475,2080,"Hydraf Brimingh","BIRMINGHAM","GB"]
[211900594,2081,"EMONS SPEDITION","VILLINGEN","DE"]
[211002470,2083,"Knorr Bremse Aldersb","ALDERSBACH","DE"]
[211001941,2085,"Auto K Gundelshe","GUNDELSHEIM","DE"]
[211001942,2086,"K Automob Lippst","LIPPSTADT","DE"]
[211905462,2087,"Mubea Tellerfedern GmbH","Daaden","DE"]
[211001947,2088,"ZF LEMF STEMWED","STEMWEDE/DIELINGEN","DE"]
[211001950,2090,"Technom Dietram","DIETRAMSZELL","DE"]
[211001954,2093,"Mahle Rottweil","ROTTWEIL","DE"]
[211004964,2095,"Neumayer Tekfor Gmbh","Hausach","DE"]
[211905677,2096,"Mahle Ventiltrieb GmbH","Eislingen/Fils","DE"]
[211904690,2098,"Bharat CDP","Gevelsberg","DE"]
[211001960,2099,"Mann + Hummel GmbH","Ludwigsburg","DE"]
[211002411,2100,"Mann&Hummel Ludw","MARKLKOFEN","DE"]
[211002409,2101,"Mann&Hummel Ludw","SPEYER","DE"]
[211005326,2103,"VCE CHANGWON","Incheon","KR"]
[211004965,2104,"Georg Fischer Gmbh","Leipzig","DE"]
[211001965,2106,"Muendener Oberwe","OBERWESER","DE"]
[211001966,2107,"Muendener Oberwe","Hannoversch Münden","DE"]
[211001969,2109,"Joyson Safety Systems Aschaffenburg","ASCHAFFENBURG","DE"]
[211001970,2110,"Sped Allg NeuUlm","Neu-Ulm","DE"]
[211005830,2111,"Chaparral Boats (Aba)","Nashville","US"]
[211005831,2112,"Aba/Cobalt","Neodesha","US"]
[211003326,2113,"EDSCHA HENGERSBE","HENGERSBERG","DE"]
[211905823,2114,"Auria Solutions GmbH","HAMBURG","DE"]
[211001972,2115,"FTE EBERN","EBERN","DE"]
[211001973,2116,"R Bosch Kandel","KANDEL","DE"]
[211001977,2120,"J Borgers Dingd","DINGDEN","DE"]
[211001979,2121,"A RAYMOND WEIL","WEIL AM RHEIN","DE"]
[211001980,2122,"Seeger Koeningst","Königstein","DE"]
[211002399,2124,"W Hundh Schwert","SCHWERTE","DE"]
[211004160,2125,"FAIST WORMS","WORMS","DE"]
[211001987,2126,"Maweco Gmbh & Co. Kg","SCHMALLENBERG","DE"]
[211002479,2127,"Carl Geisen Gmbh","Trier","DE"]
[211001993,2129,"FEDERAL WIESBAD","WIESBADEN","DE"]
[211001995,2130,"KS Kolb Neckar","NECKARSULM","DE"]
[211001999,2133,"Siepmann Warste","WARSTEIN-BELECKE","DE"]
[211900194,2136,"Lila Logistik Mueller","Talheim","DE"]
[211002400,2138,"Valeo Wis Krona","KRONACH","DE"]
[211002481,2139,"Vetter Burbach","BURBACH/SIEGEN","DE"]
[211002008,2141,"Tempo Remsch","REMSCHEID","DE"]
[211904939,2143,"Voith Turbo Gmbh &Co. KG","Garching bei München","DE"]
[211003600,2144,"Continent Gifhor","GIFHORN","DE"]
[211002407,2145,"Federal-Mogul Vavetrain","BLUMBERG","DE"]
[211903765,2146,"AMTHOR-LOGISTIK","SCHWEINFURT","DE"]
[211904622,2148,"Schlemmer GmbH","Hassfurt","DE"]
[211002408,2149,"Continent Regens","KARBEN","DE"]
[211905357,2150,"CONTINENTAL AUTOMOTIVE GMBH","DORTMUND","DE"]
[211002019,2151,"Haldex Heidelb","HEIDELBERG","DE"]
[211002021,2153,"GKN Sint B Brue","Bad Brückenau","DE"]
[211002022,2154,"Schaeffl Hombu","HOMBURG","DE"]
[211004970,2155,"Borg-Warner Cooling Syst","Markdorf","DE"]
[211003404,2156,"Musashi Bockenau GmbH Co. KG.","BAD SOBERNHEIM","DE"]
[211905835,2157,"Musashi Bockenau GmbH Co. KG.","Bockenau","DE"]
[211002025,2158,"KACO Heilbron","HEILBRONN","DE"]
[211002026,2159,"Has & Wre Berlin","BERLIN","DE"]
[211002027,2160,"R. A. Hessmer GmbH & Co. KG","PLETTENBERG","DE"]
[211904068,2162,"Wabco Log Langen","LANGENHAGEN","DE"]
[211900195,2163,"Johann Mader Lager Gmbh","Heidelberg","DE"]
[211905768,2164,"HEWI G. Winker GmbH & Co. KG","Spaichingen","DE"]
[211002030,2165,"Mahle Gaildorf","GAILDORF","DE"]
[211905956,2166,"J.M Voith Se & Co. Kg | VTA","Garching bei München","DE"]
[211900207,2167,"Zf Friedrichshafen Ag","Friedrichshafen","DE"]
[211900678,2168,"Bosch Automotive Steering","Schwäbisch Gmünd","DE"]
[211900208,2169,"ZF FriedrichshafenAG ZF Aftermarket","Friedrichshafen","DE"]
[211002042,2171,"Maschinenfab Neu","NEUTRAUBLING","DE"]
[211002047,2173,"ZF SACHS AG","SCHWEINFURT","DE"]
[211001858,2174,"Stab Koblenz","Koblenz am Rhein","DE"]
[211002414,2175,"ZF FRIED SIMMERN","BIELEFELD","DE"]
[211002049,2177,"Mekoprint Stovri","Støvring","DK"]
[211002486,2178,"Trell Gartringen","Gärtringen","DE"]
[211002052,2179,"Jydsk aluminium Industri","HERNING","DK"]
[211002055,2183,"AVK-Tool Saeby","Sæby","DK"]
[211002054,2184,"GPV Elb El Aars","AARS","DK"]
[211005183,2185,"E G R Uk Ltd","Milton Keynes","GB"]
[211004574,2189,"Ceva Freight Belgium Nv","Zaventem","BE"]
[211900238,2190,"Nissens Slovakia, S.R.O.","Cachtice","SK"]
[211002060,2191,"V Birn Holstebro","HOLSTEBRO","DK"]
[211002061,2192,"DANIA AARS","AARS","DK"]
[211002067,2194,"ZKW Lichtsysteme GmbH","WIESELBURG","AT"]
[211903990,2196,"Saf-Holland GmbH","Singen","DE"]
[211001490,2197,"VOLVO PARTS AUSTRIA","BRUCK AN DER LEITHA","AU"]
[211004564,2198,"Volvo Truck Dealer Austri","Vienna","AT"]
[211002072,2203,"Wema System","BLOMSTERDALEN","NO"]
[211005832,2204,"Woodco Machinery","Woburn","US"]
[211002225,2205,"LRN Tran Raufoss","RAUFOSS","NO"]
[211002075,2207,"Blowtechgt As","Kongsvinger","NO"]
[211002076,2209,"Gyli Plast Sogne","SOGNE","NO"]
[211002494,2210,"Comtech Darra","Darra","AU"]
[211903892,2211,"Bewi Packaging AB","Urshult","SE"]
[211002078,2212,"DEFA AS","NESBYEN","NO"]
[211005833,2213,"Housby Mack, Inc.","Des Moines","US"]
[211002079,2214,"Mandal Mask Mand","MANDAL","NO"]
[211005834,2216,"Tri-State Truck & Equipme","Billings","US"]
[211002080,2218,"Kberg Auto Hvitt","HVITTINGFOSS","NO"]
[211900063,2219,"Vanguard Truck Service Of","Houston","US"]
[211005836,2220,"Tri-State Truck & Equipme","Casper","US"]
[211004294,2222,"KH Emb Vretstorp","VRETSTORP","SE"]
[211001520,2224,"H Trakon Halling","Hällingsjö","SE"]
[211005838,2226,"Medallion Instrumentation","Spring Lake","US"]
[211900064,2228,"Meccanica Italiana","Altedo","IT"]
[211900065,2229,"Componenta Finland Oy Hog","Karkkila","FI"]
[211002089,2232,"Teknikum Oy, Vammala","VAMMALA","FI"]
[211004593,2235,"Hutchinson Aerospace","Montréal, Qc","CA"]
[211002092,2236,"Reka Aura","AURA","FI"]
[211002093,2239,"Hella Salo","SALO","FI"]
[211906065,2240,"Tube Caron Inc","Lanoraie","CA"]
[211900239,2241,"Componenta Pori Oy","Pori (Björneborg)","FI"]
[211904983,2242,"Wohlwend Transport AG","Bendern-Gamprin","LI"]
[211905518,2244,"Mondi Brussels South SA","Ghislenghien","BE"]
[211906083,2245,"BCS Automotive Interface","Benesov","CZ"]
[211005411,2246,"Treko Laser Sp. Z O.O.","Skawina","PL"]
[211002514,2248,"SPAL Correggio","CORREGGIO","IT"]
[211005270,2249,"Meritor Hvs Cameri S.P.A.","Cameri","IT"]
[211002503,2251,"TI Autom Cislia","CISLIANO","IT"]
[211002504,2252,"GKN Drivel Bruni","Brunico","IT"]
[211002505,2253,"Corcos Pinerolo","PINEROLO","IT"]
[211002105,2254,"ZF PADOVA CASELL","Caselle","IT"]
[211002107,2255,"Sts Acoustics","Desio","IT"]
[211001491,2256,"VOLVO PARTS ITALIA","ANZOLA DELL'EMILIA","IT"]
[211002110,2257,"SK Wellm Orzinu","ORZINUOVI","IT"]
[211002510,2259,"ZF PADOVA CASELL","ARCO","IT"]
[211002516,2262,"DAYCO EUR TORINO","TORINO","IT"]
[211002111,2263,"Ruspa Robassom","ROBASSOMERO","IT"]
[211002497,2264,"DANA ITALIA CRES","CRESCENTINO","IT"]
[211002518,2265,"ALA Pozzolengo","POZZOLENGO","IT"]
[211001639,2266,"Power Pac Olden","OLDENZAAL","NL"]
[211004169,2269,"Voestalpine Automot. Comp.","BUNSCHOTEN","NL"]
[211002279,2272,"VDL Castings Heerlen bv","Heerlen","NL"]
[211001645,2273,"NEDSCHROEF HELM","HELMOND","NL"]
[211005271,2274,"Johnson Electric Asti Srl","Asti","IT"]
[211002018,2276,"DONALDSON DUELME","Dülmen- Dernekamp","DE"]
[211001711,2277,"Tenneco Truiden","Sint-Truiden","BE"]
[211002063,2278,"Continent Ruti","Rüti","CH"]
[211900981,2279,"Sigloch Distribution k.s.","Horsovsky Tyn","CZ"]
[211002130,2280,"FUNDINIO SENHORA","SENHORA DA HORA","PT"]
[211005839,2282,"Jaco Manufacturing Compan","Berea","US"]
[211004189,2283,"AQ Special Sheet Metal AB","PÅLSBODA","SE"]
[211900198,2284,"Smarteq AB c/o Veddesta Dist","Rosersberg","SE"]
[211001512,2285,"Kungsors Pl Ksor","Kungsör","SE"]
[211005527,2286,"Frontpac","Arlöv","SE"]
[211004596,2287,"Strongco Limited Partners","Laval, Qc","CA"]
[211004597,2288,"Strongco Limited Partners","Chicoutimi, Qc","CA"]
[211004598,2289,"Strongco Limited Partners","Saint-Augustin-","CA"]
[211004599,2290,"Strongco, Inc.","Val D Or, Pq, C","CA"]
[211900292,2291,"Jab Logistik","Göteborg","SE"]
[211005840,2292,"Ballard Truck Center FRMRLY McDevitt","Tewksbury","US"]
[211905083,2293,"Modern Drop Forge Company, LLC","Rockford","US"]
[211005435,2294,"VOLVO PARTS ROMANIA","Bucharest","Volvo EMEA2"]
[211005842,2296,"Mcallister Equipment Comp","Alsip","US"]
[211002140,2299,"Samekab Kungalv","Kungälv","SE"]
[211905588,2300,"Centre de Production Laflamme Inc.","Sainte-Claire","CA"]
[211004601,2301,"Plastique Art Limitée","Sainte-Claire,","CA"]
[211007279,2302,"VOLVO TRUCKS KALUGA","KALUGA","RU"]
[211004789,2304,"Shandong Lingong parts & components","Linyi","CN"]
[211002524,2309,"SCMR Villeurb","VILLEURBANNE","FR"]
[211001326,2311,"AD-All Tranås","Tranås","SE"]
[211002526,2312,"Scoma La Loupe","LA LOUPE","FR"]
[211002527,2313,"ZF EGER","EGER","HU"]
[211002528,2314,"Kendrion (Markdorf) GmbH","MARKDORF","DE"]
[211005845,2315,"Highway Equipment & Suppl","Harrisburg","US"]
[211005846,2319,"Prevost Car Inc. (Texas)","Fort Worth","US"]
[211002530,2320,"Instytu J-Laskow","JELCZ-LASKOWICE","PL"]
[211005847,2321,"Arnold Machinery Company","Tucson","US"]
[211005848,2322,"Arnold Machinery Company","Elko","US"]
[211005849,2323,"Chadwick-Baross, Inc.","Westbrook","US"]
[211005850,2324,"Chadwick-Baross, Inc.","Bangor","US"]
[211005851,2325,"Chadwick-Baross, Inc.","Caribou","US"]
[211005852,2326,"Hugg And Hall Equipment Compan","El Dorado","US"]
[211005853,2327,"Clarklift Of Arkansas, In","Springdale","US"]
[211005854,2328,"Clarklift Of Arkansas, In","Fort Smith","US"]
[211005855,2329,"Hugg & Hall Equipment","Little Rock","US"]
[211005856,2330,"G W Van Keppel Company","Springfield","US"]
[211005857,2331,"G W Van Keppel Company","Oklahoma City,","US"]
[211005858,2332,"G W Van Keppel Company","Tulsa","US"]
[211005859,2333,"G W Van Keppel Company","Kansas City","US"]
[211005860,2334,"Malvese Equipment Co., In","Hicksville","US"]
[211005861,2335,"Malvese Equipment Co., In","Riverhead","US"]
[211005862,2336,"Asc Construction Equipmen","Knoxville","US"]
[211005863,2337,"Vantage Equipment","Syracuse","US"]
[211005864,2338,"Mcclung Logan Equipment","Baltimore","US"]
[211005865,2339,"Mcclung-Logan Equipment","Manassas","US"]
[211005866,2340,"Power Equipment Company","Grand Junction,","US"]
[211005867,2341,"Road Machinery & Supplies","Savage","US"]
[211005868,2342,"Road Machinery & Supplies","Virginia","US"]
[211005869,2343,"Romco Equipment Company","San Antonio","US"]
[211005870,2344,"Romco, Inc.","Round Rock","US"]
[211005871,2345,"Romco, Inc.","Longview","US"]
[211005872,2346,"Romco Equipment Company","Houston","US"]
[211005873,2347,"Sheehan Mack Sales & Equi","Sioux Falls","US"]
[211005874,2348,"Sheehan Mack Sales & Equi","Aberdeen","US"]
[211005875,2349,"Sheehan Macksheehan Mack","Rapid City","US"]
[211004602,2350,"Strongco, Inc.","Kitchener, On,","CA"]
[211004603,2351,"Strongco Limited Partners","Grimsby, On","CA"]
[211005876,2352,"Golden Equipment","Farmington","US"]
[211005877,2353,"Tri-State Truck & Equipme","Great Falls","US"]
[211005878,2354,"Woodco Machinery Inc.","Johnston","US"]
[211005879,2355,"Arnold Machinery Company","Sparks","US"]
[211005880,2356,"Chadwick-Baross, Inc","Concord","US"]
[211005881,2357,"Highway Equipment & Suppl","Drums","US"]
[211005882,2358,"L.B. Smith","Miami","US"]
[211005883,2359,"Romco, Inc.","Buffalo","US"]
[211005884,2360,"Romco Equipment Company","Dallas","US"]
[211002531,2361,"Voltex Lubin","LUBIN","PL"]
[211002532,2362,"Kiel Pol Nowy To","NOWY TOMYSL","PL"]
[211002535,2365,"AQ Wir Lodz","LODZ","PL"]
[211002537,2367,"CHROMAX ZAKLAD OBR.MET.","Jelcz Laskowice","PL"]
[211002539,2369,"BE Group Norrköp","Norrköping","SE"]
[211005885,2371,"Construction Machinery","Ketchikan","US"]
[211900325,2372,"Logisticky Areal Jipocar","Jihlava","CZ"]
[211005886,2375,"Mahle Behr Charleston Inc","Charleston","US"]
[211900067,2377,"Behr India Ltd","Chennai (ex Madras)","IN"]
[211905147,2379,"THK Rhythm Auto GmbH","Krefeld","DE"]
[211001309,2381,"INM Mek Vfrol","Västra Frölunda","SE"]
[211004604,2382,"Return Products Managemen","Guelph, Ontario","CA"]
[211003770,2383,"NILSSON S LAHOLM","LAHOLM","SE"]
[211002547,2384,"Mobile Clim Olaw","OLAWA","PL"]
[211905488,2385,"GROUPE JL INC","STE-CROIX","CA"]
[211003464,2386,"Mondi Ansbach","ANSBACH","DE"]
[211004606,2387,"Verbom, Inc","Valcourt, Qc","CA"]
[211004607,2388,"Les Industries Et Équipem","Sainte-Claire,","CA"]
[211005888,2389,"Romco, Inc.","Fort Worth","US"]
[211004608,2390,"Strongco Limited Partners","Lively, On","CA"]
[211004609,2391,"Strongco Limited Partners","Stittsville, On","CA"]
[211004610,2392,"Strongco Limited Partners","Thunder Bay, On","CA"]
[211004611,2393,"Strongco, Inc.","Timmins, On, Ca","CA"]
[211004612,2394,"Monarch Industries","Winnipeg, Mb","CA"]
[211005341,2395,"Zf Suspension Technology","Guadalajara, Me","MX"]
[211002548,2396,"AKWEL RUDNIK CZECH REPUBLIC a.s.","Trutnov","CZ"]
[211005238,2397,"Lakshmi Precision Screws Limit","Rohtak","IN"]
[211005889,2399,"Asc Construction Equipmen","Arden","US"]
[211002554,2400,"Auto-Termo Gradd","Gräddö","SE"]
[211005890,2401,"Highway Equipment & Suppl","Ephrata","US"]
[211005891,2402,"Crw Corp.","Williston","US"]
[211005892,2403,"Sapa Extruder Inc.","Mountain Top","US"]
[211005893,2404,"G W Van Keppel Company","Wichita","US"]
[211002555,2405,"ELRING KL SEVELE","SEVELEN","CH"]
[211001493,2407,"Zao Vol Moscow","MOSCOW","RU"]
[211005894,2410,"Canada Lake Store And Mar","ALBANY","US"]
[211900599,2411,"PIROUX INDUSTRIE ST.ETIE","Saint-Étienne-du-Bois","FR"]
[211004877,2412,"Strojirny Poldi","Kladno-Dubi","CZ"]
[211003468,2414,"Arconic Fastening Systems & Rings","TELFORD","GB"]
[211900069,2415,"MUGELE Gmbh","Iggingen","DE"]
[211001549,2417,"Sha Sun Shanghai","SHANGHAI","CN"]
[211002775,2418,"E-tuna Data Mekan","Torshälla","SE"]
[211005895,2419,"Asc Construction Equipmen","Garner","US"]
[211002566,2420,"Bosch Rex Nonant","NONANTOLA","IT"]
[211002568,2421,"Multimatic Coven","COVENTRY","GB"]
[211005529,2424,"Ab Gunnar Pellvik","Falköping","SE"]
[211004790,2425,"Xian Silver Bus Corporatin","XIAN, SHAANXI","CN"]
[211002571,2426,"Vaxjo Fab Vaxjo","Växjö","SE"]
[211005896,2427,"Sierra International Inc.","Litchfield","US"]
[211005342,2428,"Mann+Hummel Mexico Sa De","Santa Rosa Jaur","MX"]
[211002576,2429,"RedDot Ipswich","IPSWICH","GB"]
[211005530,2430,"VOLVO POWERTRAIN SKÖVDE","Skövde","SE"]
[211002577,2431,"EBERSPACHER UK LTD","Ringwood","GB"]
[211905431,2432,"VOSS PL Returnables - RITEX","Legnickie Pole","PL"]
[211005531,2434,"Swecon","Mölndal","SE"]
[211003185,2435,"EGE GAZIEMIR","GAZIEMIR","TR"]
[211003186,2436,"EGE FREN SANAYİİ VE TİCARET A.Ş","PINARBASI","TR"]
[211005430,2437,"Inapal Plásticos S.A.","Leça Do Balio","PT"]
[211903955,2438,"2A Villastellone","VILLASTELLONE","IT"]
[211005129,2439,"Fichet Sa","Davézieux","FR"]
[211002583,2440,"Brandolini Corba","CORBAS","FR"]
[211002584,2441,"Avon Polym Beaul","Beaulieu-lès-Loches","FR"]
[211905471,2444,"STS Plastics Izernore","Izernore","FR"]
[211004880,2445,"Volvo Truck Dealer Czech","Czech Republic","CZ"]
[211005131,2446,"Fichet Sa","Saint-Marcel-lès-Annonay","FR"]
[211002590,2447,"Marmonier Corbas","CORBAS","FR"]
[211002737,2448,"Mitsub Marly-La","MARLY-LA-VILLE","FR"]
[211903936,2449,"Plateforme logis Gantois","Gevigney-et-Mercey","FR"]
[211002592,2450,"vR Production","NUELLES","FR"]
[211005897,2451,"Construction Machinery","Bakersfield","US"]
[211003017,2454,"Sandb Mek Fagrst","FAGERSTA","SE"]
[211002702,2457,"La Fonte Yssing","YSSINGEAUX","FR"]
[211002597,2458,"Tenneco Ermua","Ermúa","ES"]
[211003039,2459,"NOVACORE GAMLEBY","GAMLEBY","SE"]
[211002600,2460,"Autoneum Estress","Ons-en-Bray","FR"]
[211005898,2461,"Mattos Marine Diesel Serv","Fort Myers","US"]
[211002708,2462,"MGI Cout Beaurep","BEAUREPAIRE","FR"]
[211004881,2463,"Federal Mogul","Kostelec nad Orlicí","CZ"]
[211002607,2465,"Voss Automotive Us","Fort Wayne","US"]
[211002609,2466,"Coram Cologne","COLOGNE","IT"]
[211002612,2468,"GEHIBER MACHINED COMPONE","BERGARA","ES"]
[211005133,2469,"Mahle France Sas","Dardilly","FR"]
[211002613,2470,"Cindi Habsheim","HABSHEIM","FR"]
[211002614,2471,"AB Fonderie","Saint-Genis-Laval","FR"]
[211002615,2472,"Seeb Duchene Machining","RUY","FR"]
[211900600,2473,"HELLERMANNTYTON","Coignières","FR"]
[211005134,2474,"Mont blanc composite","Chambéry","FR"]
[211003126,2476,"MAT Commercial","MARIENHEIDE","DE"]
[211002621,2477,"Le Joint St Geni","Saint-Genis-l'Argentière","FR"]
[211005070,2478,"Casple S.A.","Burgos","ES"]
[211005899,2480,"Laytons Custom Boatworks","WILLIAMSTON","US"]
[211002625,2482,"RMG Cluses","CLUSES","FR"]
[211002626,2483,"ETS PIERRE DOLE","DOLE","FR"]
[211005136,2485,"Norma France Sas","Briey","FR"]
[211005137,2486,"Delfingen Fr-Anteuil","Anteuil","FR"]
[211002630,2487,"STE Mec ThironG","THIRON-GARDAIS","FR"]
[211002631,2488,"Orscheln E Rugby","RUGBY","GB"]
[211900601,2494,"GROUPE DLD ST.OUEN","Saint-Ouen-l'Aumône","FR"]
[211002638,2495,"RBL Chateaubri","Châteaubriant","FR"]
[211002639,2496,"Muelles Villarre","VILLARREAL","ES"]
[211905136,2497,"Forgex France Sas","Nogent","FR"]
[211002640,2499,"Hombert Industrie Sas","Ormes","FR"]
[211002643,2500,"Valvital Aglie","Agliè","IT"]
[211002644,2501,"Linamar St Chamond","Saint-Chamond","FR"]
[211002648,2503,"RotoFr Blainv","Blainville-sur-Orne","FR"]
[211005103,2506,"Dealers Finland/Suomi Pun","Vantaa","FI"]
[211002652,2507,"Lord It Monzamb","MONZAMBANO","IT"]
[211906320,2508,"Vodafone Automotive SPA","Varese","IT"]
[211004883,2509,"Frauenthal Automotive Hus","Hustopece U Brna","CZ"]
[211002911,2511,"SNOP Cousance","COUSANCE","FR"]
[211904980,2512,"Automotive Lighting S.R.O.","Jihlava","CZ"]
[211005901,2515,"Worldwide Eqpt Inc-Middle","Middlesboro","US"]
[211005185,2517,"Volvo Trucks Dealers Ltd","","GB"]
[211005532,2518,"Volvo Parts Dealers","","GB"]
[211002658,2519,"Sofare Argente","ARGENTEUIL","FR"]
[211005140,2521,"CAT LC France","Gennevilliers","FR"]
[211001559,2522,"GAK Mek Torsh","Torshälla","SE"]
[211005902,2523,"Metaldyne Powertrain Comp","Litchfield","US"]
[211005903,2524,"MEC Greenwood","Greenwood","US"]
[211005904,2525,"Supply Technologies, Llc.","Allentown","US"]
[211002661,2526,"Gnutti Maclodio","MACLODIO","IT"]
[211005905,2527,"Defiance Metal","Defiance","US"]
[211005906,2528,"Brentwood Industries","Reading","US"]
[211004613,2529,"Mancor Canada Inc.","Oakville, On","CA"]
[211002664,2530,"Talleres Parla","PARLA","ES"]
[211004614,2531,"Mack Ste Foy Inc","Sainte Foy, Qc","CA"]
[211005436,2536,"S.C. Romradiatoare S.A.","Brasov","RO"]
[211002669,2538,"Alutech Lend","LEND","AT"]
[211002670,2539,"Federal-Mogul Nurnberg","Nürnberg","DE"]
[211002672,2540,"Groenv Cassago","CASSAGO BRIANZA","IT"]
[211002318,2541,"Visteon Blainvi","Blainville-sur-Orne","FR"]
[211002299,2542,"Autoneum Colombelles","COLOMBELLES","FR"]
[211904101,2544,"Baltic Liepaja","LIEPAJA","LV"]
[211002675,2545,"Setforge Ex L Ho","L'Horme","FR"]
[211002703,2546,"SED La Fleche","La Flèche","FR"]
[211002676,2547,"Thermal Thouarce","Thouarcé","FR"]
[211007314,2548,"Soc. de Cautchouc","SERAINCOURT","FR"]
[211002709,2549,"MGI Cout Beaurep","ROMANS","FR"]
[211900300,2550,"S T P","Nolay","FR"]
[211002704,2551,"La Fonte Savigny","SAVIGNY","FR"]
[211002679,2552,"SIAP Savigny","SAVIGNY","FR"]
[211002680,2553,"SAG L Horme","L'Horme","FR"]
[211003480,2554,"Bourbon AP Belle","Bellême","FR"]
[211900603,2556,"Kirchhoff AUTO Gmbh","ATTENDORN","DE"]
[211002685,2558,"DOURDIN ST ANDRE","Saint-André-lez-Lille","FR"]
[211900604,2559,"VOLVO PARTS FLEN/32992","FLEN","SE"]
[211005058,2560,"Uncoded Estonia","Tallin","EE"]
[211005336,2561,"Uncoded Latvia","Riga","LV"]
[211005331,2562,"Uncoded Lithuania","Vilnius","LT"]
[211005907,2564,"Superior Diesel Inc","North Charleston","US"]
[211005908,2565,"M.G. Bryan Equipment Co.","Dallas","US"]
[211002686,2568,"G Europe Bonneva","BONNEVAL","FR"]
[211002687,2569,"Cab Mecan","LES VILLETTES","FR"]
[211002688,2570,"Bontaz Marnaz","MARNAZ","FR"]
[211002689,2571,"Gosselin Carpiq","CARPIQUET","FR"]
[211002690,2572,"DI BARTOLOMEO SA","Saint-Étienne","FR"]
[211002691,2573,"Gouil Gau Corbas","CORBAS","FR"]
[211005072,2574,"Truck Dealers Espana","Madrid","ES"]
[211001494,2575,"VOLVO PARTS SPAIN","AZUQUECA DE HENARES","ES"]
[211002705,2578,"JOLY L Arbresele","L'ARBRESLE","FR"]
[211002693,2579,"DESAUTEL MEYZIEU","MEYZIEU","FR"]
[211002695,2580,"Off Mecc Vbasse","VILLARBASSE","IT"]
[211002696,2581,"Cornaglia Bielsk","BIELSKO-BIALA","PL"]
[211002682,2582,"EUROSTAMP CHIVAS","Chivasso","IT"]
[211005141,2583,"Charvin Industries","Le Chambon-Feugerolles","FR"]
[211005142,2587,"Styl Monde S A","Priay","FR"]
[211005144,2589,"Jacquemet Sa","Saint-Martin-du-Frêne","FR"]
[211002711,2591,"Bendex Hyltebruk","HYLTEBRUK","SE"]
[211004133,2592,"EDSCHA GUARNIZO","GUARNIZO","ES"]
[211005343,2593,"Usk International S.A. De C.V.","Cuautitlán Edo.","MX"]
[211005910,2594,"Sapa Extrusions","Cressona","US"]
[211003482,2596,"Alv Galv Alvesta","ALVESTA","SE"]
[211003483,2597,"Rasche Plettenb","PLETTENBERG","DE"]
[211005911,2598,"Hardware Specialty","Blackwood","US"]
[211005912,2599,"Kms Fab, Llc","Luzerne","US"]
[211005913,2600,"L.E. Jones Company","Menominee","US"]
[211005914,2601,"James King & Co","Sherwood","US"]
[211005915,2602,"Thyssen Krupp Crankshaft","Danville","US"]
[211005916,2603,"Mancor-Pa Inc.","Allentown","US"]
[211005917,2604,"Easley Custom Plastics","Easley","US"]
[211001565,2605,"EKETS MEK EKET","EKET","SE"]
[211005918,2606,"Reliable Castings Corp.","Sidney","US"]
[211005920,2608,"Derby Industries Llc","Allentown","US"]
[211005921,2609,"Vehicle Safety Mfg","Newark","US"]
[211005922,2610,"Victoria Plating","Bronx","US"]
[211005344,2611,"Eaton Reynosa","Reynosa, Tamp","MX"]
[211005923,2612,"T.B. Woods Inc.","Chambersburg","US"]
[211002714,2613,"Vision Sys Brign","BRIGNAIS","FR"]
[211005924,2614,"Transource, Inc.","Colfax","US"]
[211005535,2615,"Abb Ab, Cewe-Control","Nyköping","SE"]
[211005925,2616,"Eaton Corp","Galesburg","US"]
[211005926,2617,"Hehr International","Chesaning","US"]
[211005928,2619,"C.U.E. Of Wv, Llc","Mount Hope","US"]
[211000224,2620,"Carrus Delta Oy","LIETO","FI"]
[211004615,2622,"Redhead Equipment","Regina, Sk","CA"]
[211005929,2623,"Mitchell Rubber Products","Mira Loma","US"]
[211003484,2625,"H Plastind Hsand","Härnösand","SE"]
[211900070,2626,"Volvo Bus Corporation","Zingonia","IT"]
[211005536,2627,"Volvo Parts Corporation","","IT"]
[211005930,2628,"Parker Hannifin Co.","Ravenna","US"]
[211005931,2629,"Marine Diesel Of The Flor","Key West","US"]
[211906012,2631,"Specialty Resources Inc","Exton","US"]
[211005934,2634,"Tucker Industries","Bensalem","US"]
[211002717,2635,"Meccanica Bresci","BRESCIA","IT"]
[211005075,2636,"Fiberpachs Sa","Pacs Del Penedes","ES"]
[211002719,2637,"Modine Hungaria Kft","MEZOKOVESD","HU"]
[211905026,2638,"ZF Lemforder TVA S.A.","Ermúa ","ES"]
[211005226,2639,"Vibracoustic Cv Air","Nyíregyháza","HU"]
[211002723,2640,"Comela Sain-Bel","SAIN-BEL","FR"]
[211002724,2641,"Timpro Oy","LIETO","FI"]
[211904987,2642,"SMA SERBATOI SPA","SAN SECONDO PARMENSE","IT"]
[211002726,2643,"ARCELORMITTAL SOLU ARN","Villefranche-sur-Saône","FR"]
[211002850,2644,"GM&S Industry France","LA SOUTERRAINE","FR"]
[211005935,2645,"Truck Lite Co., Inc.","Falconer","US"]
[211002728,2646,"Hombert SAS Ormes","ORMES","FR"]
[211002730,2647,"Albion Glasgow","GLASGOW","GB"]
[211002731,2648,"Vibracoustic Sroda","SRODA SLASKA","PL"]
[211900071,2649,"Daido Metal Co, Ltd.","Oguchi-Cho","JP"]
[211005936,2650,"Rudd Equipment","Nitro","US"]
[211004616,2652,"Automotion Shade","Markham, On","CA"]
[211002739,2655,"ELKAMET DAUTPHET","DAUTPHETAL","DE"]
[211004617,2656,"Dieters Metal Fab Ltd-Cad","Cambridge, On","CA"]
[211005938,2658,"Donaldson Company Inc","Frankfort","US"]
[211005939,2659,"Donaldson Company Inc","Rensselaer","US"]
[211005940,2660,"Donaldson","Chillicothe","US"]
[211002741,2661,"S Ing Sand Bresc","BRESCIA","IT"]
[211002743,2662,"Hutchins Ingrand","Ingrandes","FR"]
[211007297,2663,"BANG & OLUFSEN Struer","Struer","DK"]
[211906133,2664,"Kamax Museros","Museros","ES"]
[211005941,2670,"Pulverman","Dallas","US"]
[211005942,2672,"Mitsubishi Electric Automotive","Huntington Beach","US"]
[211005538,2673,"Ferrocon Ab","Skövde","SE"]
[211900576,2674,"KUEHNE+NAGEL","LANGWEID","DE"]
[211005649,2676,"Volvo Truck Dealer Slovak","Slovakia","SK"]
[211005650,2678,"Boge Elastmetall Slovakia A.S.","Trnava","SK"]
[211900072,2679,"Officine Zen Fonderie by Officin","Zeno di Cassola VI","IT"]
[211004983,2680,"Aventics Gmbh","Laatzen","DE"]
[211000084,2681,"VOLVO PENTA VARA","VARA","SE"]
[211002768,2683,"NAMYANG TAEGU","Daegu","KR"]
[211005945,2688,"Mahle Behr Service Americ","Fort Worth","US"]
[211005946,2689,"Durable Products Inc","Crossville","US"]
[211900605,2697,"SOTAVI P/C SERATA","Le Poiré-sur-Vie","FR"]
[211002117,2701,"VOLVO PARTS MINTO","MINTO","AU"]
[211003491,2702,"AP Rac Ceventry","COVENTRY","GB"]
[211900302,2705,"Facil & Cie Gcv","Colombelles","FR"]
[211005228,2707,"Volvo Truck Dealers","Hungary","HU"]
[211003189,2708,"Brembo Dabrowa","DABROWA GORNICZA","PL"]
[211005947,2709,"Norma Pennsylvania - Bree","Saltsburg","US"]
[211005539,2710,"Målerås Mekaniska Ab","Målerås","SE"]
[211905428,2712,"Forgex Sweden AB","Virsbo","SE"]
[211003492,2713,"VOLVO MAROC MACAS","CASABLANCA","KD"]
[211002712,2714,"Stonerdg Harjum","HARJUMAA","EE"]
[211005948,2716,"Paladin Brands Group Inc.","Delhi","US"]
[211002794,2717,"Cornaglia Valfen","VALFENERA","IT"]
[211002995,2718,"Calearo Antenne Spa","Isola Vicentina","IT"]
[211002796,2719,"Beinbauer Autom GmbH","Büchlberg","DE"]
[211002798,2720,"Cikautxo S.Coop","Berriatúa","ES"]
[211905889,2721,"Sansera Sweden AB","Trollhättan","SE"]
[211903901,2723,"La Fonte Ardennaise","Vrigne aux Bois","FR"]
[211005949,2724,"Intercoastal Marine Servi","Marco Island","US"]
[211903768,2730,"Canavera & Audi S.R.L","CAFASSE","IT"]
[211001596,2731,"Wedevag Vedevag","Vedevåg","SE"]
[211001597,2732,"Sprut&Bran Etuna","ESKILSTUNA","SE"]
[211001598,2733,"Mikroverk Södert","Södertälje","SE"]
[211002812,2734,"BRB Ittervoort","ITTERVOORT","NL"]
[211005052,2735,"Nordsjällands Metalstöber","Skævinge","DK"]
[211003823,2737,"Stegoplast Nykpg","Nyköping","SE"]
[211004619,2738,"Rene Composite Materials","Ste-Clotilde De","CA"]
[211004244,2739,"RECARO Automotive Seating GmbH","KIRCHHEIM/TECK","DE"]
[211900327,2741,"Zamet S.R.O","Halenkov","CZ"]
[211002264,2742,"YTSTR ARBOGA","ARBOGA","SE"]
[211002818,2743,"Griptone Manchester","MANCHESTER","GB"]
[211900606,2744,"EXPECT DISTR. BRADF","BRADFORD","GB"]
[211005950,2745,"Midwest Fuel Injection Co","Bolingbrook","US"]
[211002821,2746,"Brose Gent","GENT","BE"]
[211002824,2748,"Vimi Fast Novell","NOVELLARA","IT"]
[211002825,2749,"Centa Ängelholm","Ängelholm","SE"]
[211002740,2750,"Infun Utrillas","UTRILLAS","ES"]
[211003021,2752,"Actia Nordic Ab","Sollentuna","SE"]
[211005951,2755,"Husco Automotive Llc","Whitewater","US"]
[211005345,2756,"Autopartes Escel De Mexic","Queretaro, Qu","MX"]
[211002999,2758,"Borgstena Nelas","NELAS","PT"]
[211905388,2760,"PTI","Detroit","US"]
[211002839,2763,"HK Tracks Wuxi","WUXI","CN"]
[211001608,2765,"Knagel Gothenb","Göteborg","SE"]
[211002841,2766,"EATON AUTO TCZEW","TCZEW","PL"]
[211002842,2767,"Valeo A Skawina","SKAWINA","PL"]
[211005346,2769,"AQ Wiring Systems SA","Tultitlan, Edo","MX"]
[211003496,2771,"Stalov Vetlanda","VETLANDA","SE"]
[211002845,2772,"DIDIMO ZAN CASAL","CASALECCHIO DI RENO","IT"]
[211005954,2773,"H&E Machined Specialties, Inc.","Fort Wayne","US"]
[211005955,2775,"Dex","Advance","US"]
[211002852,2778,"Inmotion Technologies Ab","Stockholm","SE"]
[211002853,2779,"Miba Vrable","VRABLE","SK"]
[211003333,2780,"Plst Comp Sosnow","SOSNOWIEC","PL"]
[211005956,2781,"Arens Controls Company","Arlington Heights","US"]
[211900073,2783,"Volvo Group Otomotiv Turk","Istanbul","Volvo EMEA1"]
[211003500,2785,"Fa Bhg Asz Kft","Szekszard","HU"]
[211002856,2786,"Prof Tech Stngsd","STENUNGSUND","SE"]
[211005438,2788,"Continental Automotive Romania Srl","Timisoara","RO"]
[211005957,2789,"Modine Manufacturing Comp","Trenton","US"]
[211900200,2790,"A. Raymond Gmbh & Co. Kg","Eschbach","DE"]
[211002861,2791,"DELPHI AUTO BRAG","BRAGA","PT"]
[211904710,2792,"SC LEONI Wiring Syst. ARAD","Arad","RO"]
[211002975,2795,"HAVD Group Interior Kft.","NAGYVAZSONY","HU"]
[211005076,2801,"Grupo Antolin - Dapsa","Burgos","ES"]
[211004792,2804,"Wuxi Muffler Technology C","Wuxi","CN"]
[211002869,2805,"VOLVO CE INDIA PRIVATE LIMITED","BANGALORE","IN"]
[211005960,2806,"Scott Construction Equipm","LEBANON","US"]
[211005961,2807,"Scott Construction Equipm","Baton Rouge","US"]
[211005962,2808,"Scott Construction Equipm","Saint Rose","US"]
[211005963,2809,"Scott Construction Equipm","Lake Charles","US"]
[211005964,2810,"Zf Steering Systems","Florence","US"]
[211004985,2811,"VCE HAMELN","Hameln","DE"]
[211002872,2813,"Cipax Eesti As","Taebla","EE"]
[211002873,2814,"Contitech Hedemu","WALTERSHAUSEN","DE"]
[211004885,2815,"Linden S.R.O","Hustopece","CZ"]
[211005965,2816,"A.B. Filicko","Baltimore","US"]
[211005966,2817,"Applied Industrial","Chambersburg","US"]
[211005968,2819,"Castle Machine Company","Greencastle","US"]
[211005969,2820,"Charles Machine, Inc.","Summerville","US"]
[211005970,2821,"Con-Tech International","Dundalk","US"]
[211005971,2823,"Cummins Engine Company In","Memphis","US"]
[211005972,2824,"Daniel Tanney Inc.","Bensalem","US"]
[211005973,2827,"Everyday Technologies","Sidney","US"]
[211005974,2831,"Mq Power Corporation","Rancho Dominguez","US"]
[211005975,2833,"Baltimore Mack Trucks","Linthicum","US"]
[211005976,2834,"Asc Construction Equipmen","Smyrna","US"]
[211005977,2835,"Asc Contstruction Equipme","Savannah","US"]
[211005978,2836,"Nuss Truck Group Inc","Roseville","US"]
[211005979,2837,"Nextran Truck Center Miam","Miami","US"]
[211005981,2842,"Romco Equipment Company","Mercedes","US"]
[211005982,2843,"Industrial Harness Compan","Shippensburg","US"]
[211005983,2844,"Penn-Jersey Machinery","Lionville","US"]
[211005984,2845,"Penn Jersey Machinery","Deptford","US"]
[211005985,2846,"Mcclung Logan Equipment C","Wise","US"]
[211005986,2847,"Mcclung Logan Equipment C","Glen Allen","US"]
[211005987,2848,"Mcclung Logan Equipment C","Chesapeake","US"]
[211005988,2849,"K Fab Inc.","Berwick","US"]
[211005989,2850,"Mcclung Logan Equipment C","Salem","US"]
[211005990,2851,"Kittatinny Manufacturing","Shippensburg","US"]
[211005991,2852,"Miller Welding & Machine","Brookville","US"]
[211005992,2853,"Nortech System","Bemidji","US"]
[211005995,2856,"Penn-Jersey Equipment","Somerville","US"]
[211004620,2857,"Volvo Trucks Of Vancouver","Surrey, Bs","CA"]
[211004621,2858,"Pacific Coast Heavy Truck","Kamloops, Bc","CA"]
[211004622,2859,"Gemm Diesel Ltd.","Salmon Arm, Bc","CA"]
[211004623,2860,"Gemm Diesel Ltd.","Salmon Arm, Bc","CA"]
[211005996,2862,"Flexible Metal Inc","Tucker","US"]
[211004624,2863,"Berk'S Intertruck Ltd.","Nanaimo, Bc","CA"]
[211004625,2864,"Berk'S Intertruck Ltd.","Nanaimo, Bc","CA"]
[211005998,2868,"Power Equipment Company","Colorado Springs","US"]
[211906119,2869,"Helgesen Industries","Hartford","US"]
[211004793,2870,"Zhongding Sealing Parts","Ningguo City","CN"]
[211004627,2871,"Babine Truck & Equipment","Prince George,","CA"]
[211004628,2872,"Babine Truck & Equipment","Prince George,","CA"]
[211004629,2874,"Calmont Truck Centre Ltd","Edmonton, Ab","CA"]
[211004630,2875,"Nortrux, Inc.","Grand Prairie,","CA"]
[211002877,2876,"Kamet Renska W","RENSKA WIES","PL"]
[211004631,2877,"Abc Group Salga Assoc","Concord, On","CA"]
[211002880,2879,"Martek Montroth","MONTROTTIER","FR"]
[211004632,2880,"Alberta Heavy Truck Centr","Calgary, Ab","CA"]
[211003510,2881,"A M Valskog","VALSKOG","SE"]
[211004633,2882,"Nortrux Inc","Calgary, Ab","CA"]
[211904708,2883,"SprintBOX","Wrocław","PL"]
[211004634,2884,"Transwestern Truck Centre","Calgary, Ab","CA"]
[211004635,2886,"Strongco, Inc.","EDMONTON, AB","CA"]
[211004636,2887,"Strongco Limited Partners","Calgary, Ab","CA"]
[211004637,2888,"Strongco Limited Partners","Grande Prairie,","CA"]
[211006000,2889,"Bombardier Recreation Pro","Beloit","US"]
[211004638,2890,"Regina Volvo Trucks","Regina, Sk","CA"]
[211003173,2891,"Volvo Parts Shanghai","Shanghai","CN"]
[211004639,2893,"Beaver Truck Centre","Winnipeg, Mb","CA"]
[211006001,2894,"Rudd Equipment Company","Evansville","US"]
[211003032,2895,"Casartelli Galbi","GALBIATE","IT"]
[211005277,2897,"Sinteris Spa","Bentivoglio","IT"]
[211003515,2898,"Mollifico Oleggi","OLEGGIO CASTELLO","IT"]
[211006002,2901,"T&W Stamping Austintown D","Austintown","US"]
[211004640,2902,"All North Truck Centre","Lively, On","CA"]
[211004642,2904,"All North Truck Centre","Lively, On","CA"]
[211004643,2905,"Redhead Equipment Limited","Regina, Sk, Can","CA"]
[211004644,2906,"Redhead Equipment Ltd","Swift Current, Sk","CA"]
[211004645,2907,"Redhead Equipment","Lloydminster, S","CA"]
[211004646,2908,"Redhead Equipment Limited","Saskatoon, Sk,","CA"]
[211003948,2909,"Aston Martin","GAYDON","GB"]
[211004647,2910,"401 Trucksource Inc. CAMDS","Maidstone, On","CA"]
[211004648,2911,"Gerry'S Truck Centre Ltd. CALO","London, On","CA"]
[211002884,2912,"Off Mecc Como","COMO","IT"]
[211002885,2913,"SAFIM Modena","MODENA","IT"]
[211004649,2914,"Sheehan'S Truck Centre In","Burlington, On","CA"]
[211004650,2915,"Expressway Trucks Waterlo","Ayr, On","CA"]
[211003518,2916,"OMF Cazzago","CAZZAGO SAN MARTINO","IT"]
[211006003,2917,"Virginia Truck Center Inc","Roanoke","US"]
[211005327,2918,"Pusan Cast Iron Co Ltd","Busan","KR"]
[211004651,2919,"Vision Truck","Mississauga, ON","CA"]
[211004652,2920,"Wilson Truck Lines Ltd","Toronto, On","CA"]
[211004653,2921,"Durham Truck & Equipment","Ajax, On","CA"]
[211004654,2922,"Surgenor Mack","Ottawa, On","CA"]
[211003599,2924,"AFE ST-Suzanne","SAINTE-SUZANNE","FR"]
[211004655,2926,"Centre Du Camion Thibault","Rouyn-Noranda, Qc","CA"]
[211005392,2929,"VCE ROTTERDAM","Groot-Ammers","NL"]
[211006005,2930,"Grammer, Inc.","Shannon","US"]
[211004657,2931,"Centre Du Camion Ste-Mari","Saint-Remi, Qc","CA"]
[211004658,2932,"Inland Kenworth","Whitehorse, Yu,","CA"]
[211004659,2933,"Camions Montreal Dealer","Dorval, Qc","CA"]
[211004660,2934,"Alliantis Metal, Inc.","Acton-Vale","CA"]
[211004661,2935,"Camion Volvo Montreal","Dorval","CA"]
[211004662,2936,"Camions Lourds De Montrea","Dorval, Qc","CA"]
[211905817,2937,"MARTINREA INDUSTRIAL CA","Vaughan, WOODBRIDGE","CA"]
[211006007,2940,"Woodco Machinery","Avon","US"]
[211004664,2941,"Pare Centre Du Camion Vol","Levis, Qc","CA"]
[211004665,2944,"Volvo Lac St-Jean","St-Prime, Qc","CA"]
[211004886,2945,"Parker Hannifin Industrial s.r.o.","Chomutov","CZ"]
[211004666,2948,"Lounsbury Truck Centre","Moncton, Nb","CA"]
[211004667,2949,"Lounsbury Truck Centre","Hanwell, Nb","CA"]
[211004668,2950,"Lounsbury Truck Centre","Moncton, Nb","CA"]
[211004669,2953,"Mackay'S Truck & Trailer","Truro, Ns","CA"]
[211003524,2954,"Axipto Nybro","NYBRO","SE"]
[211002892,2955,"GT Prec Peterlee","PETERLEE","GB"]
[211006008,2956,"Clyde West","Portland","US"]
[211002893,2957,"ESEX PIANEZZA","PIANEZZA","IT"]
[211004670,2958,"Hickman Motors Limited","St. John S, Nf","CA"]
[211003525,2959,"Fischer & Plath GmbH","BERNE","DE"]
[211002897,2961,"Cepa Mirkow","MIRKOW","PL"]
[211002898,2962,"Kompozyty Stanow","STANOWICE","PL"]
[211900077,2963,"Autocar Llc","Hagerstown","US"]
[211006010,2964,"Paladin Brands Group, Inc","Ooltewah","US"]
[211002899,2966,"Msk Plast Oy","Ylihärmä","FI"]
[211002650,2967,"TMD Fric Hamm","Hamm (Sieg)","DE"]
[211004671,2969,"Cote Inox","St-Lazare-De-Be","CA"]
[211003329,2970,"Boryszew Chelmek","CHELMEK","PL"]
[211003330,2971,"Boryszew Chelmek","TYCHY","PL"]
[211006011,2973,"Ck Technologies Llc","Montpelier","US"]
[211005332,2974,"Aq Wiring Systems Uab","Panevezis","LT"]
[211905558,2975,"Reflexallen Ltd","Bodelwyddan","GB"]
[211006012,2976,"Transource, Inc.","Newton","US"]
[211002902,2979,"FEDERAL GDANSK","GDANSK","PL"]
[211002903,2980,"Mahle Murtede","MURTEDE","PT"]
[211900608,2981,"GUNNEBO IND. VÄXJÖ","VÄXJÖ","SE"]
[211002905,2982,"Marquardt GmbH","Rietheim-Weilheim","DE"]
[211005309,2984,"UD TRUCKS CORPORATION","Ageo-Shi, Saitama","JP"]
[211002908,2990,"JABA Hogsater","Högsäter","SE"]
[211003274,2993,"Kberg Act Epila","Épila","ES"]
[211005078,2994,"HI-LEX AUTO PARTS SAPIN SL.","GRANOLLERS","ES"]
[211005194,2999,"Suprajit Europe Ltd","Tamworth","GB"]
[211003554,3001,"Pritex Wellingt","Wellington","GB"]
[211004672,3003,"Great West Equipment","Vernon, Bc.  Ca","CA"]
[211002833,3006,"Kirchhof Mielec","MIELEC","PL"]
[211004991,3009,"Sedlmayer Gmbh Metallbear","Triptis","DE"]
[211002913,3010,"Indel Santagata","SANT'AGATA FELTRIA","IT"]
[211006013,3011,"Matthews Marine","Bluffton","US"]
[211004178,3012,"NSK PETERLEE","PETERLEE","GB"]
[211006014,3013,"G W Van Keppel Company","Garden City","US"]
[211904625,3016,"Elring Klinger AG","Langenzenn","DE"]
[211004673,3018,"Berk'S Intertruck Ltd.","Port Alberni, B","CA"]
[211004674,3019,"Nortrux,Inc.","Lethbridge, Ab","CA"]
[211004675,3020,"Nortrux,Inc.","Red Deer County, Ab","CA"]
[211006015,3021,"Construction Machinery In","Anchorage","US"]
[211006016,3022,"Construction Machinery In","Fairbanks","US"]
[211006017,3023,"Construction Machinery In","Juneau","US"]
[211004676,3024,"Mackays Truck & Trailer T","Dartmouth, Ns","CA"]
[211004677,3025,"Transwestern Truck Centre","Lethbridge, Ab","CA"]
[211005053,3026,"Garmin Danmark A/S","Allerod","DK"]
[211006018,3027,"Clyde West","Seattle","US"]
[211006019,3028,"Clyde West","Spokane","US"]
[211006020,3029,"Legendary Marine","Destin","US"]
[211005451,3031,"Zahid Tractor & H.M. Co","Jeddah","SA"]
[211904706,3034,"EG Electronics AB","Norsborg","SE"]
[211003116,3035,"ZF Automotive Systems","CZESTOCHOWA","PL"]
[211003035,3036,"Winkelmann MSR Technology GmbH & Co. KG","AHLEN","DE"]
[211002742,3037,"Courbis Bourg de","Bourg-de-Péage","FR"]
[211006021,3038,"Lord Corporation","Bowling Green,","US"]
[211003575,3041,"Ramco Montichi","MONTICHIARI","IT"]
[211006022,3042,"Construction Machinery","Sacramento","US"]
[211006023,3043,"Matthews Machinery","Corona","US"]
[211006024,3044,"Construction Machinery","SAN DIEGO","US"]
[211003577,3045,"Cavallo Forno Ca","Forno Canavese","IT"]
[211005329,3046,"Al Boom Marine CO","Shuwaikh","Volvo EMEA2"]
[211904805,3049,"Acciai Speciali Terni","Terni","IT"]
[211003582,3051,"Bulten Bergkamen","BERGKAMEN","DE"]
[211005406,3053,"International Heavy Equip","Muscat","OM"]
[211003583,3054,"OFA Loimaa","LOIMAA","FI"]
[211004018,3055,"Mahle Filter Systems Uk Ltd. G","Telford","GB"]
[211005543,3056,"Odal Butik","Borås","SE"]
[211005544,3057,"Svenska Lantmännen","Uddevalla","SE"]
[211005401,3058,"PostNord AS NOOSL","Oslo","NO"]
[211005402,3059,"Volvo Norge As NOOSL","Oslo","NO"]
[211005054,3062,"Volvo Truck Center Københ","Tåstrup","DK"]
[211003590,3063,"SCA Pkg Fp Mstd","MARIESTAD","SE"]
[211006026,3065,"All Island Marine Corp.","Oceanside","US"]
[211004678,3067,"Midwest Rruck Centre, Inc","Lloydminster, A","CA"]
[211900609,3068,"Stig Wahlström Hydraulik","SKÖVDE","SE"]
[211004679,3070,"Great West Equipment","Surrey, Bc, Can","CA"]
[211004680,3071,"Great West Equipment","Kamloops, Bc, C","CA"]
[211004681,3072,"Great West Equipment","Prince George,","CA"]
[211005652,3073,"Kongsberg Automotive S.R.","Vrable","SK"]
[211006027,3074,"G.W. Van Keppel Company","Kansas City","US"]
[211004682,3078,"Best Truck Service & Auto","Peace River, Ab","CA"]
[211005689,3079,"Pimsa Otomotiv A.S.","KOCAELI","TR"]
[211005195,3080,"Volvo Construction Equipm","Duxford","GB"]
[211001633,3085,"Schaeffler Sverige Ab","Arlandastad","SE"]
[211001634,3086,"NOMO HISINGS BAC","Täby","SE"]
[211004683,3087,"Saskatoon Volvo Trucks","Saskatoon, Sk","CA"]
[211006028,3088,"In Demand Marine","Homer","US"]
[211003604,3089,"Continent Sarreg","SARREGUEMINES","FR"]
[211002919,3090,"RENAULT PARTS VENISSIEUX","Vénissieux","FR"]
[211004684,3091,"Macarthur Truck & Trailer","Brandon, Mb","CA"]
[211005546,3092,"Svenska Lantmännen Maskin","Enköping","SE"]
[211005547,3093,"Swecon Anläggningsmaskine","Gävle","SE"]
[211005548,3094,"Svenska Lantmännen Maskin","Bollnäs","SE"]
[211900610,3095,"SWECON ANLÄGGN. BORL","BORLÄNGE","SE"]
[211005550,3096,"Svenska Lantmännen Maskin","Hudiksvall","SE"]
[211006029,3097,"Burt'S Diesel Service","Woodville","US"]
[211005551,3098,"Svea Maskin Ab","Tierp","SE"]
[211005552,3099,"Swecon Anläggn.maskiner","Jönköping","SE"]
[211005553,3100,"Svenska Lantmännen Maskin","Vetlanda","SE"]
[211005555,3102,"Lantmännen Maskin AB","Kalmar","SE"]
[211005556,3103,"Svenska Lantmännen Maskin","Karlshamn","SE"]
[211005557,3104,"Swecon Anläggningsmaskine","Växjö","SE"]
[211005558,3105,"Svenska Lantmännen Maskin","Karlskrona","SE"]
[211005559,3106,"Swecon Anläggningsmaskine","Karlstad","SE"]
[211005560,3107,"Svenska Lantmännen Maskin","Arvika","SE"]
[211005561,3108,"Svenska Lantmännen Maskin","Säffle","SE"]
[211005562,3109,"Agriväst Ab","Torsby","SE"]
[211005563,3110,"Svenska Lantmännen Maskin","Lidköping","SE"]
[211900079,3111,"Borås Schakt Ab","Borås","SE"]
[211004887,3112,"Metaldyne Oslavany S.R.O","Oslavany","CZ"]
[211005565,3113,"Swecon Anläggningsmaskine","Skövde","SE"]
[211005566,3114,"Swecon Anläggningsmaskine","Kiruna","SE"]
[211006030,3115,"Multiquip Inc","Compton","US"]
[211005440,3116,"Hendrickson Romania S.R.L","Sibiu","RO"]
[211005567,3117,"Swecon Anläggningsmaskine","Luleå","SE"]
[211005568,3118,"Swecon Anläggningsmaskine","Gällivare","SE"]
[211900611,3119,"MEKONOMEN PITEÅ","PITEÅ","SE"]
[211005281,3120,"Interpump Hydraulics S.P.A.","Calderara di Reno","IT"]
[211005570,3121,"Svenska Lantmännen Maskin","Nyköping","SE"]
[211005571,3122,"Svenska Lantmännen Maskin","Katrineholm","SE"]
[211005573,3124,"Swecon Anläggningsmaskine","Södertälje","SE"]
[211005574,3125,"Lantmännen Maskin Ab","Eskilstuna","SE"]
[211005575,3126,"Swecon Anläggningsmaskine","Sundsvall","SE"]
[211005576,3127,"Swecon Anläggningsmaskine","Umeå","SE"]
[211005577,3128,"Swecon Anläggningsmaskine","Skellefteå","SE"]
[211005578,3129,"Västerbottens Lantmän Ek","Vilhelmina","SE"]
[211005579,3130,"Traktor O Husvagnsser","Arvidsjaur","SE"]
[211005580,3131,"Swecon Anläggni.maskiner","Västerås","SE"]
[211005581,3132,"Svenska Lantmännen Maskin","Sala","SE"]
[211005582,3133,"Lantmännen Maskin Ab","Örnsköldsvik","SE"]
[211005583,3134,"Lantmännen Maskin Ab","Östersund","SE"]
[211005584,3135,"Swecon Anläggningsmaskine","Örebro","SE"]
[211003042,3136,"Sisu Ax Haemeenl","Hämeenlinna","FI"]
[211006978,3137,"Mack Vehiculos Industrial","LAS TEJERIAS","VE"]
[211005585,3139,"Svenska Lantmännen Maskin","Norrtälje","SE"]
[211002926,3140,"Metalleries Cre","CREULLY","FR"]
[211005586,3141,"Swecon Anläggningsmaskine","Uppsala","SE"]
[211005587,3142,"Swecon Anläggningsmaskine","Spånga","SE"]
[211004888,3143,"Slevarna Heunisch, S.R.O","Krásná","CZ"]
[211005588,3144,"Lantmännen Maskin Ab","Vimmerby","SE"]
[211002928,3145,"Romaire Arnas","ARNAS","FR"]
[211004685,3146,"Fountain Tire (Thunder Ba)","Thunder Bay, On","CA"]
[211005150,3148,"Mgi-Aftermarket Division","Villieu-Loyes-Mollon","FR"]
[211005589,3149,"Swecon Anläggningsmaskine","Halmstad","SE"]
[211002932,3150,"ContiTech Slovenija D.O.O.","KRANJ","SI"]
[211002933,3151,"Seoyon Electronics Co Ltd","Suwon","KR"]
[211005590,3152,"Lantmännen Maskin Ab","Visby","SE"]
[211003612,3153,"Klippan Safety Sp. Z O.O.","STARGARD","PL"]
[211002940,3157,"Alcol. Vendelso","Vendelsö","SE"]
[211006031,3159,"Axletech International Di","Troy","US"]
[211002943,3160,"Rototech Sgillio","SAN GILLIO","IT"]
[211002912,3161,"SNOP Gace","Gacé","FR"]
[211005591,3163,"Svenska Lantmännen Maskin","Skänninge","SE"]
[211005592,3164,"Svenska Lantmän Maskin Ab","Norrköping","SE"]
[211005593,3165,"Swecon Anläggningsmaskine","Linköping","SE"]
[211002944,3166,"Stoko Lem","LEM","DK"]
[211900330,3167,"FIDES GROUP","Frenstát pod Radhostem","CZ"]
[211002947,3168,"Carling Exeter","EXETER","GB"]
[211005594,3169,"Swecon Anläggningsmaskine","Staffanstorp","SE"]
[211005595,3170,"Kullenbergs Maskiner Ab","Kristianstad","SE"]
[211005596,3171,"Kullenberg Maskiner Ab","Tomelilla","SE"]
[211001642,3172,"Cirex Almelo","ALMELO","NL"]
[211905877,3173,"TVA / Alutech","Lokeren","BE"]
[211005151,3174,"Moulage Technique Souffla","Montréal-la-Cluse","FR"]
[211005152,3176,"Entreprise Adaptee De Bro","Viriat","FR"]
[211004686,3177,"Bramhill Truck Centre","Palmerston, On","CA"]
[211004687,3178,"Laser Amp","Granby, Pq","CA"]
[211002952,3180,"Thermamax Mannh","MANNHEIM","DE"]
[211004688,3181,"Redhead Equipment","Saskatoon, Sk","CA"]
[211003613,3183,"GTI Hough Regis","HOUGHTON REGIS","GB"]
[211002956,3184,"DANSK FLYD NORDB","NORDBORG","DK"]
[211900081,3185,"SensorNite","Botevgrad","BG"]
[211003615,3187,"Arfesan Kocaeli","KOCAELI","TR"]
[211002962,3188,"FRILIGHT FRISTAD","FRISTAD","SE"]
[211905169,3189,"Kamax L.P.","Lapeer","US"]
[211002963,3190,"SLR Gie St Leon","SANKT LEON-ROT","DE"]
[211002965,3191,"Claas Guss Norto","NORTORF","DE"]
[211004890,3192,"Donaldson Czech Republic","Klásterec nad Ohrí","CZ"]
[211002967,3193,"Aros El Mölndal","Mölndal","SE"]
[211006036,3195,"Bayport Yachts Inc","Newport Beach,","US"]
[211906257,3197,"Yusen Logistics","ILFOV","RO"]
[211002974,3200,"Vannas Ver Vnas","Vännäs","SE"]
[211004689,3201,"Timmins Truck & Tractor","Timmins, On","CA"]
[211005197,3202,"Dtr Vms Limited","Trowbridge","GB"]
[211004690,3204,"Mid-Ontario Diesel Limite","Barrie, On","CA"]
[211004691,3205,"Mid-Ontario Diesel Limite","Barrie, On","CA"]
[211002981,3207,"EISENWERK SCHWAR","SCHWARZENBACH AN DER SAALE","DE"]
[211005653,3208,"Mahle Engine Components S","Dolný Kubín","SK"]
[211005334,3209,"Alliance Metal (Changzhou)","CHANGZHOU","CN"]
[211002986,3210,"SIA Industrie","La Suze-sur-Sarthe","FR"]
[211903991,3219,"PARKER HANNIFIN MFG SWEDEN AB","TROLLHÄTTAN","SE"]
[211003691,3220,"Alucrom Mirkow","MIRKOW","PL"]
[211003003,3222,"Gris D P-A-Mou","Pont-à-Mousson","FR"]
[211006037,3223,"Elastometall Kentucky Llc","Frankfort","US"]
[211005282,3224,"Cattini & Figlio Srl","Casarile","IT"]
[211005597,3225,"7H Plast Ab","Limmared","SE"]
[211903888,3228,"Metalogenia SA","Barcelona","ES"]
[211004794,3229,"Borg Warner Shenglong","Ningbo","CN"]
[211005417,3231,"Takoni Sp. Z O.O.","Bielsko-Biala","PL"]
[211004892,3232,"Promens A.S.","Zlin","CZ"]
[211006038,3233,"Zinga Industries Inc","Reedsburg","US"]
[211003018,3234,"DONGIL IND POHAN","POHANG","KR"]
[211006039,3235,"Carling Technologies","Brownsville","US"]
[211003026,3237,"Forges De Courcelles","Nogent","FR"]
[211003031,3240,"TRA C Olemps","OLEMPS","FR"]
[211002385,3241,"Trell Leicester","LEICESTER","GB"]
[211005154,3242,"Valeo Transmissions Vi","Amiens","FR"]
[211900084,3243,"Parker Hannifin India Pvt","Chengalpattu","IN"]
[211904819,3244,"Sensata Technologies Holland B.V.","Bergkirchen","DE"]
[211004893,3245,"Manuli Hydraulics Europe","Pohorelice","CZ"]
[211905489,3246,"Ghent Handling and Distribution NV","Gent","BE"]
[211005155,3247,"Volvo Materiels Tp France","Trappes","FR"]
[211900244,3248,"Robert Bosch Elektronika Kft","Hatvan","HU"]
[211005283,3249,"Cellino Srl","Torino","IT"]
[211004692,3252,"Cornwall Truck Maintenanc","Cornwall, On","CA"]
[211005404,3253,"Bilia Maskin As","Kolbotn","NO"]
[211906340,3254,"Nelson Global Products","Garcia","US"]
[211003045,3256,"Stelweld Jelcz","JELCZ-LASKOWICE","PL"]
[211003046,3257,"SHL Prod Kielce","KIELCE","PL"]
[211905544,3258,"Motorsense","Saint Neots","GB"]
[211004693,3259,"Kyoda Plastics Limited","Mississauga","CA"]
[211004694,3260,"Surgenor Truck Centre","Kingston, On","CA"]
[211005087,3263,"Dayco Automotive","Sant Fruitós de Bagés","ES"]
[211906045,3265,"Burgaflex North America I","Grand Blanc","US"]
[211004695,3267,"Garage Camion Remorque Ma","Trois Rivieres","CA"]
[211003061,3269,"BPI Group Hungary Kft","MISKOLC","HU"]
[211906366,3271,"RIVIERE SYNERGIE SAS","LISIEUX","FR"]
[211900340,3272,"Lear Corp. Romania Srl","Pitesti","RO"]
[211004696,3273,"Tpi Enterprises, Inc.","Goderich, On","CA"]
[211006042,3274,"Marine & Industrial Diese","Fort Lauderdale","US"]
[211003069,3277,"Variopack Bo Hom","HOMBURG","DE"]
[211004697,3278,"Machinerie P&W","Québec, Qc","CA"]
[211003072,3279,"Kberg Rau Molsh","MOLSHEIM","FR"]
[211003073,3280,"AQ Lasertool Pärnu","Audru","EE"]
[211004698,3281,"Chalut Auto","Joliette, Qc","CA"]
[211001663,3282,"SNOP Thiberville","THIBERVILLE","FR"]
[211004699,3283,"Centre Du Camion Ste-Mari","St Hyacinthe, Q","CA"]
[211004701,3285,"Centre Du Camion Ste-Mari","St Hyacinthe, Q","CA"]
[211004702,3286,"Ressorts Charland (Sherb)","Sherbrooke, Qc","CA"]
[211001665,3287,"DANA SPICER FR","Villefranche-sur-Saône","FR"]
[211004703,3288,"Camions Saguenay","Chicoutimi, Qc","CA"]
[211004704,3289,"Camions Saguenay","Chicoutimi, Qc","CA"]
[211006043,3291,"Consolidated Metco","Canton","US"]
[211003084,3292,"Tecnove Novella","NOVELLARA","IT"]
[211004705,3293,"Diesel & Gaz Victo Inc.","Victoriaville,","CA"]
[211003089,3294,"PreCise AB","UDDEVALLA","SE"]
[211003090,3295,"Faurecia Automotive Composites","Saint-Méloir-des-Ondes","FR"]
[211004706,3297,"Garage Henri-Louis Begin","St Georges, Qc","CA"]
[211001667,3298,"Imany For Freudenberg Sas","Saint-Géosmes","FR"]
[211003025,3299,"G Kunstoff Ibben","Ibbenbüren","DE"]
[211001668,3300,"Poppelm Rixheim","RIXHEIM","FR"]
[211900693,3301,"Fontana S.p.A.","CHIVASSO","IT"]
[211006044,3302,"American Cylinder","Peotone","US"]
[211000206,3303,"EBERSPRÄCHER NORDIC","Trollhättan","SE"]
[211004707,3304,"Pare Centre Du Camion Vol","Vanier, Qc","CA"]
[211004894,3305,"Mann+Hummel (Cz) V.O.S.","Okrisky","CZ"]
[211003095,3306,"Normatrans","Grentheville","FR"]
[211003097,3307,"Brose Torslanda","TORSLANDA","SE"]
[211905371,3308,"Sensata Technologies","Bergkirchen","DE"]
[211003100,3309,"MPO St Georges","MOULT","FR"]
[211004708,3310,"Centre Du Camion R.B.","Gatineau, Qc","CA"]
[211003102,3311,"Exide Technologies S.A.","Poznan","PL"]
[211006045,3313,"Usui International Corp","Chesapeake","US"]
[211905170,3315,"DBG Kennedy","Mississauga","CA"]
[211003106,3316,"UAB Kitr Kaunas","KAUNAS","LT"]
[211006046,3317,"Norton Mfg","Fostoria","US"]
[211003112,3319,"Swedecote Ab","Mullsjö","SE"]
[211003113,3320,"Haldex Szentlo","SZENTLORINCKATA","HU"]
[211002589,3321,"Somep Morestel","MORESTEL","FR"]
[211003114,3322,"Giesserei B Win","BAD WINDSHEIM","DE"]
[211003115,3323,"DOGA ITALIA SRL","CASTELNUOVO CALCEA","IT"]
[211004710,3324,"Centre Du Camion Boucherv","Boucherville, Qc","CA"]
[211003120,3325,"Arteco Schoten","SCHOTEN","BE"]
[211004711,3326,"Mecanique Diesel Mingan","Sept-Iles, Qc","CA"]
[211005654,3328,"Gnotec Cadca S. R. O.","Cadca","SK"]
[211900308,3329,"Molla ITMZE","Morazzone","IT"]
[211006047,3330,"Meritor","Forest City","US"]
[211004712,3331,"Estampro","Saint-Evariste-","CA"]
[211004796,3332,"Cvg Vehicle Components","Shanghai","CN"]
[211003130,3334,"Punsch Met Hamo","HAMONT-ACHEL","BE"]
[211001674,3335,"Axletech St-Etie","Saint-Étienne","FR"]
[211003131,3336,"FUZHOU FUS FUZHO","FUZHOU","CN"]
[211003132,3338,"Purplast","GEBZE","TR"]
[211005348,3339,"Transmisiones Y Equipos M","Quéretaro","MX"]
[211900202,3340,"Raymond A Sarl","Grenoble","FR"]
[211006048,3341,"Wema Americas, Llc","High Point","US"]
[211003134,3342,"Antipho Åmotfors","Åmotfors","SE"]
[211005157,3343,"Eurocast Reyrieux (Old Re","Reyrieux","FR"]
[211003057,3346,"Trist Flo Walbrz","WALBRZYCH","PL"]
[211003140,3347,"FUJI KUNSHAN","KUNSHAN","CN"]
[211001677,3348,"Barriol Andrezie","Andrézieux-Bouthéon","FR"]
[211003142,3350,"SKF St Cyr","Saint-Cyr-sur-Loire","FR"]
[211006049,3351,"Mavex Corporation","Miami","US"]
[211006050,3352,"Gkn Driveline Newton, Llc","Newton","US"]
[211006051,3353,"Kongsberg Actuation System","Easley","US"]
[211904945,3354,"Yazaki Component Technology","Arad","RO"]
[211003154,3355,"DENNIS EAGLE ","BLACKPOOL","GB"]
[211003155,3356,"DENNIS EAGLE WAR","Warwick","GB"]
[211004995,3357,"Molex CVS Dabendorf GmbH","Zossen","DE"]
[211905350,3359,"LOGISTICA VIFRA SALELLES","SANT SALVADOR DE GUARDIOLA","ES"]
[211900085,3360,"Promens, A.S.","Zlin-Louky","CZ"]
[211900309,3361,"Bulten Polska S.A.","Wilkowice","PL"]
[211004248,3362,"Stocklor Thaon","THAON LES VOSGES","FR"]
[211003164,3363,"Carlisle Torfaen","Pontypool","GB"]
[211003165,3364,"Panalpina/Imex Lagerserv.","Göteborg","SE"]
[211004797,3365,"Zf Chassistech Commercial","Shanghai","CN"]
[211004713,3367,"Strongco Equipment","London, Ontario","CA"]
[211905482,3368,"INTERNATIONAL FASTENERS","SOUTHAM","GB"]
[211005599,3373,"Tollo Linear Ab","Kristianstad","SE"]
[211005198,3374,"Southco Ltd","Worcester","GB"]
[211003175,3375,"FACIL & CIE G.C.","Göteborg","SE"]
[211005158,3376,"Facil & Cie Gcv","Bourg-en-Bresse","FR"]
[211006053,3378,"Wabco Na","North Charleston","US"]
[211005600,3380,"VOLVO BUS UTV. GÖTEBORG","Göteborg","SE"]
[211004798,3382,"Bosch Automotive Streering Jincheng","Nanjing","CN"]
[211003180,3383,"Orlaco Barneveld","BARNEVELD","NL"]
[211003181,3384,"DAGAT-ECO POZNAN","POZNAN","PL"]
[211003182,3385,"Alutec Nantoin","NANTOIN","FR"]
[211006055,3386,"Hercules International In","Huntington","US"]
[211003188,3387,"ESTAMPAC ERMUA","Ermúa ","ES"]
[211003079,3388,"Lovink Terborg","TERBORG","NL"]
[211003190,3389,"Swedecote Vansb","VANSBRO","SE"]
[211003191,3390,"Bram Plast Bramm","BRAMMING","DK"]
[211003194,3392,"Miba Roitham","ROITHAM","AT"]
[211003195,3393,"LC HALLSBERG","HALLSBERG","SE"]
[211002234,3394,"Borghi Castello","CASTELLO D'ARGILE","IT"]
[211004799,3395,"Wuxi City Lanli Machine","Wuxi","CN"]
[211003198,3396,"IRO Ulricehamn","ULRICEHAMN","SE"]
[211003202,3399,"Shantui Jining","JINING","CN"]
[211003203,3400,"Jobro Ulricehamn","ULRICEHAMN","SE"]
[211006056,3402,"Solar Plastics Inc.","Davenport","US"]
[211006058,3404,"West Haralson Machine","Tallapoosa","US"]
[211900332,3406,"Brose Cz Spol. S R.O.","Roznov Pod Radhostem","CZ"]
[211006059,3407,"Modine Manufacturing","Jefferson City,","US"]
[211003625,3409,"Valeo Systèmes Thermiques","Reims","FR"]
[211003206,3410,"CCL Design Solin","SOLINGEN","DE"]
[211003207,3411,"UAB KG Vilnius","VILNIUS","LT"]
[211904682,3412,"ETS CAILLEAU LA FERTE","Romorantin-Lanthenay","FR"]
[211003211,3415,"Altym Chateaupon","Châteauponsac","FR"]
[211004714,3416,"Matritech, Inc.","Drummondville,","CA"]
[211001696,3419,"Optimas Solutions SAS","SARREGUEMINES","FR"]
[211003216,3422,"Algo Polska Sp. Z O.O.","Piotrków Trybunalski","PL"]
[211006061,3423,"Process Development Corpo","Canton","US"]
[211003217,3424,"FLEXFAB NOTTINGH","Nottingham","GB"]
[211006062,3425,"Asc Construction Equipmen","Cayce","US"]
[211005349,3426,"Dana Global Products Inc","Queretaro Qro C","MX"]
[211004800,3427,"Suzhou Cmb Machinery Co.,","Suzhou","CN"]
[211003219,3428,"Streparava Spa","Adro","IT"]
[211905363,3429,"XPO Logistics","Saint-Désirat","FR"]
[211006063,3431,"Nextran Jacksonville","Jacksonville","US"]
[211003222,3432,"Schubs Hamlen","HAMELN","DE"]
[211005160,3436,"Dmi Vaux","Vaux","FR"]
[211006064,3437,"Cannon Industries, Inc.","Rochester","US"]
[211003225,3440,"Stece Fj Monster","Mönsterås","SE"]
[211004715,3441,"Mack S&S Of Stoney Creek","STONEY CREEK, ON","CA"]
[211001705,3442,"Socat Terrasson","Terrasson-Lavilledieu","FR"]
[211003227,3443,"Motoseal Raumo","RAUMO","FI"]
[211006067,3446,"Thai Summit America Corporatio","Howell","US"]
[211003122,3449,"Visscher Grudz","GRUDZIADZ","PL"]
[211006068,3450,"Sapa","Portland","US"]
[211006069,3451,"Mahle Behr Service America LLC","FORT WORTH","US"]
[211000099,3452,"VOLVO POWERTRAIN KÖPING INBOUND","KÖPING","SE"]
[211001342,3453,"Stena Stal Nybro","NYBRO","SE"]
[211004716,3454,"Cambridge Mack","Cambridge, On","CA"]
[211006070,3455,"Harris Sports Llc","Fort Collins","US"]
[211002133,3456,"SETEK Mlndl","Mölndal","SE"]
[211001541,3457,"FORMENTA VARNAMO","Värnamo","SE"]
[211001551,3458,"St&Pres Vilshult","VILSHULT","SE"]
[211001270,3459,"Samhall AB","Angered","SE"]
[211002758,3460,"Smidespr Enkpg","Enköping","SE"]
[211000463,3461,"AKLA Askersund","ASKERSUND","SE"]
[211001363,3462,"Grim Mek V Kpg","Köping","SE"]
[211900687,3463,"Federal Mogul Powertrain A.S.","Kartepe","TR"]
[211006071,3465,"Bosch Rexroth-Brueninghau","Fountain Inn","US"]
[211001329,3466,"Swepart Liatorp","LIATORP","SE"]
[211006072,3467,"Phillips Industries","Santa Fe Springs","US"]
[211001290,3468,"Bergman Borås","Borås","SE"]
[211001613,3471,"Proton Etuna","ESKILSTUNA","SE"]
[211005655,3472,"Hella Slovakia Front Ligh","Kocovce","SK"]
[211003634,3473,"LEAX Baltix Riga","RIGA","LV"]
[211003234,3475,"Sibbhu Sibbhult","SIBBHULT","SE"]
[211003235,3476,"Contitech Vac","VAC","HU"]
[211006073,3477,"Parker Hannifin","Grantsburg","US"]
[211001307,3478,"Harenviks Sweden AB","Eksjö","SE"]
[211004998,3479,"Slr Elsterheide Gmbh","Elsterheide","DE"]
[211001351,3480,"Silent Glass Mlm","Malmö","SE"]
[211900089,3481,"Meritor, Inc.","Maxton","US"]
[211006075,3482,"Cvg-Concord Nc Plant","Concord","US"]
[211005444,3483,"Contitech Thermopol Roman","Nadab","RO"]
[211005161,3484,"Hutchinson Snc Défense Et","Persan","FR"]
[211906381,3485,"Internordic Bearings AB","NÄSSJÖ","SE"]
[211001321,3486,"Sv Manom Leksand","LEKSAND","SE"]
[211006076,3487,"Arnold Machinery Company","North Las Vegas","US"]
[211004999,3488,"E. Ernst Gmbh Umformtechn","Oberkirch","DE"]
[211904959,3490,"Franken Guss GmbH","Hauzenberg","DE"]
[211001269,3493,"Componenta Nosse","NOSSEBRO","SE"]
[211003241,3494,"Ficosa International Otomotiv","Bursa","TR"]
[211003242,3495,"RTI Rosieres","Rosières-près-Troyes","FR"]
[211006078,3496,"Mahle Engine Components U","St. Johns","US"]
[211003243,3497,"REVOCOAT France SAS","Saint-Just-en-Chaussée","FR"]
[211001337,3499,"Bufab Lann Ab","Värnamo","SE"]
[211001526,3500,"Kberg Auto Mulls","Mullsjö","SE"]
[211004331,3502,"AVK Comp Pniewy","PNIEWY","PL"]
[211006079,3504,"Legacy Truck Ct","Harrisburg","US"]
[211003247,3505,"Arcelormittal Solustil","Hericourt","FR"]
[211004801,3506,"Yantai Haide Machine Tool","Yantai","CN"]
[211003248,3507,"2A Borgaro Torin","BORGARO TORINESE","IT"]
[211004802,3508,"Mecaplast Car Components","Shanghai","CN"]
[211005337,3509,"Sia Akg Thermotechnik Let","Jelgava","LV"]
[211003249,3510,"DAWSON WELSHPOOL","Welshpool","GB"]
[211006080,3512,"Browns","Bloomsbury","US"]
[211006081,3513,"H & H Mack Sales, Inc.","Rockaway","US"]
[211006082,3514,"Pennsylvania Truck Center","Lancaster","US"]
[211005604,3515,"Industriverken Plat O Ema","Ronneby","SE"]
[211003250,3516,"DONGFENG INV","SHIYAN","CN"]
[211006083,3517,"Elring Klinger Usa Inc","Buford","US"]
[211006084,3519,"Ballard Mack Sales & Serv","Johnston","US"]
[211006085,3520,"Mid-Hudson Mack, Inc.","Montgomery","US"]
[211006086,3521,"Mcdevitt Truck Inc","Lancaster","US"]
[211006087,3522,"Susquehanna Motor Co., In","West Milton","US"]
[211900090,3523,"Slevarna Heunisch Brno S.","Brno","CZ"]
[211006089,3525,"Zf Boge Elastmetall Llc","Hebron","US"]
[211004898,3526,"Tawesco Automotive s.r.o.","Uvaly","CZ"]
[211003260,3527,"Auto Fast Harbur","SOUTHAM","GB"]
[211006090,3528,"Triple Ciites Acquisition","Scranton","US"]
[211006091,3529,"Ballard Truck Center","Worcester","US"]
[211006092,3530,"Springfield Mack, Inc. AKA Ballard","West Springfield","US"]
[211006093,3531,"Triple Ciites Acquisition","Binghamton","US"]
[211003261,3532,"IAC Tartu","TARTU","EE"]
[211904986,3533,"DINEX MIDDELFART A/S","Middelfart","DK"]
[211006094,3534,"Northwest Eqpt Sls,Inc-Tw","Twin Falls","US"]
[211006096,3536,"Lesher Mack Sales & Servi","Lebanon","US"]
[211006097,3537,"Gabrielli Mk Sls & Ser Of","Bronx","US"]
[211006098,3538,"Watt'S Truck Center Inc","New Alexandria,","US"]
[211006099,3539,"Pennsylvania Truck Center","Reading","US"]
[211006100,3540,"Utica Mack, Inc.","Marcy","US"]
[211006101,3541,"Worldwide Eqpt Inc-Northe","Jane Lew","US"]
[211006102,3542,"Transource Inc","Salisbury","US"]
[211006103,3543,"Virginia Trk Ctr Of Richm","Chester","US"]
[211006104,3544,"Worldwide Eqpt Inc-Lexing","Lexington","US"]
[211006105,3545,"Bunch Truck & Equipment","Garden City","US"]
[211006106,3546,"Steele Truck Center, Inc.","Fort Myers","US"]
[211006107,3547,"Truck & Equipment Corp.","Harrisonburg","US"]
[211006108,3548,"Nextran Corporation","Riviera Beach,","US"]
[211006109,3549,"Trans Power, Inc.","Albany","US"]
[211006110,3550,"Whitewater Valley Mk Pts","Richmond","US"]
[211006111,3551,"Gulf Coast T & E-Montgome","Montgomery","US"]
[211005605,3552,"Stena Recycling Ab","Hisings Backa","SE"]
[211006112,3553,"Tri-State Mack Inc","Meridian","US"]
[211006113,3554,"R & R Akron","Akron","US"]
[211006114,3555,"Northern Ohio Truck Ctr,","Norwalk","US"]
[211006115,3556,"Lischkge Motors, Inc.","Aurora","US"]
[211006116,3557,"Banner Truck & Trailer Sa","Evansville","US"]
[211006117,3558,"Seymour Mack Sales & Serv","Seymour","US"]
[211006118,3559,"Flag City Truck & Equipme","Findlay","US"]
[211006119,3560,"Brechbuhler Truck Sales L","Canton","US"]
[211006120,3561,"Diesel Truck Sales, Inc.","Saginaw","US"]
[211006121,3562,"M & K Truck Centers","Gary","US"]
[211006122,3563,"Central Illinois Trucks I","Grayslake","US"]
[211006123,3564,"Scaffidi Truck Center","Tomahawk","US"]
[211006124,3565,"Housby Mack, Inc","Carroll","US"]
[211006125,3566,"Quincy Mack Sales & Servi","Quincy","US"]
[211006126,3567,"H & L Mack Truck Sales Co","Mediapolis","US"]
[211006127,3568,"Nuss Truck Group Inc","SAINT CLOUD","US"]
[211006128,3569,"Scaffidi Truck Center","Stevens Point,","US"]
[211006129,3570,"Mack Sales And Service","Decatur","US"]
[211006130,3571,"Mack Of Joliet","Channahon","US"]
[211006131,3572,"Green Bay Truck Sales Llc","De Pere","US"]
[211006132,3573,"Shreveport Mack Sales, In","Bossier City","US"]
[211006133,3574,"Enid Mack Sales, Inc.","Enid","US"]
[211006134,3575,"French-Ellison Truck Cent","Pharr","US"]
[211006135,3576,"Capitol Trucks","Baton Rouge","US"]
[211006136,3577,"Bruckner Truck Sales","Tulsa","US"]
[211006137,3578,"French-Ellison Truck Cent","Corpus Christi,","US"]
[211006138,3579,"East Texas Mack Sales, L.","Longview","US"]
[211003268,3580,"IP3 Vendee","LES HERBIERS","FR"]
[211004717,3581,"All North Truck Centre","North Bay, On","CA"]
[211004718,3582,"Mack S&S Of Manitoba Ltd","Winnipeg, Mb","CA"]
[211905865,3583,"LTI Boyd","Fairburn","US"]
[211005241,3584,"Sadhu Forging Ltd","Faridabad","IN"]
[211003271,3585,"GNA Phagwara","HOSHIARPUR","IN"]
[211004719,3586,"Techno Diesel Inc.","Joliette, Qc","CA"]
[211004720,3587,"Nortrux","Edmonton, Ab","CA"]
[211004721,3588,"London Mack","LONDON, ON","CA"]
[211001619,3589,"Saffle Forn Saf","Säffle","SE"]
[211004722,3591,"South Shore Truck Centre","Bridgewater, Ns","CA"]
[211004723,3592,"Balzan Truck Centre Inc.","BRAMPTON, ON","CA"]
[211004724,3593,"Burgess Transportation Se","Petitcodiac, Nb","CA"]
[211006140,3594,"Seattle Mack Sales & Serv","Des Moines","US"]
[211006141,3595,"Casper Manufacturing Inc","Casper","US"]
[211006142,3596,"Nuss Truck & Equipment","Sauk Rapids","US"]
[211006143,3597,"Northwest Mack Parts & Se","Melrose Park","US"]
[211002891,3599,"Mahle Rafaela","RAFAELA","AR"]
[211003638,3600,"GE Starr Wolverh","Wolverhampton","GB"]
[211003640,3602,"Sapa Glouester","GLOUCESTER","GB"]
[211005199,3603,"Arlington Automotive","Coventry","GB"]
[211003642,3604,"PAB Coventry","COVENTRY","GB"]
[211003643,3605,"DAVENTRY MET DAV","DAVENTRY","GB"]
[211003277,3607,"UD Trcks Irving","IRVING","US"]
[211001590,3608,"Witte Ind Lidkpg","Lidköping","SE"]
[211005606,3609,"Pr Plast Ab","Östersund","SE"]
[211003644,3610,"Paintbox Brmham","BIRMINGHAM","GB"]
[211900204,3611,"DHL Supply Chain","Solihull","GB"]
[211006145,3612,"Volvo Penta Of The Americ","Chesapeake","US"]
[211002171,3613,"Adigo Drives AB","Mölndal","SE"]
[211900246,3617,"Abl Construction Equipmen","Sävsjö","SE"]
[211006146,3618,"Hella C/O Kuehne & Nagel","Laredo","US"]
[211005162,3619,"Walor Vouziers","Vouziers","FR"]
[211004503,3620,"Metal Técnica Bovenau Ltd","Rio Do Sul, Sc","BR"]
[211005351,3621,"Kirbymex S.A. De C.V.","Torreon, Coa","MX"]
[211003282,3627,"Continent Regens","SOHREN","DE"]
[211003647,3628,"RDM Coventry","COVENTRY","GB"]
[211001523,3629,"NEFAB PACK ALFTA","ALFTA","SE"]
[211006148,3630,"Western Colorado Truck Ce","Fruita","US"]
[211003283,3631,"Albon. Dortmund","DORTMUND","DE"]
[211003284,3632,"HBG Tekn Ljungby","LJUNGBY","SE"]
[211003331,3633,"Ogura Onnaing","ONNAING","FR"]
[211003424,3634,"Nymek Skellefteå","Skellefteå","SE"]
[211003286,3635,"Svets&Mek Vnrsbg","Vänersborg","SE"]
[211900247,3636,"Iac Group Sweden Ab","Färgelanda","SE"]
[211005607,3637,"Allpryl Ab","Unnaryd","SE"]
[211906026,3638,"Lotus Cars Ltd (Anodising)","Wellingborough","GB"]
[211002152,3642,"BE-GE Oskarshamn","OSKARSHAMN","SE"]
[211001420,3643,"Stal Set Jkpg","Jönköping","SE"]
[211005163,3644,"Vlc France","Vénissieux","FR"]
[211006149,3645,"Superior Trim Springfield","Springfield","US"]
[211005242,3647,"Vibracoustic India Pvt ltd","Mohali","IN"]
[211003290,3648,"Zhongding Europe GmbH","Lohr am Main","DE"]
[211006150,3649,"Cary Products Co Inc","Hutchins","US"]
[211003291,3650,"ALUDEC, S.A.","PONTEVEDRA","ES"]
[211003292,3651,"Wabco Chengalp","Chennai","IN"]
[211005669,3652,"Usui International Corpor","Chon Buri","TH"]
[211006151,3654,"Fiamm Technologies Inc","Cadillac","US"]
[211905828,3656,"Wipro Infrastructure Engineering AB","Östersund","SE"]
[211003348,3657,"Mo Ind Bottnaryd","BOTTNARYD","SE"]
[211003295,3658,"Orscheln T Chnai","CHENNAI (EX MADRAS)","IN"]
[211003296,3659,"Hankyu Duesseld","DÜSSELDORF","DE"]
[211005243,3662,"Hi Tech Metal Formings","Indore","IN"]
[211003299,3663,"Pacoma Eschwege","ESCHWEGE","DE"]
[211003651,3665,"Raba Gyoer","GYOR","HU"]
[211004804,3666,"Zfbogeelastmetall(Shangha","Shanghai","CN"]
[211003302,3668,"Streparava India Private Limit","Bangalore","IN"]
[211905485,3669,"Centro Incorporated","Beaver Dam","US"]
[211003150,3670,"Hendrickson Poland Sp. z o.o.","TORUN","PL"]
[211006153,3672,"Tenneco Automotive Rsa Co","Hartwell","US"]
[211004725,3673,"Elringklinger Canada","Leamington, On","CA"]
[211006154,3675,"Mercury Metal Products","Schaumburg","US"]
[211006155,3676,"Arcadia Manufacturing Gro","Green Island","US"]
[211006156,3677,"Dmac Industries","Livonia","US"]
[211003251,3678,"AnVa Components AB","KALIX","SE"]
[211004807,3679,"Chongqing Hi-Lex Cable Sy","Chongqing","CN"]
[211005001,3680,"Polytec Plastics Idstein","Idstein","DE"]
[211003304,3681,"YAZAKI WIRING Klaipeda","KLAIPEDA","LT"]
[211003306,3682,"DIBO PRODPART","KATRINEHOLM","SE"]
[211004808,3683,"Kirchhoff Automotive(Suzh)","Suzhou","CN"]
[211004809,3684,"Jining Centurion Wheels M","Jining","CN"]
[211004810,3686,"Jiangsu Feida Baokai Elec","Yangzhou","CN"]
[211005003,3687,"Thyssenkrupp Presta Chemnitz G","Chemnitz","DE"]
[211006157,3688,"Stark Manufacturing Llc","Paris","US"]
[211005245,3692,"Universal Autofoundry Pvt","Jaipur","IN"]
[211003310,3693,"Mahle Engine Components IPL","CHENNAI (EX MADRAS)","IN"]
[211004811,3694,"Hubei Valeo Auto Lighting","Fushan","CN"]
[211000232,3695,"MERITOR","LINDESBERG","SE"]
[211004813,3699,"Knorr Bremse","Dalian","CN"]
[211004814,3700,"Norgren Manufacturing Co.","Shanghai","CN"]
[211006158,3701,"Cambria Mack Dist.-Elizab","Elizabeth","US"]
[211006159,3702,"D.L. Martin Co.","Mercersburg","US"]
[211004815,3703,"Georg Fischer Automotive","Kunshan","CN"]
[211006160,3704,"ZF Gainesville LLC","Gainesville","US"]
[211906003,3706,"United Machinning, Inc.","Auburn Hills","US"]
[211003317,3707,"Denso Manufacturing Hungary Ltd","SZEKESFEHERVAR","HU"]
[211004816,3708,"Plastic Omnium Composites","Jiangyin","CN"]
[211900094,3709,"Tvs Supply Chain Solution","Banbury","GB"]
[211905824,3710,"Unipart Powertrain Applications Ltd","COVENTRY","GB"]
[211004726,3711,"Bend All Automotive","Ayr, On","CA"]
[211005353,3712,"Meritor Manufacturing De","Cienega De Flor","MX"]
[211006162,3713,"Williams Controls Inc","Portland","US"]
[211006163,3714,"Sloan Transportation Prod","Holland","US"]
[211003319,3715,"Bos Plastics Systems Trusetal","Trusetal","DE"]
[211004817,3716,"Longzhong Holding Group","Taizhou City","CN"]
[211006164,3718,"Tampa Armature Works Inc","TAMPA","US"]
[211006165,3719,"Red Dot Corporation","Seattle","US"]
[211004818,3720,"Kinugawa Rubber &Plastic","Guangzhou","CN"]
[211006166,3721,"Nextran Truck Center","Duluth","US"]
[211004899,3722,"Edscha Automotive Kamenic","Kamenice Nad Lipou","CZ"]
[211004819,3723,"Guangdong Fuwa Heavy Indu","Tai Shan","CN"]
[211006167,3724,"Cvg Chillicothe","Chillicothe","US"]
[211005609,3725,"Age Metall Ab","Eskilstuna","SE"]
[211900096,3727,"J.M Voith Se & Co. Kg | VTA","Zschopau","DE"]
[211004821,3728,"Contitech Fluid Shanghai","Shanghai","CN"]
[211005379,3729,"Apm Auto Parts Marketing (Malaysia)","Port Klang","MY"]
[211005670,3730,"Ohkuma Ind. (Thailand) Co","Chon Buri","TH"]
[211005671,3731,"Joyson-Toa Safety Systems Co.,Ltd.","Bangpakong","TH"]
[211005247,3732,"Takata India Pvt Ltd","Chennai","IN"]
[211900542,3734,"External warehouse Valeo - Segro","Tychy","PL"]
[211900098,3735,"Delphi Electrical Centers","Shanghai","CN"]
[211004823,3736,"Taicang Power-Packer Mechanical","Taicang","CN"]
[211906097,3737,"Sensata Technologies Chin","Changzhou,Jiangsu","CN"]
[211005672,3738,"Kyb (Thailand) Co. Ltd","Chon Buri","TH"]
[211004825,3739,"Kongsberg Automotive (Wux)","Wuxi","CN"]
[211900099,3740,"Spedicia Wormser","Skalica","SK"]
[211003332,3741,"Scorpion Chorley","CHORLEY","GB"]
[211005380,3742,"Apm Coil Springs Sdn Bhd","Port Kelang","MY"]
[211006168,3743,"Jas Marine Service Inc","Fort Lauderdale","US"]
[211006169,3744,"Ami Industries","Sault Sainte Marie","US"]
[211006170,3745,"Mack Truck Sls Of Charlot","Charlotte","US"]
[211006171,3746,"Capital Truck Inc","Tallahassee","US"]
[211006172,3747,"Mack Logistics Center","Macungie","US"]
[211004727,3749,"Warren Transport Ltd","MONCTON, NB","CA"]
[211900100,3750,"Jacob Brake Ceva Log.","Eindhoven","NL"]
[211900613,3751,"Joyson Safety Systems Czech s.r.o","Cervený Kostelec","CZ"]
[211005089,3752,"Metaldyne International","Gavá","ES"]
[211006173,3753,"Tri-State Mack Inc","Memphis","US"]
[211006174,3754,"Worldwide Eqpt Inc-Blue R","Abingdon","US"]
[211004827,3755,"Ningbo Ask Automotive Sou","Ningbo","CN"]
[211005248,3756,"Hella India Automotive Pr","Gurgaon","IN"]
[211004828,3757,"Zhejiang Deyu Technology","Hangzhou","CN"]
[211003339,3758,"Aventics Hungary Kft","Eger","HU"]
[211004829,3759,"Dong Feng Commercial Vehi","Shiyan","CN"]
[211003342,3761,"Inalfa Krakovany","KRAKOVANY","SK"]
[211005656,3762,"Contitech Vibration Contr","Dolné Vestenice","SK"]
[211006175,3763,"Tri-State Truck Center, I","Richland","US"]
[211006176,3764,"Transource Inc - Rocky Mo","Rocky Mount","US"]
[211006177,3765,"F & C Truck Sales & Servi","Saint Louis","US"]
[211006178,3766,"Tri-State Truck Center Jackson MS","Jackson","US"]
[211003345,3767,"STEVA LIMOUSIN","BESSINES-SUR-GARTEMPE","FR"]
[211005673,3768,"Ampas Industries Co.,Ltd","Samutprakarn","TH"]
[211006180,3770,"Mcbride Mack Sales","Carbondale","US"]
[211006181,3771,"Wise Mack, Inc","Omaha","US"]
[211006182,3772,"Bruckner Truck Sales Inc","Hays","US"]
[211006183,3773,"Nebraska Truck & Equipmen","Lincoln","US"]
[211006184,3774,"Mack Of Nashville Llc","La Vergne","US"]
[211006185,3775,"West Virginia-Ohio Motor","Wheeling","US"]
[211006186,3776,"KEARNY MESA TRUCK CE","SAN DIEGO","US"]
[211006187,3777,"Clarksburg Mack S&S, Inc.","Clarksburg","US"]
[211006188,3778,"Nebraska Trk & Eqpt Co Of","Lexington","US"]
[211006189,3779,"Performance Truck","Cleveland","US"]
[211006190,3780,"Bruckner Truck Sales-Farm","Farmington","US"]
[211006192,3783,"Volvo Powertrain North America","Hagerstown","US"]
[211005674,3785,"Summit Auto Seats Industr","Samutprakarn","TH"]
[211006194,3786,"CKD-Mack Doors 114-117","Macungie","US"]
[211006195,3789,"Mack Trucks Inc Reman Cen","Middletown","US"]
[211900101,3790,"Eurostyle Batiment Valog","Lieu-Saint-Amand","FR"]
[211003353,3791,"Reka Dopeiwo","DOPIEWO","PL"]
[211003660,3793,"Recticel Corby","CORBY","GB"]
[211003661,3794,"WHS Plastics Ltd","SUTTON COLDFIELD","GB"]
[211006196,3795,"Ice Industries","Mason","US"]
[211005249,3796,"Ve Commercial Vehicles Lt","Dewas","IN"]
[211005675,3797,"Sunchirin Industry (Thail","Chon Buri","TH"]
[211004830,3798,"Exedy Chongqing","Chongqing","CN"]
[211007300,3799,"Willi Elbe Gelenkwellen TAMM","TAMM","DE"]
[211006197,3800,"Rudd Equipment Company","Louisville","US"]
[211006198,3802,"Marine Equipment & Supply","Thorofare","US"]
[211001478,3803,"Klippan Safe Kli","KLIPPAN","SE"]
[211001428,3804,"Bodycote Katrine","KATRINEHOLM","SE"]
[211006199,3805,"Volvo Road Machinery C/O","Chambersburg","US"]
[211006200,3806,"Mahle Behr Dayton L.L.C.","Dayton","US"]
[211005394,3807,"Mgg Tegelen Branch Of Mgg","Zh Nieuw-Bergen","NL"]
[211002307,3808,"Setforge L Horme","L'Horme","FR"]
[211006201,3809,"Albright Precision","Moosic","US"]
[211006202,3811,"Gainesville Truck Center","Gainesville","US"]
[211906350,3812,"Panjawattana Plastic Public Company","Chonburi","TH"]
[211006203,3813,"Glenridge Machine Co","Willoughby","US"]
[211003666,3816,"Rozmas Gebze","GEBZE","TR"]
[211003667,3817,"Plascam Gebze","GEBZE","TR"]
[211900338,3818,"Volvo Group Taiwan Company","Hukou","TW"]
[211006205,3819,"Marina Yacht Club Llc","Coeur d'Alene","US"]
[211001660,3821,"YVEL BEZONS","BEZONS","FR"]
[211005395,3822,"V.D.S. Technische Industr","Hapert","NL"]
[211004728,3823,"1109706 Ontario Limited","Sarnia, On","CA"]
[211005355,3825,"Ryobi Rdcm, S.A. De R.L.","Irapuato, Gua","MX"]
[211005677,3826,"Summit Auto Tech Industry","Samutprakarn","TH"]
[211003359,3827,"ELRING KL PUNE","PUNE","IN"]
[211006206,3828,"Borg Warner Cooling System","Fletcher","US"]
[211003360,3829,"Asahi Chon Buri","CHON BURI","TH"]
[211003362,3830,"Indo Schott Pune","PUNE","IN"]
[211904979,3832,"Woodland Global Limited","Dewsbury","GB"]
[211005250,3833,"Senior India Pvt. Ltd","Gurgaon","IN"]
[211002863,3834,"MWS FRIEDRICHSHAFEN","FRIEDRICHSHAFEN","DE"]
[211004901,3835,"Brano A. S. Sbu Commercia","Jilemnice","CZ"]
[211003670,3836,"Wellplast AB","Åstorp","SE"]
[211900614,3837,"QTS GmbH","Ditzingen-Heimerdingen","DE"]
[211003082,3838,"RNP Landskrona","LANDSKRONA","SE"]
[211006207,3840,"Performance Truck","Palestine","US"]
[211006208,3841,"Power & Electric Co.","Rancho Dominguez","US"]
[211903926,3842,"SKF FRANCE - Quai 7.1","Saint-Cyr-sur-Loire","FR"]
[211003366,3843,"NEUE SAARBRUECKE","Saarbrücken","DE"]
[211906000,3844,"Ice Industries Grenada","GRENADA","US"]
[211904914,3845,"TS Molymer Co Ltd","Samutprakarn","TH"]
[211006210,3846,"Cummins","Neillsville","US"]
[211906175,3847,"Walor Bogny","Bogny-Sur-Meuse","FR"]
[211005679,3848,"Siam Furukawa Co.,Ltd.","Aumphor Nongkae Saraburi Province","TH"]
[211006211,3849,"Linamar North Carolina","Arden","US"]
[211004831,3850,"Norma China Co.,Ltd","Qingdao","CN"]
[211006212,3851,"Volvo Penta North America","Byhalia","US"]
[211900104,3852,"Parker Hannifin EMOE Division","Kearney","US"]
[211006214,3853,"Eaton Aeroquip/Dedicated","Van Wert","US"]
[211006216,3855,"Lang Mekra North America","Ridgeway","US"]
[211006217,3856,"Pace Engineering Inc","Willoughby","US"]
[211006218,3857,"Bendix Hvsg","Huntington","US"]
[211006219,3858,"Viking Sales","Brighton","US"]
[211006220,3859,"Eaton Corporation","Searcy","US"]
[211004729,3860,"Cif Metal","Thetford Mines, QC","CA"]
[211006221,3861,"Meritor Automotive","Morristown","US"]
[211006222,3863,"Lippert Enterprises","Ashland","US"]
[211006224,3865,"Gates Rubber","Poplar Bluff","US"]
[211005356,3866,"Stemco Prod Ind","San Luis Potosi","MX"]
[211006225,3867,"Nelson Global Products Arcadia","Arcadia","US"]
[211004731,3868,"Pultrall","Thetford Mines,","CA"]
[211006226,3870,"Paramont Mfg Llc","Abingdon","US"]
[211005358,3871,"Ametek Dixson","Reynosa, Tamaul","MX"]
[211006227,3872,"Patrick Enterprises Corp.","Pembroke","US"]
[211900107,3874,"Bourns, Inc.","Chihuahua, Ch","MX"]
[211006229,3875,"Alumalloy Metalcastings C","Avon Lake","US"]
[211006230,3876,"Supply Technologies Llc","Dublin","US"]
[211005359,3877,"Federal Mogul S.A. De C.V","Puebla Pue","MX"]
[211006231,3878,"Firestone Industrial Prod","Williamsburg","US"]
[211006232,3879,"Fontaine Fleetline Produc","Springfield","US"]
[211005360,3880,"Haldex Brake Products Cor","Apodaca, N.L.","MX"]
[211006233,3881,"Mack Molding Co.","Statesville","US"]
[211006234,3882,"E-A-R Aearo Technologies","Newark","US"]
[211006235,3883,"Parker Hannifin","Mooresville","US"]
[211006236,3884,"Borgwarner Thermal System","Cadillac","US"]
[211006237,3885,"Tenneco Automotive","Angola","US"]
[211006238,3886,"Mccoy Bolt Works","Fort Wayne","US"]
[211900108,3887,"Lacks Trim Systems","KENTWOOD","US"]
[211006240,3888,"Challenge Tool & Mfg Inc","New Haven","US"]
[211006241,3889,"Covert Mfg Inc","Galion","US"]
[211001656,3890,"FECT Netherlands B.V.","ROERMOND","NL"]
[211006242,3891,"Hendrickson Suspension","Kendallville","US"]
[211006243,3892,"Modern Machine & Metal","Winston-Salem","US"]
[211006244,3893,"Shipley Motor Eqpt. Co-Lo","Lowell","US"]
[211006245,3894,"Betts Spring Co","Fresno","US"]
[211006247,3896,"Trw","Lafayette","US"]
[211002836,3897,"Peiker Acoustic FRIEDRICHSDORF","FRIEDRICHSDORF","DE"]
[211006248,3898,"Griffith Rubber Mills","Garrett","US"]
[211006249,3899,"THK RHYTHM AUTOMOTIVE","Portland","US"]
[211006250,3900,"Falls Stamping & Welding","Cuyahoga Falls","US"]
[211006251,3901,"Indiana Mills & Mfg.","Westfield","US"]
[211905367,3902,"Modine Manufacturing Comp","Joplin","US"]
[211006253,3903,"Hadley Products Corporati","Grandville","US"]
[211006254,3904,"Grede Ii Llc","Columbiana","US"]
[211006255,3905,"Dana Spicer Driveshaft","Lima","US"]
[211006256,3906,"Rudd Eqipment Company","Presontonsburg","US"]
[211006257,3907,"Magneti Marelli","Pulaski","US"]
[211006259,3909,"Salem Specialties","Salem","US"]
[211006260,3910,"Mec Vanderbilt North","Vanderbilt","US"]
[211006261,3911,"Quigley Industries","Farmington Hill","US"]
[211006262,3912,"Garland Mfg","Saco","US"]
[211006263,3913,"Imperial Group","Dublin","US"]
[211006265,3915,"Metal & Wire Products","Salem","US"]
[211006266,3916,"RJ Acquisition corp. d/b/a RJ USA","Sterling Heights","US"]
[211006267,3917,"Advanced Cast Products","Meadville","US"]
[211905915,3918,"Badve Engineering Limited","Pune","IN"]
[211904817,3919,"Goodwill Industries of  the Valleys","Radford","US"]
[211003369,3920,"NEM-HYDRA RONCOL","RONCOLO","IT"]
[211006269,3921,"Grote Manufacturing Co","Madison","US"]
[211003392,3922,"Hendrick Stratf","STRATFORD, ON","CA"]
[211006270,3923,"W W Engine & Supply Inc Milesburg","Milesburg","US"]
[211905880,3924,"Mahle Filter Systems India Pvt Ltd","Chengalpattu","IN"]
[211004832,3925,"Tianjin Yuao Luqiao Indus","Tianjin","CN"]
[211006271,3926,"Mancor Ohio","Dayton","US"]
[211005680,3927,"Saf-Holland (Thailand) Co","Samutprakarn","TH"]
[211004833,3928,"Leoni Electrical Systems","Shanghai","CN"]
[211900109,3929,"Schnorr Gmbh","Engen","DE"]
[211004834,3930,"Chinatool Automotive Moul","Shenzhen","CN"]
[211005010,3932,"Eberspächer Exhaust Technology","Wilsdruff","DE"]
[211006272,3933,"Therma-Tech Engineering","Redford","US"]
[211004902,3934,"Parker Hannifin","Chomutov","CZ"]
[211005692,3935,"Cukurova Insaat Mak. San.","Mersin","TR"]
[211004835,3936,"Guangdong Hongtai Technol","Gaoyao","CN"]
[211006273,3937,"Scott Construction Equipm","La Vergne","US"]
[211002342,3938,"Haesev H d Stad","Herk-de-Stad","BE"]
[211005693,3939,"Ceytech Makina San.Ve Tic","Saricam/Adana","TR"]
[211900110,3940,"Leonische Portugal, Lda","Guimaraes","PT"]
[211006274,3942,"Flagler Construction Equi","Orlando","US"]
[211006275,3943,"Flagler Construction Equi","Tampa","US"]
[211003375,3944,"Sch TH Conburi","CHONBURI","TH"]
[211004733,3945,"Scholer Industriel, Inc.","Magog","CA"]
[211002344,3946,"Isringh Lokeren","LOKEREN","BE"]
[211006276,3948,"Reflex And Allen","Indianapolis","US"]
[211005681,3949,"Daiichi Press (Thailand)","Chon Buri","TH"]
[211003376,3950,"Mikuni Alwar","ALWAR","IN"]
[211003378,3953,"Polytec Lohne/V","LOHNE","DE"]
[211004836,3954,"Ningbo Yongjia Auto Parts","Yuyao","CN"]
[211006277,3955,"Westport A - Pa Assembly","Breinigsville,","US"]
[211007312,3956,"IMI Alpen","ALPEN","DE"]
[211003382,3958,"FLOMETALLIC JHAG","JHAGADIA","IN"]
[211904689,3960,"Tokyo Roki (Thailand) Co.,Ltd.","Chachoengsao","TH"]
[211003386,3962,"Gelg Wronki","WRONKI","PL"]
[211003387,3963,"Mubea Pune","PUNE","IN"]
[211006278,3964,"Central Illinois Trucks I","La Salle","US"]
[211005361,3965,"Mahle Componentes De Moto","Ramos Arizpe, C","MX"]
[211006279,3966,"Transedge Truck Centers","Schuylkill Haven","US"]
[211006280,3967,"State Line Truck Service","Fitzwilliam","US"]
[211006281,3968,"Nextran Trk Ctr-Kennesaw","Kennesaw","US"]
[211006282,3969,"Marietta Mack Div. Of Co","Marietta","US"]
[211006283,3970,"Mcbride Mack Sales Of Pad","Paducah","US"]
[211006284,3971,"Mcbride Mack","Cape Girardeau,","US"]
[211006285,3972,"Big Rig Shop Inc","Oxford","US"]
[211006286,3973,"Performance Truck","Beaumont","US"]
[211006287,3974,"Performance Truck","Jasper","US"]
[211006288,3975,"Performance Truck-Bryan","Bryan","US"]
[211005684,3978,"P.C.S. Precision Works Co","Nakorn-Rajsima","TH"]
[211005013,3979,"Polytec Industrielackieru","Rastatt","DE"]
[211005014,3980,"Kirchhoff Witte Gmbh","Iserlohn","DE"]
[211005286,3981,"Alcar Industrie Srl","Lecce","IT"]
[211005090,3982,"Avon Automotive Industria","Sant Just Desvern","ES"]
[211004838,3983,"Nantong Tongrun Auto Acce","Nantong","CN"]
[211002383,3985,"Mht-Europe Fontaine Int","Lowton","GB"]
[211001814,3986,"Huf Hülsbeck & Fürst GmbH & Co. KG","VELBERT","GB"]
[211001789,3988,"Cramling Pre Cra","CRAMLINGTON","GB"]
[211002835,3991,"BCS Automotive Global Ltd","Burnley","GB"]
[211003861,3992,"Thermotec Witton","WITTON","GB"]
[211002387,3993,"EWART ENG GRETNA","GRETNA","GB"]
[211001804,3995,"Water Proc Hodd","HODDESDON","GB"]
[211001777,3996,"KAB Northampt","NORTHAMPTON","GB"]
[211001781,3997,"DENSO SHIPLEY","SHIPLEY","GB"]
[211006289,3998,"Trans Power, Inc.-Douglas","Douglas","US"]
[211003044,4000,"Promens","Rõngu","EE"]
[211005362,4001,"R.A. Phillips Industries","Colonia El Llano, Arteaga, Coahuila","MX"]
[211006290,4003,"Rocking C. Truck & Traile","Gulfport","US"]
[211900616,4004,"WABCO REMAN SOLUTIONS","STANOWICE","PL"]
[211003389,4005,"Yahata Chon Buri","CHON BURI","TH"]
[211003390,4008,"J O L&D Skovde","Skövde","SE"]
[211900111,4009,"Panhard General Defense","Saint-Germain-Laval","Volvo EMEA1"]
[211004734,4010,"Multimatic Anton Mfg.","Concord, On","CA"]
[211003272,4011,"Guru N Phagwara","PHAGWARA","IN"]
[211003676,4012,"Wuxi Hols Wuxi","WUXI","CN"]
[211005418,4013,"Pkc Group Poland Sp. z o.o.","Starachowice","PL"]
[211900113,4014,"Meritor C/O Lufapak B.V","Neuwied","DE"]
[211005611,4015,"Vishay Nobel Ab","Karlskoga","SE"]
[211005232,4018,"Leax Hungary Zrt","Mezokovesd","HU"]
[211001988,4019,"ZF FRIED SIMMERN","PASSAU","DE"]
[211005612,4022,"Bogelack Ab","Ulricehamn","SE"]
[211005287,4023,"Silatech S.R.L","Gissi","IT"]
[211005613,4025,"Essentra Components Ab","Askim","SE"]
[211005685,4026,"Wabco (Thailand) Co.,Ltd","Rayong","TH"]
[211006291,4028,"Gulf Coast Truck Equipmen","Dothan","US"]
[211006292,4029,"Gulf Coast Truck & Equip","Pine Hill","US"]
[211906066,4030,"Rhenus AG","Velten,Berlin","DE"]
[211002431,4032,"Buchholz Schwent","SCHWENTINENTAL","DE"]
[211905470,4034,"Schaeflein Logistics GmbH","Schwebheim","DE"]
[211002428,4035,"EDSCHA AUTO. HAUZEN","HAUZENBERG","DE"]
[211005018,4038,"Mahle Behr Gmbh & Co Kg","Vaihingen an der Enz","DE"]
[211903895,4039,"Aptiv Services Deutschland GmbH","Engelskirchen","DE"]
[211900116,4040,"Lsc-Happich / Schenker Srl","Bor U Tachova","CZ"]
[211900250,4041,"Bosch Rextroth AG Plant","Empfingen","DE"]
[211904934,4042,"Hydac DENWR","St. Ingbert","DE"]
[211003469,4045,"SKF Luechow","Lüchow","DE"]
[211900574,4047,"ANYLINK DEGEX AG","Grossmehring","DE"]
[211002732,4049,"Hammer Fridingen","FRIDINGEN","DE"]
[211006293,4050,"Mcclung-Logan_Equipment C","Bridgeville","US"]
[211005204,4051,"Concentric Birmingham Limited","Birmingham","GB"]
[211001908,4053,"Jost We Neu Isen","NEU ISENBURG","DE"]
[211006294,4054,"Vantage Equipment, Llc","Batavia","US"]
[211006295,4055,"Vantage Equipment, Llc","Latham","US"]
[211905092,4056,"GKN Sinter Metals Comp. GmbH","Radevormwald","DE"]
[211001880,4058,"Philippine GmbH&Co.Tech.Kunst.KG","LAHNSTEIN","DE"]
[211905957,4060,"KS Logistic & Services GmbH","Hermeskeil","DE"]
[211006296,4061,"Stiebel Drive Technology","Greenville","US"]
[211003982,4062,"Sv Maltekn Vaxjo","Växjö","SE"]
[211003210,4064,"Cooper S Cirie","Ciriè","IT"]
[211905550,4065,"Mekra Lang Gmbh & Co Kg","Burgbernheim","DE"]
[211905937,4066,"Spedition Wormser","HERZOGENAURACH","DE"]
[211005615,4068,"Konga Måleri Ab","Konga","SE"]
[211004581,4070,"Pasec Nv","Malle-Westmalle","BE"]
[211001726,4071,"4071 VCE GENT","Gent","BE"]
[211002729,4072,"Seissenschmidt GmbH","PLETTENBERG","DE"]
[211004906,4074,"Cooper-Standard Automotiv","Zdár nad Sázavou","CZ"]
[211003024,4076,"Toplog Wuppertal","WUPPERTAL","DE"]
[211003683,4079,"KAFAB Simlangsd","SIMLANGSDALEN","SE"]
[211002048,4081,"Aage Ö Horsens","HORSENS","DK"]
[211002051,4082,"Sjorring Thisted","THISTED","DK"]
[211904977,4083,"C/O LZS","LEOBERSDORF","AT"]
[211002343,4084,"EFTEC GENK","GENK","BE"]
[211001736,4085,"Voestalpine SADEF","HOOGLEDE","BE"]
[211001496,4086,"VOLVO PARTS SOUTH AFRICA","JOHANNESBURG","Volvo EMEA2"]
[211003074,4088,"Kberg Pow Ljungs","LJUNGSARP","SE"]
[211003687,4089,"Park Sheet Coven","COVENTRY","GB"]
[211005168,4090,"Ellium","Brignais","FR"]
[211900251,4091,"Levypyörä Oy","Nastola","FI"]
[211002303,4093,"ABLCaen","CAEN","FR"]
[211005105,4094,"Nmc Cellfoam Oy","Tampere","FI"]
[211002106,4095,"ELICHE MONZA","MONZA","IT"]
[211002515,4096,"SIAP Maniago","Maniago","IT"]
[211900617,4098,"Decalog S.r.l.","None","IT"]
[211005091,4099,"Fico Transpar SA","Viladecavalls","ES"]
[211003075,4101,"Winkelm Legnica","LEGNICA","PL"]
[211005419,4102,"UAB Baltwood (Kärnsund)","Grigiskes","LT"]
[211003403,4103,"VDL BE Aalst","AALST","BE"]
[211001716,4106,"Malmar Gent","GENT","BE"]
[211001727,4107,"FOMECO ZWEVEGEM","ZWEVEGEM","BE"]
[211003053,4109,"Yasaki Ovar","OVAR","PT"]
[211905486,4111,"Bodycote Varmebehandling AB","Västerås","SE"]
[211001453,4112,"Nirotech AB","Bengtsfors","SE"]
[211006297,4113,"Asc Construction Equipmen","Mobile","US"]
[211006298,4114,"Asc Construction Equipmen","Chattanooga","US"]
[211006299,4115,"Asc Construction Equipmen","Forest Park","US"]
[211006300,4116,"Asc Construction Equipmen","Charlotte","US"]
[211002523,4117,"Innov Log Holms","HOLMSUND","SE"]
[211004211,4118,"AB Oetiker Sweden (Lithuania)","DRUSKININKAI","LT"]
[211003689,4119,"Inver Pre Valmad","VALMADRERA","IT"]
[211001289,4120,"EBERSPACHER NYKÖ","Nyköping","SE"]
[211004735,4121,"Westcon Equipment & Renta","Winnipeg, Mb","CA"]
[211002160,4123,"FRICWELD HALLEFO","Hällefors","SE"]
[211006301,4124,"Interstate Trucksource In","Romulus","US"]
[211003693,4126,"Kberg Int Siofok","SIOFOK","HU"]
[211001315,4127,"CH Indu Eskilst","ESKILSTUNA","SE"]
[211006302,4128,"Mcclung-Logan Equipment C","Winchester","US"]
[211005311,4132,"Johnan Manufacturing Inc.","Ueda","JP"]
[211006303,4133,"Lewis Marine Supply, Inc.","Fort Lauderdale","US"]
[211004908,4134,"Trw-Das A.S.","Dacice","CZ"]
[211003322,4135,"Borgers Krumbach","KRUMBACH","DE"]
[211003101,4136,"Megalans Götebor","Göteborg","SE"]
[211900335,4138,"Continental Automotive","Jicín","CZ"]
[211005657,4140,"Avc Raková A.S.","Rakova","SK"]
[211003703,4142,"QPC Nassjo","Nässjö","SE"]
[211003704,4143,"Rigef Smastenar","Smålandsstenar","SE"]
[211003270,4144,"Bhavani Industries India LLP","RAJKOT","IN"]
[211006304,4150,"Scott Construction Equipm","Shreveport","US"]
[211006305,4151,"Scott Construction Equipm","Monroe","US"]
[211006306,4152,"Scott Construction Equipm","Alexandria","US"]
[211004736,4153,"Strongco Limited Partners","Baie Comeau, Qc","CA"]
[211003710,4155,"MILTON KEYNES PRESSINGS LIMITED","MILTON KEYNES","GB"]
[211004072,4157,"Soc Nouv St Pier","Saint-Pierre-de-Varengeville","FR"]
[211002922,4159,"VOLVO POWERTRAIN ST PRIEST SAW","Saint-Priest","FR"]
[211900336,4160,"Parker Hannifin Cvs","Chomutov","CZ"]
[211005169,4161,"Danfoss Cc","Trévoux","FR"]
[211905345,4162,"STS Plastics Precigne","Précigné","FR"]
[211001339,4163,"Sola Mech Etuna","ESKILSTUNA","SE"]
[211003422,4166,"St Enso Jkpg","Jönköping","SE"]
[211003726,4167,"Meritor Hvs Australia Ltd","Sunshine","AU"]
[211900205,4168,"Aleaciones De Metales Sin","SANT VICENC DELS HORTS","ES"]
[211006307,4169,"Baltimore Mack Trucks Inc","Hagerstown","US"]
[211003145,4170,"Shiloh Ind. Sp. z.o.o","BIELSKO-BIALA","PL"]
[211006308,4171,"Asc Construction Equipmen","Charlotte","US"]
[211005207,4172,"Pelicans Manufacturing Co","London","GB"]
[211004343,4173,"L Schaible Villi","VILLINGEN-SCHWENNINGEN","DE"]
[211001497,4174,"VCE SANTIAGO","SANTIAGO","CL"]
[211001498,4175,"VCE SANTIAGO","SANTIAGO","CL"]
[211003287,4176,"Blowtech Gnosjö","Gnosjö","SE"]
[211900119,4177,"Ogura Clutch Co. Ltd","Akabori--Isesaki","JP"]
[211001591,4178,"FALK LACK MORA","MORA","SE"]
[211006309,4179,"Parish Truck Sales","St. Rose","US"]
[211904102,4180,"AQ PLAST AB","Anderstorp","SE"]
[211006310,4182,"Hansen International Inc","Lexington","US"]
[211003178,4184,"OOO Aek Kostom","KOSTOMUKSHA","RU"]
[211001653,4185,"Terberg Benschop","BENSCHOP","NL"]
[211006311,4186,"Volvo Truck Parts - Cpw L","Lewis Center","US"]
[211006312,4187,"Volvo Truck North America","GREENSBORO","US"]
[211905636,4188,"Volvo Group Truck Canada","Milton","CA"]
[211006313,4189,"Volvo Parts Memphis Dist.","Memphis","US"]
[211006314,4190,"Volvo Parts Reno Distribu","Reno","US"]
[211006315,4191,"Chi/Joliet Parts Distrib.","Joliet","US"]
[211006316,4192,"Volvo Parts Balitmore Dis","Elkridge","US"]
[211006317,4193,"Volvo Parts North America","Jacksonville","US"]
[211006318,4196,"Volvo Ce Parts - Cpw Lewi","Lewis Center","US"]
[211006319,4197,"Bridge-Haven Ford Truck S","Milford","US"]
[211006320,4199,"Blue Bird Corporation","Fort Valley","US"]
[211006321,4200,"Dana Holdings Corporation","Robinson","US"]
[211006322,4201,"Water Resources, Inc.","Edgecomb","US"]
[211006323,4202,"Griffith Rubber Of Garret","Garrett","US"]
[211006324,4203,"Belmor","Howe","US"]
[211006325,4204,"Valley Truck Center, Inc.","Laredo","US"]
[211006326,4205,"Bergstrom Inc","Rockford","US"]
[211006327,4206,"Nuss Truck & Equipment","Burnsville","US"]
[211006328,4207,"Western Truck Parts & Equ","Stockton","US"]
[211006329,4208,"Genesis Energy","Ruston","US"]
[211007350,4210,"Sanden Man Tinte","Tinténiac","FR"]
[211006331,4211,"Shipley Motor Equipment","Pottsville","US"]
[211006332,4213,"Superior Trim","Old Hickory","US"]
[211006333,4216,"Avon Automotive - Cadilla","Cadillac","US"]
[211904027,4217,"ENICS VASTERAS","Västerås","SE"]
[211001764,4218,"Perkins Peterbo","PETERBOROUGH","GB"]
[211006334,4219,"Cleveland Hdw & Forging","Cleveland","US"]
[211006336,4223,"Davco Technologies","Saline","US"]
[211006337,4224,"Belgian Screw Machine Products, Inc","Concord","US"]
[211006338,4225,"Bruckner Truck Sales, Inc","Dallas","US"]
[211006339,4229,"Fleet Engineers","Muskegon","US"]
[211006340,4230,"Central Illinois Truck In","Champaign","US"]
[211006341,4231,"Central Illinois Truck In","Morton","US"]
[211006342,4232,"North American Truck & Tr","Watertown","US"]
[211001767,4233,"TI Gr Autom Telf","TELFORD","GB"]
[211006343,4234,"Old River Of Louisiana","Baton Rouge","US"]
[211006344,4235,"Grande Ford Truck Sales","San Antonio","US"]
[211006345,4236,"Bergey'S Trucks, Inc.","Trenton","US"]
[211006346,4237,"Capital Trailer & Equipme","Mobile","US"]
[211006347,4239,"Andy Mohr Truck Center","Indianapolis","US"]
[211006348,4240,"Bruckner Truck Sales","Tulsa","US"]
[211006349,4241,"Gatr Truck Center","Cedar Rapids","US"]
[211006350,4242,"Old River Supply, Inc.","Laurel","US"]
[211006351,4243,"Bruckner Truck Sales, Inc","Albuquerque","US"]
[211006352,4244,"Western Colorado Truck Ce","Fruita","US"]
[211006353,4245,"Cleveland Truck Sales","Cleveland","US"]
[211006354,4246,"R And R Inc","Youngstown","US"]
[211006356,4248,"R & R, Inc. Of Pennsylvan","New Castle","US"]
[211006357,4249,"Vomac Truck Sales & Servi","New Haven","US"]
[211006359,4251,"Julian Electric","LOCKPORT","US"]
[211006360,4252,"K-D Lamp Company AKA ATC Lighting","Andover","US"]
[211006361,4253,"Karman Rubber Co","Akron","US"]
[211006362,4254,"Rdo Truck Center Co.","Williston","US"]
[211006363,4255,"Koneta Rubber Co, Inc.","Wapakoneta","US"]
[211004911,4256,"Poclain Hydraulics Sro","Brno","CZ"]
[211006364,4257,"Quality Castings","Orrville","US"]
[211006365,4259,"Tec Of California","Sylmar","US"]
[211006366,4260,"Central Illinois Trucks I","Loves Park","US"]
[211006367,4261,"Premier Truck Centers Inc","Madison","US"]
[211006368,4262,"TEC Fontana","Fontana","US"]
[211006369,4263,"Nuss Truck & Equipment","Eau Claire","US"]
[211006370,4264,"Park Place Corporation","Greenville","US"]
[211006371,4265,"Nuss Truck & Equipment","Duluth","US"]
[211006372,4266,"Nuss Truck & Equipment","Mankato","US"]
[211006373,4267,"Transource, Inc.","Raleigh","US"]
[211006374,4268,"Truck Lite Co, Inc.","McElhattan","US"]
[211006375,4269,"Northwest Equipment Sales","Boise","US"]
[211006376,4270,"Erie Truck Center","Erie","US"]
[211006377,4271,"Mico, Inc.","North Mankato,","US"]
[211006378,4272,"Midwest Control Products","Bushnell","US"]
[211006379,4273,"Sidley Trucks & Equipment","Thompson","US"]
[211006380,4274,"Diesel Services Of America","Fort Lauderdale","US"]
[211006381,4275,"Center Products","Greenville","US"]
[211006383,4277,"Muncy Corporation","Springfield","US"]
[211006385,4281,"Orscheln Products Llc","Moberly","US"]
[211006386,4282,"O'Connor Motor","Augusta","US"]
[211006387,4283,"Poly Enterprises, Inc.","Gainesville","US"]
[211006388,4284,"Bangor Volvo Truck & Trai","Bangor","US"]
[211006389,4285,"M & L Marine Service, Inc","Port Republic,","US"]
[211006390,4286,"Dario Diesel Volvo Trk Sl","Worcester","US"]
[211006392,4288,"Quick Start Product","Rochelle","US"]
[211006393,4289,"Beyer Bros","Fairview","US"]
[211005363,4290,"Norma Juarez","San Pedro, Cp","MX"]
[211003729,4291,"VOLVO GROUP","DUBAI","Volvo EMEA2"]
[211006394,4292,"Riker Products Inc","Toledo","US"]
[211900619,4293,"James Dawson & Son","LINCOLN","GB"]
[211006395,4294,"La Crosse Truck Center In","La Crosse","US"]
[211006396,4295,"Romeo Rim","Romeo","US"]
[211006397,4296,"Hudson County Motors","Secaucus","US"]
[211006398,4297,"Asc Construction Equipmen","Piedmont","US"]
[211006399,4298,"Milea Truck Sales","Bronx","US"]
[211006400,4299,"Vip Truck Center","Livonia","US"]
[211006403,4302,"Aci Supply Company","Elmira","US"]
[211006404,4303,"Parker Hannifin","New Britain","US"]
[211006405,4304,"S & S Truck Sales Inc","Lima","US"]
[211006406,4305,"The Service Company","Covington","US"]
[211006407,4306,"S & S Truck Sales Inc","Lima","US"]
[211006408,4307,"Beam Mack Sales-Buffalo Trck Ctr","Buffalo","US"]
[211904738,4308,"Electropoli","Bielsko-Biała","CZ"]
[211006409,4309,"Glassmaster Controls","Kalamazoo","US"]
[211006410,4310,"Commercial Vehicle System","Michigan City,","US"]
[211006411,4311,"Superior Trim Inc","Findlay","US"]
[211006412,4312,"Mcdevitt Trucks","Manchester","US"]
[211006413,4313,"U.S. Distributing, Inc.","Portland","US"]
[211006414,4314,"Burr Truck & Trailer Sale","Vestal","US"]
[211006415,4315,"Baltimore Volvo Trucks","Linthicum Heights","US"]
[211006416,4317,"Cumberland Truck Equipmen","Carlisle","US"]
[211006418,4319,"Norma Michigan, Inc","Auburn Hills","US"]
[211006419,4320,"Tru-Flex Lcc","West Lebanon","US"]
[211006420,4321,"Unity Mfg Co","Chicago","US"]
[211006421,4322,"Bergey'S Truck Centers","Souderton","US"]
[211006422,4323,"Bergey'S Heavy Duty Truck","Colmar","US"]
[211006423,4324,"Gabrielli Truck Sales","Jamaica","US"]
[211006424,4325,"Gabrielli Truck Sales","Medford","US"]
[211003765,4326,"BN Teknik Eksjö","Eksjö","SE"]
[211006425,4327,"Webasto Product North Ame","Fenton","US"]
[211006427,4329,"Gabrielli Truck Sales Ltd","Hicksville","US"]
[211906136,4330,"Musashi Luechow","Lüchow","DE"]
[211006429,4332,"Albany Mk Sales-Dba","Albany","US"]
[211004738,4333,"Marcels Equipment Ltd","Nanaimo, Bc","CA"]
[211006430,4334,"Central Motor Company","Springfield","US"]
[211001780,4335,"Borgers Telford","TELFORD","GB"]
[211006431,4336,"Hughes Motors, Inc.","Charleston","US"]
[211006432,4337,"Shealy'S Truck Center","Columbia","US"]
[211006433,4338,"Chicago Mack Sales & Serv","Summit","US"]
[211004739,4339,"Chalmers Suspensions Intl","Mississauga, On","CA"]
[211006434,4340,"Dana Spicer Driveshaft","Crossville","US"]
[211006435,4341,"Bruckner Truck Sales, Inc","Tye","US"]
[211006436,4342,"Coupled Products, Llc","Columbia City","US"]
[211006437,4343,"Ballard Truck Center","Avon","US"]
[211006438,4344,"Bergey'S Truck Centers","Conshohocken","US"]
[211006439,4345,"M & K Quality Truck Sales","Byron Center","US"]
[211006440,4346,"M & K Quality Truck Sales","Byron Center","US"]
[211006442,4348,"Eberhard Mfg.","Strongsville","US"]
[211006443,4349,"M & K Quality Truck Sales","Kalamazoo","US"]
[211006445,4351,"Chicago Truck Sales & Ser","Alsip","US"]
[211006446,4352,"Kentuckiana'S Premier Tru","Clarksville","US"]
[211006447,4353,"W W Engine & Supply Inc","Shippenville","US"]
[211905836,4354,"Hendrickson Auxiliary Axle","Heath","US"]
[211006450,4356,"Bergey'S Truck Centers","Pennsauken","US"]
[211006451,4357,"Allentown Truck Sales & S","Allentown","US"]
[211001782,4358,"Prestolite Lond","Greenford","GB"]
[211006453,4360,"Bergey'S Trucks Center","Vineland","US"]
[211006454,4361,"Purosil","Corona","US"]
[211006455,4362,"Harvey Mack - New Castle","New Castle","US"]
[211006456,4363,"M&K Truck Center","Wilkes-Barre","US"]
[211006457,4364,"Tmi Truck & Equipment","Chesapeake","US"]
[211900587,4365,"Sanden Manufacturing Poland","Polkowice","GB"]
[211006458,4366,"W.W. Engine & Supply Inc","West Newton","US"]
[211006459,4369,"Cambria Truck Center-Edis","Edison","US"]
[211007295,4371,"PARKER HANNIFIN FR","Contamine-sur-Arve","FR"]
[211006461,4372,"Haldex Inc","Grain Valley","US"]
[211006462,4373,"Madison Truck Sales","Madison","US"]
[211006463,4374,"W. W. Engine & Supply","Altoona","US"]
[211006465,4376,"Meritor","Fletcher","US"]
[211006467,4378,"Florence Truck Center, In","Florence","US"]
[211006468,4379,"Power Packer","Westfield","US"]
[211001787,4381,"Tinsley Bridge Ltd","Sheffield","GB"]
[211006470,4382,"Fond Du Lac Truck Sales","Fond Du Lac","US"]
[211006471,4383,"Fox Valley Truck Service","Appleton","US"]
[211006472,4384,"R & H Trk & Trlr Sls Inc","Vincennes","US"]
[211006473,4385,"Flexfab Division","Hastings","US"]
[211006474,4386,"Harvey Truck Center","Delmar","US"]
[211006475,4387,"Shealy'S Truck Center","Duncan","US"]
[211006476,4388,"Swift Transportation","Greer","US"]
[211006477,4389,"Shealy'S Truck Center","Duncan","US"]
[211006478,4390,"O'Connor Motor","Portland","US"]
[211006479,4391,"O'Connor Motor","Portland","US"]
[211006480,4392,"APTIV AKA Delphi","El Paso","US"]
[211006481,4393,"Graff Truck Center Of Fli","Flint","US"]
[211006482,4394,"Aearo Technologies","Indianapolis","US"]
[211006484,4396,"Graff Truck Center Of Sag","Saginaw","US"]
[211006485,4397,"Griffith Rubber","Portland","US"]
[211006486,4398,"Anderson Motors Inc","East Providence","US"]
[211006487,4400,"Alltruck & Equipment","Medford","US"]
[211006489,4402,"Cumberland Truck Equipmen","Ephrata","US"]
[211006491,4404,"Bruckner Truck Sales, Inc","Oklahoma City,","US"]
[211006492,4405,"Bruckner Truck Sales, Inc","Oklahoma City,","US"]
[211006493,4406,"Meritor Heavy Vehicle Sys","Florence","US"]
[211006494,4407,"Jim Flynn'S Truck Repair","Glen Gardner","US"]
[211006495,4408,"W.W. Engine & Supply","Somerset","US"]
[211006496,4409,"W.W.Engine & Supply-Somer","Somerset","US"]
[211006497,4410,"J C Nash Truck Parts","Athens","US"]
[211006498,4411,"Columbus Truck And Eqpt C","Columbus","US"]
[211006499,4412,"Monroe Mack Sales","Monroe","US"]
[211006500,4413,"Roberts Truck Center Of K","Wichita","US"]
[211006501,4414,"Tri-State Truck Center In","Little Rock","US"]
[211006502,4415,"Hodges Heavy Duty Truck P","Russellville","US"]
[211006503,4416,"Tri-State Truck Center","Tupelo","US"]
[211900122,4417,"A-Förpackning","Eskilstuna","SE"]
[211006504,4418,"Tri-State Truck Center - Jackson TN","Jackson","US"]
[211006505,4419,"Worldwide Eqpt Inc-Prince","Princeton","US"]
[211006506,4420,"Tec Eugene","Coburg","US"]
[211006507,4421,"Tec Medford","Medford","US"]
[211006508,4422,"Milwaukee Truck Sales","Milwaukee","US"]
[211006509,4423,"Brown's","Lebanon","US"]
[211006510,4424,"Sweeten Truck Center Lc","Houston","US"]
[211006511,4425,"Pennsylvania Truck Center","Wrightsville","US"]
[211006512,4426,"Green Bay Drop Forge","Green Bay","US"]
[211006514,4428,"Industrial Truck & Traile","Picayune","US"]
[211006515,4429,"Tri-County Truck Center","Kittanning","US"]
[211006516,4430,"Hall Volvo Gmc","Tyler","US"]
[211006517,4431,"Vanguard Truck Center Of","Tucson","US"]
[211006518,4432,"Roberts Truck Center Of K","Salina","US"]
[211001791,4433,"Pamargan Newton","NEWTOWN","GB"]
[211006519,4434,"Gatr Truck Center","Cedar Rapids","US"]
[211006520,4435,"Twin Bridges Truck City","Davenport","US"]
[211006521,4436,"Volvo Of Denver","Commerce City,","US"]
[211006523,4438,"Racine Truck /Kriete Truck Cent","Franksville","US"]
[211006524,4439,"R&H Truck & Trailer Sales","Evansville","US"]
[211006525,4440,"Oakland Truck Center Inc","Oakland","US"]
[211006526,4441,"Nextran Corporation","Orlando","US"]
[211006528,4443,"Nextran Corp -Auburndale","Winter Haven","US"]
[211006530,4445,"Potomac Truck Center","Bladensburg","US"]
[211006531,4446,"Gateway Volvo","Collinsville","US"]
[211006532,4447,"Sheldon Trucks, Inc.","Williston","US"]
[211005211,4448,"Smr Automotive Mirrors Uk","Portchester","GB"]
[211006533,4449,"Texarkana Volvo / Mack Sa","Texarkana","US"]
[211006534,4450,"Gateway Industrial Power","Wright City","US"]
[211006535,4451,"Vanguard Truck Center Of","Buda","US"]
[211006540,4456,"Transedge Truck Center","Pittsburgh","US"]
[211006541,4457,"Tec Equipment Inc","Sparks","US"]
[211006542,4458,"Northwest Equipment Sales","Hermiston","US"]
[211006543,4459,"Beam Mack (Elmira)","Horseheads","US"]
[211006544,4460,"Erie Truck Center","Erie","US"]
[211006545,4461,"Worldwide Equipment Of Oh","Dayton","US"]
[211006547,4463,"Tri-State Truck Center, I Jonesboro","Jonesboro","US"]
[211006548,4464,"Nextran Truck Ctr","Fultondale","US"]
[211006549,4465,"Nextran Truck Center","Madison","US"]
[211006550,4466,"Nextran Truck Center – Bi","Tuscumbia","US"]
[211006551,4467,"General Truck Sales Of To","Maumee","US"]
[211003768,4468,"Ljusdal Msk Ljdl","LJUSDAL","SE"]
[211006552,4469,"Action Truck Center, Inc","Dothan","US"]
[211004841,4472,"Yantai Timken Company, Lt","Yantai","CN"]
[211006555,4473,"Tom Nehl Truck Company","Jacksonville","US"]
[211006556,4474,"Arnold Machinery Company","Twin Falls","US"]
[211006557,4475,"Volvo & Gmc Trucks Of Pal","West Palm Beach","US"]
[211006558,4476,"Prince Truck Center","Tifton","US"]
[211006559,4477,"Truckmax, Inc.","Miami","US"]
[211006560,4478,"Vanguard Truck Center of Savannah","Garden City","US"]
[211006561,4479,"Triple T Parts & Equipmen","Rocky Point","US"]
[211006562,4480,"Triple T Parts & Equipmen","Wilmington","US"]
[211006563,4481,"Nacarato Trucks, Inc","Nashville","US"]
[211006564,4482,"Truck Enterprises","Harrisonburg","US"]
[211006565,4483,"Goodpasture Motor","Bristol","US"]
[211006566,4485,"Matheny Volvo & Gmc Truck","Mineral Wells,","US"]
[211006567,4486,"Volvo And Gmc Trucks Of C","South Charleston","US"]
[211006568,4487,"Nextran Truck Center","Lake City","US"]
[211006569,4488,"Heavy Parts Center","Bayamón","US"]
[211006570,4489,"Colonial Truck Sales","Ashland","US"]
[211006572,4491,"Worldwide Eqpt Inc-Presto","Prestonsburg","US"]
[211006573,4492,"Capital Volvo Truck & Tra","Montgomery","US"]
[211006574,4493,"Colonial Truck Sales","Richmond","US"]
[211006575,4494,"Worldwide Equipment Chatt","Chattanooga","US"]
[211006576,4495,"Triple T' Pts&Equip/Warsa","Warsaw","US"]
[211006577,4496,"Lexington Truck Sales","Lexington","US"]
[211003772,4497,"Samhall Haninge","Söderhamn","SE"]
[211906191,4498,"Agility AB","Göteborg","SE"]
[211006578,4499,"Volvo & Gmc Trucks Of Atl","Forest Park","US"]
[211006585,4506,"Truck Enterprises Hagerst","Hagerstown","US"]
[211006587,4508,"Truck Enterprises-Keyser","Keyser","US"]
[211004842,4509,"Xuzhou Meritor Axle","Xuzhou","CN"]
[211001803,4510,"Truck Lite Harl","HARLOW","GB"]
[211006588,4511,"Old River Trucks","Crosby","US"]
[211006589,4512,"Nextran Truck Center","Tampa","US"]
[211006590,4513,"Old River Truck Sales","Foxworth","US"]
[211006591,4514,"Truck Enterprises Of Roan","Roanoke","US"]
[211006592,4515,"Truck Enterprises Of Lync","Lynchburg","US"]
[211006593,4516,"Advantage Truck Center","Rocky Mount","US"]
[211006594,4517,"R & R Truck Repair","Augusta","US"]
[211006595,4518,"Old River Supply, Inc.","Richland","US"]
[211006596,4519,"Worldwide Equipment Enter","Hazard","US"]
[211006597,4520,"Worldwide Eqpt Inc-Huntin","Huntington","US"]
[211006598,4521,"Volvo Trucks Of Mobile","Irvington","US"]
[211001806,4522,"EATON HYD HAVANT","HAVANT","GB"]
[211006599,4523,"Styline Diesel Service Ce","Huntingburg","US"]
[211006600,4524,"Tec Equipment, Inc.","North Las Vegas","US"]
[211003435,4525,"GTT N5","Göteborg","SE"]
[211006601,4526,"Nextran Truck Center Of S","Pompano Beach,","US"]
[211006602,4527,"Mte Sales & Rental","South Bend","US"]
[211006603,4528,"Rdo Truck Center Co","Bismarck","US"]
[211006604,4529,"Ryusaki General Repair, I","Kapolei","US"]
[211006605,4530,"Ballard Truck Center","Avon","US"]
[211006606,4531,"Transport Equipment, Inc","Clarkston","US"]
[211900618,4533,"TRW AUTO EL BIRMHM","BIRMINGHAM","GB"]
[211006608,4534,"Old River of New Orleans","Breaux Bridge,","US"]
[211006609,4535,"Bruckner Truck Sales, Inc","Dallas","US"]
[211006610,4536,"Worldwide Eqpt Inc-Somers","Somerset","US"]
[211006611,4537,"Worldwide Eqpt Inc-Somers","Somerset","US"]
[211006612,4538,"Volvo Trucks Of Omaha","Omaha","US"]
[211006613,4539,"Tom Graddy Enterprises","Adairsville","US"]
[211006614,4540,"Advantage Truck Center","Greensboro","US"]
[211006615,4541,"Advantage Truck Center","Saint Pauls","US"]
[211006616,4542,"M & K Truck Centers - Summit","Summit","US"]
[211006617,4543,"M & K Truck Centers","Alsip","US"]
[211006618,4544,"Tom Nehl Truck Company","Waycross","US"]
[211006619,4545,"Gatr Truck Center","Des Moines","US"]
[211006621,4547,"Westfall Gmc Truck, Inc","Kansas City","US"]
[211006622,4548,"Tec Equipment, Inc","Des Moines","US"]
[211006623,4549,"Columbus Truck & Equipmen","Columbus","US"]
[211006624,4550,"Rdo Truck Center, Co.","Dickinson","US"]
[211006625,4551,"Westfall O'Dell Of Colora","Fruita","US"]
[211006626,4552,"Pennsylvania Truck Fleet","York","US"]
[211001322,4553,"Gleitmo Kbacka","KUNGSBACKA","SE"]
[211006627,4554,"Beam Mack Sales & Service","East Syracuse,","US"]
[211006628,4555,"Tracey Road Equipment Inc","East Syracuse,","US"]
[211006629,4556,"Conway Volvo Truck Divisi","Rochester","US"]
[211006630,4557,"Beam Mack Sales & Service","Rochester","US"]
[211005328,4558,"DYC Co.","Gyeongsan","KR"]
[211006631,4559,"M & K Quality Truck Sales","Des Plaines,","US"]
[211006632,4560,"Beam Mack (Watertown)","Watertown","US"]
[211006633,4561,"Tri-State Truck Ctr Springfield MO","Springfield","US"]
[211006634,4562,"Tri-State Truck Center Inc Joplin","Joplin","US"]
[211006635,4563,"Volvo & Mack Trucks Of Wa","Robinson","US"]
[211006636,4565,"Fleet Interiors Inc","Laddonia","US"]
[211004740,4567,"Specialty Aluminum","Blenheim, On","CA"]
[211006638,4568,"Mile High Marine Storage","SAN BERNARDINO","US"]
[211006639,4570,"Westfall O'Dell Volvo Of","Cheyenne","US"]
[211006640,4571,"La Beau Brothers","Kankakee","US"]
[211006641,4572,"Central Illinois Trucks I","Loves Park","US"]
[211006642,4573,"Coffman Truck Sales","Aurora","US"]
[211003780,4574,"Aapico Chon Buri","CHON BURI","TH"]
[211006643,4575,"General Truck Sales","Muncie","US"]
[211006644,4576,"Dukes Gmc Inc.","Anderson","US"]
[211006646,4578,"Sioux City Truck And Trai","Sioux City","US"]
[211006649,4582,"Gatr Of Sauk Rapids Inc","Sauk Rapids","US"]
[211006650,4583,"Ball Volvo & Gmc Trucks","Kahoka","US"]
[211006651,4584,"Westfall Volvo And Gmc Tr","Kansas City","US"]
[211900620,4586,"Integrated Hydraulics Ltd Warehouse","Warwick","GB"]
[211005364,4587,"Hendrickson Spring Mexico","Piedras Negras,","MX"]
[211006653,4588,"Trucks Inc","Sikeston","US"]
[211006654,4590,"Trucks Of Bismarck","Bismarck","US"]
[211006655,4591,"Rdo Truck Center","Fargo","US"]
[211006657,4593,"Aber'S Truck Center","Ashland","US"]
[211006658,4594,"Young Volvo","Canton","US"]
[211006659,4595,"Fremont Volvo Truck Sales","Fremont","US"]
[211006660,4596,"Steubenville Truck Center","Steubenville","US"]
[211006661,4598,"Eckels Diesel, Llc","Rio Grande","US"]
[211006662,4599,"Dakota Volvo Trucks, Inc.","Sioux Falls","US"]
[211006664,4601,"Jx Truck Center","Wausau","US"]
[211906016,4602,"NC Coatings","Staley","US"]
[211006666,4604,"Wheeling Truck Center","Wheeling","US"]
[211006667,4605,"Stykemain Trucks","Defiance","US"]
[211006668,4606,"Rdo Truck Center Co.","Grand Forks","US"]
[211001812,4607,"Kostal Rotherham","ROTHERHAM","GB"]
[211006669,4608,"Cit-Peru","Peru","US"]
[211006671,4611,"Mack Truck Sales Of Charl","Rock Hill","US"]
[211004912,4613,"Mahle Behr Mnichovo Hradiste","Mnichovo Hradiste","CZ"]
[211006672,4614,"Blue Springs Marine, Inc.","Blue Springs","US"]
[211006673,4615,"Roadway Express","Carlisle","US"]
[211006674,4616,"Roadway Express","Cincinnati","US"]
[211006675,4617,"Roadway Express","Chicago Heights","US"]
[211006676,4618,"Yellow Freight - Maybrook","Kansas City","US"]
[211006677,4619,"Yellow Freight","Saint Louis","US"]
[211006678,4620,"Yellow Freight","Burnsville","US"]
[211006679,4621,"Yellow Freight","San Bernardino","US"]
[211006680,4622,"Yellow Freight","Columbus","US"]
[211006681,4623,"Yellow Freight","Tonawanda","US"]
[211006682,4624,"Yellow Freight","Richland","US"]
[211006683,4625,"Yellow Freight","Memphis","US"]
[211006684,4626,"Yellow Freight","Nashville","US"]
[211006685,4627,"Yellow Freight","Albuquerque","US"]
[211006686,4628,"Yellow Freight","Marietta","US"]
[211006687,4629,"Yellow Freight","Indianapolis","US"]
[211006688,4630,"Yellow Freight","Dallas","US"]
[211006689,4631,"Yellow Freight","Tracy","US"]
[211006690,4632,"Yellow Freight 5632D91","Richfield","US"]
[211006691,4634,"Rdo Truck Center Inc","Roseville","US"]
[211003220,4635,"Bosch Rex Glenro","GLENROTHES","GB"]
[211006692,4636,"Worldwide Eqpt Inc-Cincin","Cincinnati","US"]
[211006693,4637,"Georges Truck & Repair Ce","Florence","US"]
[211006694,4638,"Ckt Se","Mount Airy","US"]
[211006695,4639,"Victoria Mack Sales & Ser","Victoria","US"]
[211006696,4640,"Centerville Marine Servic","Chesapeake","US"]
[211006697,4641,"Dakota Volvo Trucks","Rapid City","US"]
[211006698,4642,"Prevost Parts","Mira Loma","US"]
[211006699,4643,"Prevost Parts","Goodlettsville,","US"]
[211006700,4644,"Bruckner Truck Sales, Inc","Albuquerque","US"]
[211006701,4645,"Mountain West Truck Cente","Saint George","US"]
[211006702,4646,"Potomac Mack Sales & Serv","Gainesville","US"]
[211001821,4647,"ALBON ENGINEERING & MANUFACTURING","ESSEX","GB"]
[211006703,4648,"Rees Truck & Trailer, Inc","Fort Dodge","US"]
[211006704,4649,"Pozzo Truck Center","Gary","US"]
[211006706,4651,"Packaging Systems, Inc.","Roseville","US"]
[211902187,4653,"FACIL Europe BVBA","Desteldonk","BE"]
[211006707,4654,"Central Illinois Trucks","Springfield","US"]
[211006708,4655,"W.W. Engine & Supply -Dub","Du Bois","US"]
[211006709,4656,"W.W. Engine & Supply","Kylertown","US"]
[211006710,4657,"Dave Syverson Truck Cente","Albert Lea","US"]
[211006711,4658,"Southwest Volvo Mack Truc","El Paso","US"]
[211006712,4659,"Westside Trucks","El Paso","US"]
[211006713,4661,"Vanguard Truck Center Of","Phoenix","US"]
[211006715,4663,"Vanguard Truck Center Of","Phoenix","US"]
[211006716,4664,"Vanguard Truck Center Of","Phoenix","US"]
[211006718,4666,"Bruckner Truck Sales,Inc.","Fort Worth","US"]
[211006720,4668,"Bruckner Truck Sales,Inc.","Fort Worth","US"]
[211006721,4669,"El Dorado Volvo Trucks","El Dorado","US"]
[211006722,4670,"Ozark Truck Sales","Springdale","US"]
[211006723,4671,"Crescent Trucks","Harahan","US"]
[211006724,4672,"Mountain West Truck Cente","Salt Lake City,","US"]
[211001826,4674,"Kawa Pre Plym","PLYMOUTH","GB"]
[211006726,4675,"General Truck Sales & Ser","Memphis","US"]
[211006727,4676,"General Truck Sales & Ser","Memphis","US"]
[211006728,4677,"Terry'S Garage Inc","West Point","US"]
[211006729,4678,"Swift Transportation","Memphis","US"]
[211006730,4679,"Bruckner Truck Sales, Inc","Amarillo","US"]
[211006731,4680,"Consolidated Metal Produc","Cincinnati","US"]
[211006732,4681,"Smart'S Truck & Trailer E","Beaumont","US"]
[211006733,4682,"Grande Truck Center","San Antonio","US"]
[211006734,4683,"Valley Truck Center","Pharr","US"]
[211006735,4684,"Bruckner Truck Sls -Odess","Odessa","US"]
[211006736,4685,"Southwest Missouri Trk Ct","Springfield","US"]
[211006737,4686,"Southwest Missouri Truck","Joplin","US"]
[211006738,4687,"Bruckner Trk Sls-Wichita","Wichita Falls,","US"]
[211003916,4690,"Brakes Div Sholi","SHOLINGHUR","IN"]
[211006739,4692,"Asc Construction Equipmen","Greenville","US"]
[211006740,4693,"Scott Construction Equipm","Jackson","US"]
[211006741,4694,"Advantage Truck Center","Charlotte","US"]
[211006742,4695,"Volvo & Gmc Truck Ctr. Of","Conover","US"]
[211003204,4697,"UAB Hydro Extrusion Lithuania","KAUNAS","LT"]
[211006744,4698,"Volunteer Volvo And Gmc T","Knoxville","US"]
[211006745,4699,"Worldwide Equipment Of Kn","Knoxville","US"]
[211006746,4700,"Bruckner Truck Sales-Hobb","Hobbs","US"]
[211006747,4701,"Gabrielli Trk Sls Of Conn","Hartford","US"]
[211002840,4704,"Zinkano Hova","HOVA","SE"]
[211006748,4705,"Central Valley Trucks","Fresno","US"]
[211006749,4706,"Central Valley Trucks","Fresno","US"]
[211006751,4708,"Bill'S Truck Repair","Azusa","US"]
[211006752,4709,"E-W Truck And Equipment","San Diego","US"]
[211006753,4710,"Tri-State Truck & Equipme","Billings","US"]
[211006754,4711,"Transport Equipment Inc","Missoula","US"]
[211006756,4713,"Western Truck Parts & Eqp","Sacramento","US"]
[211006757,4714,"Paso Robles Truck Center","Paso Robles","US"]
[211006758,4715,"Mobile Fleet Service","Yakima","US"]
[211006761,4718,"Tucker'S Truck, Inc.","El Dorado","US"]
[211006762,4719,"Western Truck Parts And E","Redding","US"]
[211006763,4720,"Husky Truck Center","Seattle","US"]
[211001830,4721,"Concetric Birmingham Limited","Birmingham","GB"]
[211900123,4722,"Mikuni Corporation","Odawara","JP"]
[211006764,4723,"Tec Equipment","Wilsonville","US"]
[211006765,4724,"Tec Equipment Inc","Portland","US"]
[211006767,4726,"5882D Tri-State Truck & E","Casper","US"]
[211006768,4727,"5884D Tri-State Truck & E","Great Falls","US"]
[211006769,4728,"Bruckner Trk - Lubbock Di","Lubbock","US"]
[211006770,4729,"Shipley Motor Equipment C","Fort Smith","US"]
[211006771,4730,"Transport Equipment Inc","Spokane Valley,","US"]
[211004741,4731,"Great West Equipment","WILLIAMS LAKE, BC","CA"]
[211006772,4733,"Clyde West","Eugene","US"]
[211003808,4735,"Abbey Tool & Gauge Ltd.","KELSO","GB"]
[211003809,4736,"FEAT GROUP LECCO","Cesana Brianza","IT"]
[211003810,4737,"Coemercial de la Forja","RIPOLL","ES"]
[211003811,4738,"Alpha Vehicle Security solution","TYNISTE NAD ORLICI","CZ"]
[211006773,4739,"Asc Construction Equipmen","North Charleston","US"]
[211006774,4740,"Indiana Fluid Power","Fort Wayne","US"]
[211006775,4741,"International Fleet Sales","San Leandro","US"]
[211003230,4742,"UAB KB Kaunas","KAUNAS","LT"]
[211003816,4744,"Cab Autom Tipton","TIPTON","GB"]
[211903764,4745,"Kamax S.R.O.","TURNOV","CZ"]
[211900124,4746,"Schoeller Arca Systems Gmbh","Schwerin","DE"]
[211001828,4749,"Castings Brownhi","Brownhills","GB"]
[211001283,4750,"Hafla Rejmyre","REJMYRE","SE"]
[211005365,4751,"Continental Automotive","Tlajomulco De Z","MX"]
[211006776,4752,"Atlantic Spring","Ringoes","US"]
[211001838,4753,"D. LA PORTE WUPP","WUPPERTAL","DE"]
[211006777,4754,"Honeywell Bendix","Del Rio","US"]
[211005213,4755,"Kingsbury Pallets Ltd","Sutton Coldfield","GB"]
[211905810,4757,"Suez (Boklunds Åkeri AB)","Mariestad","SE"]
[211002448,4758,"Isselburg Guss Und Bearbeitung Gmbh","Isselburg","DE"]
[211006780,4761,"Tramec","Iola","US"]
[211006781,4762,"Barksdale Inc","Los Angeles","US"]
[211006782,4763,"Kalas Mfg Inc","Lancaster","US"]
[211006784,4765,"Phillips & Temro Ind Inc","Eden Prairie","US"]
[211006785,4766,"Sheppard Wabco","Hanover","US"]
[211006786,4767,"Seven Seas Yacht Services","Grasonville","US"]
[211006787,4768,"Saba Hold Co Dba Volvo Ce","Fresno","US"]
[211006788,4769,"Transource","Fayetteville","US"]
[211005171,4771,"Societe Nouvelle Wm","Saint-Florent-sur-Cher","FR"]
[211001850,4775,"ERICH JA FRIEDBE","FRIEDBERG","DE"]
[211006790,4777,"Highway Equipment & Suppl","Lock Haven","US"]
[211004916,4778,"Senior Flexonics Czech S.","Olomouc","CZ"]
[211004321,4779,"SBE Reggio E","Reggio nell'Emilia","IT"]
[211006791,4780,"Scott Van Keppel, L.L.C.","Cedar Rapids","US"]
[211006792,4781,"Scott Van Keppel, L.L.C.","Ankeny","US"]
[211006793,4782,"Scott Van Keppel, L.L.C.","Omaha","US"]
[211003838,4784,"E H CON HILLERST","HILLERSTORP","SE"]
[211005366,4786,"Norgren Mfg De Mexico, S.","SANTA ROSA JAUREGUI, QRO","MX"]
[211006794,4787,"Usk Logistic Management","Springfield","US"]
[211006795,4788,"Larry'S Lighthouse Creek","Aquebogue","US"]
[211905025,4789,"Scherdel Marktr","Merktredwitz","DE"]
[211006796,4790,"Steve'S Marine Service We","Amityville","US"]
[211900656,4791,"SCAIE STATE COMPANY FOR AUTOMOBILES","Iskandariyha","KD"]
[211900253,4792,"Mader Lager Gmbh","Ansbach","DE"]
[211001867,4793,"Polytec Kraicht","KRAICHTAL","DE"]
[211003152,4794,"Contitech Bursa","BURSA","TR"]
[211900622,4795,"Luhn&Pulvermach Dittman&Neuh","WITTEN","DE"]
[211006797,4797,"Tenneco Automotive.","Paragould","US"]
[211904103,4798,"AQ PLAST AB","Torslanda","SE"]
[211006798,4799,"Polytech Netting Industri","Brownsville","US"]
[211003846,4800,"Roul Brak Shangh","SHANGHAI","CN"]
[211003986,4801,"Magneti Modugno","MODUGNO","IT"]
[211003847,4803,"Wico Arvika","ARVIKA","SE"]
[211006799,4804,"Jr Dykes Enterprises, Inc","Portland","US"]
[211006800,4806,"Mcallister Equipment Co","Villa Park","US"]
[211006801,4807,"Volvo Ce And Services","San Leandro","US"]
[211006802,4808,"Mcallister Equipment Co","Springfield","US"]
[211006803,4809,"Volvo Ce And Services","Alcoa","US"]
[211006804,4810,"Johnson'S Diesel Inc","Biloxi","US"]
[211006805,4812,"Boat House At Boater'S Wo","FORT MYERS","US"]
[211006806,4814,"Asc Construction Equipmen","Buford","US"]
[211002851,4816,"Sonima Tibro","TIBRO","SE"]
[211003851,4817,"Vagarda Ind Varg","Vårgårda","SE"]
[211005659,4818,"Zkw Slovakia S.R.O.","Krusovce","SK"]
[211006808,4819,"Trilogy Plastics, Inc.","Alliance","US"]
[211006809,4820,"Isringhausen Inc.","Galesburg","US"]
[211006810,4821,"Nextran Corporation","Macon","US"]
[211006812,4823,"Dayco Produts LLC","Williston","US"]
[211006813,4824,"Advanced Machine And Tool","Virginia Beach,","US"]
[211006814,4825,"Cummins Turbo Technologie","Ladson","US"]
[211904824,4826,"Brose Fahrzeugteile","HALLSTADT","DE"]
[211004742,4828,"Marcels Equipment Ltd.","Fort St. John,","CA"]
[211006815,4829,"Hayes-Lemmerz Internation","Akron","US"]
[211006816,4830,"Reliable Castings","Cincinnati","US"]
[211006817,4831,"Ashley Industrial Molding","Ashley","US"]
[211905446,4833,"GF Casting Solutions Singen GmbH","Singen","DE"]
[211006818,4834,"Marson International Llc","Elkhart","US"]
[211004917,4835,"Hf-Czechforge","Cheb","CZ"]
[211006819,4837,"Meritor-Wabco","Hebron","US"]
[211006820,4838,"Stabilus","Gastonia","US"]
[211006821,4839,"Johnson Welded Products","Urbana","US"]
[211006822,4840,"Rassey Industries Inc","Shelby Township","US"]
[211001904,4841,"Weber Gueglingen","Güglingen","DE"]
[211006823,4842,"Powers And Sons Llc","Montpelier","US"]
[211006824,4843,"American Trim Llc","Sidney","US"]
[211006825,4844,"Mahle Inc","Morristown","US"]
[211006826,4845,"Sierra Machinery Inc","Artesia","US"]
[211006827,4846,"Akg Of America, Inc.","Mebane","US"]
[211006828,4849,"Custom Glass Solutions, llc","Upper Sandusky","US"]
[211004744,4850,"Abc Product Development","Brampton, On","CA"]
[211006829,4851,"C.T.P. Corporation","Greenwood","US"]
[211006830,4853,"Mack Molding Company","Inman","US"]
[211006831,4855,"Jones Manufacturing Compa","Monroeville","US"]
[211006832,4857,"Dayco Products/Mark Iv Au","Springdale","US"]
[211900127,4858,"Grakon Europe","Nuenen","NL"]
[211006835,4860,"Bowman Logistics","Hagerstown","US"]
[211905532,4862,"PROTRANS INTERNATIONAL","Nogales","US"]
[211006837,4863,"NRV Pkg AM Cab Pkg","Pulaski","US"]
[211903937,4864,"CAMRETT LOGISTICS","RADFORD","US"]
[211006839,4865,"American Chrome Chicago C","Bolingbrook","US"]
[211001916,4866,"FEDERAL HERDORF","HERDORF","DE"]
[211006840,4867,"Stoneridge Transportation","El Paso","US"]
[211006841,4868,"Continental Structural Plastic","Lenoir","US"]
[211006842,4870,"Richmond Machinery&Equipm","Richmond","US"]
[211006843,4871,"Cowin Equipment Company","Pensacola","US"]
[211006844,4872,"Cowin Equipment Company","Birmingham","US"]
[211006845,4873,"Cowin Equipment Company","Madison","US"]
[211006846,4874,"Cowin Equipment Company","Montgomery","US"]
[211006847,4875,"Cowin Equipment Company","Oxford","US"]
[211006848,4876,"Cowin Equipment Company","Mobile","US"]
[211006849,4877,"Road Machinery & Supplies","Des Moines","US"]
[211006850,4878,"Road Machinery & Supplies","Sioux City","US"]
[211006851,4879,"Road Machinery & Supplies","Cedar Rapids","US"]
[211006852,4880,"Millerbradford & Risberg","Sussex","US"]
[211006853,4881,"Millerbradford & Risberg","De Pere","US"]
[211006854,4882,"Millerbradford & Risberg","Eau Claire","US"]
[211006855,4883,"Swanston Equipment Corpor","Fargo","US"]
[211006856,4884,"Swanston Equipment Corpor","Minot","US"]
[211006857,4885,"Road Machinery & Supplies","Milan","US"]
[211006858,4886,"Cummings, Mcgowan & West,","Saint Louis","US"]
[211006980,4887,"Road Builders M&S OMAHA, NE","Omaha","US"]
[211006859,4888,"Road Builders Machinery","Lincoln","US"]
[211006981,4889,"Road Builders M&S GRAND ISLAND","Grand Island","US"]
[211006860,4890,"Faris Machinery Company","Commerce City,","US"]
[211006861,4891,"Faris Machinery Company","Colorado Springs","US"]
[211006862,4892,"Faris Machinery Company","Grand Junction,","US"]
[211006863,4893,"Mid-Pac Machinery L.L.C.","Kapolei","US"]
[211006864,4894,"Volvo Logistics - One-Way","Pulaski","US"]
[211001923,4896,"NORMA MAINTAL","MAINTAL","DE"]
[211003981,4897,"Sv Maltekn Vaxjo","MOHEDA","SE"]
[211900623,4898,"EMHART TECHN. TUCKER","LINDEN","DE"]
[211006866,4899,"Papé Material Handling","Modesto","US"]
[211006867,4900,"Galati Yacht Sales, Llc","BRADENTON","US"]
[211005029,4903,"Andreas Lupold Hydrotechn","Vöhringen","DE"]
[211003396,4904,"GW Lisk Clifton","CLIFTON SPRINGS","US"]
[211001938,4906,"APP Kircheim/Tec","KIRCHHEIM/TECK","DE"]
[211005030,4909,"Kuester Acs Gmbh","Ehringshausen","DE"]
[211904806,4910,"LOGWIN SOLUTIONS NECKART","Neckartenzlingen","DE"]
[211004745,4911,"Redhead Equipment","Estevan, Sk","CA"]
[211003244,4912,"PENTA CNSHA SHANGAI","SHANGHAI","CN"]
[211003883,4916,"Bosch Rexroth Bursa","BURSA","TR"]
[211900624,4918,"JITRANS LOGISTIK SPOL.","JIHLAVA","CZ"]
[211005032,4919,"Hengst Se & Co. Kg.","Münster","DE"]
[211006868,4921,"George Associates, Inc.","Silver Spring,","US"]
[211005368,4922,"Fanasa S.A. De C.V.","San Nicolas De","MX"]
[211001484,4923,"VOLVO PARTS RUGBY","RUGBY","GB"]
[211900130,4924,"Matec Slovakia, s.r.o","Lipany","SK"]
[211005620,4925,"Contage Ab","Vårgårda","SE"]
[211002887,4926,"HAWE Micro Fluid GmbH","BARBING","DE"]
[211003891,4927,"Guil-Pel St Jea","Saint-Jean-de-la-Ruelle","FR"]
[211005033,4928,"Saf Holland Gmbh","Bessenbach","DE"]
[211006869,4930,"Miller-Bradford And Risbe","Madison","US"]
[211003898,4931,"LEAX Falun","FALUN","SE"]
[211904069,4932,"Wabco Mannheim","MANNHEIM","DE"]
[211001981,4933,"KHT Fahr Grevenb","GREVENBROICH","DE"]
[211004746,4934,"Marcels Equipment Ltd.","Cranbrook, Bc","CA"]
[211003901,4935,"Trelleborg Ind. Products Estonia Ou","KURESSAARE","EE"]
[211006870,4936,"Bunch Truck & Equipment","Augusta","US"]
[211006871,4937,"Flagler Construction Equi","Miami","US"]
[211001989,4938,"SHW Bad Schuss","BAD SCHUSSENRIED","DE"]
[211900626,4939,"GRAMMER KÜMMERSBRUCK","KÜMMERSBRUCK","DE"]
[211006873,4941,"Trans Power","Valdosta","US"]
[211001997,4943,"Seuffer CalwHirs","CALW","DE"]
[211900131,4947,"Swedecote Ab","Hillerstorp","SE"]
[211003335,4948,"NORMA PILICA","PILICA","PL"]
[211003966,4949,"ASK Monte S Vito","MONTE SAN VITO","IT"]
[211003967,4950,"ASK Zandt","ZANDT","DE"]
[211002005,4951,"Conti Karben","KARBEN","DE"]
[211900680,4952,"Continental Trading GmbH","Babenhausen","DE"]
[211003914,4956,"Jiaxing Minhui C/O Schenker Lo","Göteborg","SE"]
[211003915,4957,"VCE LINYI","LINYI","CN"]
[211004747,4959,"Esco Corporation","Steinbach, Mb","CA"]
[211006875,4960,"Panapacific","Fresno","US"]
[211005662,4961,"Tesla Stropkov As","Stropkov","SK"]
[211003917,4962,"DANA HUNGARY PoTechGr","GYOR","HU"]
[211004748,4963,"Strongco Equipment","Boucherville","CA"]
[211006876,4964,"Nuss Truck & Equipment","Burnsville","US"]
[211006877,4965,"Nuss Truck & Equipment","Rochester","US"]
[211006878,4966,"Nuss Truck Group Inc.","Mankato","US"]
[211006880,4971,"Siesta Key Mooring, Llc","Sarasota","US"]
[211900254,4972,"Spedition Fricke C/O Optibelt","Höxter","DE"]
[211006881,4973,"New Standard Corp","YORK","US"]
[211905791,4974,"Starsprings Poland","TARNOWO PODGORNE","PL"]
[211006882,4977,"G. W. Van Keppel Company","Topeka","US"]
[211900627,4980,"COMEPACK SARL Eschbach","ESCHBACH","FR"]
[211002017,4982,"Schlei Far Muen","München ","DE"]
[211004749,4986,"Strongco Equipment","Red Deer, Ab","CA"]
[211004750,4989,"Nova Bus","St-Francois-Du-","CA"]
[211006884,4993,"Wiegand Mack Sales & Serv","Sterling Heights","US"]
[211006885,4994,"Powersecure, Inc","RANDLEMAN","US"]
[211003945,4995,"Jiangyi F Jiangy","JIANGYIN","CN"]
[211903904,4996,"Schäflein Logistics GmbH Rhein-Main","Kremmen","DE"]
[211002036,4997,"R.Bosch Automot. Steering GMBH","BIETIGHEIM-BISSINGEN","DE"]
[211002043,5000,"MagnetSc Memming","MEMMINGEN","DE"]
[211003949,5001,"NORM CI IZMIR","IZMIR","TR"]
[211900573,5002,"SPED. STRIEB.","RASTATT","DE"]
[211003999,5003,"IM Kelly Ketteri","KETTERING","GB"]
[211003952,5005,"Wuxi Sheng Wuxi","WUXI","CN"]
[211006886,5008,"Kalmar Rt Center Llc","SAN ANTONIO","US"]
[211006887,5009,"Advantage Marine Loto, Ll","CAMDENTON","US"]
[211006890,5017,"Suncoast Diesel Marine, I","Sarasota","US"]
[211904064,5018,"Swepart Transmission","Sibbhult","SE"]
[211905600,5019,"Hydro Extrusion Hungary Kft.","Szekesfehervar","HU"]
[211006891,5020,"Casco Products Corporation","Morgantown","US"]
[211006892,5021,"Taylor Made Systems India","Kendallville","US"]
[211006893,5023,"Netshape Technologies, In","Falls Creek","US"]
[211006894,5024,"Thyssenkrupp Waupaca, Inc","Marinette","US"]
[211003970,5026,"Hubei D Jiangkou","DAN JIANGKOU CITY","CN"]
[211004923,5027,"Kiekert Cs S.R.O.","Prelouc","CZ"]
[211003320,5028,"Samsung SDI Batt Syst","Premstätten","AT"]
[211005056,5030,"Nissens Industrikölere A/","Horsens","DK"]
[211003976,5031,"DÖKTAŞ Dökümcülük Tic.ve San.A.Ş","ORHANGAZI/Bursa","TR"]
[211003381,5032,"Ljunghall Caslav","CASLAV","CZ"]
[211006896,5033,"Kongsberg Power Products Systems","Willis","US"]
[211003257,5035,"Schabm Berching","BERCHING","DE"]
[211905029,5036,"THONI ALUTEC SP. Z O.O.","Stalowa Wola","PL"]
[211006898,5037,"Axle Equipment And Sales","GENEVA","US"]
[211006899,5038,"Accuride Corporation","Batavia","US"]
[211005314,5039,"UD TRUCKS CORP. C/O JPOT","Ota","JP"]
[211004751,5040,"Stm - Societe De Transpor","Montréal, Qc","CA"]
[211004752,5041,"Stl - Societe De Transpor","Montréal, Qc","CA"]
[211002062,5043,"HBN Tek Ringsted","RINGSTED","DK"]
[211900135,5044,"Hansa-Flex Ag","Ottendorf-Okrilla","DE"]
[211003996,5045,"NEOSYM PUNE","PUNE","IN"]
[211004753,5046,"Prevost Bc","Delta, Bc","CA"]
[211003275,5047,"Alnapress BVBA","Tielt","BE"]
[211004008,5050,"Cummins Tech.India Private Ltd","PITHAMPUR","IN"]
[211905441,5051,"GONDRAND","CHASSIEU","FR"]
[211905057,5055,"Doktas Dokumculuk Ticaret ve Sanayi A.S.","MANISA","TR"]
[211004925,5057,"Hp Pelzer S.R.O","Plzen","CZ"]
[211006902,5061,"Mugele Of America, Inc.","Gainesville","US"]
[211004031,5062,"Roux Corbas","CORBAS","FR"]
[211900629,5064,"GHI-MA SAS RIVARA","RIVARA","IT"]
[211004035,5065,"ALUCROM KIELCE SP. Z O.O.","MORAWICA","PL"]
[211005369,5066,"Borg Warner Tts S. De Rl","Irapuato, Gto","MX"]
[211004037,5067,"Tramec S.R.L.","Valperga","IT"]
[211005370,5071,"Bettcher De Mexico","Reynosa, Tamp","MX"]
[211905084,5078,"Formaplex Ltd.","Portsmouth","GB"]
[211004056,5079,"Mubea Prostejov","PROSTEJOV","CZ"]
[211005173,5082,"Somecab Sas","Beauzac","FR"]
[211004066,5085,"Schaeffler Water Pump","MOMO","IT"]
[211900630,5087,"DELPHI DIESEL ABINGDON","ABINGDON","GB"]
[211900136,5088,"Ogino Industrial Co Ltd.","Moriya","JP"]
[211006903,5089,"Alta Construction Equipme","New Hudson","US"]
[211006904,5090,"Alta Construction Equipme","Sterling Heights","US"]
[211004071,5091,"Haldex Suzhou","SUZHOU","CN"]
[211001737,5092,"VCST","Sint-Truiden","BE"]
[211004075,5093,"ZPFNSIPTS BYDGOS","BYDGOSZCZ","PL"]
[211006905,5094,"Eaton Hydraulics","Eden Prairie","US"]
[211003300,5095,"Ljungby Kom Ljby","LJUNGBY","SE"]
[211006906,5096,"Alta Construction Equipme","Byron Center","US"]
[211006908,5102,"Rutt'S Machine, Inc.","Elizabethtown,","US"]
[211004083,5104,"ISKRA Liv Kranj","KRANJ","SI"]
[211900337,5105,"VAN MOER Logistics","Ghiroda","RO"]
[211900137,5107,"Riken Corporation","Kumagaya-City","JP"]
[211006909,5108,"Rt 80 Express Warehouse","Norton","US"]
[211004094,5113,"Valtron Les Cha","LES CHARBONNIERES","CH"]
[211004095,5114,"FAST FORWARD FREIGHT","ROTTERDAM","NL"]
[211004098,5115,"Cellbond Hunting","HUNTINGDON","GB"]
[211005424,5118,"Mondi Szczecin Sp. z o.o.","Kliniska Wielkie","PL"]
[211900695,5119,"Wabco Hannover","Hannover","DE"]
[211004128,5138,"Geji Skillingar","SKILLINGARYD","SE"]
[211004138,5142,"Cepa Steeltech AB","HÖÖR","SE"]
[211006911,5143,"Farrar Corporation","Norwich","US"]
[211004143,5145,"Vinay Chennai","CHENNAI (EX MADRAS)","IN"]
[211900631,5149,"SERMA","PRADALUNGA","IT"]
[211004151,5150,"Brakes Ind Kanch","CHENNAI (EX MADRAS)","IN"]
[211004152,5151,"Baumann Ruti","Rüti","CH"]
[211006913,5153,"Mmi Engineered Solutions","Saline","US"]
[211004754,5154,"Camcor Manufacturing","Guelph, On","CA"]
[211006914,5156,"Rudd Equipment Company","Cincinnati","US"]
[211006915,5157,"Roberts Tool & Die Company","Chillicothe","US"]
[211004755,5158,"Pacific Coast Heavy Truck","New Westminster, Bc","CA"]
[211004844,5159,"Zhumadian Cimc Huajun Cas","Zhumadian City","CN"]
[211006917,5162,"Ward Manufacturing Company","Morton Grove","US"]
[211004164,5163,"NOVOGEAR FRYDEK","Frydek-Místek","CZ"]
[211900632,5165,"MELEGHY AUTO. GERA","GERA","DE"]
[211006919,5170,"Manuli Hydraulics (Americas) Inc.","Chambersburg","US"]
[211006920,5171,"Skyway Precision Inc.","Plymouth","US"]
[211004756,5173,"Matcor Metal Fabrication","Brampton, On","CA"]
[211004188,5177,"Meter Robassomer","ROBASSOMERO","IT"]
[211006921,5178,"Prince Manufacturing","Mills River","US"]
[211005255,5180,"Bil Metal Industries Ltd","Vadodara","IN"]
[211005371,5181,"Sistemas Automotrices De","ESCOBEDO","MX"]
[211005096,5182,"Elring Klinger S.A.","Reus","ES"]
[211900142,5184,"Zf Steering Gear (India)","PUNE","IN"]
[211900633,5185,"Federal Mogul Powertrain Otomotiv","SAPANCA","TR"]
[211002100,5186,"JBM Auto Faridab","FARIDABAD","IN"]
[211900657,5187,"BRAKES INDIA Private LTD","Sholinghur","IN"]
[211004200,5188,"OML Brescia","BRESCIA","IT"]
[211006923,5189,"Peterson Spring","Athens","US"]
[211006924,5190,"Stripmatic Products Inc.","Cleveland","US"]
[211006925,5191,"Diemolding Corporation","Wampsville","US"]
[211002508,5193,"DONALDSON OSTIGL","OSTIGLIA","IT"]
[211900143,5194,"A Rubertsson Cleanliness","Mariestad","SE"]
[211002103,5195,"Trist Flo Cirie","Ciriè","IT"]
[211900258,5196,"Scanrad Sp. Z O.O.","Karlino","PL"]
[211900634,5197,"Fiamm Componenti Accessori - F.C.A.","VICENZA","IT"]
[211002811,5198,"OMP Busano","Busano","IT"]
[211905925,5199,"Taicang Niceday Precision","Suzhou","CN"]
[211003486,5201,"Sirelma Busano","Busano","IT"]
[211004205,5202,"Alfdex Ab","Landskrona","SE"]
[211007294,5203,"MOLLA SRL Solibiate Arno","Solbiate Arno","IT"]
[211006927,5205,"Volvo Penta Marine Produc","Lexington","US"]
[211004757,5206,"Glueckler Metal Inc.","ELMVALE","CA"]
[211004759,5208,"Excell Stamping Inc.","Kenilworth, On","CA"]
[211004846,5209,"Zhejiang Hwaway Spring Co","ZHENJIANG","CN"]
[211006928,5210,"Norma Grp Mx C/O Daniel B","Laredo","US"]
[211900635,5212,"DAYCO EUROPE CHIETI","CHIETI","IT"]
[211004847,5214,"Foshan Ifirst Powder Meta","FOSHAN","CN"]
[211006929,5218,"Rudd Equipment Company","Columbus","US"]
[211003414,5219,"Mecaplast Monaco","MONACO","MC"]
[211004217,5220,"DSV ROAD ST QUEN","Saint-Quentin-Fallavier","FR"]
[211005097,5221,"Edscha Burgos S.A.","Burgos","ES"]
[211004848,5222,"World Known Precision Ind","FUZHOU","CN"]
[211005372,5223,"Tremec Transmisiones","Escobedo","MX"]
[211004230,5224,"Threadl Kolhapur","Kolhåpur","IN"]
[211905612,5225,"Iskra ISD-Plast Kranj","Kranj","SI"]
[211002118,5226,"TSA VOLVO TRUCKS BANGKOK","SAMUT PRAKARN","TH"]
[211004930,5228,"Autoneum Cz S.R.O.","Chocen","CZ"]
[211004234,5229,"Metagra Bergara","BERGARA (GUIPUZCOA)","ES"]
[211002122,5230,"Witte Nejdek","NEJDEK","CZ"]
[211005373,5231,"Volvo Industrial De Mexi","Toluca, Mexico","MX"]
[211004236,5232,"POWERTRAIN MALO","Malmö","SE"]
[211004237,5233,"Castec Pusan","Busan","KR"]
[211002124,5237,"VOLVO INDIA","BANGALORE","IN"]
[211002126,5238,"Volvo Group Singapore (Pte) Ltd","SINGAPORE","SG"]
[211900144,5239,"Ina Kysuce A.S","Kysucke Nove Mesto","SK"]
[211004849,5240,"Qingdao Hilywill Advanced","Qingdao","CN"]
[211900145,5242,"Westpflatz-Werkstatten","Landstuhl","DE"]
[211002125,5243,"VOLVO PARTS BANGALORE","BANGALORE","IN"]
[211005374,5245,"Cifunsa Del Bajio Sa De C","Saltillo","MX"]
[211006930,5246,"M&K Quality Truck Sales O","Indianapolis","US"]
[211900146,5247,"Tokyo Roki Co Ltd,","Sagamihara-Shi","JP"]
[211006931,5251,"Relli Technology Inc","Boca Raton","US"]
[211004255,5252,"Betsaide Elorrie","ELORRIO","ES"]
[211006932,5253,"Pines Automotive Inc","Lauderhill","US"]
[211904109,5255,"Metal Performers S.A.","Amorebieta","ES"]
[211004258,5256,"Unity Pow Rayong","RAYONG","TH"]
[211006933,5257,"Custom Radio Corporation","Fort Wayne","US"]
[211006934,5258,"Metokote Corporation","Huber Heights,","US"]
[211006935,5261,"Dometic","Pompano Beach,","US"]
[211006936,5262,"Fontaine Fifth Wheel - Pa","Brownsville","US"]
[211005106,5263,"VOLVO PARTS FINLAND","Vantaa Helsinki","FI"]
[211004265,5264,"Assali Stefen S.R.L.","Vallese","IT"]
[211005376,5270,"Voss Automotive Mexico,","Arteaga, Coahuila","MX"]
[211004270,5272,"DEDEK","Delbrück","DE"]
[211006939,5273,"Michex","North Charleston","US"]
[211004271,5274,"FERSA ZARAGOZA","ZARAGOZA","ES"]
[211005057,5275,"PostNord Logistics AS","KØGE","DK"]
[211004761,5276,"Strongco Limited Partners","Orillia, On","CA"]
[211900259,5277,"Volvo Ce Ab Customer Supp","Eskilstuna","SE"]
[211000434,5278,"VOLVO GROUP BANGKOK","Samutprakarn Bangkok","TH"]
[211003489,5279,"VOLVO TRUCKS SOUTH AFRICA","UMBOGINTWINI","KD"]
[211003467,5281,"Arabian V Jeddah","KING ABDULLAH ECONOMIC CITY","SA"]
[211006940,5282,"Westport -Roanoke Assembl","Roanoke","US"]
[211004762,5287,"Marcels Equipment Ltd.","Terrace, Bc","CA"]
[211006942,5288,"Fontaine Modification Co","Dublin","US"]
[211004279,5294,"NIFO MONTE SAN P","MONTE SAN PIETRO","IT"]
[211004285,5299,"Jinma Industrial Group Co.,Ltd","SHANDONG","CN"]
[211900149,5300,"Wingfan Ltd. & Co. Kg","Hamburg","DE"]
[211003355,5304,"Cebi Electromech Compon","VILLATUERTA","ES"]
[211904707,5305,"Unnaryd Modell AB","Unnaryd","SE"]
[211006943,5307,"Conmet","Arden","US"]
[211005633,5308,"VCE HALLSBERG SMALLBOX","Hallsberg","SE"]
[211904973,5309,"PostNord Stralfors AB","Ljungby","SE"]
[211004296,5310,"Biro Edwin Roman","ROMANSHORN","CH"]
[211900150,5311,"Metal Smelting S.A.","Berriz","ES"]
[211004298,5312,"DRAF VEAUCHE","VEAUCHE","FR"]
[211004299,5313,"P Hannifin Thatt","Saint-Brice-en-Coglès","FR"]
[211004853,5315,"Taizhou Qiangli Auto Part","Zhenjiang","CN"]
[211004309,5319,"Weber Nowogro","NOWOGRODZIEC","PL"]
[211004856,5321,"Shanghai Hengdao Packing","Shanghai","CN"]
[211900209,5323,"Shiloh Industries AB Olofström","Olofström","SE"]
[211004318,5324,"IMI Modrice","MODRICE","CZ"]
[211000046,5325,"VCE ARVIKA","ARVIKA","SE"]
[211004324,5328,"Automotive insulations Ltd","RUGBY","GB"]
[211906111,5329,"Scanfil Poland Sp. z o.o.","Sieradz","PL"]
[211004326,5330,"Stil Gomma Cast","CASTELLI CALEPIO","IT"]
[211900637,5333,"Seco Industries S.R.O","Jicín","CZ"]
[211006944,5334,"Bruckner Truck Sales","Denver","US"]
[211004857,5335,"Williams Controls (Suzhou)","Suzhou","CN"]
[211006945,5337,"Norgren","Louisville","US"]
[211002141,5339,"VOLVO BUS BANGALORE","BANGALORE","IN"]
[211000321,5342,"VOLVO TRUCKS KALUGA","KALUGA","RU"]
[211006946,5347,"Cvg / Trim Systems Divisi","Dublin","US"]
[211900155,5349,"Shandong Lingong spare part company","Linyi","CN"]
[211004342,5350,"Alucast Wednesbu","WEDNESBURY","GB"]
[211005259,5351,"Ve Commercial Vehicles Lt","Bangalore","IN"]
[211006979,5352,"UD TRUCKS PRETORIA","Rosslyn","SA"]
[211002147,5353,"TMBP VOLVO BANGKOK","SAMUT PRAKARN","TH"]
[211002148,5354,"VE Com Pithampur","Dhar","IN"]
[211005377,5356,"Sypris Technologies Mx","Toluca, Edo","MX"]
[211003269,5357,"Sunstar Precision Forge Ltd","Greater Noida","IN"]
[211004347,5358,"Rane Tamilnada","CHENNAI (EX MADRAS)","IN"]
[211005260,5359,"Ve Commercial Vehicles Lt","Pithampur","IN"]
[211006947,5361,"Lippert Components, Inc","Elkhart","US"]
[211000445,5363,"VOLVO TRUCKS LLC KALUGA","KALUGA","RU"]
[211006949,5365,"Arnold Machinery Company","Salt Lake City","US"]
[211006950,5366,"Blachford Inc","West Chicago","US"]
[211006951,5367,"Pacal Blades","Bucyrus","US"]
[211006952,5368,"Carlisle Ind Brake And Fr","Bloomington","US"]
[211004763,5371,"H L Blachford Ltd.","Mississauga, On","CA"]
[211006954,5372,"Hb Performance Systems","Mequon","US"]
[211004351,5374,"Limatherm Liman","LIMANOWA","PL"]
[211004352,5375,"SIA Leax Rezekne","REZEKNE","LV"]
[211006956,5376,"Concentric Rockford Inc.","Rockford","US"]
[211005666,5378,"Enics Slovakia S.R.O","Nova Dubnica","SK"]
[211004764,5379,"Strongco Limited Partners","Mississauga, On","CA"]
[211004765,5380,"Tc Industries Of Canada","Guelph, On","CA"]
[211004862,5383,"Conche Group Sichuan Danc","Meishan","CN"]
[211905812,5384,"OGS Ind. Packing & Dist. Division","Tallmadge","US"]
[211006959,5385,"Reman Technologies","Charlotte","US"]
[211006960,5386,"Cham Cal Engineering","Garden Grove","US"]
[211006961,5387,"Geith Inc.","Statesville","US"]
[211006962,5388,"Central Fabricators Inc.","Schofield","US"]
[211004355,5389,"MS Shrir Ghazia","GHAZIABAD","IN"]
[211900158,5390,"AEES","Cuidad Acuna","US"]
[211004766,5391,"Brannon Steel","Brampton, On","CA"]
[211004767,5392,"Calco Metal Mfg.","St. Thomas, On","CA"]
[211000051,5394,"VCE BRAÅS","Braås","SE"]
[211006964,5397,"Alta Construction Equipme","Traverse City,","US"]
[211004771,5398,"Dixie Electric Ltd","Concord, On","CA"]
[211004863,5399,"Westfalia Metal Component","Shanghai","CN"]
[211900159,5401,"Suzhou Daxiong Auto Fitti","Taicang","CN"]
[211005299,5402,"METALPRES SRL","Castelgomberto","IT"]
[211004864,5405,"Wuxi Weifu Precision","Wuxi","CN"]
[211004774,5406,"York Metal Spinnings/Spec","Concord, On","CA"]
[211900160,5407,"Shanghai C&U Internationa","Wuhu","CN"]
[211900161,5409,"Schaeffler Technologies Ag & Co","Homburg (Saar)","DE"]
[211900163,5411,"FAG Magyarország Ipari Kft.","Debrecen","HU"]
[211900164,5412,"Schaeffler Portugal Sa","Caldas Da Rainha","PT"]
[211005686,5413,"Thai Tazm Tech Co., Ltd","Chon Buri","TH"]
[211004362,5414,"4 Fast Pohlheim","POHLHEIM","DE"]
[211900165,5415,"Nelson Global Products In","Daman","IN"]
[211004775,5416,"Cresswell Industries","St-Hubert, Qc","CA"]
[211003875,5418,"Blackwood Dilsen","DILSEN-STOKKEM","BE"]
[211004366,5419,"ADM Newcastle UT","NEWCASTLE UPON TYNE","GB"]
[211004367,5420,"Sinteriz Solsona","SOLSONA","ES"]
[211006965,5421,"Duo-Form Plastics","Edwardsburg","US"]
[211900166,5423,"Plastigray","Saint-Brice-en-Coglès","FR"]
[211900167,5424,"Wabco Japan Inc.","Higashimatsuyama","JP"]
[211006967,5428,"Flagler Construction Equi","Lake City","US"]
[211005264,5431,"Lip Fasteners Ptv Ltd","Aurangabad","IN"]
[211004868,5432,"Shanghai Huiyuan Machine Manufactor","Shanghai","CN"]
[211006968,5433,"Power Equipment Company","Johnstown","US"]
[211006969,5434,"Asc Construction Equipmen","Bismarck","US"]
[211006970,5435,"Asc Construction Equipmen","Fargo","US"]
[211006971,5436,"Asc Construction Equipmen","Minot","US"]
[211005048,5437,"Pkc Segu Systemelektrik G","Barchfeld","DE"]
[211001983,5438,"VCE KONZ","KONZ","DE"]
[211004786,5439,"International Transmissio","Stabio","CH"]
[211900169,5440,"Omax Autos Limited - Bang","Bangalore","IN"]
[211900171,5442,"Brembo Spa - Brake Disc D","Mapello","IT"]
[211900173,5444,"Vodafone Automotive","BLACKBURN","GB"]
[211900174,5445,"Parker Hannifin Manufactu","Gessate","IT"]
[211900175,5446,"Ramkrishna Forgings Ltd.","Jamshedpur","IN"]
[211005217,5447,"Marrill Ltd","Coventry","GB"]
[211005218,5448,"Creative Composites Ltd","Lisburn","GB"]
[211005049,5453,"F.W. Brokelmann Aluminium","Ense","DE"]
[211000082,5455,"VCE CHANGWON","Changwon","KR"]
[211900176,5456,"Meritor Czech s.r.o.","Vrchlabí","CZ"]
[211004776,5457,"Cgl Manufacturing Ltd","Guelph, On","CA"]
[211005636,5458,"Vida Pack Krage","Hestra","SE"]
[211005637,5459,"Vida Pack Krage (RYD)","Hestra","SE"]
[211004777,5460,"Prevost Car","ST CLAIRE, QC","CA"]
[211900177,5462,"Orbit One","Ronneby","SE"]
[211004778,5463,"Nova Bus St Eustache","ST EUSTACHE, QC","CA"]
[211900179,5464,"Stena Recycling Ab","Eslöv","SE"]
[211005176,5465,"Sagaert Division Plastiqu","Comines","FR"]
[211904084,5466,"Novabus Spencer Warehouse","Plattsburgh","US"]
[211900182,5468,"Rotom Nederland BV","Tilburg","NL"]
[211005378,5469,"Syvasa Servicios Y Venta","CIUDAD DE MÉXICO, MX","MX"]
[211900183,5470,"Zaklad Elektroniki Motoryzacyj","Elk","PL"]
[211005219,5471,"Bcw Engineering Ltd","Burnley","GB"]
[211004932,5473,"Aoyama Automotive Fastene","Lovosice","CZ"]
[211006973,5474,"Volvo Construction Equipm","Joliet","US"]
[211006974,5475,"J.M. Hutton Stamping","Richmond","US"]
[211006975,5477,"Spencer Industries Inc.","Dale","US"]
[211006976,5478,"Allied Plastics, Inc.","Twin Lakes","US"]
[211905339,5479,"Hydro Extrusion UK Ltd","Bromyard","GB"]
[211900184,5481,"Mpo Champion Ii","Athis-De-L'Orne","FR"]
[211006983,5485,"G Englmayer Spedition Gmbh","Leopoldsdorf (Wien)","AT"]
[211007121,5492,"K. Hartwall Oy Ab","SÖDERKULLA","FI"]
[211905353,5497,"SRL BOSCONERO PLANT","BOSCONERO","IT"]
[211900548,5503,"Walvoil 3","Bibbiano","IT"]
[211900540,5504,"Elring Klinger","Dettingen an der Erms","DE"]
[211900541,5505,"Denson Logistics Ab","Hisings Backa","SE"]
[211905672,5507,"Adient Poland sp. z o.o","SKARBIMIERZ","PL"]
[211007001,5508,"Hydro Extrusion Poland Sp. z o.o.","Trzcianka","PL"]
[211900550,5509,"Kroupa Spedition","Mladá Boleslav","CZ"]
[211007020,5522,"Changchun Mann &Hummel Fawer F","Changchun","CN"]
[211007023,5525,"Xiamen Austin-Westran Machiner","Xiamen","CN"]
[211007025,5527,"Sungbo P&T Co.,Ltd","Hwaseong","KR"]
[211007033,5530,"Sem Ab","Åmål","SE"]
[211007034,5531,"Facil Fasteners (Changshu) Co","Changshu","CN"]
[211007037,5533,"Phillips China Auto Parts Inc","Ningbo","CN"]
[211900536,5535,"Casco Logistics","Viernheim","DE"]
[211900537,5537,"Eaton Srl - Rivarolo CH Plant","Rivarolo Canavese","IT"]
[211007092,5540,"P.G.S Plettenberger Gesenkschm","Plettenberg","DE"]
[211007075,5545,"Arpek Arkan Parca Aluminyum","Kocaeli","TR"]
[211900560,5562,"Selmat S.R.L.","Airasca","IT"]
[211006998,5564,"Bostik Mexicana, S.A. De C.V M","Naucalpan, Edo","MX"]
[211006999,5565,"General De Transportes Y Siste","CIUDAD DE MÉXICO, MX","MX"]
[211007000,5566,"Sika Mexicana,S.A. De C.V.","Tlalnepantla, Edo","MX"]
[211007003,5567,"Festo Pneumatics S.A.","Tlalnepantla, Edo","MX"]
[211007278,5569,"Concentric Itasca Inc USI","Itasca","US"]
[211007004,5570,"Victaulic Company Of America U","Allentown","US"]
[211007005,5571,"Hellamex, Sa De C V","Naucalpan, Edo","MX"]
[211007006,5572,"Fas Controls/Kendrion","Shelby","US"]
[211007008,5573,"Tractoremolques Del Noroeste","Hermosillo","MX"]
[211905058,5574,"Mahle MITSA Warehouse","Grand Rapids","US"]
[211007011,5576,"Spartanburg Steel Products","Spartanburg","US"]
[211007015,5577,"Eberspaecher North America, In","Brighton","US"]
[211007016,5578,"Mec","Wytheville","US"]
[211007026,5579,"S&V Warehousing Services","Newport News","US"]
[211007032,5583,"Mcalpin Industries","Rochester","US"]
[211905760,5584,"Agility Fuel Solutions","SALISBURY","US"]
[211007039,5586,"YFS Automotive Systems, Inc. U","Gallatin","US"]
[211007041,5587,"Wipro Enterprises, Inc.","Chambersburg","US"]
[211007097,5588,"Bruckner Truck Sales, Inc","Albuquerque","US"]
[211007042,5589,"Magnum Trailer And Equipment C","Abbotsford, Bc","CA"]
[211007043,5590,"Gb Fabrication Co.","Shiloh","US"]
[211007044,5591,"Core Composites Corporation","Brownsville","US"]
[211007045,5592,"Re-Trac Corporation","Brandon","US"]
[211007099,5594,"Nextran Corp -Auburndale","Winter Haven","US"]
[211007102,5597,"Bruckner Truck Sales Inc.","San Angelo","US"]
[211007103,5598,"Beam Mack Sales & Service","East Syracuse,","US"]
[211007104,5599,"Mountain West Truck Center","Heyburn","US"]
[211007105,5600,"Tri-State Truck & Equipme","Casper","US"]
[211007046,5601,"Röchling Engineering Plastics","Orangeville, On","CA"]
[211007047,5602,"Southco Inc","Concordville","US"]
[211007062,5603,"Kurz-Kasch, Inc.","Newcomerstown","US"]
[211007049,5604,"Stemco Products Inc.","Berea","US"]
[211007064,5606,"Agility Fuel System","Fontana","US"]
[211007050,5607,"Haltec Corporation","Salem","US"]
[211007066,5608,"Verbom Sherbrooke","Sherbrooke, QC","CA"]
[211007067,5609,"Columbus Truck & Equipment Cen","Marietta","US"]
[211007068,5610,"Sabs Hold Co Dba Volvo Ce And","Turlock","US"]
[211007069,5611,"Bruckner Truck Sales, Inc.","Colorado Springs","US"]
[211007070,5612,"Transource, Inc.","Clinton","US"]
[211007071,5613,"Romco Equipment Company","Carmine","US"]
[211007072,5614,"Central Valley Truck","Bakersfield","US"]
[211007073,5615,"Strongco Limited Partnership C","Trois-Rivières, Qc","CA"]
[211007078,5616,"Lucerne International Inc.","Auburn Hills","US"]
[211007106,5617,"Continental Do Brasil Produtos","Ponta Grossa","BR"]
[211007107,5618,"Castertech Fundicao E Tecnolog","Caxias Do Sul","BR"]
[211007108,5619,"Sag Brasil Fabricacao De Tanqu","Jaguariúna","BR"]
[211007110,5621,"Transdotti Transporte Rodoviar","Campinas","BR"]
[211007111,5622,"Sears Seating Do Brasil Comerc","Santana De Parnaiba","BR"]
[211007113,5623,"Metal 2 Industria E Comercio L","Mogi Mirim","BR"]
[211007112,5624,"Alfagomma Do Brasil Ltda","Guaranésia","BR"]
[211900572,5626,"VOLVO Cars Olofström BodyComp","Olofström","SE"]
[211007126,5630,"Benteler Aluminium System","Skultuna","SE"]
[211007127,5631,"Murata Spring Co Ltd","Utsunomiya-Shi","JP"]
[211007128,5632,"Johnson Controls Autobatterie","Hannover","DE"]
[211007130,5634,"Wabco India Limited","PADI","IN"]
[211007131,5635,"Volvo Del Uruguay Sa","Montevideo","UY"]
[211007132,5636,"Röchling Rimito Plast Oy","Rusko","FI"]
[211007133,5637,"Industrias Tamer,S.A. De","Tlalnepantla, E","MX"]
[211007135,5639,"Voss Fluid Gmbh","Wipperfürth","DE"]
[211007136,5640,"Hds Hydraulik Gmbh & Co K","Gummersbach","DE"]
[211007137,5641,"Gates De Mexico, S.A. De","Atlacomulco, Ed","MX"]
[211007139,5643,"Sag-Mecasa, S.A. De C.V.","Tlalnepantla, E","MX"]
[211007140,5644,"Moldeados Y Perfiles De H","Tultitlan","MX"]
[211007142,5646,"Spheros-Parabus Ltd","Turku","FI"]
[211007143,5647,"Artecola Mexico S.A. De C","Tlalnepantla, E","MX"]
[211007144,5648,"Tecnología Y Precisión En","Queretaro, Edo","MX"]
[211904802,5649,"Pihl Sweden AB SEEKT","Eskilstuna","SE"]
[211007148,5652,"Aluminio Extruido Extral","IZTAPALAPA, MX","MX"]
[211007149,5653,"Actia De Mexico S.A. De C","CIUDAD DE MÉXICO, MX","MX"]
[211007150,5654,"Busch M. Gmbh & Co Kg","Meschede","DE"]
[211007152,5656,"Stabilus, S.A. De C.V.","Ramos Arizpe, C","MX"]
[211007153,5657,"Mitsubishi Electric Thai","Pluak Daeng","TH"]
[211007156,5660,"Eskilstuna Elektronikpart","Eskilstuna","SE"]
[211007157,5661,"Horton Europe Gmbh & Co K","Schweinfurt","DE"]
[211007158,5662,"Industria Textil Jacquard","Ecatepec, Est.","MX"]
[211007161,5665,"Fonderie 2A","Borgaro Torinese","IT"]
[211007163,5667,"Ferresistemas Integrales","Tultitlan, Edo","MX"]
[211007164,5668,"Fuzhou Lioho Machinery Co","Fuzhou","CN"]
[211007165,5669,"Sia Hgf Riga","Riga","LV"]
[211007166,5670,"Shanghai Mekra Lang Vehic","Shanghai","CN"]
[211007167,5671,"Terberg Techniek B.V.","Ijsselstein","NL"]
[211007168,5672,"Honeywell Turbo Technolog","Pune","IN"]
[211900658,5673,"Boyd Hong Kong Ltd.","SHENZHEN","CN"]
[211007170,5674,"Dromone Engineering Litd","Oldcastle","IE"]
[211007171,5675,"Hitachi Automotive System","Chiyoda-ku,Tokyo","JP"]
[211007173,5677,"Machino Plastics Ltd","Gurgaon","IN"]
[211007174,5678,"Minda Stoneridge Instrume","Pune","IN"]
[211007175,5679,"Cob Bearing Inc.","Jiaxing","CN"]
[211007176,5680,"Knorr Bremse Systems For","Pune","IN"]
[211007177,5681,"Kinugawa Thailand Co. Ltd","Ayutthaya","TH"]
[211007178,5682,"Federal-Mogul Serina CO.,Ltd.","Chonburi","TH"]
[211007179,5683,"Mann And Hummel Filter Pv","Tumkur","IN"]
[211007180,5684,"Dinex Emission System (Ch","Changzhou","CN"]
[211007181,5685,"Talbros Automotive Compon","Faridabad","IN"]
[211007182,5686,"Dayco Power Transmission","Gurgaon","IN"]
[211007183,5687,"Mssl Wh System","Rayong","TH"]
[211007184,5688,"Alpha Guangzhou Automotiv","Guangzhou","CN"]
[211007185,5689,"Tenneco Automotive Operat","Napoleon","US"]
[211007186,5690,"Tirsan Kardan","Naberezhnye Chelny","RU"]
[211007189,5693,"Titanx Engine Cooling","Jamestown","US"]
[211007190,5694,"Cummins Midstate Power","Indianapolis","US"]
[211007193,5697,"Galliker Transport Ab","Göteborg","SE"]
[211900642,5699,"TR FASTENINGS Tidaholm","TIDAHOLM","SE"]
[211007198,5703,"Lear Corporation Holding","Valls(Tarragona)","ES"]
[211900644,5706,"ACTIA AUTOMO. SA","TOULOUSE","FR"]
[211900645,5707,"TT ELECTRONICS SENSING","REMETEA MARE","RO"]
[211905110,5708,"TRW Automatic Czech s.r.o.","Frydlant","CZ"]
[211007204,5709,"Dalian Kwd Innovation Aut","Dalian","CN"]
[211905967,5710,"Vibracoustic AG & Co. KG","Neuenburg","DE"]
[211007208,5713,"Olssons Logistics","Skövde","SE"]
[211007209,5714,"Superior Trim","Findlay","US"]
[211007211,5716,"Gkn Driveline Deutschland","Zwickau","DE"]
[211900651,5719,"Panalpina Welttr./Zizala","Düsseldorf","DE"]
[211007215,5720,"Hilite Germany Gmbh","Marktheidenfeld","DE"]
[211903956,5721,"Varroc Engineering Pvt.Ltd","Aurangabad","IN"]
[211007217,5722,"Rico Auto Industries Limi","Gurgaon","IN"]
[211900659,5723,"METALDYNE IND. Jamshedpur","JAMSHEDPUR","IN"]
[211900652,5724,"Panalpina Welttr. / ZKW","Düsseldorf","DE"]
[211905993,5725,"Bosch Automotive S.R.L.","Blaj","RO"]
[211007223,5728,"Clicon Stromberg Ab","Skogås","SE"]
[211007224,5729,"Skoparp Maskin AB","ESLÖV","SE"]
[211007225,5730,"Jiaxing Fersa Bearing Co.","Jiaxing","CN"]
[211007227,5732,"Yujin Nonferrous Metal","Gimhae","KR"]
[211007229,5734,"Tsf Navarra De Tecnicas","Arazuri","ES"]
[211900649,5735,"POSTNORD LOG.","TURKU(Åbo)","FI"]
[211906101,5738,"Saint-Gobain Sekurit Scandinavia AB","Torslanda","SE"]
[211007235,5740,"Aerial Service And Parts","Shippensburg","US"]
[211007236,5741,"Asc Construction Equipmen","La Vergne","US"]
[211007237,5742,"General Truck Sales & Ser","Memphis","US"]
[211007239,5744,"Roadway Express","Houston","US"]
[211007240,5745,"Mountain West Truck Cente","Salt Lake City,","US"]
[211007241,5746,"Tec La Mirada","La Mirada","US"]
[211007242,5747,"Tec Of California","Baldwin Park","US"]
[211007243,5748,"True Form Collision Repai","Mcminnville","US"]
[211007246,5751,"Blue Light Ind. E Comerci","Cafelandia","BR"]
[211007247,5752,"Leoni Automotive Do Brasi","Itu","BR"]
[211900668,5753,"COBO SPA MT DIVISION","Cadelbosco di Sopra","IT"]
[211007249,5754,"Robert Bosch S.A. De C.V.","San Martín Obispo. Cua Izcalli","MX"]
[211007255,5760,"Pt Volvo Indonesia","Jakarta Pusat","ID"]
[211007256,5761,"Dinex Deutschland Gmbh","Hassloch","DE"]
[211007258,5763,"Team Industries S.R.O.","Turany","SK"]
[211007259,5764,"Helgesen Sp. Z O.O.","Bydgoszcz","PL"]
[211007260,5765,"Immi-Dallas","Laredo","US"]
[211903940,5767,"Kyoei Shoji Co., Ltd.","Adachi-ku, Tokyo","JP"]
[211007262,5768,"Net Civata Ve Vida San.A.","Sefaköy Istanbul","TR"]
[211007264,5770,"Elringklinger_Marusan Cor","Tokyo","JP"]
[211905630,5771,"Motherson Sumi Systems Li","Pithampur","IN"]
[211007267,5773,"Productos Nacionales Bama","Ecatapec, Est.","MX"]
[211007269,5775,"Hkt Corporation          ","Hachioji       ","JP"]
[211900671,5776,"Grakon Vehicle Components(DG) Co., Ltd","DongGuan","CN"]
[211007272,5778,"Swell Marui (Guangzhou) A","Guangzhou      ","CN"]
[211007273,5779,"Shenyang Lioho Machinery","Shenyang       ","CN"]
[211007275,5782,"Intec De Mexico ","CIUDAD DE MÉXICO, MX","MX"]
[211007276,5784,"Ljungbergs Stenungsund Depot","Stenungsund","SE"]
[211905652,5785,"SAF HOLLAND, INC.","DUMAS","US"]
[211900570,5790,"Shandong Linggong EXC division/plant","LINYI","CN"]
[211007281,5791,"VOLVO CONSTRUCTION EQUIP CHINA","SHANGHAI","CN"]
[211900571,5792,"TROPACK C/O VOLVO PARTS GENT","OOSTAKKER","BE"]
[211900662,5796,"PILKINGTON AUTOMOTIVE POLAND","Chmielów","PL"]
[211007296,5799,"PROMENS MIEDZYRZECZ SP. Z O.O.","MIEDZYRZECZ","PL"]
[211002894,5800,"Sona BLW Duisburg","DUISBURG","DE"]
[211905370,5801,"DAKA Servis s.r.o.","Hodkovice nad Mohelkou","CZ"]
[211903766,5802,"SCHENKER DEUTSCHLAND AG","LANGENHAGEN","DE"]
[211905654,5804,"MWS Aluguss GmbH","Klagenfurt","AT"]
[211007298,5806,"DHL SUPPLY CHAIN(THAILAND)LTD.","BANGKOK","TH"]
[211905724,5807,"MARQUARDT AUTOMOTIVE S.A.R.L.TUNISE","El Hrairia, Tunis","TN"]
[211000691,5808,"Reflexallen (Wuxi) Automotive Co., Ltd","WUXI","CN"]
[211007301,5809,"VULKAN KUPPL. & GETR.","HERNE","DE"]
[211905680,5812,"Flexfab","GRAND RAPIDS","US"]
[211007304,5814,"Flexfab (Dongguan) Rubber Products","DONGGUAN","CN"]
[211904087,5815,"NSK LTD.","TAKASAKI-SHI","JP"]
[211007307,5818,"DAE MYUNG IND CO. LTD","CHANGWON","KR"]
[211008970,5819,"FONDERIE OFFICINE","COMUN NUOVO","IT"]
[211007325,5822,"FERRAMENTAS GERAIS COM. E IMP. SA","Curitiba","BR"]
[211007320,5825,"KISSLING SWISS SWITCHES AG","WEINFELDEN","CH"]
[211903893,5826,"Eberspächer Climate Control Systems","Tlalnepantla","MX"]
[211007322,5827,"Exide De Mexico S De RL De CV","TEPOTZOTLAN","MX"]
[211900677,5828,"Henkel Capital SA de CV","Vallejo","MX"]
[211008972,5829,"M&K Truck Center","Romulus","US"]
[211007324,5830,"MAT DANIA SP. Z O.O.","RADZYMIN","PL"]
[211007450,5831,"S.I.BO. SRL","CALDERARA DI RENO","IT"]
[211007330,5832,"ABOTECHNO CO LTD","AGEO","JP"]
[211007331,5833,"Officine Vica","Cascine Vica Rivoli","IT"]
[211007333,5835,"DIGA, S.A. DE C.V.","NAUCALPAN","MX"]
[211905180,5837,"VE Commercial Vehicles Limited","Pithampur","IN"]
[211007336,5839,"FELTOL MANUFACTURING CO. LTD","SAMUTPRAKARN","TH"]
[211007337,5840,"VCE APS SUMMARY ACCOUNT","Göteborg","SE"]
[211004226,5841,"Hutchins JLTours","Joué-lés-Tours","FR"]
[211007338,5842,"CH.RADIATORS CO.,LTD.","SAMUTPRAKARN","TH"]
[211905714,5843,"Kongsberg Ramos Arizpe","RAMOS ARIZPE","MX"]
[211002083,5844,"Plastal Raufoss","RAUFOSS","NO"]
[211007339,5845,"SWEDECOTE AB","GRYTHYTTAN","SE"]
[211007340,5846,"TRANSTECHNOLOGY BRAZIL","DIADEMA","BR"]
[211000212,5847,"PLASTAL GROUP NV","GENT","BE"]
[211903890,5848,"Electropoli-Galwanotech","Bielsko-Biała","PL"]
[211007343,5850,"MAHINDRA COMPOSITES LTD","PUNE","IN"]
[211007344,5851,"AD-Trä","Växjö","SE"]
[211905694,5852,"FICO MIRRORS, SA","Viladecavalls","ES"]
[211007345,5853,"TRUCKQUIP SDN BHD","SERI KEMBANGAN","MY"]
[211900690,5854,"Plastal Sverige AB","Simrishamn","SE"]
[211007347,5855,"THE NAWALOHA INDUSTRY","SARABURI","TH"]
[211007348,5856,"MANUFACTURA MODERNA DE METALES SBCN","Barcelona","ES"]
[211007355,5858,"Anhui Zhongding Rubb-Plastis","NINGGUO","CN"]
[211900696,5859,"NRB BEARING LTD","Waluj (Aurangabad)","IN"]
[211007357,5860,"KNORR-BREMSE SYSTEM","Stráz nad Nisou","CZ"]
[211000889,5866,"Sigma Gurgaon","GURGAON","IN"]
[211007366,5868,"STERLING TOOLS LIMITED","FARIDABAD","IN"]
[211904028,5873,"IAC International Automotive India","Gurgaon","IN"]
[211905697,5875,"MOTHERSON SUMI SYSTEMS LIMITED","NOIDA","IN"]
[211007375,5878,"FUNDICAO BALANCINS LTDA","MOGI GUACU - SAO PAULO","BR"]
[211000558,5879,"Link Sioux Cent","SIOUX CENTER, IA","US"]
[211007377,5881,"OURO FINO INDUSTRIA E COMERCIO LTDA","RIBEIRAO PIRES","BR"]
[211007379,5883,"CH. AUTO PARTS CO.,LTD.","SAMUTPRAKARN","TH"]
[211903770,5884,"NTN - BOWER CORP","HAMILTON","US"]
[211007385,5885,"METAL ONE SHIBAURA BRASIL LTDA","CAPIVARI","BR"]
[211007386,5886,"Tan Chong & Sons Motor Company SDN","KUALA LUMPUR","MY"]
[211903809,5887,"MANTRI METALLICS PVT LTD","Kolhåpur","IN"]
[211007388,5888,"NICHIRIN CO LTD","HIMEJI","JP"]
[211007390,5890,"TATA TOYO RADIATOR LTD","PUNE","IN"]
[211003252,5891,"Modine Gyongyos","GYONGYOS","HU"]
[211903812,5892,"VOSS Automotive Ltda","DIADEMA","BR"]
[211007392,5893,"VETTER FORKS, INC.","Chambersburg","US"]
[211905735,5894,"World Class Mfg.","Weyauwega","US"]
[211007399,5903,"INDUST.BRA.DE PLAST.","BOTUCATU","BR"]
[211007400,5904,"FALLS STAMPING&WELDING COMP","PULASKI","US"]
[211007433,5905,"KÖVER GMBH & CO KG","BUXTEHUDE","DE"]
[211905765,5906,"WABCO Polska Sp. z.o.o","Wrocław","PL"]
[211903836,5908,"Vantec East Logistics Corporation","Saitama-ken","JP"]
[211007401,5909,"G&V Machine Co. Inc.","Ixonia","US"]
[211900927,5910,"Burkert Danmark A/S","HERLEV","DK"]
[211007432,5912,"HIGRADE WELDING & MFG","Schaumburg","US"]
[211007438,5913,"Allied Chucker &Engineering Co","Jackson","US"]
[211903823,5914,"CROWN PACKAGING CORP.","MEMPHIS","US"]
[211905599,5917,"Autocar, LLC AL","Center Point","US"]
[211007405,5918,"BERGSTROM EUROPE LTD","Ystrad Mynach","GB"]
[211007452,5920,"SANDEN THAILAND CO LTD","AYUTTHAYA","TH"]
[211007434,5921,"LANTER DELIVERY SYST.","MADISON","US"]
[211903822,5922,"POLYBOND INDIA PVT LTD","Pune","IN"]
[211007445,5923,"ELANDERS USA, INC.","ACWORTH","US"]
[211007412,5924,"Kunshan Venus Auto Parts","Kunshan","CN"]
[211906305,5925,"F.O.R S.P.A","POGGIO RENATICO","IT"]
[211007414,5926,"CHANGSHU INTIER AUTOMOTIVE","CHANGSHU","CN"]
[211903838,5927,"ASK Industries SpAEmbassy","Santa Vittoria","IT"]
[211007416,5928,"Boyd Corporation GmbH","Syke","DE"]
[211007419,5930,"FORJA BAHIA LTDA","SIMÕES FILHO","BR"]
[211002336,5931,"Procidec Woippy","WOIPPY","FR"]
[211007428,5932,"Mecanica Ind. Buelna","San Felices de Buelna","ES"]
[211007478,5933,"RMIG Automotive Ltd","Wolverhampton","GB"]
[211007420,5934,"Wabco China Co., Ltd","QINGDAO","CN"]
[211007422,5937,"CARRIER ENGINEERS","Faridabad","IN"]
[211007472,5938,"GALLAGHER FLUID SEALS","KING OF PRUSSIA","US"]
[211905610,5939,"SUSPA, INC.","GRAND RAPIDS","US"]
[211903882,5941,"IBCC NINGBO FOUNDRY","ZHEJIANG","CN"]
[211007470,5942,"SOLO WORLD PARTNERS","RIVERVIEW","US"]
[211903845,5943,"DIAMOND PRECISION PRODUCTS","MILWAUKEE","US"]
[211905611,5944,"PLASTAL SVERIGE AB","GÖTEBORG","SE"]
[211007454,5945,"MEC NEILLSVILLE","NEILLSVILLE","US"]
[211007448,5947,"RSB TRANSMISSIONS NA, INC.","HOMER","US"]
[211008022,5948,"MS MOTOR SERVICE INT.","Neuenstadt am Kocher","DE"]
[211008928,5949,"THE FLINCHBAUGH CO","MANCHESTER","US"]
[211905620,5950,"SUNDARAM CLAYTON LIMITED","Kanchipuram","IN"]
[211007488,5951,"ALLAN INDUSTRIAL COATINGS","ALLISON","US"]
[211007447,5952,"COLUMBIA GEAR CORP","AVON","US"]
[211007430,5953,"Rathburn T & M","Auburn","US"]
[211905629,5955,"Ride Control LLC","Chickasha","US"]
[211903908,5956,"BPW Bergische Achsen KG","Reichshof","DE"]
[211903826,5960,"Seiko Shokai Co Ltd","BANGKOK","TH"]
[211007425,5961,"WABCO CHINA CO., LTD","JINAN","CN"]
[211007426,5962,"PT.INTI GANDA PERDANA","Jakarta Utara","ID"]
[211905646,5963,"Trius, Inc.","BETHLEHEM","US"]
[211001006,5966,"MANN+HUMMEL USA INC","PORTAGE, MI","US"]
[211900180,5967,"Prevost Spencer WHSE","Plattsburgh","US"]
[211008962,5969,"HP PELZER NV","Genk","BE"]
[211007457,5970,"Ch.Watanayont Co.,Ltd.","SAMUTPRAKARN","TH"]
[211007442,5971,"M2M Machining","Mukwonago","US"]
[211007435,5972,"Clip-Lok Simpak (Scandinavia) ApS","Allerod","DK"]
[211007463,5974,"BEDCO INC","China Township","US"]
[211007471,5976,"TORCOMP USA, LLC","CHAMBERSBURG","US"]
[211007571,5977,"MAINI PRECISION PRODUCTS","Bangalore","IN"]
[211007476,5979,"METAL BERNARD INC.","SAINT-LAMBERT-DE-LEVIS","CA"]
[211007456,5982,"MOTEK-TEAM INDUSTRIES","CAMBRIDGE","US"]
[211903842,5983,"SYPRIS TECHNOLOGIES, INC","LOUISVILLE","US"]
[211007464,5987,"GENERAL DIE CASTERS","TWINSBURG","US"]
[211007611,5988,"XL ENGINEERING TRADING LIMITED","CHESHIRE","GB"]
[211007461,5989,"SPECMA SP. Z O.O. PL","STARGARD SZCZECINSKI","PL"]
[211007489,5992,"Wema Environmental Tech","Samutprakarn","TH"]
[211007507,5993,"FORTACO ESTONIA Oü","NARVA","EE"]
[211903902,5996,"VOLVO GROUP MEXICO,SA DE CV","TULTITLAN","MX"]
[211008979,5998,"McMahon Truck Centers","Candor","US"]
[211009010,5999,"Wise Heavy Equipment","La Vista","US"]
[211903964,6000,"Kuehne + Nagel Logistics B.V","Moerdijk","NL"]
[211009018,6001,"LITEYNIY ZAVOD ROSALIT","ZAVOLZHJE","RU"]
[211007475,6002,"Volvo Truck Parts BYH","BYHALIA","US"]
[211007477,6003,"Huber Automotive AG","Mühlhausen","DE"]
[211007491,6004,"STONERIDGE INC.","LEXINGTON","US"]
[211008958,6006,"Fontaine Modification","Charlotte","US"]
[211007518,6007,"SCG MECANIQUE GENERALE","Bussy-Albieux","FR"]
[211007516,6008,"HYUNDAI MINUTENESS","CHANGWON","KR"]
[211007505,6009,"GF Casting Solutions Herzogenburg","HERZOGENBURG","AT"]
[211007486,6011,"Continental Autom. sys.","SEGUIN","US"]
[211007542,6012,"FACIL ( THAILAND) CO.,LTD","SAMUT PRAKARN","TH"]
[211904002,6013,"Federal-Mogul Valvetrain","BECKDORF","DE"]
[211007485,6014,"Tru-Flex Sp. z o.o.","Zimna Wodka","PL"]
[211007512,6015,"DYNA METAL CO., LTD.","Chachoengsao","TH"]
[211903924,6016,"Tenneco Automotive","CELAYA","MX"]
[211009029,6017,"THIEME CORPORATION","Saint Charles","US"]
[211905821,6018,"ISPT, LLC","HOUSTON","US"]
[211007551,6019,"SHANGHAI KONGSBERG AUTO DONGFENG","SHANGHAI","CN"]
[211904006,6020,"ACTIA INDIA PVT. LTD.","NOIDA","IN"]
[211007500,6021,"WV INDUSTRIA METALURGICA","Cafelandia","BR"]
[211007508,6022,"ZF INDIA PRIVATE LIMITED","PUNE","IN"]
[211007504,6023,"AUNDE DO BRASIL S.A.","ITAQUAQUECETUBA","BR"]
[211905831,6025,"AAA Sales & Engineering, Inc.","ANGOLA","US"]
[211007852,6027,"ORLACO INC.","JASPER","US"]
[211903900,6030,"SUMMIT AUTO SEATS IND.","BANGSAOTHONG,SAMUTPRAKARN","TH"]
[211007548,6031,"SUNDARAM CLAYTON LIMITED","Chennai","IN"]
[211007612,6032,"Zhejiang Yuejin Machine Co.,Ltd.","DEQING","CN"]
[211904003,6034,"ILJIN Bearing Art","Yeongju","KR"]
[211903992,6035,"ACRO INDUSTRIES","ROCHESTER","US"]
[211007525,6037,"Federal-Mogul Compo.Moto. Ltda","SANTO ANDRE","BR"]
[211007513,6038,"Shashi Jiulong Power","JINGZHOU","CN"]
[211007541,6040,"METHAL COMPANY IND LTDA","FAZENDA RIO GRANDE","BR"]
[211903938,6041,"Faurecia Emission","Limeira","BR"]
[211904062,6042,"Varesina Stampi","Vercelli","IT"]
[211007510,6043,"LINCOLN INDUSTRIES","LINCOLN","US"]
[211007544,6044,"FAST AUTO DRIVE(THAILAND) CO.,LTD","RAYONG","TH"]
[211007527,6046,"PHD Pecas E Componentes","Colombo","BR"]
[211009039,6050,"MAHLE BEHR USA INC.","XENIA","US"]
[211007529,6052,"WAYNE STEEL SUPPLY","FORT WAYNE","US"]
[211905767,6053,"YINLUN TDI, LLC.","ONTARIO","US"]
[211007547,6054,"Tazm Technology Co.,Ltd.","Saitama","JP"]
[211007503,6055,"IMS Emballage AB","Kopparberg","SE"]
[211904065,6056,"Marugo Rubber Industries Ltd","KURASHIKI","JP"]
[211009022,6057,"Prevost Car US","Winter Garden","US"]
[211009017,6058,"ITI INDUSTRIALE SRL","Pero","IT"]
[211905820,6059,"DANA UK DRIVESHAFT LTD","WELLINGBOROUGH","GB"]
[211905822,6061,"Hutchinson Sealing Systems, Inc.","WYTHEVILLE","US"]
[211008946,6062,"TRELLEBORG INDUSTRIE SAS","Clermont-Ferrand","FR"]
[211905653,6063,"DANA INDUSTRIAS LTDA","JUNDIAÍ","BR"]
[211007605,6064,"Hirooka Tekko Co Ltd","KUKI-SHI","JP"]
[211008975,6065,"Boryszew Plastic Rus OOO","DZERZHINSK","RU"]
[211905671,6066,"Rane (Madras) Limited","VARNAVASI","IN"]
[211007641,6067,"JK Fenner India Limited","MADURAI","IN"]
[211904711,6068,"NHK Spring (Thailand) Co.Ltd.","BANGPAKONG","TH"]
[211007648,6070,"Axles India Limited","Sriperumbudur","IN"]
[211904975,6071,"Dana India Private Ltd","Chennai (ex Madras)","IN"]
[211905702,6072,"GKN Sinter Metals & Forge","Hückeswagen","DE"]
[211008987,6073,"ALU -MET Sp. z o.o. Odlewnia","Krosno","PL"]
[211904090,6075,"Belmaks Metal India Ltd","PITHAMPUR","IN"]
[211007560,6076,"CJ Automotive Limited","Chongqing","CN"]
[211904025,6077,"Summit Leamchabang","Chonburi","TH"]
[211008985,6078,"METALUS INC.","DRUMMONDVILLE","CA"]
[211008155,6079,"Iac Apm Automotive Syst","Rayong","TH"]
[211904932,6080,"Varroc Polymer Pvt Ltd","Pune","IN"]
[211007531,6081,"Summit Fuji Kurata","Pluak Daeng","TH"]
[211009020,6082,"Alta Equipment Company","Bloomington","US"]
[211007581,6083,"Tenneco Automotive India","PUNE","IN"]
[211905698,6085,"BPW Bergische Achsen KG","Wiehl","DE"]
[211007585,6087,"Hutchinson Automo RubPro","WUHAN","CN"]
[211007578,6088,"Summit Laemchabang ABW","Tungsukla Sriracha Cholburi","TH"]
[211007588,6089,"Daito Large Mirror (Thailand)","Sriracha","TH"]
[211007597,6090,"Indo Shell Mould Limited","Perundurai","IN"]
[211007584,6091,"Varroc Lighting Sys Pvt","PUNE","IN"]
[211904942,6092,"Amata Nakorn Ind. Estate","Chonburi","TH"]
[211007523,6093,"Thai Rung Union Car","BANGKOK","TH"]
[211007524,6095,"PT UD Astra Motor Indonesia","Jakarta","ID"]
[211007538,6096,"SONIMA","HOLLY","US"]
[211007574,6097,"ASIENTOS VEH. ASTRON","Cuautitlan Izcalli","MX"]
[211904032,6098,"TURBO ENERGY PRIVATE","Sholinghur","IN"]
[211007561,6099,"ACCURATE GAUGE","Rochester Hills/Detroit","US"]
[211007598,6100,"Parker Hannifin Corp","Holly Springs, Marshall","US"]
[211008995,6101,"Gekoplast S.A.","Krupski Młyn","PL"]
[211904004,6102,"VIP,GTO Reman Schenker","Bangalore","IN"]
[211009007,6103,"Vomac Truck","Terre Haute","US"]
[211904097,6104,"Radiadores Ordonez","Castellón de la Plana","ES"]
[211009023,6105,"Bennett Manufacturing Services","Stoke on Trent","GB"]
[211007572,6106,"Optimas (Suzhou) Trading","SIP, SUZHOU, Jiangsu","CN"]
[211007532,6109,"P.P.U. POMEL SP. Z O.O.","WYSZKÓW","PL"]
[211904082,6110,"Swecon Anläg","Torshälla","SE"]
[211905598,6111,"Multimatic Niche","Hethel","GB"]
[211009026,6112,"DEFLEX INNOVATIONS INC","BERLIN, NH","US"]
[211007565,6114,"GMA Manufacturing","Huntingdon Valley","US"]
[211904730,6116,"CAMRETT LOGISTICS","DUBLIN","US"]
[211007514,6119,"Volvo CE Parts","Byhalia","US"]
[211008935,6121,"KUSAUTO EUROPE B.V","EINDHOVEN","NL"]
[211007603,6123,"Littelfuse Commercial Vehicle","LEGNAGO","IT"]
[211904086,6124,"NTN-SNR Rulmenti","Sibiu","RO"]
[211007549,6125,"CONTITECH FLUID","Subotica","RS"]
[211904081,6127,"Taiko unyu Kanto branch","Saitama","JP"]
[211008951,6128,"MITHRA KYOKUTO SPV CO. PVT. LTD","VIJAYAWADA","IN"]
[211905665,6129,"OMP Piccinelli Srl","Calliano","IT"]
[211007537,6130,"GNA Gears Ltd.","Hoshiarpur","IN"]
[211904083,6131,"MECAPLAST ST MAGUERITE","SAINTE-MARGUERITE","FR"]
[211007575,6135,"GHAZIABAD PREC. PROD.","GHAZIABAD","IN"]
[211007577,6136,"RAAL SA","BISTRITA","RO"]
[211904054,6138,"RebSto GmbH Lohngleitschleiferei","Malsch","DE"]
[211007562,6139,"Nelson(Changzhou)Tubing","CHANGZHOU","CN"]
[211007569,6140,"JOPP INTERIOR HUNGARY","SZOLNOK","HU"]
[211009038,6141,"Fuyao Europe GmbH","LEINGARTEN","DE"]
[211905847,6142,"ml&s manufacturing, logistics & ser","Greifswald","DE"]
[211905854,6143,"SIC LAZARO Polska Sp. z o.o.","POLICE","PL"]
[211007623,6144,"Hydraulic and Pneumatic Sales, Inc.","Charlotte","US"]
[211905437,6145,"International Alexander SRL","ARAD","RO"]
[211008134,6146,"ALLISON TRANSMISSIONS","SHANGHAI","CN"]
[211007552,6147,"TITANX ENGINE COOLING","KUNSHAN","CN"]
[211904112,6149,"SKF Logistics Services","Tongeren","BE"]
[211904089,6150,"SAPA EXTRUSIONS NOTH AMERICA","PHOENIX","US"]
[211008984,6153,"ES HYDAGENT AB","UMEÅ","SE"]
[211904367,6155,"Westfalia Metal s.r.o","Hustopece","CZ"]
[211905755,6156,"Jürgen Köhle Fertigungstechnik e.K.","Greifenberg","DE"]
[211009006,6157,"Western Truck Parts & Equipment","TURLOCK","US"]
[211007567,6158,"MECELEC","MAUVES","FR"]
[211007812,6160,"SETFORGE La Clayette","LA CLAYETTE","FR"]
[211007580,6162,"VAL GIOVANNI E FIGLI","Rivara","IT"]
[211007583,6164,"EG (SHANGHAI) COMMERCIAL","SHANGHAI","CN"]
[211904601,6165,"Rempower Derby","Derby","GB"]
[211007596,6166,"HAPPY FORGINGS LTD","LUDHIANA","IN"]
[211009008,6167,"Alta Equipment Company","Peotone","US"]
[211904673,6169,"Logistik Center Pall GmbH (LCP)","Grosspetersdorf","AT"]
[211904615,6170,"Harman Becker Automotive Systems","Székesfehérvár","DE"]
[211904114,6171,"PERARDI E GRESINO S.R.L.","FAVRIA","IT"]
[211904626,6172,"CHENGDU JONES HAOLONG","CHENGDU","CN"]
[211904368,6174,"Axthelm + Zufall GmbH & Co. KG","Nohra","DE"]
[211007622,6175,"Alta Equipment Company","Detroit","US"]
[211007606,6176,"MHG Fahrzeugtechnik GmbH","Heubach","DE"]
[211007624,6177,"Delphi Diesel","Troy","US"]
[211007625,6178,"TEC Equipment","Fife","US"]
[211905764,6179,"CONVERTING COMPANY SP. Z.O.O.","SEDZINY","PL"]
[211007620,6182,"WASEM PACKAGING & CRATING","COLUMBUS","US"]
[211007615,6183,"Automotive Components Floby AB","FLOBY","SE"]
[211007633,6184,"TAESUNG HEAVY EQUIPMENT","Seoul","KR"]
[211904668,6185,"LEONI WIRING SYST.BERRECHID","BERRECHID","MA"]
[211007828,6186,"Anguk Co. Ltd","Changwon","KR"]
[211906386,6187,"ROSATI SRL","Trevenzuolo","IT"]
[211904674,6188,"SUPERIOR TRIM MX GNL","GARCIA","MX"]
[211007629,6189,"WESTFALIA, INC.","bristol","US"]
[211904676,6190,"NELSON GLOBAL PROD US","Black River Falls","US"]
[211904724,6191,"MAYVILLE ENGINEERING","Beaver Dam","US"]
[211007825,6192,"D R GAUMER METAL FABRICATOR","Allentown","US"]
[211007635,6193,"SEWON CO.,LTD","Wonju","KR"]
[211904685,6194,"Muller India Pvt Ltd","HARYANA","IN"]
[211007827,6195,"Angstrom TruForge Kft.","EGER","HU"]
[211007643,6196,"Busch-Hungaria Kft","Győr","HU"]
[211904725,6197,"ALFA LAVAL INC.","Sarasota","US"]
[211905160,6198,"Gate 7 Ltd","Gateshead","GB"]
[211007811,6199,"Sunghwa Machinery","Changwon","KR"]
[211904735,6200,"VDL Laktechniek","Eindhoven","NL"]
[211904709,6201,"Wema Environmental","Shenzhen","CN"]
[211007815,6205,"LTM INDUST E COMERCIO","BOTUCATU","BR"]
[211904714,6206,"PARKER HANNIFIN RACOR","MODESTO","US"]
[211904731,6207,"TEK Auto.Sri Unipersonale","Ancona","IT"]
[211007649,6208,"Volvo Components Llc","KALUGA","RU"]
[211904712,6209,"RT-Friedrichshafen","FRIEDRICHSHAFEN","DE"]
[211007830,6210,"MULTI-WING s.r.o.","NOVY BYDZOV","CZ"]
[211906318,6211,"O'BRIEN STEEL SERVICE CO.","Peoria","US"]
[211007817,6213,"RDO Truck Center","Norfolk","US"]
[211904721,6214,"VALEO S.P.A SISTEMI","PIANEZZA","IT"]
[211007831,6215,"Volvo Group Truck Tech.","Bangalore","IN"]
[211007832,6216,"Jardlers Akeri AB","Lindesberg","SE"]
[211007847,6217,"Interfoam Ltd","Kempston","GB"]
[211904803,6218,"DELPHI AUTOMOTIVE SYSTEMS DO BRASIL","PIRACICABA","BR"]
[211007889,6219,"Flexitech Europe SAS","Saint-André-le-Puy","FR"]
[211007846,6220,"conTeyor international NV","Merelbeke","BE"]
[211007845,6221,"SANKO GOSEI UK LTD","SKELMERSDALE","GB"]
[211007861,6222,"Jilin Yuanfang Mach","HUADIAN","CN"]
[211007887,6223,"TUBOPRESS COMPONENTESIND","ARAUCARIA","BR"]
[211007945,6224,"CHEONG-SA PRECISION","Changwon","KR"]
[211007853,6225,"Smethwick Drop Forge LTD","Kidderminster","GB"]
[211007851,6226,"SIKA BELGIUM NV","NAZARETH","BE"]
[211904736,6227,"Intercargo Logistics NV","Evergem","BE"]
[211007860,6228,"Flexible Metal s.r.o.","Praha","CZ"]
[211007850,6229,"ADVANCED STEEL TECHNOLOGY","ROME","US"]
[211007869,6230,"ZSF INDUSTRIES, INC.","Oxford","US"]
[211904746,6231,"Norgren GMBH","Alpen","DK"]
[211007868,6232,"Transource, Inc.","SAINT PAULS","US"]
[211904741,6233,"DongWoo Machinery & Engineering","Incheon","KR"]
[211007863,6234,"Carlingswitch Mfg. Co.","ZHONGSHAN","CN"]
[211007856,6236,"Sungwon Industrial","GIMHAE","KR"]
[211904747,6237,"Polmor Sp. z.o.o","Bytow","PL"]
[211905070,6238,"CECOMP","Piobesi Torinese","IT"]
[211007871,6239,"E And K Trading Co Ltd","SHENZHEN","CN"]
[211007866,6240,"DINEX INC","DUBLIN","US"]
[211007870,6241,"Ningbo Xuelong Co Ltd","Ningbo","CN"]
[211009015,6242,"Nextran Truck Center","Duluth","US"]
[211904801,6243,"VEYANCE TECHNOLOGIES INC.","CD. Delicias","MX"]
[211007872,6244,"Sa-ba Endustriyel Urunler","Istanbul","TR"]
[211007879,6245,"Stoneridge APE","SUZHOU","CN"]
[211007874,6246,"INFUN FOR, S.P.A IT RVO","ROVIGO","IT"]
[211008040,6249,"SEBRING TECHNOLOGY GMBH","VOITSBERG","AT"]
[211007886,6250,"Hyupshin hydraulic company","Changwon","KR"]
[211007885,6251,"HUBER+SUHNER AMERICA LATINA LTDA","CACAPAVA","BR"]
[211007898,6252,"Vanguard Truck Center of Commerce","Commerce","US"]
[211007901,6254,"TIANRUN CRANKSHAFT CO.LTD","WEIHAI","CN"]
[211904807,6255,"GATES Corporation US","CHAMBERSBURG","US"]
[211007906,6256,"Specialized Mech Serv","Wilmington","US"]
[211007899,6257,"PRECISION CUT INDUSTRIES EHA","HANOVER","US"]
[211007902,6258,"IOCHPE MAXION SA","CRUZEIRO","BR"]
[211904829,6262,"Calsina Carre (Lear Corp)","VALLS (Tarragona)","ES"]
[211008012,6264,"Industrialesud s.p.a","San Nicolò a Tordino","IT"]
[211008005,6265,"AMI INDUSTRIES","LEWISTON","US"]
[211904815,6267,"Indiana Mills & Manufacturing Inc.","Saltillo","MX"]
[211008013,6268,"DONG KUCK Co., Ltd.","Changwon","KR"]
[211008015,6270,"V.G.V. S.r.l.","Calvisano","IT"]
[211008028,6271,"JBM MA AUTOMOTIVE PVT LTD","PUNE","IN"]
[211904808,6272,"CARROSSERIES TOLERIES","CERIZAY","FR"]
[211008014,6273,"ELRINGKLINGER ITALIA S R L","SETTIMO TORINESE","IT"]
[211008021,6274,"Sonima Kft","Bodajk","HU"]
[211008011,6275,"Tropack Repair","OOSTAKKER","BE"]
[211008020,6276,"Dae Sung Industrial","Haman-gun","KR"]
[211904828,6278,"SENATOR INTERNATIONAL LOGISTICS GMB","HAMBURG","DE"]
[211008042,6279,"Ventura Systems C.V.","BOLSWARD","NL"]
[211008045,6280,"KNORR-BREMSE Com Veh Sys","Sakado","JP"]
[211008024,6281,"BOS PLASTICS SYSTEMS HUNGARY","GYORLADAMER","HU"]
[211008044,6283,"BAPL Rototech Private","Pithampur","IN"]
[211008030,6284,"Fundicao Balancins","Embu-Guacu","BR"]
[211008023,6285,"DAEKYUNG PRESISION","Changwon","KR"]
[211904830,6286,"Consolidated Metco Inc","Monroe","US"]
[211904823,6287,"Robert Bosch doo","Simanovci","RS"]
[211904833,6289,"YAMATO TRANSPORT EUROPE","Rotterdam","NL"]
[211008033,6290,"YUSEN LOGISTICS","Ridderkerk","NL"]
[211904822,6291,"ROOTS CAST PRIVATE","Coimbatore","IN"]
[211008046,6292,"Metalúrgica Madrileña, S.A.","Alcalá de Henares","ES"]
[211008031,6293,"Adient Strakonice s.r.o","STRAKONICE","CZ"]
[211008041,6294,"BURGAFLEX B.V.","ETTEN-LEUR","NL"]
[211008038,6296,"STARSPRINGS USA INC","Ridgeway","US"]
[211904834,6297,"PELZER DA BAHIA LTDA","TAUBATE","BR"]
[211008062,6299,"Takara Sangyo Co Ltd","FUJI","JP"]
[211008057,6300,"Qinhuangdao Castec Industrial","Qinhuangdao","CN"]
[211008055,6301,"PIERBURG PUMP TECHNOLOGY GMBH","HARTHA","DE"]
[211008051,6302,"ZKW MEXICO","SILAO","MX"]
[211904930,6303,"MIKUNI AMERICAN CORP","PHARR","US"]
[211008068,6304,"CONTITECH MEXICANA","SAN LUIS POTOSÍ","MX"]
[211008056,6305,"YOUNG-CHANG ENG CO.","Gimhae","KR"]
[211008052,6306,"Namwoo Industries Co. Ltd","Changwon","KR"]
[211904887,6307,"Danfoss Power Solutions S.r.l.","CASTEL SAN PIETRO TERME","IT"]
[211904889,6308,"DANA SPICER(THAILAND) LTD.","BANGKOK","TH"]
[211008058,6309,"Zhejiang Tianma Bearing","Huzhou","CN"]
[211008092,6310,"USITECHNOV INDUSTRIES","SAINTE-MARIE","CA"]
[211008060,6311,"A TEKNIK i Robertsfors AB","Robertsfors","SE"]
[211008093,6312,"TrelleborgVibracoustic Ltd.","Chonburi","TH"]
[211008061,6313,"FRANKLIN TUBULAR PRODUCTS","FRANKLIN","US"]
[211008066,6315,"Origom Spa IT","Viadanica","IT"]
[211008090,6317,"TORCOMP BRASIL USINAGEM","SÃO PAULO","BR"]
[211904989,6318,"JIN SUNG HEAVY INDUSTRIES","CHANGWON","KR"]
[211904941,6319,"TICON Logistics Park","T.Bangsamak,A.Bankpakong,ChaChoeng","TH"]
[211008070,6320,"HDO DRUCKGUSS GmbH","Paderborn","DE"]
[211008081,6321,"Continental Auto Benelux","Mechelen, Antwerpen","BE"]
[211904940,6322,"Proseat Schwarzheide GmbH","Schwarzheide","DE"]
[211008071,6323,"Sungbo Industrial Co , Ltd","Incheon","KR"]
[211008076,6324,"LAKELAND PALLETS INC","GRAND RAPIDS","US"]
[211008077,6326,"LYON CINTRAGE SEIGNOBOS EUROCN","Vénissieux","FR"]
[211008073,6327,"Dong hoon Tech","Changwon","KR"]
[211008074,6328,"PKC EESTI AS","Panevezys","LT"]
[211904943,6331,"RENAULT TRUCKS DÉFENSE","SAINT-NAZAIRE","FR"]
[211008083,6333,"NELSON GLOBAL PRODUCTS AUSTRALIA","SCORESBY","AU"]
[211008091,6334,"OOO Aek","KOSTOMUKSHA","RU"]
[211008097,6335,"Brembo (Nanjing) Brake","Nanjing","CN"]
[211904946,6336,"Taicang Huaqing Co Ltd","Taicang","CN"]
[211008094,6337,"Sona BLW Präzisionsschmiede GmbH","München","DE"]
[211008100,6338,"VEHICLE IMPROVEMENT PRODUCTS","ANTIOCH","US"]
[211008098,6339,"HYDAC ELECTRONIC, S.R.O.","TVRDOSIN","SK"]
[211008084,6340,"Hermanders AB","Töreboda","SE"]
[211008103,6341,"RICO FLUIDTRONICS LIMITED","GURGAON","IN"]
[211008101,6342,"M&K Truck Centers","Frankfort","US"]
[211904947,6344,"Fides Group s.r.p.","Hostinne","CZ"]
[211008108,6345,"IBS TECHNOLOGY SPA","Tradate","IT"]
[211008105,6346,"INTERNATIONAL AUTOMOTIVE COMPONENTS","STRASBURG","US"]
[211905987,6347,"META INDUSTRIE SAS","Malemort-sur-Corrèze","FR"]
[211008112,6350,"SAF-HOLLAND (AUST) PTY LTD","MELTON","AU"]
[211008109,6351,"THYSSEN KRUPP","PUEBLA","MX"]
[211008117,6352,"Proton Finishing Hillerstorp AB","Hillerstorp","SE"]
[211008111,6353,"Beaver Truck Centre","Brandon","CA"]
[211008124,6354,"GATR of Elk River","Elk River","US"]
[211008116,6356,"Swt Paper AB","Varberg","SE"]
[211904972,6357,"Champion Laboratories","Albion","US"]
[211008114,6358,"TRIMARK CORP.","NEW HAMPTON","US"]
[211008120,6359,"Mack Truck Parts","Byhalia","US"]
[211008121,6360,"Mack Truck Parts","Lewis Center","US"]
[211008122,6361,"Mack Defense / Prevost","Levis","CA"]
[211008126,6363,"SANDEN INTERNATIONAL (USA) INC","WYLIE","US"]
[211008131,6364,"AMV38","Voiron","FR"]
[211904985,6367,"DAIDO KOGYO CO LTD","Bandou City","JP"]
[211008128,6368,"MILLER METAL INC.","BRIDGEVILLE","US"]
[211008129,6369,"Thermo Packing Systems AB","Bredaryd","SE"]
[211008147,6371,"SHANDONG HUXIWANG GROUP","HEZE","CN"]
[211904991,6372,"Dana Global Products Inc","Chihuahua","MX"]
[211008133,6373,"Tom Graddy Enterprises","Cahokia","US"]
[211008135,6374,"ABEILLON","MONTREUIL","FR"]
[211008132,6376,"SVENSK RENINGSINDUSTRI AB SE","KUNGÄLV","SE"]
[211905085,6378,"Dong hoon Tech","Gimhae","KR"]
[211904996,6379,"Comforsa 4","Campdevánol","ES"]
[211905002,6380,"GESTAMP WEST VIRGINIA","SOUTH CHARLESTON","US"]
[211904998,6382,"AQ Lasertool (Jüri)","Jüri","EE"]
[211905052,6383,"STUMPP SCHUELE & SOMAPPA AUTO","Chennai (ex Madras)","IN"]
[211904999,6384,"BRAKES INDIA PRIVATE LTD","Chennai","IN"]
[211008151,6385,"RUTGERSON MARIN","MARSTRAND","SE"]
[211905054,6386,"FASTENAL COMPANY","SAINT-ROMUALD","CA"]
[211008154,6387,"WILBERT PLASTIC","BELMONT","US"]
[211008160,6388,"SAFT AMERICA, INC.","JACKSONVILLE","US"]
[211008165,6389,"ROBERT BOSCH MOTORES","ITUPEVA","BR"]
[211008161,6390,"AER - Stafford","Cannock","GB"]
[211008163,6391,"Nissan Trading Corp","Madison","US"]
[211008162,6392,"VISION RESOURCES OF CENTRAL PENN","HARRISBURG","US"]
[211905342,6393,"ZEMCO MFG INC","FORT WAYNE","US"]
[211008167,6394,"Exide Technologies GmbH","BÜDINGEN","DE"]
[211008170,6395,"WAUSAU Equipment Company","NEW BERLIN","US"]
[211008172,6396,"STIMY SAS","PAULX","FR"]
[211008173,6397,"MILES RUBBER & PACKING CO","TWINSBURG","US"]
[211008169,6398,"DELGA INDUSTRIA E COM","Ferraz de Vasconcelos","BR"]
[211905081,6399,"Schaeffler Korea Corp- Jeonju","Jeonju","KR"]
[211008168,6400,"Vanheede Environmental Services","Geluwe","BE"]
[211905064,6401,"Trakya Dokum San.","Kirklareli","Tr"]
[211008177,6402,"ARYA DIESEL MOTOR","Eshtahard","KD"]
[211008179,6405,"TPC COMPONENTS AB","HALLSTAHAMMAR","SE"]
[211008189,6407,"SFI OF TENNESSEE, LLC","MEMPHIS","US"]
[211008328,6408,"Flextronics International KFT.","Zalaegerszeg","HU"]
[211008196,6409,"Shandong Wenling Precision","","CN"]
[211008185,6411,"A 123 SYSTEMS","LIVONIA","US"]
[211008193,6412,"Sealynx international","Charleval","FR"]
[211905078,6413,"Librandi","Harrisburg","US"]
[211905090,6415,"Dana Corporation","Chatham","CA"]
[211008191,6416,"M C T ENGINEERING LIMITED","DAVENTRY","GB"]
[211905159,6417,"HYVA(INDIA)PRIVATE LTD","BANGALORE","IN"]
[211008300,6418,"ASHLEY ALTEAMS INDIA PVT LTD","Chennai (ex Madras)","IN"]
[211905087,6419,"P-development KFT.","Kecskemet","HU"]
[211905088,6420,"HAVIS INC.","WARMINSTER","US"]
[211008194,6421,"Bruckner Truck Sales","Garden City","US"]
[211008184,6423,"Volvo Malaysia Sdn Bhd","Shah Alam","MY"]
[211008197,6424,"Dipesul Uruguaiana","Uruguaiana-RS","BR"]
[211008198,6425,"Gotemburgo Aracaju","N.S. do Socorro-SE","BR"]
[211008205,6426,"Gotemburgo Barreiras","Barreiras-BA","BR"]
[211008206,6427,"Gotemburgo Campina Grande","Campina Grande-PB","BR"]
[211008207,6428,"Gotemburgo Feira de Santana","Feira de Santana","BR"]
[211008210,6429,"Gotemburgo Luis Eduardo Magal","Luis Eduardo Magalhaes-BA","BR"]
[211008212,6430,"Gotemburgo Maceio","Maceio-AL","BR"]
[211008213,6431,"Gotemburgo Natal","Sao Jose de Mipibu-RN","BR"]
[211008215,6432,"Gotemburgo Recife","Jaboatao dos Guararapes-PE","BR"]
[211008217,6433,"Gotemburgo Salvador","Simoes Filho-BA","BR"]
[211008218,6434,"Laponia Araçatuba","Araçatuba","BR"]
[211008219,6435,"Laponia Araraquara","Araraquara-SP","BR"]
[211008221,6436,"Laponia Ourinhos","Ourinhos-SP","BR"]
[211008199,6437,"Auto Sueco CO Vilhena","Vilhena","BR"]
[211008208,6438,"Auto Sueco SP ABC","Sao Paulo","BR"]
[211008209,6439,"Auto Sueco SP Campinas","Campinas","BR"]
[211008211,6440,"Auto Sueco SP Guarulhos","Guarulhos","BR"]
[211008214,6441,"Auto Sueco SP Jaragua","Sao Paulo","BR"]
[211008216,6442,"Auto Sueco SP Limeira","Limeira","BR"]
[211008220,6443,"Auto Sueco SP Porto Ferreira","Porto Ferreira","BR"]
[211008222,6444,"Auto Sueco SP Santos","Santos","BR"]
[211008223,6445,"Dicave Araquari","Araquari","BR"]
[211008225,6446,"Dicave Blumenau","Blumenau","BR"]
[211008227,6447,"Dicave Cacador","Cacador","BR"]
[211008229,6448,"Dicave Chapeco","Chapeco","BR"]
[211008232,6449,"Dicave Concordia","Concordia","BR"]
[211008234,6450,"Dicave Icara","Icara","BR"]
[211008224,6451,"Laponia Regente Feijo","Regente Feijo-SP","BR"]
[211008226,6452,"Laponia Ribeirao Preto","Ribeirao Preto-SP","BR"]
[211008228,6453,"Laponia Sao Jose do Rio Preto","Sao Jose do Rio Preto-SP","BR"]
[211008230,6454,"Laponia Sao Manuel","Sao Manuel-SP","BR"]
[211008231,6455,"Laponia Sorocaba","Sorocaba-SP","BR"]
[211008233,6456,"Luvep Linhares-ES","Linhares-ES","BR"]
[211008235,6457,"Luvep Teixeira de Freitas-BA","Teixeira de Freitas-BA","BR"]
[211008236,6458,"Luvep Viana-ES","Viana-ES","BR"]
[211008237,6459,"Luvep Vitoria da Conquista-BA","Vitoria da Conquista-BA","BR"]
[211008238,6460,"Nordica Cascavel","Cascavel-PR","BR"]
[211008239,6461,"Nordica Curitiba","Curitiba-PR","BR"]
[211008240,6462,"Nordica Foz do Iguacu","Foz do Iguacu-PR","BR"]
[211008241,6463,"Nordica Guarapuava","Guarapuava-PR","BR"]
[211008242,6464,"Nordica Marmeleiro","Marmeleiro-PR","BR"]
[211008202,6465,"Treviso Duque de Caxias","Duque de Caxias-RJ","BR"]
[211008203,6466,"Treviso Governador Valad","Governador Valadares-MG","BR"]
[211008204,6467,"Treviso Itaborai","Itaborai-RJ","BR"]
[211008243,6468,"Treviso Juiz de Fora","Juiz de Fora-MG","BR"]
[211008244,6469,"Treviso Montes Claros","Montes Claros-MG","BR"]
[211008245,6470,"Treviso Patos de Minas","Patos de Minas-MG","BR"]
[211008246,6471,"Treviso Pouso Alegre","Pouso Alegre-MG","BR"]
[211008247,6472,"Treviso Sete Lagoas","Sete Lagoas-MG","BR"]
[211008248,6473,"Rivesa Campo Grande-MS","Campo Grande-MS","BR"]
[211008249,6474,"Rivesa Cruzeiro do Oeste","Cruzeiro do Oeste-PR","BR"]
[211008250,6475,"Rivesa Dourados-MS","Dourados-MS","BR"]
[211008251,6476,"Rivesa Londrina-PR","Londrina-PR","BR"]
[211008252,6477,"Rivesa Maringa-PR","Maringa-PR","BR"]
[211008253,6478,"METAL SOLUTIONS INC.","UTICA","US"]
[211008255,6479,"Dicave Itajai","Itajai","BR"]
[211008256,6480,"Dicave Lages","Lages","BR"]
[211008257,6481,"Dicave Mafra","Mafra","BR"]
[211008258,6482,"Dicave Palhoca","Palhoca","BR"]
[211008259,6483,"Dicave Rio do Sul","Rio do Sul","BR"]
[211008260,6484,"Dicave Tubarao","Tubarao","BR"]
[211008261,6485,"Dicave Videira","Videira","BR"]
[211008262,6486,"Dipesul Canoas","Canoas","BR"]
[211008263,6487,"Dipesul Caxias do Sul","Caxias do Sul","BR"]
[211008264,6488,"Dipesul Ijui","Ijui","BR"]
[211008265,6489,"Dipesul Lajeado","Lajeado","BR"]
[211008266,6490,"Dipesul Passo Fundo","Passo Fundo","BR"]
[211008267,6491,"Dipesul Pelotas","Pelotas","BR"]
[211008268,6492,"Dipesul Portao","Portao","BR"]
[211008254,6493,"Nordica Ponta Grossa","Ponta Grossa","BR"]
[211008270,6494,"Nordica Uniao da Vitoria","Uniao da Vitoria","BR"]
[211008271,6495,"Nordica Veiculos S.A. - Onibus","Curitiba","BR"]
[211008272,6496,"Suecia Aparecida de Goiania","Aparecida de Goiania","BR"]
[211008273,6497,"Suecia Araguaina","Araguaina","BR"]
[211008274,6498,"Suecia Brasilia","Santa Maria","BR"]
[211008275,6499,"Suecia Itumbiara","Itumbiara","BR"]
[211008276,6500,"Suecia Palmas","Palmas","BR"]
[211008277,6501,"Suecia Rio Verde","Rio Verde","BR"]
[211008278,6502,"Suecia Uberlandia","Uberlandia","BR"]
[211008279,6503,"Treviso Barra Mansa","Barra Mansa","BR"]
[211008280,6504,"Treviso Betim","Betim","BR"]
[211008281,6505,"Treviso Campos dos Goytacazes","Campos dos Goytacazes","BR"]
[211008269,6506,"Apavel Ananindeua","Ananindeua","BR"]
[211008285,6507,"Apavel Imperatriz","Imperatriz","BR"]
[211008286,6508,"Apavel Itaitinga","Itaitinga","BR"]
[211008287,6509,"Apavel Macapa","Macapa","BR"]
[211008288,6510,"Apavel Manaus","Manaus","BR"]
[211008289,6511,"Apavel Maraba","Maraba","BR"]
[211008290,6512,"Apavel Paragominas","Paragominas","BR"]
[211008291,6513,"Apavel Sao Luis","Sao Luis","BR"]
[211008292,6514,"Apavel Teresina","Teresina","BR"]
[211008293,6515,"Auto Sueco CO Cuiaba","Cuiaba","BR"]
[211008294,6516,"Auto Sueco CO Porto Velho","Porto Velho","BR"]
[211008295,6517,"Auto Sueco CO Rio Branco","Rio Branco","BR"]
[211008296,6518,"Auto Sueco CO Rondonopolis","Rondonopolis","BR"]
[211008297,6519,"Auto Sueco CO Sinop","Sinop","BR"]
[211008302,6521,"ITALBRONZE LTDA","SÃO PAULO","BR"]
[211008282,6522,"UD Trucks Corporation Hokkaido","Sapporo-shi,  Hokkaido","JP"]
[211008283,6523,"UD Trucks Corporation Sanyo RW","Okayama-shi","JP"]
[211008284,6524,"UD Trucks Corporation Kyushu RW","Kasuya-gun","JP"]
[211008303,6526,"AUTOMETAL, SPOL. S R.O.","ZALUZANY","CZ"]
[211008306,6528,"Berman Spa","San Benedetto Po","IT"]
[211008304,6531,"Old River of New Orleans, LLC","New Orleans","US"]
[211008305,6532,"Nacarato Trucks Franklin Ky","Franklin","US"]
[211008311,6534,"Interstate Trucksource, Inc.","Saginaw","US"]
[211905109,6535,"TE CONNECTIVITY INDIA PVT LTD.","SATARA","IN"]
[211905103,6536,"DYNATRADE SCANDINAVIA AB","JÖNKÖPING","SE"]
[211008316,6537,"PLASTIK M.P. INC.","RICHMOND","CA"]
[211905104,6538,"AAA SALES & ENGINEERING, INC","OAK CREEK","US"]
[211008320,6540,"Bergey's Trucks, Inc.","Delmar","US"]
[211008325,6541,"Robert Bosch LLC","Atlanta","US"]
[211905154,6542,"HELLA AUTOMOTIVE MEXICO S.A. DE C.V","EL SALTO","MX"]
[211008440,6543,"WURTH ELECTRONICS ICS, INC","DAYTON","US"]
[211008326,6544,"RIDEWELL CORP","SPRINGFIELD","US"]
[211905138,6545,"SAPA EXTRUSIONS NORTH AMERICA, LLC","SIDNEY","US"]
[211905148,6546,"ARTURN LTD","RUGBY","GB"]
[211905140,6549,"Gamer Logistics","El Paso","US"]
[211905139,6550,"SOUTHCO INC","HONEOYE FALLS","US"]
[211008329,6551,"Mountain West Truck Center Idaho","Idaho Falls","US"]
[211008450,6552,"Penn Jersey Machinery","Staten Island","US"]
[211905541,6554,"ZF TRW VEHICLE SAFETY S","CHIHUAHUA","MX"]
[211008465,6555,"TM TUBE SYSTEMS AB","TORSÅS","SE"]
[211008473,6556,"OHB Teledata GmbH","Bremen","DE"]
[211905155,6557,"Automotive Axles Ltd","MYSORE","IN"]
[211905157,6558,"SKF INDUSTRIE S.P.A","MASSA","IT"]
[211008474,6559,"ACTIA I+ME GMBH","BRAUNSCHWEIG","DE"]
[211905343,6560,"Team Hardinger","GROVE CITY","US"]
[211905341,6561,"East Penn Manufacturing Co.","Alburtis","US"]
[211905156,6562,"SKF Warehouse Crossville","CROSSVILLE","US"]
[211905158,6564,"MAHLE COMPONENTI MOTORI ITALIA SPA","TRENTO","IT"]
[211905168,6565,"Andreas Schmid Kontraktlogistik ASK","Gersthofen","DE"]
[211008483,6566,"Dex Peças Salvador - BA","Salvador","BR"]
[211008484,6567,"Dex Peças Curitiba - PR","Curitiba","BR"]
[211008485,6568,"Tracbel Maraba - PA","Maraba","BR"]
[211008486,6569,"Tracbel Paragominas - PA","Paragominas","BR"]
[211008487,6570,"Nordica Telemaco Borba - PR","Telemaco Borba","BR"]
[211008452,6571,"Tracbel Marituba - PA","Marituba","BR"]
[211008488,6572,"Tracbel Manaus - AM","Manaus","BR"]
[211905182,6573,"Wesco Distribution Inc","Lemoyne","US"]
[211008497,6575,"Buter Machinenfabrik Gmbh","Haren","DE"]
[211008502,6576,"DEFLEX COMPOSITE INC","Saint-Victor","CA"]
[211008492,6577,"Tracbel Macapa - AP","Macapa","BR"]
[211008493,6578,"Ribeiro Campo Mourao - PR","Campo Mourao - PR","BR"]
[211905175,6579,"KAMAX GmbH & Co. KG Alsfeld","Alsfeld","DE"]
[211008501,6580,"Bersano Carlo S.p.A","Forno Canavese","IT"]
[211905793,6582,"GEFCO LOGISTIQUE","Noyal-Châtillon-sur-Seiche","FR"]
[211905338,6583,"Cummins NV","RUMST","BE"]
[211905188,6584,"AMI INDUSTRIES","CASS CITY","US"]
[211008498,6585,"Sterling Truck and Trailer Sales","Lloydminster","CA"]
[211008512,6586,"Sand Profile Gmbh","Stockstadt","DE"]
[211008506,6587,"MITSUBISHI ELECTRIC AUTOMOTIVE","Mason","US"]
[211008505,6588,"WABCO REMAN SOLUTIONS","ROCHESTER","US"]
[211905347,6590,"ALL-STATE INDUSTRIES Inc.","ELK GROVE VILLAGE","US"]
[211905360,6591,"VELVAC DE REYNOSA S DE RL DE CV","REYNOSA","MX"]
[211008550,6592,"ACCILATOR VOLBURG AUTOMOTIVE SIA","SALASPILS","LV"]
[211905355,6593,"JOST TAT LLC","NABEREZHNYE CHELNY","RU"]
[211008546,6621,"NORMA CZECH, S.R.O. (N)","HUSTOPECE","CZ"]
[211008540,6622,"Vision Truck Group","Etobicoke","CA"]
[211008545,6623,"PACOMA USA INC.","Gettysburg","US"]
[211008318,6625,"HADLEY EUROPE B.V.","MOORDRECHT","NL"]
[211008551,6626,"SHANXI HENGYUE FORGING CO., LTD.","XINZHOU","CN"]
[211008544,6627,"PERFECTA PUMP AB","VÄXJÖ","SE"]
[211905356,6628,"Aptiv Services Hungary KFT","SZOMBATHELY","HU"]
[211905361,6629,"STS Composites France SAS","Blainville-sur-Orne","FR"]
[211905364,6630,"CHEOUNG WOO","Gyeongju","KR"]
[211905391,6631,"KONGSBERG AUTOMOTIVE","Koluszki","PL"]
[211008557,6632,"Rytterne Mekan AB","Västerås","SE"]
[211905365,6633,"WESTPORT POWER Inc.","Izmir","TR"]
[211905362,6634,"Fluid Routing Solution (FRS)","Ocala","US"]
[211905358,6635,"Westport Power Inc","Ajka","HU"]
[211905359,6636,"Westport Power Inc(c/o Emer S.P.A.)","Brescia","IT"]
[211008559,6637,"IMI Americans INC.","LITTLETON","US"]
[211008560,6638,"Adler Polska Sp. z.o.o.","Bielsko-Biala","PL"]
[211905407,6639,"Rockford Toolcraft","Rockford","US"]
[211008566,6640,"Ages Casting Kulltorp AB","Kulltorp","SE"]
[211008562,6641,"Vanguard Truck Center of Flagstaff","Bellemont","US"]
[211008567,6642,"ZHEJIANG YINLUN MACHINERY CO., LTD","TIANTAI","CN"]
[211008568,6644,"A. Kayser Automotive Systems GmbH","Einbeck","DE"]
[211905410,6645,"Formaplex Ltd","Horndean","GB"]
[211905415,6646,"PARKER HANNIFIN MANUFACTURING","Vierzon","FR"]
[211008576,6647,"FIAMM Automotive Czech, a.s.","MLADÁ BOLESLAV","CZ"]
[211008581,6649,"Soucy Koutou Inc.","DRUMMONDVILLE","CA"]
[211905412,6650,"Fastplas Automotive Ltda","Diadema","BR"]
[211905420,6652,"Anhui Zhongding NVH Co., Ltd.","Ningguo","CN"]
[211905414,6653,"ISRINGHAUSEN","Zele","BE"]
[211905792,6662,"BLOW MOLDED SOLUTIONS","Mayodan","US"]
[211008602,6663,"BIG 3 PRECISION PRODUCTS","CENTRALIA","US"]
[211905425,6664,"NORTH AMERICAN LIGHTING INC","Flora","US"]
[211008601,6665,"RÖBÄCKS SWEDEN AB","UMEÅ","SE"]
[211905427,6666,"PACKAGING CORPORATION OF AMERICA","Madison","US"]
[211008603,6667,"TranSource Truck and Equipment,Inc.","Sioux Falls","US"]
[211008605,6668,"Vanguard Truck Center of Houston","Houston","US"]
[211008604,6669,"Vanguard Truck Center of Houston","Alvin","US"]
[211008606,6670,"Pacific Coast Heavy Truck Group","Chilliwack","CA"]
[211008610,6671,"TranSource Truck and Equipment","Aberdeen","US"]
[211008608,6672,"DEKPOL S.A.","PINCZYN","PL"]
[211905430,6674,"SARL MARTIN & FILS","Gevigney-et-Mercey","FR"]
[211008612,6675,"MANUFACTURAS INTEGRALES DE MEXICO","APODACA","MX"]
[211905440,6676,"OPTIMAS OE SOLUTIONS JAPAN G.K","SAITAMA","JP"]
[211008609,6677,"SCHOELLER ALLIBERT SIA","Riga","LV"]
[211905439,6678,"Jsc \"Chusovskoy Metallurgical","Perm Territory, Chusovoy","RU"]
[211905445,6679,"Stalatube Oy","LAHTI","FI"]
[211008622,6680,"AQ ELECTRIC AD","RADOMIR","BG"]
[211008618,6681,"Swecon Anläggningsmaskiner AB","ESKILSTUNA","SE"]
[211008627,6682,"Performance Truck","Victoria","US"]
[211008626,6683,"YANGZHOU DONGSHENG AUTOMOTIVE","Yizheng City, Jiangsu Province","CN"]
[211905463,6684,"Shanghai HuiDa Manufacturing Co.Ltd","Shanghai","CN"]
[211008637,6685,"ZVL AUTO SPOL S.R.O.","PRESOV","SK"]
[211008623,6686,"Prevost - Houston","Houston","US"]
[211009062,6687,"L.S. INDUSTRIE","LA SOUTERRAINE","FR"]
[211008636,6688,"NORMANDIN","ST-VALERIEN-DE-MILTON","CA"]
[211905480,6689,"NIPPON EXPRESS U.S.A., INC.","NEWPORT NEWS","US"]
[211905487,6690,"Galol S.A. L’olleria (Facil Blanks)","L’olleria","ES"]
[211008635,6691,"Suncoast Diesel Marine","Oldsmar","US"]
[211008639,6692,"Necst Motors Kenya Limited","NAIROBI","KD"]
[211905490,6694,"Omega Plastics","Gateshead","GB"]
[211008927,6695,"C&C FABRICATION COMPANY, INC.","Laceys Spring","US"]
[211905809,6696,"AMERICAN SEATING","Michigan","US"]
[211008644,6698,"Logent Supporting Logistics","Skövde","SE"]
[211008633,6699,"Mobile Fleet Service","Ellensburg","US"]
[211905529,6700,"Adler Pelzer Clion GmbH","Bad Dürrenberg","DE"]
[211905584,6701,"Facil Japan K.K.","Ageo city","JP"]
[211008634,6702,"EBERSPACHER CLIMATE CONTROL","Oława","PL"]
[211905535,6703,"PACKAGING CORPORATION OF AMERICA","Jessup","US"]
[211008646,6704,"STALOBREX SP. Z O.O.","WYSOKA","PL"]
[211008647,6705,"Prevost Car","Newark","US"]
[211008643,6706,"Gerry's Truck Centre, LTD.","Woodstock","CA"]
[211905545,6707,"TSCO Saltillo","SALTILLO","MX"]
[211905537,6709,"Tube Specialties Co., Inc.","STATESVILLE","US"]
[211905539,6710,"Swerock","Borås","SE"]
[211905538,6711,"Schäflein Logistics GmbH","HALLEIN","AT"]
[211905561,6712,"DSV","ROMULUS","US"]
[211905570,6713,"Oleomec SRL","Provaglio d'Iseo","IT"]
[211008905,6714,"ROCHESTER INDUSTRIAL CONTROL INC.","ONTARIO","US"]
[211008908,6716,"KETCHIE HOUSTON INC.","CONCORD","US"]
[211008915,6717,"Maruho Hatsujyo (Thailand) Co.,Ltd.","CHONBURI","TH"]
[211905607,6718,"VOSS AUTOMOTIVE INDIA PRIVATE","PUNE","IN"]
[211008914,6719,"KEYSTONE FORGING COMPANY","NORTHUMBERLAND","US"]
[211905566,6720,"SKF TECHNOLOGIES (INDIA) PVT","Mysore","IN"]
[211905568,6721,"Delphi Diesel Systems","Gloucester","GB"]
[211008920,6722,"GUARNIZIONI INDUSTRIALI Srl","Paratico","IT"]
[211008922,6723,"PRODRIVE COMPOSITES LTD","Milton Keynes","GB"]
[211008924,6725,"BHK GMBH & CO. KG","KIRCHLENGERN","DE"]
[211008909,6726,"Robert Bosch Automotive","Florence","US"]
[211905583,6727,"Delphi Deutschland Gmbh","AUGSBURG","DE"]
[211008925,6728,"TECPARTS DO BRASIL IND. E COM. LTDA","PIRACICABA","BR"]
[211905602,6729,"YUSEN LOGISTICS America","WOBURN","US"]
[211905601,6730,"DONSCO INC.","Mount Joy","US"]
[211905596,6731,"DONALDSON POLSKA SP. Z O.O.","SKARBIMIERZ","PL"]
[211905603,6732,"PHB Machining Division","Fairview","US"]
[211008938,6733,"SMA Metalltechnik GmbH & CO.KG","Backnang","DE"]
[211905608,6734,"USUI SUSIRA INTERNATIONAL PVT LTD","THIRUVALLUR","IN"]
[211008937,6735,"LLC \"CMK\"","KALUGA","RU"]
[211905621,6736,"AB Euroform","Tranås","SE"]
[211905637,6737,"ITT PARTS SUPPLY DIV","HEBRON","US"]
[211008944,6738,"ROMEC SRL","Berlingo","IT"]
[211905651,6741,"MWS HighTec GmbH","Ternberg","AT"]
[211008949,6742,"S.M.E. S.P.A.","Arzignano","IT"]
[211905661,6743,"G.I.A","FOURMIES","FR"]
[211905766,6745,"HUTCHINSON SNC","Sougé-le-Ganelon","FR"]
[211905830,6746,"Brakes India Private Limited","Sholinghur","IN"]
[211009014,6747,"Tri State Equipment","Belgrade","US"]
[211009021,6748,"NP STEEL S.A. DE C.V.","APODACA","MX"]
[211906233,6749,"Steelwrist AB","Rosersberg","SE"]
[211009035,6750,"Robert Bosch Automotive Steering","Maklar","HU"]
[211009033,6751,"Schoeller Allibert Oy c/o Wiitta Ky","Heinola","FI"]
[211905850,6752,"AnVa Tubes & Components AB","Eskilstuna","SE"]
[211905834,6753,"Karl Heinz Dietrich International","Jucu Herghelia","RO"]
[211905842,6754,"DGH Sand Casting Production GmbH &","FRIEDRICHSHAFEN","DE"]
[211009777,6755,"Mack Sales & Service","Nanaimo","CA"]
[211009042,6759,"AMPHENOL THERMOMETRICS (UK) LIMITED","TAUNTON","GB"]
[211905871,6760,"YINLUN TDI, LLC","MORTON","US"]
[211905852,6761,"PPD FOAM SOLUTION INC.","DRUMMONDVILLE","CA"]
[211905870,6762,"SOLUSTIL","Trévoux","FR"]
[211905853,6763,"Borg Warner Poland Sp. z o.o.","JASIONKA","PL"]
[211009063,6764,"ESSGE-PLAST AB","Östersund","SE"]
[211009058,6765,"TECHNOUSI ALMAR IND. COM. LTDA","SAO PAULO","BR"]
[211009065,6766,"Hydroscand Service s.r.o.","Novy Jicín","CZ"]
[211905888,6767,"Hyva / Teca Warehousing BV","Ridderkerk","NL"]
[211905878,6768,"Metal Grenier","Victoriaville","CA"]
[211009070,6769,"AAMP NORDIC AB","PARTILLE","SE"]
[211009064,6770,"Redhead Equipment","Melfort","CA"]
[211905891,6771,"SEGA Logistics Kft. Warehouse","SZIRMABESENYO, Borsod-Abauj-Zemplen","HU"]
[211009069,6772,"Webasto Convertible Slovakia s.r.o.","Velky Meder","SK"]
[211009068,6773,"ZAKLAD METALURGICZNY WSK RZESZOW","RZESZOW","PL"]
[211905902,6774,"PARKER HANNIFIN Baldwin","KEARNEY","US"]
[211905892,6775,"Yamato Transport Europe B.V.","RIDDERKERK","NL"]
[211009075,6776,"DUROSE MANUFACTURING LIMITED","GUELPH","CA"]
[211009080,6777,"SHANGHAI HUASHEN AUTO","SHANGHAI","CN"]
[211905969,6778,"Molander Tech","Dalby","SE"]
[211905912,6779,"Valeo Thermal Commercial Vehicles","Neubrandenburg","DE"]
[211009076,6780,"SPA SOPROVI ALGERIE","Meftah BLIDA","KD"]
[211009085,6781,"Mack Trucks/Salem Virginia Opera","Salem","US"]
[211009090,6782,"ROYAL PACK PRODUCTOS DE  SEGURIDAD","ALCALA DE HENARES-MADRID","ES"]
[211009087,6783,"FEINGUSS BLANK GMBH","RIEDLINGEN","DE"]
[211009079,6784,"Delphi Otomotiv Sistemleri San. Ve","Izmir","TR"]
[211009088,6785,"FRITZMEIER COMPOSITE GMBH &","BRUCKMÜHL","DE"]
[211009078,6786,"Dipesul Veiculos Ltda","SANTA MARIA","BR"]
[211009089,6787,"DBG ARKANSAS LLC","Conway","US"]
[211905928,6788,"Eurocrane (China) Co., Ltd","SUZHOU","CN"]
[211009101,6789,"HOWA TRAMICO LLC","STAVROVO","RU"]
[211009103,6790,"SAG TUBI SPA","NOVELLARA","IT"]
[211009096,6791,"SOMASCHINI S.P.A.","TRESCORE BALNEARIO","IT"]
[211009105,6792,"William Lee Ltd","Dronfield","GB"]
[211009108,6793,"Haldex Europe SAS","Weyersheim","FR"]
[211905926,6794,"SAF-HOLLAND INC.","WARRENTON","US"]
[211009107,6795,"GRANERO LIMPADORES DE PARABRISAS","SÃO PAULO","BR"]
[211009106,6796,"ETS RVL","CLUSES","FR"]
[211009097,6797,"CMC Motors group limited","NAIROBI","KD"]
[211009111,6798,"FRAUENTHAL AUTOMOTIVE ELTERLEIN","ELTERLEIN","DE"]
[211009104,6799,"Vida Packaging AB","Skärplinge","SE"]
[211905927,6800,"Siam Nistrans","Bangkok","TH"]
[211009109,6801,"ROSTAR LLC","NABEREZHNYE CHELNY","RU"]
[211009113,6802,"ARCTIC FOX HEATERS","DELANO","US"]
[211009115,6803,"RODA FORGE SPA","Front","IT"]
[211905931,6804,"TRIGO - SCSI Benelux","Frasnes-lez-Gosselies","BE"]
[211009116,6805,"Powertrain Core Hagerstown","Hagerstown","US"]
[211009114,6806,"I.M.C. INDUSTRIA METALLURGICA","CARMAGNOLA","IT"]
[211905944,6807,"CABLECRAFT MOTION CONTROLS LLC","St. Matthews","US"]
[211009117,6808,"Metafin Group Holdings Ltd","Walsall","GB"]
[211009191,6809,"Prevost Car","Franklin Park","US"]
[211905946,6810,"SCHENKER DEUTSCHLAND AG","KAUFUNGEN","DE"]
[211009119,6811,"EG ELECTRONICS LLC","CHARLOTTE","US"]
[211905950,6812,"NISSAN TRADING (THAILAND) CO., LTD.","SAMUTPRAKARN","TH"]
[211009387,6813,"ROTOTECH-KAMA LLC","NABEREZHNYE CHELNY","RU"]
[211905968,6814,"LUND INTERNATIONAL","Lawrenceville","US"]
[211905975,6815,"O'NEAL MANUFACTURING SERVICES","AMBRIDGE","US"]
[211009389,6816,"BAC CORROSION CONTROL AS","HERFØLGE","DK"]
[211009391,6817,"PNEUMAC AUTOMATISATION INC","SAINT-LAURENT","CA"]
[211009390,6818,"PacWest Machinery","Portland","US"]
[211009392,6819,"Vignal (Changzhou) Vehicle Lighting","CHANGZHOU","CN"]
[211009395,6820,"PVI Segerstrom AB","Eskilstuna","SE"]
[211009396,6821,"PRODUITS DE METAL VULCAIN INC.","Saint-Jerome","CA"]
[211905994,6822,"EDZ Kitzingen","Kitzingen","DE"]
[211905988,6823,"Witzenmann Opava, spol. s r.o.","Opava","CZ"]
[211009400,6824,"AQ Plastronic AD","Veliko Tarnovo","BG"]
[211009402,6825,"ACTIA ELECTRONICS INC","ROMULUS","US"]
[211905997,6826,"ASMET Sp. z o.o.","Człuchów","PL"]
[211009394,6827,"MANCOR SC","LUGOFF","US"]
[211009403,6828,"Stansefabrikken Automotive UAB","Ukmergė","LT"]
[211009398,6829,"Julay Famed GmbH","SCHWARZENBEK","DE"]
[211905995,6830,"SKARAVERKEN AB","SKARA","SE"]
[211906005,6831,"Hydro Components UK Ltd","Cardiff","GB"]
[211905989,6832,"BLUE RIDGE PRESSURE CASTING","LEHIGHTON","US"]
[211009410,6833,"GRAKON, LLC","SEATTLE","US"]
[211009406,6834,"A E OSCROFT & SONS LTD","REDDITCH","GB"]
[211009408,6835,"TECTRAN MFG. INC.","Cheektowaga","US"]
[211906001,6836,"TIMKEN DO BRASIL COMERCIAL","JOINVILLE","BR"]
[211009415,6837,"WALTERSCHEID MONGUELFO SPA","MONGUELFO","IT"]
[211906013,6838,"STOCKLOR","CAPAVENIR VOSGES","FR"]
[211009418,6839,"IWAMET SP. Z O.O.","STALOWA WOLA","PL"]
[211009234,6840,"AIR SQUARED MANUFACTURING, INC.","BROOMFIELD","US"]
[211009409,6841,"Alta Equipment","Ottawa","US"]
[211009417,6842,"Kriete Truck Center","West Salem","US"]
[211009412,6843,"Ogihara Thailand Co Ltd","BANGKOK","TH"]
[211009430,6844,"KELLY PRECISION LTD","CARLOW","IE"]
[211009425,6845,"Vibracoustic Cz","Melník","CZ"]
[211009413,6846,"GEMM DIESEL LTD","Kelowna","CA"]
[211009235,6847,"RZ Mekpart AB","Mölndal","SE"]
[211906036,6848,"C/O Southco, Inc.","El Paso","US"]
[211009420,6849,"AVESTA","FONTENAY-SOUS-BOIS","FR"]
[211009426,6850,"Serta Bulgaria","Kardzhali","BG"]
[211906053,6851,"MADRAS ENGINEERING INDUSTRIES","Chennai","IN"]
[211906046,6852,"American Axle Manufacturing","New Castle","US"]
[211906054,6853,"JOBRO SHEET METAL TECHNOLOGY AB","JÖNKÖPING","SE"]
[211009427,6854,"ALLROUND LACK AB","GÖTEBORG","SE"]
[211906064,6855,"EATON ENTERPRISES S DE R.L.DE C.V","QUERETARO","MX"]
[211009668,6856,"Coindu - Componentes Para A","Joane, Vila Nova de Famalicao","PT"]
[211009646,6857,"ROLLMECH AUTOMOTIVE","BURSA","TR"]
[211009237,6858,"BRUCKNER TRUCK SALES","COMMERCE CITY","US"]
[211009238,6859,"COASTAL ISUZU TRUCK","CONWAY","US"]
[211009239,6860,"WORLDWIDE EQUIPMENT OF TN INC.","CROSSVILLE","US"]
[211009240,6861,"BRUCKNER TRUCK SALES  INC","GARDEN CITY","US"]
[211009241,6862,"WORLDWIDE EQUIP- JOHNSON CITY","GRAY","US"]
[211009242,6863,"VANGUARD TRUCK CENTER - KATY","KATY","US"]
[211009243,6864,"M & K TRUCK CENT","KOKOMO","US"]
[211009244,6865,"OLD RIVER OF NEW ORLEANS  LLC","LAKE CHARLES","US"]
[211009245,6866,"PACIFIC COAST HEAVY TRUCK GRP","LANGLEY","CA"]
[211009246,6867,"MACK LAVAL","LAVAL","CA"]
[211009247,6868,"TRANSPORT EQUIPMENT INC","LEWISTON","US"]
[211009432,6869,"VISION TRUCK GROUP","LONDON","CA"]
[211009433,6870,"B&C TRUCK CENTRE","PORT COLBORNE","CA"]
[211009434,6871,"WARREN TRUCK CENTRE","REXTON","CA"]
[211009435,6872,"VANGUARD TRUCK CTRS ST. LOUIS","SAINT LOUIS","US"]
[211009436,6873,"OLD RIVER OF NEW ORLEANS  LLC","SAINT ROSE","US"]
[211009437,6874,"CENTRE DU CAMION STE-MARIE","SAINT-HYACINTHE","CA"]
[211009438,6875,"VOLVO LAC ST-JEAN","SAINT-PRIME","CA"]
[211009439,6876,"SHAKESPEARE TRUCK CENTER","SHAKESPEARE","CA"]
[211009440,6877,"KRIETE TRUCK CENTER SHEBOYGAN","SHEBOYGAN","US"]
[211009441,6878,"Pozzo Ilinois","SO CHICAGO HEIGHTS","US"]
[211009442,6879,"VISION TRUCK GROUP","STONEY CREEK","CA"]
[211009443,6880,"GENERAL TRUCK SALES OF TOLEDO","TOLEDO","US"]
[211009444,6881,"MOBILE FLEET SERVICE  INC.","WENATCHEE","US"]
[211009445,6882,"MID-ONTARIO TRUCK CENTRE","BRACEBRIDGE","CA"]
[211009446,6883,"HEAVY PARTS CENTER INC.","CAGUAS","US"]
[211009447,6884,"CALMONT VOLVO TRK CTR CALGARY","CALGARY","CA"]
[211009448,6885,"VOLVO TRUCKS OF TEXAS","CORPUS CHRISTI","US"]
[211009449,6886,"VALLEY TRUCK CENTER OF COTULLA","COTULLA","US"]
[211009450,6887,"NACARATO VOLVO","DICKSON","US"]
[211009451,6888,"VOLVO TRUCKS ALASKA","FAIRBANKS","US"]
[211009452,6889,"CRAWFORD TRUCK & EQUIP REPAIR","GENELLE","CA"]
[211009453,6890,"TRUCKMAX HOMESTEAD","HOMESTEAD","US"]
[211009454,6891,"LEGACY TRUCK CENTERS, INC.","HOWARD","US"]
[211009455,6892,"VOLVO TRUCK OF LEXINGTON, INC","LEXINGTON","US"]
[211009456,6893,"KRIETE TRUCK CENTER MAUSTON","MAUSTON","US"]
[211009457,6894,"TEC EQUIPMENT TRAILER DIVISION","SPARKS","US"]
[211009458,6895,"BEYER BROS ORANGE COUNTY LLC","WALDEN","US"]
[211009459,6896,"GATR OF WATERLOO","WATERLOO","US"]
[211009460,6897,"SMART'S TRUCK & TRAILER, INC.","WOODVILLE","US"]
[211009429,6898,"M&K Truck Centers","Dunmore","US"]
[211906068,6899,"SCHAEFFLER (UK) LTD","Carmarthenshire","GB"]
[211009696,6900,"AK Automotive d.o.o.","Koper","SI"]
[211906076,6901,"CHROMALOX INC.","Ogden","US"]
[211009669,6902,"SEG Automotive India Pvt. Ltd.","Bengaluru","IN"]
[211009691,6903,"OMR S.P.A","REMEDELLO","IT"]
[211906095,6904,"RYOBI DIE CASTING USA, INC.","SHELBYVILLE","US"]
[211009671,6905,"Comer","Charlotte","US"]
[211009672,6906,"D&W DIESEL","AUBURN","US"]
[211009673,6907,"DETROIT DIESEL PR","SAINTE FOY","CA"]
[211009674,6908,"DEUTZ US","PENDERGRASS","US"]
[211009675,6909,"EATON ELECT","LEWISBERRY","US"]
[211009676,6910,"GORILLA BRK","BRANTFORD","CA"]
[211009677,6911,"HALDEX MIDL","MARION","US"]
[211009678,6912,"HYDRAULEX","CHESTERFIELD","US"]
[211009679,6913,"KIT MASTERS","PERHAM","US"]
[211009680,6914,"LANG US","DULUTH","US"]
[211009681,6915,"LEVY STEERING","MISSISSAUGUA","CA"]
[211009682,6916,"MERITOR","PLAINFIELD","US"]
[211009683,6917,"MIDWEST","BOLINGBROOK","US"]
[211009684,6918,"MULTI METCO","ANNISTON","US"]
[211009685,6919,"NAHII LLC","BATON ROUGE","US"]
[211009686,6920,"SAUER","AMES","US"]
[211009687,6921,"SHEPPARD","HANOVER","US"]
[211009688,6922,"ZF INDUSTRIES","VERNON HILLS","US"]
[211009689,6923,"ZF STEERING","FLORENCE","US"]
[211009690,6924,"BITZER","OAKWOOD","US"]
[211009703,6925,"voestalpine Automotive Components","Schwäbisch Gmünd","DE"]
[211906096,6926,"M4U SRL","Busano","IT"]
[211009701,6927,"Kerry Logistics Sweden AB","BORÅS","SE"]
[211009692,6928,"SOTIWELL","MESLAY DU MAINE","FR"]
[211906093,6929,"West Coast Distribution Center (WCD","ONTARIO","US"]
[211009705,6930,"TITANX ENGINE COOLING SP. Z O.O.","OPOLE","PL"]
[211906099,6931,"Emitec Emission Control","Bengaluru","IN"]
[211009717,6932,"BODE SUD S.P.A.","ATESSA","IT"]
[211009725,6933,"LES PRODUITS PLASTITEL INC.","LAVAL","CA"]
[211906112,6934,"AAS Aautomotive  s.r.o.","Milovice","CZ"]
[211906118,6935,"Elwis Royal A/S","Gentofte","DK"]
[211906134,6936,"Weiland Welded Components","LIDHULT","SE"]
[211009720,6937,"BoMek Verkstads AB","Gothenburg","SE"]
[211009721,6938,"Araymond Fluid Connection","ESCHBAC","DE"]
[211906128,6939,"AWTI 3rd Eye Cam","Katy","US"]
[211009848,6940,"DAEKYUNG CORPORATION CO. LTD","GIMHAE","KR"]
[211906137,6941,"MECAFOR PRODUCTS DOO","KIKINDA","RS"]
[211906140,6943,"Molded Fiber Glass Company","UNION CITY","US"]
[211906146,6944,"Associated Commercial Entrprises","Bangalore","IN"]
[211009731,6945,"DEX Heavy Duty Parts","Oklahoma City","US"]
[211009730,6946,"Redhead Equipment","Prince Albert","CA"]
[211009736,6947,"Paramount Industrial Companies, Inc","NORFOLK","US"]
[211906147,6948,"Faurecia Automotive Composites","THEILLAY","FR"]
[211009732,6949,"Alta Equipment Company","Spring Grove","US"]
[211009733,6950,"KIPP CCS Gmbh & Co KG","Sulz am Neckar","DE"]
[211009782,6951,"A123 SYSTEMS s.r.o.","Ostrava","CZ"]
[211009780,6952,"Officine Meccaniche Rezzatesi S.r.l.","Rezzato","IT"]
[211009737,6953,"L & L CONTRACTORS  INC.","ANDREWS","US"]
[211009738,6954,"SIMARD SUSPENSIONS INC.","BAIE-ST-PAUL","CA"]
[211009739,6955,"MACK SALES & SERVICE OF","BRANDON","CA"]
[211009740,6956,"BRUCKNER'S BRIDGEPORT","BRIDGEPORT","US"]
[211009741,6957,"CROSSTOWN TRUCK & TIRE","BROOKS","CA"]
[211009776,6958,"VISION TRUCK GROUP","CAMBRIDGE","CA"]
[211009742,6959,"SHEALY TRUCK CENTER WNC","CANDLER","US"]
[211009743,6960,"MTG TRUCK & TRAILER EXPRESS","CANDOR","US"]
[211009744,6961,"AMES CONSTRUCTION","CARLIN","US"]
[211009745,6962,"BRUCKNER'S CLEBURNE","CLEBURNE","US"]
[211009746,6963,"GENERAL TRUCK SALES CORP","CROSS LANES","US"]
[211009747,6964,"GEMM DIESEL LTD.","KELOWNA","CA"]
[211009748,6965,"BERGEY'S TRUCK CENTERS","KENNETT SQUARE","US"]
[211009749,6966,"GARAGE LACROIX","LA SARRE","CA"]
[211009750,6967,"MACK SLS & SVC OF NANAIMO","LANGFORD","CA"]
[211009751,6968,"MACK TRUCKS OF TEXAS","LAREDO","US"]
[211009752,6969,"WORLDWIDE EQUIPMENT  INC.","LOUISA","US"]
[211009753,6970,"COUNTY WASTE","MIDLOTHIAN","US"]
[211009754,6971,"CASELLA WASTE MANAGEMENT","MONTPELIER","US"]
[211009755,6972,"MACK SALES & SERVICE - DECATUR","MORTON","US"]
[211009756,6973,"DURHAM TRUCK & EQUIPMENT","OTONABEE","CA"]
[211009757,6974,"BARNARD'S TRUCK SALES & SERV.","OWEN SOUND","CA"]
[211009758,6975,"WORLDWIDE EQUIPMENT","PIKEVILLE","US"]
[211009759,6976,"CASELLA CONSTRUCTION","PITTSFORD","US"]
[211009760,6977,"FANN CONTRACTING","PRESCOTT","US"]
[211009761,6978,"ALLIED WASTE","RICHMOND","US"]
[211009762,6979,"DIESEL POWER AND PARTS","RIVERTON","US"]
[211009763,6980,"GARAGE HENRI-LOUIS BEGIN INC.","SAINT-GEORGES-DE-BEAUCE","CA"]
[211009764,6981,"BABINE TRUCK & EQUIPMENT LTD.","SMITHERS","CA"]
[211009765,6982,"BERGEY'S TRUCK CENTER","TELFORD","US"]
[211009766,6983,"USL CARGO SERVICES","WESTON FL","US"]
[211009767,6984,"M&K QUALITY TRUCK SALES PDC","WYOMING","US"]
[211009768,6985,"COMMERCIAL TRUCK REPAIR","SOUTH GLENGARRY","CA"]
[211009769,6986,"CALMONT VOLVO TRUCK CENTRE","LETHBRIDGE","CA"]
[211009770,6987,"REDHEAD EQUIPMENT","PRINCE ALBERT","CA"]
[211009771,6988,"WORLDWIDE EQUIP./NORTON DIV.","NORTON","US"]
[211009772,6989,"VOMAC TRUCK SALES","TERRE HAUTE","US"]
[211009773,6990,"WESTERN TRUCK CENTER","TURLOCK","US"]
[211009774,6991,"MOUNTAIN WEST TRUCK CENTER","WEST VALLEY CITY","US"]
[211009775,6992,"71 CONSTRUCTION","RIVERTON","US"]
[211009781,6993,"SEGEPO DECOLLETAGE","SANT-LAGER","FR"]
[211906144,6994,"Fides Group","FRENSTAT","CZ"]
[211009734,6995,"Matcor Metal Fabrication Inc","MORTON","US"]
[211009784,6996,"Dometic Germany GmbH","Emsdetten","DE"]
[211009787,6997,"Bucher Hydraulics AG","Neuheim","CH"]
[211009795,6998,"NSE Services Techniques","Laval","CA"]
[211009833,6999,"Big B Mfg Inc.","KLINGERSTOWN","US"]
[211906158,7000,"Pkc Wiring Systems D.O.O.","SMEDEREVO","RS"]
[211906163,7001,"Kirchhoff Automotive Canada Inc","North York","CA"]
[211009836,7002,"FormFab LLC","ROCHESTER HILLS","US"]
[211009796,7003,"DINAMICA EQUIP.DE CONST.E REP.LTDA","ARIQUIMEDES","BR"]
[211009797,7004,"DINAMICA EQUIPAM. DE CONST. LTDA","PORTO VELHO","BR"]
[211009798,7005,"DINAMICA EQUIP CONST E REPRES LTDA","RIO BRANCO","BR"]
[211009799,7006,"ALPHA MAQUINAS E VEI DO NOR LTDA","BALSAS","BR"]
[211009827,7007,"ALPHA MAQ. E VEICULOS NORDESTE LTD","FORTALEZA","BR"]
[211009828,7008,"ALPHA MAQ. E VEIC.DO NORDESTE LTDA","IMPERATRIZ","BR"]
[211009829,7009,"ALPHA MAQ.E VEIC. DO NORDESTE LTDA","SAO LUIS","BR"]
[211009800,7010,"ALPHA MAQ E VEICULOS NORDESTE LTDA","TERESINA","BR"]
[211009801,7011,"LINCK MAQUINAS SA","SAO JOSÉ DOS PINHAIS","BR"]
[211009802,7012,"LINCK MAQUINAS SA PALHOÇA","PALHOÇA","BR"]
[211009803,7013,"LINCK MAQUINAS SA JOINVILLE","JOINVILLE","BR"]
[211009804,7014,"LINCK MAQUINAS SA MARIALVA","MARIALVA","BR"]
[211009805,7015,"LINCK MAQUINAS SA ELDORADO DO SUL","ELDORADO DO SUL","BR"]
[211009806,7016,"TECNOESTE MAQUINAS E EQUIP. LTDA","CAMPO GRANDE","BR"]
[211009807,7017,"TECNOESTE MAQUINAS E EQUIPAMENTOS","SINOP","BR"]
[211009808,7018,"TECNOESTE MAQ. E EQUIP. LTDA.","CUIABA","BR"]
[211009809,7019,"TRACBEL SA ARACRUZ","ARACRUZ","BR"]
[211009810,7020,"TRACBEL SA BEBEDOURO","BEBEDOURO","BR"]
[211009811,7021,"TRACBEL S/A. CONTAGEM","CONTAGEM","BR"]
[211009812,7022,"TRACBEL S.A GOIÂNIA","GOIÂNIA","BR"]
[211009813,7023,"TRACBEL S.A GOV. VALADARES","GOV. VALADARES","BR"]
[211009814,7024,"TRACBEL SA MACAPÁ","MACAPÁ","BR"]
[211009815,7025,"TRACBEL S/A MANAUS","MANAUS","BR"]
[211009816,7026,"TRACBEL S/A MARITUBA","MARITUBA","BR"]
[211009817,7027,"TRACBEL SA. RIO DE JANEIRO","RIO DE JANEIRO","BR"]
[211009818,7028,"TRACBEL S/A. SERRA","SERRA","BR"]
[211009819,7029,"TRACBEL S/A SUMARÉ","SUMARÉ","BR"]
[211009820,7030,"TRACBEL S/A. UBERLANDIA","UBERLANDIA","BR"]
[211009821,7031,"TRACBEL SA VAZANTE","VAZANTE","BR"]
[211009822,7032,"TRACBEL S.A MARABA","MARABA","BR"]
[211009823,7033,"TRACBEL S.A PARAGOMINAS","PARAGOMINAS","BR"]
[211009830,7034,"TRACBEL S.A EUNAPOLIS","EUNAPOLIS","BR"]
[211009831,7035,"GOTEMBURGO VEICULOS LTDA","SIMOES FILHO","BR"]
[211009832,7036,"GOTEMBURGO VEICULOS LTDA","FEIRA DE SANTANA","BR"]
[211009792,7037,"GOTEMBURGO VEICULOS LTDA","LUIS EDUARGO MAGALHÃES","BR"]
[211009824,7038,"GOTEMBURGO VEICULOS LTDA","JABOATAO","BR"]
[211009793,7039,"GOTEMBURGO VEICULOS LTDA","SÃO JOSÉ DE MIPIBÚ","BR"]
[211009825,7040,"GOTEMBURGO VEICULOS LTDA","NOSSA SENHORA DO SOCORRO","BR"]
[211009852,7041,"KTP Kunststoff Palettentechnik GmbH","Bous","DE"]
[211009835,7042,"Cummins Emission Solutions","DARLINGTON","GB"]
[211009840,7043,"Kalyani Maxion Wheels Pvt. Ltd","PUNE","IN"]
[211009845,7044,"Bridgestone do Brasil Industria","Santo André","BR"]
[211009841,7045,"Worldwide Equipment","Crossville","US"]
[211906178,7046,"Shanghai Vanfor hydraulic","Shanghai","CN"]
[211906177,7048,"Fargo Assembly Of Pa","Reading","US"]
[211010048,7049,"Jiangyin Haida Rubber And Plastic","JIANGYIN","CN"]
[211906190,7050,"AMK Automotive GmbH & Co. KG","Römerstein","DE"]
[211906217,7051,"SPM AUTOCOMP SYSTEMS PVT. LTD.","Pune","IN"]
[211010053,7052,"Roy Metal Finishing","Greenville","US"]
[211010049,7053,"Bruckner's","Colorado Springs","US"]
[211010050,7054,"Ravenna Marine","Ravenna","US"]
[211010060,7055,"Llink Technologies","BROWN CITY","US"]
[211906194,7056,"G.P.TECNICA SRL","ASTI","IT"]
[211906202,7057,"Fargo Assembly Of Pa","RICHLAND","US"]
[211010070,7058,"Provexa AB","Göteborg","SE"]
[211010052,7059,"GLF Genarps Ladfabrik AB","Genarp","SE"]
[211906203,7060,"Stabilus Romania SRL","Brasov","RO"]
[211010054,7061,"Modern Metal Sp. z o.o.","Opole","PL"]
[211010062,7062,"Schrader SAS","PONTARLIER","FR"]
[211010056,7063,"Knorr-Bremse Sac S.P.A.","ARCORE","IT"]
[211906204,7064,"Schenker Logistics AB","Göteborg","SE"]
[211010058,7065,"STS PLASTICS CO. ,LTD.","QINGDAO SHANDONG","CN"]
[211906220,7066,"Fortuna Engineering Private Limited","Nashik","IN"]
[211906214,7067,"WEGMANN automotive GmbH- Halle 4","TRIEFENSTEIN","DE"]
[211010059,7068,"Nautical Marine","North Chesterfield","US"]
[211010067,7069,"TEC Equipment - San Diego","San Diego","US"]
[211010068,7070,"Vanguard Truck Center of Houston","Houston","US"]
[211010080,7071,"G2 Diesel Products","HARRISBURG","US"]
[211906234,7072,"Gates Distribution Center","Desteldonk","BE"]
[211010082,7073,"Dinex Russia LLC","GATCHINA","RU"]
[211010075,7074,"F2J Stamping","BESSINES-SUR-GARTEMPE","FR"]
[211906238,7075,"Dinitech GmbH","St.Stefan im Rosental","AT"]
[211906268,7076,"NORMA Manufacturing NA SW LLC","TIJUANA","MX"]
[211010137,7077,"Valmet Automotive","UUSIKAUPUNKI","FI"]
[211906256,7078,"Federal Mogul Powertrain Italy Srl","CHIVASSO","IT"]
[211906272,7079,"Hollingsworth Logistics Group, LLC","MEMPHIS","US"]
[211906247,7080,"DUERRE TUBI STYLE GROUP SPA","UBERSETTO Di Fiorano","IT"]
[211906269,7081,"EATON LTDA.","MOGI MIRIM","BR"]
[211010152,7082,"MAHLE COMPONENTE DE MOTOR SRL","TIMISOARA","RO"]
[211906259,7083,"Novares","VILLIERS BRETONNEUX","FR"]
[211010142,7084,"VOLVO GROUP COLOMBIA S.A.S","BOGOTA","CO"]
[211906270,7085,"SBE-VARVIT S.p.A.","GRUGLIASCO","IT"]
[211906264,7086,"Hilton Manufacturing Pty Ltd","WACOL","AU"]
[211010144,7087,"Kirk Electronic A/S","STRUER","DK"]
[211010151,7088,"Zf Automotive Components And System","SHANGHAI","CN"]
[211010155,7089,"Tieco International Aust Pty Ltd","ROWVILLE","AU"]
[211010143,7090,"Prevost Division of Volvo Group","Quebec","CA"]
[211010156,7091,"Galvin Engineering Pty Ltd","CAROLE PARK","AU"]
[211010165,7092,"Fabri-Tech Inc.","BROOKFIELD","US"]
[211010159,7093,"AST International GmbH","Calw","DE"]
[211906296,7094,"Great Western Manufacturing","TOOWOOMBA","AU"]
[211010158,7095,"Legacy Truck Centers","Brookville","US"]
[211010170,7096,"Rhonalu","MIRIBEL","FR"]
[211010162,7097,"Appalachian Machine Incorporated","DUBLIN","US"]
[211010175,7098,"Saint Jean Industries","Ilsfeld","DE"]
[211906309,7099,"Tratamientos y Acabados","HOSPITALET DE LLOBREGAT","ES"]
[211010171,7100,"DONGGUAN ZHENG YANG ELECTRONIC","DONGGUAN","CN"]
[211010178,7101,"HS Plastics GmbH","LEMGO","DE"]
[211906317,7102,"APOLLO VREDESTEIN BV","ENSCHEDE","NL"]
[211906331,7103,"VT ARTrans Kft","Székesfehérvár","HU"]
[211010179,7104,"Asset Transfer Account","Göteborg","SE"]
[211906334,7105,"Pacebor Piracicaba Ind. Com. Art.","Charqueada","BR"]
[211010174,7106,"Sarginsons Industries Limited","Coventry","GB"]
[211906336,7107,"Cutting&Measuring Tool Plant Of Don","Shiyan","CN"]
[211906343,7108,"Catroux entrepot(P/O Delphi)","Fosse","FR"]
[211906341,7109,"Zehrco Giancola Composites","ASHTABULA","US"]
[211906342,7110,"Nelson Global Products","Garcia Nuevo Leon","MX"]
[211010211,7111,"T.Wennerstens Mekaniska AB","Åmål","SE"]
[211906344,7112,"Ljunghall Canada Ltd.","HURON PARK","CA"]
[211010207,7113,"Westcomp AB","Mölndal","SE"]
[211010214,7114,"Fluid Power Initiatives LTD","Ruthin","GB"]
[211010215,7115,"Nya Mönsterås Metall AB","Mönsterås","SE"]
[211906355,7116,"Rocklea Pressed Metal Pty Ltd","Acacia Ridge","AU"]
[211906365,7117,"Müller – Die lila Logistik Südost","Wemding","DE"]
[211010245,7118,"IZOBLOK S.A.","Chorzów","PL"]
[211906368,7119,"Aston Martin Lagonda Ltd","Saint Athan","GB"]
[211906385,7121,"Continental Automotive Rus","CHISTOPOL","RU"]
[211010257,7134,"Elajo Mekanik AB","Gothenburg","SE"]
[211010272,7137,"Hot Roll Srl","BUSANO","IT"]
[211010271,7138,"Intercast & Forge Pty Ltd","WINGFIELD","AU"]
[211010263,7139,"ANDRENPLAST POLSKA SP. Z O.O.","STARGARD","PL"]
[211010264,7140,"Fiamm Latin America","SÃO BERNARDO DO CAMPO","BR"]
[211010275,7141,"Borgstena Brasil Confeccao Textil","TIETE","BR"]
[211010268,7142,"Martiaço Industria De Artefatos Met","COLOMBO","BR"]
[211010269,7143,"Hoffman Equipment","Medford","US"]
[211906411,7145,"Apak Ab/ Retsab","YSTAD","SE"]
[211906408,7146,"Ole Nonbye As","Odder","DK"]
[211010455,7147,"Ride Control Mexicana S de RL de CV","EL MARQUES","MX"]
[211906416,7148,"Opus Consultoria Ltda","SÃO JOSE DOS PINHAIS","BR"]
[211010457,7149,"Auto Glass Plus","Arlington Heights","US"]
[211010456,7150,"VIGNAL C.E.A SA","RANCATE","CH"]
[211906439,7151,"Tibnor Oy","SEINÄJOKI","FI"]
[211906418,7152,"Jbm Auto Limited","Indore","IN"]
[211906445,7153,"Robert Bosch LLC","SUMMERVILLE","US"]
[211010590,7154,"STS Brasil Fabricaco de Autopecas","BETIM","BR"]
[211906447,7156,"Haldex Brake Products Corporation","Kansas City","US"]
[211906468,7157,"Aptiv Manufatura e Serviços de","Jambeiro","BR"]
[211010679,7158,"Kettenwulf, Inc","LITHIA SPRINGS","US"]
[211010680,7159,"Volvo Group Singapore (Pte) Ltd","Singapore","SG"]
[211906473,7160,"JBM Auto Limited","Pune","IN"]
[211010695,7161,"Weifang Haoxin ConMet Mechanical","WEIFANG","CN"]
[211906504,7162,"Polistampo Industria Metalurgica Lt","DIADEMA","BR"]
[211906483,7163,"Dachser SE","Überherrn","DE"]
[211010699,7164,"Volvo Parts Malsfeld","Malsfeld","DE"]
[211010696,7165,"Modellteknik i Eskilstuna AB","ESKILSTUNA","SE"]
[211906488,7166,"NewStream","SPRINGFIELD","US"]
[211906691,7168,"UD Trucks Singapore (Pte) Ltd","Singapore","SG"]
[211906510,7169,"Gates Siloam Springs Plant","Siloam Springs","US"]
[211010790,7170,"Tecnaut Industria e Comercio","BOTUCATU","BR"]
[211906527,7171,"Preh GmbH","Bad Neustadt a. d. Saale","DE"]
[211010787,7172,"Autoform i Malung AB","MALUNG","SE"]
[211010793,7173,"BHC Gummi-Metall GmbH & Co KG","MECKENHEIM","DE"]
[211010788,7174,"REMAN - VDB","Curitiba","BR"]
[211010792,7176,"ALTERNATIVE METAL SERVICE INC.","WILLOUGHBY","US"]
[211906526,7177,"DHL Supply Chain Cummins account","BERINGE","NL"]
[211906908,7178,"Manitowoc Pattern & Machining","Manitowoc","US"]
[211010796,7180,"Casco Automotive (Suzhou) Co., Ltd","SUZHOU","CN"]
[211010800,7181,"SC. ContiTech Fluid Automotive","CAREI","RO"]
[211906540,7182,"SESCO","Waynesboro","US"]
[211010798,7183,"JSC Yaroslavl Rubber Technical Plant","Yaroslavl","RU"]
[211010799,7184,"Valeo Shanghai Automotive Electric","Shanghai","CN"]
[211906556,7185,"LINAK A/S","Nordborg","DK"]
[211906557,7186,"Borgers Süd GmbH","ELLZEE","DE"]
[211906551,7187,"Arendt Logistik","ELTERLEIN","DE"]
[211906552,7188,"ThuveProfiler AB","NYBRO","SE"]
[211906561,7189,"Akasol AG","Langen","DE"]
[211010812,7191,"In motion US LLC","BLACKSBURG","US"]
[211906553,7192,"New Standard Corp","Emigsville","US"]
[211010821,7193,"Delavan Spray, LLC","Bamberg","US"]
[211010813,7194,"Smurfit Kappa Sverige AB","Markaryd","SE"]
[211906572,7196,"LLC MirLight Moscow branch","Moscow","RU"]
[211010819,7197,"RCO Engineering Inc","Roseville","US"]
[211906662,7198,"Elegance Coating Ltd","Champlain","US"]
[211010820,7199,"TEC Sylmar","Sun Valley","US"]
[211906601,7200,"MAHLE Filtersysteme France SAS","SEBONCOURT","FR"]
[211010822,7201,"Lesjöfors Stockholms Fjäder AB","VÄLLINGBY","SE"]
[211906602,7202,"FERCOOP SOC.COOP.","ROVIGO","IT"]
[211906603,7203,"AR.DE.MA.  SRL","CAMPODARSEGO","IT"]
[211906615,7204,"Meas Francec c/o Vecutra Logistique","TOULOUSE","FR"]
[211010830,7205,"THE CHEMOURS COMPANY INDUSTRIAE","BARUERI","BR"]
[211010832,7206,"Hengst Filter Systems (Kunshan) Co,","Suzhou, Jiangsu","CN"]
[211010833,7207,"Src Electrical Llc","SPRINGFIELD","US"]
[211906637,7208,"Rhenus Logistics","Samutprakran","TH"]
[211010835,7209,"Atco Production LLC","FERRIS","US"]
[211906661,7210,"Clarios LLC","ST JOSEPH","US"]
[211010841,7211,"Borgwarner Emissions Systems LLC","DIXON","US"]
[211906644,7212,"CEVA TECHNOLOGIES","VIVIER-AU-COURT","FR"]
[211906663,7214,"Kinshofer GmbH","Germany","DE"]
[211010845,7215,"Parat GmbH + Co.Kg","NEUREICHENAU","DE"]
[211906653,7216,"Happich GmbH - Logistikcenter-","Niedereschach","DE"]
[211010846,7217,"Recticel","Gislaved","SE"]
[211010860,7218,"AST International CZ s.r.o.","CHODOVA PLANA","CZ"]
[211906660,7219,"Hengst Of North America, Inc.","CAMDEN","US"]
[211010853,7220,"Oetiker Polska sp. z o.o.","LEGNICKIE POLE","PL"]
[211010839,7230,"ZEMCO, LLC","AVILLA","US"]
[211906684,7231,"Semikron Automotive Systems","NÜRNBERG","DE"]
[211010855,7232,"Ccty Bearing GmbH","SCHWEBHEIM","DE"]
[211906734,7233,"Nash Industries (I) Private Limited","BANGALORE","IN"]
[211010856,7234,"2a Usa, Inc.","AUBURN","US"]
[211906721,7235,"Diamond Wire Spring Co.","Taylors","US"]
[211010858,7236,"INTERCAST SA","Itaúna","BR"]
[211010859,7237,"Global Logistics and Distribution","Troy","US"]
[211010861,7238,"Alta Equipment","Fort Meyers","US"]
[211906746,7239,"Shriram Pistons And Rings Ltd.","Ghaziabad","IN"]
[211010864,7240,"Redarc Electronics Pty Ltd","Lonsdale","AU"]
[211906747,7241,"Skyline Composite","FALL RIVER","US"]
[211906738,7242,"Industrias Rehau S.A","TORTOSA","ES"]
[211010865,7243,"Nextran","Fort Lauderdale","US"]
[211906750,7244,"MAGNA ENERGY STORAGE","KERPEN","DE"]
[211906743,7245,"Methode Mexico","APODACA","MX"]
[211010869,7246,"Cattini North America Corp","Chambersburg","US"]
[211010870,7247,"Sixpro Inc.","NOTRE-DAME-DU-BON-CONSEIL","CA"]
[211010874,7248,"Global Gear & Machining LLC","DOWNERS GROVE","US"]
[211010880,7249,"Frammestadverken AB","NOSSEBRO","SE"]
[211010875,7250,"Off Site Manufacturing","CHESTERFIELD TOWNSHIP","US"]
[211010868,7251,"National Gent Performance","GENT","BE"]
[211906752,7252,"Automotive Logistics Polska SpZ.O.O","MAZANCOWICE","PL"]
[211010877,7253,"Conformetal Estamparia","OSASCO","BR"]
[211010884,7254,"Metaltork Ind Com Auto","DIADEMA","BR"]
[211010883,7255,"Electro Maintenance S.A.","CHATEAURENARD","FR"]
[211010885,7256,"LYB Premix LLC","CONNEAUT","US"]
[211010958,7257,"Delastek Usa","PLATTSBURGH","US"]
[211906768,7258,"Robbins MFG Inc","FALL RIVER","US"]
[211010895,7259,"Rotoplast","BEAUTOR","FR"]
[211906782,7260,"Oxymetal Sud-Ouest","POMPIGNAC","FR"]
[211010897,7261,"Thai Summit Kentucky Corporation","BARDSTOWN","US"]
[211906781,7262,"Modineer Company Plant 6","Niles","US"]
[211010879,7263,"YAZAKI Wiring Technologies Slovakia","MICHALOVCE","SK"]
[211010892,7264,"VECTRA INDUSTRIA E COMERCIO DEPecas","PIRACICABA","BR"]
[211010893,7265,"Hutchinson SNC defense et securite","Persan","FR"]
[211906791,7266,"Omni Logistics, LLC DBA Mach 1","Atlanta","US"]
[211906796,7267,"Winegar Inc","Waseca","US"]
[211010926,7268,"Steelcore Heavy Equipment (Pty) Ltd","Gauteng","ZA"]
[211010905,7269,"Plastitel Usa Inc.","Chazy","US"]
[211010900,7270,"Crysteel Manufacturing, Inc.","LAKE CRYSTAL","US"]
[211010925,7271,"Seg Automotive Components Braz","ITUPEVA","BR"]
[211010920,7272,"UD Trucks Southern Africa","Johannesburg","ZA"]
[211010934,7274,"Geyer & Hosaja Sp. z o.o.","RODOMYSL WLK","PL"]
[211010935,7275,"Denso Thermal Systems S.P.A.","POIRINO","IT"]
[211906872,7276,"Modine do Brasil Sistemas","GUARULHOS","BR"]
[211010932,7277,"Kenway engineering inc.","FAIRMONT","US"]
[211906856,7279,"Metal Technologies","HILLSDALE","US"]
[211010954,7280,"Sadex Embrayages","FOUGERES","FR"]
[211010937,7281,"THYSSENKRUPP ROTHE ERDE ITALY SPA","Visano","IT"]
[211010945,7282,"Vibracoustic Noida Pvt Ltd","NOIDA","IN"]
[211010940,7283,"Xper Inc.","Saxonburg","US"]
[211906871,7284,"Ide-Pro Skive A/S","Roslev","DK"]
[211906870,7285,"Fritz Winter Eisengiesserei","Stadtallendorf","DE"]
[211010953,7286,"Transdotti Transporte Rodoviario Ltda","EMBU DAS ARTES","BR"]
[211010950,7287,"Tupy Europe GmbH","GRASBRUNN","DE"]
[211010949,7288,"Hundhausen Castings GmbH","Schwerte","DE"]
[211906877,7290,"Parker Hannifin Manufacturing SRL","CINISELLO BALSAMO","IT"]
[211010956,7291,"Patton Warehousing, LLC","Dublin","US"]
[211010960,7292,"Core Technology Molding Corporation","GREENSBORO","US"]
[211010965,7293,"Ls Automotive Technologies","WUXI","CN"]
[211011045,7294,"Rassini Suspensiones, S.A. De C.V.","PIEDRAS NEGRAS","MX"]
[211010966,7295,"Arquus Limoges Cpvm","LIMOGES CEDEX","FR"]
[211010961,7296,"Arquus Sas - Versailles","VERSAILLES","FR"]
[211010967,7297,"Arquus Fourchambault Cmco","FOURCHAMBAULT","FR"]
[211010962,7298,"Arquus St Nazaire","SAINT-NAZAIRE","FR"]
[211010969,7299,"UD TRUCKS INDIA PRIVATE LIMITED","BENGALURU","IN"]
[211010996,7300,"DIRNA BERGSTROM S.L.U.","ALCALA DE HENARES - MADRID","ES"]
[211906898,7301,"Mahabal Metals Private Limited","Miraj","IN"]
[211906913,7302,"Atlantique de Logique et Transport","Ergue Gaberic","FR"]
[211010997,7303,"Boardic AB","Norrköping","SE"]
[211010999,7304,"Mahle Behr Namestovo S.R.O","NAMESTOVO","SK"]
[211010964,7305,"Adhex Technologies","CHENÔVE CEDEX","FR"]
[211906932,7306,"TRW SISTEMAS DE DIRECCIONES","QUERETARO","MX"]
[211011011,7307,"TitanX Engine Cooling de Mexico","RAMOS ARIZPO","MX"]
[211011010,7308,"Takahashi Metal Manufacturing Suzhou Co","SUZHOU","CN"]
[211011013,7309,"BE GROUP. SP. Z O.O.","TREBACZEW","PL"]
[211011016,7310,"Kongsberg Driveline Systems SAS","Cluses Cedex","FR"]
[211011012,7311,"Backer AB","Sösdala","SE"]
[211011018,7312,"Mobile Climate Control","GOSHEN","US"]
[211906936,7313,"Böhns Trä Kajutan AB","BRAÅS","SE"]
[211011033,7314,"Trico Belgium s.a","AUBANGE","BE"]
[211011034,7315,"Valeo Otomotiv Sistemleri A.S","Bursa","TR"]
[211011037,7316,"Svenska Jumbo Transport AB","MALMÖ","SE"]
[211906941,7317,"Autoliv France -","Gournay en Bray","FR"]
[211906937,7318,"Albon Engineering & Manufacturing","RUMA","RS"]
[211906938,7319,"Marzocchi Pompe SPA","CASALECCHIO DI RENO","IT"]
[211906939,7320,"BorgWarner Turbo Systems LLC","Arden","US"]
[211906950,7321,"Hellmann Worldwide Logistics","Nürnberg","DE"]
[211011050,7322,"Cirteq Ltd","Glusburn","GB"]
[211011051,7323,"THAI STEEL CABLE PUBLIC COMPANY","Chonburi","TH"]
[211906963,7324,"Geodis CL Rhone Alpes","SAINT QUENTIN FALLAVIER","FR"]
[211011056,7325,"Hutchinson GmbH","Mannheim","DE"]
[211906973,7326,"O.M.P. Officine Mazzocco Pagnoni","Funo, Bologna","IT"]
[211011061,7327,"International Aluminium Casting","Tenhult","SE"]
[211011063,7328,"Aptiv","Troy","US"]
[211011064,7329,"ARQUUS SAS - Marolles","MAROLLES EN HUREPOIX","FR"]
[211011065,7330,"Bontaz Centre USA","Troy","US"]
[211906980,7331,"Ritz Machine Works Inc.","Duphin, Manitoba","CA"]
[211011071,7332,"Rhenus Automotive Logistics NV","Genk","BE"]
[211011072,7333,"RMC Advanced Technologies, Inc","NEWTON","US"]
[211011080,7334,"Molla Sågverk","Ljung","SE"]
[211906987,7335,"Conmet de Mexico, SA.DE C.V.","CIÉNEGA DE FLORES","MX"]
[211011131,7336,"Heungkuk India Private Limited","Satara","IN"]
[211011083,7337,"Maini Precision Products Limited","Bangalore","IN"]
[211011084,7338,"Mack Defense LLC","Allentown","US"]
[211011090,7339,"AMZ MANUFACTURING CORP","YORK","US"]
[211011091,7340,"BERGEY'S TRUCK CENTERS  1","READING","US"]
[211011092,7341,"BERGEY'S TRUCK CENTERS  2","WRIGHTSVILLE","US"]
[211011093,7342,"BRUCKNER'S TRUCK & EQUIPMENT 1","SAN ANTONIO","US"]
[211011094,7343,"BRUCKNER'S TRUCK & EQUIPMENT 2","SAN ANTONIO","US"]
[211011095,7344,"CENTRE DU CAMION STE-MARIE 1","DRUMMONDVILLE","CA"]
[211011096,7345,"CENTRE DU CAMION STE-MARIE 2","BOUCHERVILLE","CA"]
[211011097,7346,"COLUMBUS TRUCK & EQUIPMENT","LONDON","US"]
[211011113,7347,"GABRIELLI TRUCK SALES 1","BLOOMSBURY","US"]
[211011098,7348,"GABRIELLI TRUCK SALES 2","ALBANY","US"]
[211011099,7349,"GREAT WEST EQUIPMENT LTD.","WHITEHORSE","CA"]
[211011100,7350,"HAYTIAN TRACTOR & EQUIP.CO","MIAMI","US"]
[211011101,7351,"KRIETE TRUCK CENTER 1","STEVENS POINT","US"]
[211011102,7352,"KRIETE TRUCK CENTER 2","TOMAHAWK","US"]
[211011103,7353,"LONESOME DOVE CONCRETE PUMPING","BELLGRADE","US"]
[211011104,7354,"MCMAHON TRUCK CENTER OF LOUISV","CLARKSVILLE","US"]
[211011105,7355,"NEXTRAN TRUCK CENTER","TALLAHASSEE","US"]
[211011106,7356,"NEXTRAN TRUCK CENTERS MIDWEST 1","KANSAS CITY","US"]
[211011107,7357,"NEXTRAN TRUCK CENTERS MIDWEST 2","FRUITA","US"]
[211011108,7358,"NORTHWEST EQUIPMENT SALES, INC","BURBANK","US"]
[211011109,7359,"REDHEAD  EQUIPMENT","REGINA","CA"]
[211011110,7360,"VANGUARD TRUCK CENTER","GEORGETOWN","US"]
[211011111,7361,"WORLDWIDE EQUIPMENT GEORGIA 1","ALBANY","US"]
[211011112,7362,"WORLDWIDE EQUIPMENT GEORGIA 2","DOUGLAS","US"]
[211011114,7363,"BorgWarner Brasil Ltda","Itatiba","BR"]
[211011086,7364,"Eaton Engine Components","Marshall","US"]
[211011115,7365,"UBD Cleantech AB","Höör","SE"]
[211907009,7366,"Beach Manufacturing Company","Saint Paris","US"]
[211011116,7367,"BERGEY'S TRUCK CENTERS 3","YORK","US"]
[211011117,7368,"CUMBERLAND TRUCK EQUIPMENT","MILTON","US"]
[211011118,7369,"LEGACY TRUCK CENTERS INC.","WHEELING","US"]
[211011119,7370,"MATSON NAVIGATION CO.OF ALASKA","ANCHORAGE","US"]
[211011120,7371,"NACARATO TRUCK CENTERS 1","TROUTVILLE","US"]
[211011121,7372,"NACARATO TRUCK CENTERS 2","WILLIAMSPORT","US"]
[211011122,7373,"NACARATO TRUCK CENTERS 3","HARRISONBURG","US"]
[211011123,7374,"NACARATO TRUCK CENTERS 4","VALDOSTA","US"]
[211011124,7375,"NACARATO TRUCKS CENTERS","CLARKSVILLE","US"]
[211011125,7376,"TEC EQUIPMENT 1","REDMOND","US"]
[211011126,7377,"TEC EQUIPMENT 2","DIXON","US"]
[211011127,7378,"TRANSPORT DIESEL SERVICE","LOGAN","US"]
[211011128,7379,"TRI-STATE TRUCK AND EQUIPMENT","ROCK SPRINGS","US"]
[211011132,7380,"MSW LLC","Columbus","US"]
[211011136,7381,"Clarion Hungary Elektronikai Kft","Nagykata","HU"]
[211011129,7382,"Skandro AB","Smålandsstenar","SE"]
[211907015,7383,"Custom Glass Solutions Fostoria LLC","FOSTORIA","US"]
[211011137,7384,"Ritz Machine Works USA LLC","Cambridge","US"]
[211011133,7385,"DRM Industries Corp","Lake Delton","US"]
[211011134,7386,"Arizona Trucks Centers, LLC","Flagstaff","US"]
[211011147,7387,"NICHIRIN SPAIN S.L.U","Palamos","ES"]
[211011141,7388,"Federal-Mogul Dong Feng (Shiyan)","Shiyan","CN"]
[211011145,7389,"Schoeller Allibert Netherlands","Hardenberg","NL"]
[211011142,7390,"Kruk-Transport Danuta Kruk","Zduny","PL"]
[211011151,7391,"BORGWARNER INDUSTRIA E COMERCIO","PIRACICABA","BR"]
[211011154,7392,"ETABLISSEMENTS BREVET SAS","VIRIAT","FR"]
[211011155,7393,"Applications plastiques du rhone","SAINT-SYMPHORIEN-D'OZON","FR"]
[211907019,7394,"Spedition Brucker GmbH","Reutlingen","DE"]
[211907058,7395,"Etudes Coordination Transports &","Loire sur Rhône","FR"]
[211011156,7396,"Danfoss Power Solutions Aps","Nordborg","DK"]
[211011157,7397,"Fuyao Glass Industry Group Co., Ltd","Fuqing City","CN"]
[211011158,7398,"SHANDONG SHUOCHENG MACHINERY","LINYI","CN"]
[211907057,7399,"Xylem Water Systems Hungary Kft","ABONY","HU"]
[211011165,7400,"HAWE North America, Inc","HUNTERSVILLE","US"]
[211011170,7401,"Zhejiang Kanghe Mechanical","Taizhou","CN"]
[211011171,7402,"Logistic Center NUSS Gmbh","Wörth am Rhein","DE"]
[211011174,7404,"Mann+Hummel GmbH","SPEYER","DE"]
[211011172,7405,"Allied Motion Stockholm AB","BROMMA","SE"]
[211011181,7406,"HAVD Group Purtech AB","ED","SE"]
[211011176,7407,"BORG WARNER, LLC","PEDLETON","US"]
[211011177,7408,"REMY DISTRIBUTION CENTER","MERIDIAN","US"]
[211011178,7409,"ROBERT BOSCH COMPANY","CAROL STREAM","US"]
[211011179,7410,"HORTON, INC","BRITTON","US"]
[211011180,7411,"BBB INDUSTRIES, LLC","JOPLIN","US"]
[211900667,8517,"FTE AUTOMOTIVE CZECH S.R.O.","PODBORANY","CZ"]
[211000892,8518,"SILA Shanghai","SHANGHAI","CN"]
[211007616,8520,"NEFAB PACK. BELGIUM","GENT-DESTELDONK","BE"]
[211007627,8521,"STILLSTRÖMS I ESK","ESKILSTUNA","SE"]
[211008337,"D001","SMT Luxembourg NV/SA","SOLEUVRE","LU"]
[211008338,"D002","SMT Group (SMT Africa)","ANTWERPEN","BE"]
[211008339,"D003","NEBIM NINOVE","NINOVE","BE"]
[211008340,"D004","GRAND GARAGE DU NORD S.A.","TOURNAI","BE"]
[211008341,"D005","GALLIKER","HERSTAL-MILMORT","BE"]
[211008343,"D007","NEBIM BELAEN HARELBEKE","HARELBEKE","BE"]
[211008344,"D008","BUS CENTER SARL                   ","LIVANGE                 ","LU"]
[211008348,"D012","AUTOMOBILIA ZARREN NV","KORTEMARK-ZARREN","BE"]
[211008349,"D013","AUTOMOBILIA IEPER NV","IEPER","BE"]
[211008350,"D014","GHEYS NV","MOL","BE"]
[211008353,"D017","Volvo Truck Center Beerse","BEERSE","BE"]
[211008354,"D018","TRUCK SERVICE SEBASTIAN SA (LIEGE)","HERSTAL","BE"]
[211008355,"D019","TRUCK SERVICE SEBASTIAN SA (NAMUR)","TEMPLOUX","BE"]
[211009837,"D022","CONNEXXION TECHNIEK EMMELOORD","EMMELOORD","NL"]
[211008360,"D024","TRUCK SERVICE SEBASTIAN SA (MELEN)","MELEN","BE"]
[211010021,"D025","PROVEHIMA, S.A.ALBACETE","Albacete","ES"]
[211009853,"D026","PROVEHIMA, S.A.MURCIA","Molina de Segura, Murcia","ES"]
[211008363,"D027","Volvo Marine & Industrie Center","ANTWERPEN","BE"]
[211010022,"D028","VEINSUR, S.A.ALMERIA","Huércal de Almería, Almería, ","ES"]
[211009854,"D029","VEINSUR, S.A.GRANADA","Cijuela, Granada","ES"]
[211009855,"D030","VEINSUR, S.A.JAEN","Guarroman, Jaén","ES"]
[211010023,"D031","VEINSUR, S.A.CORDOBA","Córdoba","ES"]
[211010024,"D032","VEINSUR, S.A.MALAGA","Málaga","ES"]
[211009856,"D033","TALLERES  SANFER, S.A.TOLEDO","Talavera de la Reina, Toledo","ES"]
[211009857,"D034","COMERCIAL  AUTOMOCION  RUBIO, S.L.V","Picassent","ES"]
[211010025,"D035","COMERCIAL  AUTOMOCION  RUBIO","Ribarroja del Turia","ES"]
[211010026,"D036","MECANICA LLANOTRUCKALMERIA","Arboleas, Almería","ES"]
[211009858,"D037","VOLVO TRUCK CENTER, S.L.VIZCAYA","Valle de Trápaga-Trapagaran, BI","ES"]
[211009859,"D038","VOLVO TRUCK CENTER, S.L.ZARAGOZA","Zaragoza","ES"]
[211009860,"D039","VOLVO TRUCK CENTER, S.L.CANTABRIA","Valles","ES"]
[211010027,"D040","VOLVO TRUCK CENTER, S.L.BURGOS","Burgos","ES"]
[211009861,"D041","VOLVO TRUCK CENTER, S.L.PONTEVEDRA","O Porriño, Pontevedra","ES"]
[211009862,"D042","VOLVO TRUCK CENTER, S.L.CORUÑA","Oleiros, A Coruña","ES"]
[211009863,"D043","VOLVO TRUCK CENTER, S.L.ASTURIAS","Llanera, Asturias","ES"]
[211009864,"D044","VOLVO TRUCK CENTER, S.L.MADRID-SAN","Torrejón de Ardoz","ES"]
[211009865,"D045","VOLVO TRUCK CENTER, S.L.SALAMANCA","Salamanca","ES"]
[211009866,"D046","VOLVO TRUCK CENTER, S.L.CIUDAD REAL","Manzanares","ES"]
[211008383,"D047","Volvo Truck Center Antwerpen","ANTWERPEN","BE"]
[211008385,"D049","DERMA TRUCKS N.V.","BRUGGE","BE"]
[211008386,"D050","CELIS TRUCKS NV","SINT TRUIDEN","BE"]
[211008387,"D051","PAESEN TRUCK ZOLDER NV","HEUSDEN - ZOLDER","BE"]
[211008388,"D052","RECON TRUCKS NV","OOSTENDE","BE"]
[211008389,"D053","NEBIM GENT","MARIAKERKE","BE"]
[211008390,"D054","MONS TRUCKS INDUSTRY SA","MONS","BE"]
[211008391,"D055","PAESEN TRUCKS PEER-WIJCHMAAL","PEER-WIJCHMAAL","BE"]
[211008395,"D059","WEBER & CIE","MARNACH","LU"]
[211008396,"D060","BREUER - ANTOINE SA","MALMEDY","BE"]
[211008397,"D061","AUTOVIL","LONDERZEEL","BE"]
[211009867,"D063","VEINSUR, S.A.SEVILLA","Alcalá de Guadaira","ES"]
[211009868,"D064","VOLVO TRUCK CENTER, S.L.MADRID","Valdemoro","ES"]
[211009869,"D065","REUS  FLEMING, S.A.TARRAGONA","Reus","ES"]
[211010028,"D066","VEINSUR, S.A.BARCELONA","Montornés del Vallés","ES"]
[211010029,"D067","VEINSUR, S.A.BARCELONA","Barcelona","ES"]
[211009870,"D068","PROVEHIMA ALHAMAMURCIA","Alhama de Murcia","ES"]
[211008408,"D072","GARAGE TRANSPORTS SERVICE SPRL","HELECINE","BE"]
[211008410,"D074","VOLVO TRUCK CENTER MECHELEN","DUFFEL","BE"]
[211008411,"D075","VOLVO TRUCK CENTER KAMPENHOUT","KAMPENHOUT","BE"]
[211008412,"D076","Volvo Truck Center Olen","OLEN","BE"]
[211008413,"D077","AUTOMOBILIA PITTEM","PITTEM","BE"]
[211009871,"D078","AGUSTIN MORALESCORDOBA","Lucena","ES"]
[211008415,"D079","CENTRE POIDS LOURDS LUX. SARL","LIVANGE","LU"]
[211010030,"D080","AUTOREPARACION  BLANCO,","Roda de Ter","ES"]
[211008419,"D083","V.V.M. DE LIJN","HASSELT","BE"]
[211008421,"D085","DE LIJN NV","ANTWERPEN","BE"]
[211008422,"D086","T.E.C.","SEILLES","BE"]
[211008427,"D091","T.E.C. LIEGE","JEMEPPE SUR MEUSE","BE"]
[211008429,"D094","Deutz AG - Xchange Center #bersee","Ubersee","DE"]
[211008430,"D095","Caterpillar Remanufacturing","CHAUMONT CEDEX 9","FR"]
[211008431,"D096","Generator-Technik Schwabisch Gmund","Mogglingen","DE"]
[211008432,"D097","Linde Hydraulics GmbH & Co. KG","Alzenau","DE"]
[211008434,"D099","Moba Mobile Automation AG","Limburg","DE"]
[211008435,"D100","Poclain Hydraulics Operations","VERBERIE CEDEX","FR"]
[211008436,"D101","Robert Bosch Gmbh","Karlsruhe","DE"]
[211008437,"D102","Walf Et Associes","AMIENS CEDEX 2","FR"]
[211008438,"D103","Titanx - Highway International Sp.","KRAKOW","PL"]
[211008439,"D104","Delphi Diesel Systems","GILLINGHAM","GB"]
[211008327,"D105","Cat Logistic Cargo Benelu","Eppegem","BE"]
[211009872,"D107","AUTOREPARACION  GANDIA, S.L.VALENCI","Gandía","ES"]
[211008461,"D109","Garage de Weser - Bores BVBA     ","PUTTE                   ","BE"]
[211009873,"D111","MONZON HUESCA","Monzón","ES"]
[211008489,"D112","Wachendorff Elektronik GMBH & CO","Giesenheim","DE"]
[211008649,"D114","WELLKAWEE SERVICE CENTER GMBH","AALEN","DE"]
[211009874,"D115","GARAJE  MODERNO GUIPUZCOA","Olaberría","ES"]
[211009875,"D116","IRIZAR  NAVARRA, S.A.NAVARRA","Imarcoain","ES"]
[211008657,"D117","TERHORST GMBH","AHAUS","DE"]
[211008658,"D118","PATRICK WUDI LKW-SERVICE","ALDINGEN","DE"]
[211010031,"D119","RASTROLLO BADAJOZ","Almendralejo","ES"]
[211008660,"D120","ANSH GMBH","ASCHAFFENBURG","DE"]
[211008661,"D121","VOLVO TRUCK CENTER S D AUGSBURG","AUGSBURG","DE"]
[211008662,"D122","Petzelberger Motoren Center GmbH","Aurich","DE"]
[211008663,"D123","LUER NUTZFAHRZEUGE E.K","BAD GRUND-OT BADENHAUSEN","DE"]
[211008664,"D124","BMTI GMBH & CO. KG NUTZFAHRZEUGSERV","BAD HERSFELD","DE"]
[211008665,"D125","REICHHARDT KFZ REPARATUREN GMBH","HOECHSTAEDT","DE"]
[211008666,"D126","AUTO HAAS NL BARLEBEN","BARLEBEN","DE"]
[211008667,"D127","AUTO WEDLICH GMBH","BAYREUTH","DE"]
[211008668,"D128","TRANSPORT MIEDZYNARODOWY I KRAJOWY","BELK","PL"]
[211008669,"D129","VVR VERKEHRSGESELLSCH. VORPOMMERN R","BERGEN AUF RUEGEN","DE"]
[211008670,"D130","SCHAUB NUTZFAHRZEUGE SILVIA BIEGERT","BERGHAUPTEN","DE"]
[211008671,"D131","VOLVO TRUCK CENTER BERLIN","BERLIN","DE"]
[211008672,"D132","AUTOSFERA SP. Z.O.O.","BIALA PODLASKA","PL"]
[211008673,"D133","AUTOSFERA 2","BIALA PODLASKA","PL"]
[211008674,"D134","EURO-BIAL SP.J.","BIALYSTOK","PL"]
[211008675,"D135","GUERIN JEAN-YVES SPRL             ","CHIMAY (BAILEUX)","BE"]
[211008676,"D136","TRUCK CENTER KRAEMER GMBH","BINGEN","DE"]
[211008677,"D137","TRUCK CENTER KRAEMER GMBH","BOCHOLT","DE"]
[211008678,"D138","Bischoff GmbH & Co. KG Baumaschinen","Frankfurt/Main","DE"]
[211008679,"D139","RABE TRUCK / TRAILERSERVICE GMBH","BRAUNSCHWEIG","DE"]
[211008680,"D140","Spatz & Heitmuller GmbH & Co. KG","Bremen","DE"]
[211008681,"D141","WERNER NUTZFAHRZEUG-SERVICE GMBH","BREMEN","DE"]
[211008683,"D143","TIROPATRANS BADEN GMBH","BRUHL","DE"]
[211008684,"D144","ROLF UND RAINER BIEGERT GMBH","BOHMENKIRCH","DE"]
[211008685,"D145","VOLVO TRUCK CENTER KOLN","CASTROP-RAUXEL","DE"]
[211008686,"D146","ROLL TRUCK SERVICE GMBH","CRAILSHEIM","DE"]
[211008687,"D147","VOLVO POLSKA SP. Z O.O.","DABROWA","PL"]
[211008688,"D148","INTRUCK SP. Z O.O.","DABROWKA","PL"]
[211008689,"D149","AUTO HAAS GMBH","DESSAU","DE"]
[211008690,"D150","VOLVO POLSKA SP. Z O.O.","DLUGOLEKA","PL"]
[211009876,"D151","TALLERES  ALVAREZ, S.A.GERONA","Salt","ES"]
[211008692,"D152","H. BUETEFUEHR U. SOHN GMBH","DUISBURG","DE"]
[211008693,"D153","POPP FAHRZEUGBAU BAMBERG","EBENSFELD","DE"]
[211008694,"D154","POPP FAHRZEUGBAU GMBH","EBERMANNSDORF","DE"]
[211008695,"D155","LN LEITL NUTZFAHRZEUGE GMBH","EGGENFELDEN","DE"]
[211008696,"D156","MAREP GMBH EICHSTADT","EICHSTAEDT","DE"]
[211008697,"D157","VOLVO TRUCK CENTER KOLN","ESSEN","DE"]
[211008698,"D158","VOLVO TRUCK CENTER KOLN","EUSKIRCHEN","DE"]
[211008699,"D159","Yachttechnik auf Fehmarn GmbH & Co.","Fehmarn","DE"]
[211009877,"D160","TALLERES AUTORAPID, S.L.LERIDA","Alcarras","ES"]
[211008701,"D161","VOLVO GROUP TC NORD-WEST GMBH","FRECHEN","DE"]
[211008702,"D162","FRANZ SCHNEIDER GMBH","FREIBURG","DE"]
[211008703,"D163","LKW-SERVICE NURNBERGER","FURTH IM WALD","DE"]
[211008704,"D164","WILHELM VAN DER ZANDER","GANGELT-STAHE","DE"]
[211008705,"D165","WESLE KFZ-BETRIEB GMBH","PADERBORN","DE"]
[211008706,"D166","V. ASCHWEGE & TUNJES GMBH","GARREL","DE"]
[211009878,"D167","CAMARINA HUELVA","Huelva","ES"]
[211008708,"D168","POPP FAHRZEUGBAU GMBH","GERA","DE"]
[211008709,"D169","VOLVO TRUCK CENTER BAUTZEN","GOEDA","DE"]
[211008710,"D170","VOLVO TRUCK CENTER DRESDEN","GOERSCHEN","DE"]
[211008711,"D171","TRUCK CENTER PIRMASENS GMBH","PIRMASENS","DE"]
[211008712,"D172","FIRMA GUNTER WEGNER","GREIFSWALD","DE"]
[211008713,"D173","NERCHAUER FAHRZEUGTECHNIK","GRIMMA OT NERCHAU","DE"]
[211008714,"D174","KFZ SERV.GROSSENWIEHE GMBH","GROSSENWIEHE","DE"]
[211008715,"D175","Motorenzentrum Wilhelm Schmidt GmbH","Gro#-Kienitz","DE"]
[211008716,"D176","POPP FAHRZEUGBAU GMBH","GUBEN","DE"]
[211008717,"D177","KRS GMBH & CO KG","HAAN 1","DE"]
[211008718,"D178","VOLVO TRUCK CENTER GMBH","HAIGER","DE"]
[211008719,"D179","VOLVO TRUCK CENTER DRESDEN","HALLE","DE"]
[211008720,"D180","Carl Baguhn GmbH & Co.","Hamburg","DE"]
[211008722,"D182","VOLVO GROUP TC NORD-WEST GMBH","HAMBURG","DE"]
[211008723,"D183","VOLVO TRUCK CENTER NORD NDL HAMBURG","HAMBURG","DE"]
[211008724,"D184","NVG NUTZFAHRZEUGVERTRIEB GMBH","HAMM","DE"]
[211009880,"D185","MECASIL LEON","Camponaraya","ES"]
[211008726,"D186","VOLVO TRUCK CENTER","HEILBRONN","DE"]
[211008727,"D187","TRUCK CENTER WESTK STE UHL GMBH","HEMMINGSTEDT","DE"]
[211008728,"D188","TRUCK CENTER UHL GMBH","HENSTEDT-ULZBURG","DE"]
[211009881,"D189","PIÑEIRO LUGO","CORGO","ES"]
[211008730,"D190","HANS ADELMANN","HEROLDSBERG","DE"]
[211008731,"D191","PEMA GMBH","HERZBERG/HARZ","DE"]
[211008732,"D192","TRUCK & TRAILER SERVICE GMBH","HORSELBERG-HAINICH","DE"]
[211008733,"D193","IDSTEDTER TRUCK CENTER GMBH & CO.","IDSTEDT","DE"]
[211008734,"D194","DEHA AUTO HANDELS GMBH","ILMENAU","DE"]
[211009882,"D195","TALLERES  ROCAL, S.C.L.ORENSE","Vilamarín","ES"]
[211008736,"D196","VOLVO TRUCK CENTER LANGENHAGEN","ISERNHAGEN","DE"]
[211008737,"D197","VOLVO NUTZFZ AFTERSALES TECHNIK","ISMANING","DE"]
[211008738,"D198","VOLVO TRUCK CENTER S D","ISMANING","DE"]
[211008739,"D199","FEDERN HENTZ","KAISERSLAUTERN","DE"]
[211009883,"D200","VICENTE  ALVAREZ, S.L.PALENCIA","Villamuriel de Cerrato","ES"]
[211008741,"D201","NIJHOF-WASSINK SP. Z.O.O.","KARSKI","PL"]
[211008742,"D202","SCHLEYER GMBH","KEMPTEN","DE"]
[211008743,"D203","VOLVO TRUCK CENTER DRESDEN","KESSELSDORF","DE"]
[211008744,"D204","TANDEM TRUCKS","KIELCE","PL"]
[211010032,"D205","TALLERES  BI-BAT, S.A.ALAVA","NANCLARES DE LA OCA","ES"]
[211008746,"D206","NFZ-FRANKEN GMBH","KITZINGEN","DE"]
[211010033,"D207","PROVEHIMA, S.A.ALICANTE","El Rebolledo","ES"]
[211008748,"D208","LKA-TECHNIK GMBH","KODERSDORF","DE"]
[211008749,"D209","TSK TRUCK SERVICE KOETHEN GMBH","KOETHEN","DE"]
[211009884,"D210","TALLERES  INTER, S.L.CASTELLON","NULES","ES"]
[211008751,"D211","VOLVO MASZYNY BUDOWLANE POLSKA SP.","KOMORNIKI","PL"]
[211009885,"D212","ONUBA HUELVA","NIEBLA (HUELVA)","ES"]
[211008753,"D213","VOLVO TRUCK CENTER STUTTGART","KORNTAL-MUENCHINGEN","DE"]
[211008754,"D214","ERKES NFZ REPARATUR & HANDEL GMBH","KORSCHENBROICH (GLENN)","DE"]
[211008755,"D215","Henkelhausen GmbH & Co. KG","Krefeld","DE"]
[211009886,"D216","ANDALUCI CADIZ","JEREZ DE LA FRONTERA","ES"]
[211008757,"D217","TCR TRUCK CENTER GMBH I. GR.","KUENZELL (FULDA)","DE"]
[211008758,"D218","NIJHOF-WASSINK SP.Z.O.O.","KUTNO","PL"]
[211009887,"D219","VEINSUR, S.A.GERONA","SALT","ES"]
[211008760,"D220","LECH-GARAGEN GMBH","KONIGSBRUNN","DE"]
[211008761,"D221","WESLE KFZ-BETRIEB GMBH","LAGE","DE"]
[211008762,"D222","PEMA GMBH","LANDSBERG BEI HALLE","DE"]
[211008763,"D223","PEMA GMBH","LANGENAU","DE"]
[211008764,"D224","Robert Aebi GmbH","Laupheim","DE"]
[211008765,"D225","AU-BRE-TA NUTZFAHRZEUGSERVICE GMBH","LEBACH","DE"]
[211008766,"D226","LEESER KFZ- UND TRUCKSERVICE GMBH","LEESE","DE"]
[211009888,"D227","PROVEHIMA CUENCA","Minglanilla","ES"]
[211008768,"D228","ROLLE KRAFTFAHRZEUGSERVICE","LEUTKIRCH","DE"]
[211008769,"D229","THOMAS NUTZFAHRZEUGE GMBH","LIMBURG","DE"]
[211008770,"D230","MOELLER & BOULLIER GMBH","LOEHNE-GOHFELD","DE"]
[211008771,"D231","VOLVO TRUCK CENTER GMBH","LOHFELDEN","DE"]
[211008772,"D232","LSL LKW-SERVICE LOHNE GMBH","LOHNE","DE"]
[211008773,"D233","WELLER GMBH & CO BETRIEBS KG","LORCH","DE"]
[211008774,"D234","TRUCKSERVICE BERGSTRASSE GMBH&CO KG","LORSCH","DE"]
[211008775,"D235","SCHULLIGEN GMBH","LOSHEIM AM SEE","DE"]
[211008776,"D236","VOLVO GROUP TC NORD-WEST GMBH","LUEBECK","DE"]
[211008777,"D237","TRUCK SERVICE LUENEBERG GMBH","LUENEBURG","DE"]
[211009889,"D238","BI-BATLOGRO?O","Agoncillo LA RIOJA","ES"]
[211008779,"D239","TKS TRANSPORTKALTE&LKW SERVICE GMBH","MANCHING","DE"]
[211009890,"D240","MODERNO V.ITUDELA","TUDELA","ES"]
[211008781,"D241","AUGE GMBH","MARKTHEIDFELD/ALTFELD","DE"]
[211008782,"D242","TRUCK-CENTER UHL GMBH","MARNE","DE"]
[211008783,"D243","FAHRZEUGHAUS MEISSEN GMBH","MEISSEN","DE"]
[211010034,"D244","COMERCIAL  AUTOMOCION  RUBIO,","Palma de Mallorca","ES"]
[211008785,"D245","FS TRUCKS GMBH","MEPPEN","DE"]
[211008786,"D246","GOTZFRIED NUTZFAHRZEUGE GMBH","MINDELHEIM","DE"]
[211009891,"D247","TECVETRUCKS LEON","Trobajo del Camino","ES"]
[211008788,"D248","VOLVO POLSKA SP. Z O.O.","MLOCHOW","PL"]
[211008789,"D249","FAHRZEUGSERVICE MOCKREHNA GMBH","MOCKREHNA","DE"]
[211008790,"D250","TOJA NUTZFAHRZEUGE THOMAS JAKSTADT","MOERS","DE"]
[211010035,"D251","TALLERES  SANFER, S.A.TRUJILLANOS","Trujillanos","ES"]
[211008792,"D252","AUTOSERVICE WALTER GMBH & CO KG","MUCKE","DE"]
[211008793,"D253","FS TRUCKS GMBH","MUNSTER","DE"]
[211010036,"D255","TEC.VIR ARANDA DE DUERO","ARANDA DE DUERO","ES"]
[211009892,"D256","VOLCANARIAS TENERIFE","EL ROSARIO","ES"]
[211008797,"D257","SCHOENWETTER + CO","NEUSEDDIN","DE"]
[211008798,"D258","BIEBL TANK-UND NUTZFAHRZEUGE GMBH","NEUSTADT-DONAU","DE"]
[211008799,"D259","KFZ SERVICE SIEBOLD GMBH","NIEDERORSCHEL","DE"]
[211008800,"D260","POPP FAHRZEUGBAU GMBH","NOHRA","DE"]
[211008801,"D261","BUS-U. TRUCK-SERVICE GMBH","NORDHAUSEN","DE"]
[211008802,"D262","NIJHOF-WASSINK BYDGOSZCZ","NOWA WIES WIELKA","PL"]
[211008803,"D263","VOLVO MASZYNY BUDOWLANE POLSKA","NOWINY","PL"]
[211008804,"D264","POPP FAHRZEUGBAU GMBH","NUERNBERG","DE"]
[211010037,"D265","VICENTE ALVAREZ VALLADOLID","La Cistérniga","ES"]
[211008806,"D266","Viertel Motoren GmbH","Nurnberg","DE"]
[211008807,"D267","KNOLL  KFZ SERVICE GMBH","OELSNITZ","DE"]
[211008808,"D268","VOLVO TRUCK CENTRE SUD GMBH","OFFENBACH","DE"]
[211008809,"D269","VOLVO MASZYNY BUDOWLANE POLSKA SP.","OLSZTYN","PL"]
[211008810,"D270","P.P.H. ALDO ANDRZEJ NAFALSKI","OLSZTYN","PL"]
[211008811,"D271","FS TRUCKS GMBH","OSNABRUECK","DE"]
[211008812,"D272","TRUCK-CENTER UHL GMBH","OSTERRONFELD","DE"]
[211008813,"D273","VOLVO POLSKA O/CENTR.SERV.OSTROLEKA","OSTROLEKA","PL"]
[211008814,"D274","Robert Aebi GmbH","Parsdorf","DE"]
[211008815,"D275","KARL FIXEMER GMBH&CO KG","PERL-BORG","DE"]
[211008816,"D276","VOLVO MBP","PIETRZYKOWICE","PL"]
[211008817,"D277","VOLVO POLSKA SP. Z O.O","PIETRZYKOWICE","PL"]
[211008818,"D278","OMEGA PILZNO ITIS G & ODAWSKI","PILZNO","PL"]
[211008819,"D279","TRUCK-CENTER UHL GMBH","PINNEBERG","DE"]
[211008820,"D280","JUNGBLUTH NFZ SERVICE UND MIET GMBH","PLAIDT","DE"]
[211008821,"D281","NEITZKE FAHRZEUGSERVICE GMBH","PRENZLAU","DE"]
[211008822,"D282","VOLVO MASZYNY BUDOWLANE POLSKA SP","PRUSZCZ GDANSKI","PL"]
[211008823,"D283","VGTC PRUSZCZ GD","PRUSZCZ GDANSKI","PL"]
[211008824,"D284","TRANSPORT MIEDZYNARODOWY I KRAJOWY","PSZCZYNA","PL"]
[211008825,"D285","INTRUCK SP. Z O.O.","RADOM","PL"]
[211008826,"D286","JUNGBLUTH NUTZFAHRZ SERV & MIET GMB","RANSBACH-BAUMBACH","DE"]
[211008827,"D287","INNTALL NUTZFAHRZEUG-ZENTRUM","RAUBLING","DE"]
[211008828,"D288","AUTODIENST SACHSE & ARNOLD","RAUNHEIM","DE"]
[211008829,"D289","ROOS NUTZFAHRZEUGE GMBH","RAVENSBURG","DE"]
[211008830,"D290","PEMA GMBH","RECKLINGHAUSEN","DE"]
[211008831,"D291","STEPHAN OTTO NUTZFAHRZEUGE","REICHENBACH","DE"]
[211008832,"D292","AUTO- & TRUCKCENTER ISSLER OHG","RHEINFELDEN","DE"]
[211009893,"D293","TALLER MECÁNICO LOS TARAHALESLAS","Las Palmas de Gran Canaria","ES"]
[211008834,"D294","TRUCK-CENTER CHEMNITZ GMBH","ROEHRSDORF","DE"]
[211009894,"D295","Sodimavi Saran","SARAN","FR"]
[211008836,"D296","Warnow-Werkstatt Paap + Sohn","Rostock","DE"]
[211008837,"D297","MAREP GMBH VEHLOW BETRIEBST ROSTOCK","ROSTOCK","DE"]
[211008838,"D298","NIJHOF-WASSINK SP Z O O","RZGOW","PL"]
[211008839,"D299","VOLVO MASZYNY BUDOWLANE POLSKA","RZGOW LODZ","PL"]
[211008840,"D300","AUTOSERVICE SCHLEIZ GMBH","SCHLEIZ","DE"]
[211008841,"D301","MASCHINEN&TECHNIK SAUERLAND GMBH","SCHMALLENBERG","DE"]
[211008842,"D302","TRUCKCENTER SCHUETTORFER KREUZ GMBH","SCHUETTORF","DE"]
[211008843,"D303","NUTZFAHRZEUGE KREUZER GMBH","SCHWALBACH-HUELZWEILER","DE"]
[211008844,"D304","TRANSSERV. SCHWARZENBERG","SCHWARZENBERG","DE"]
[211008845,"D305","NFZ FRANKEN GMBH","SCHWEINFURT","DE"]
[211008846,"D306","TSS-TRUCK SERVICE INHABER ROLAND K","SCHWERIN","DE"]
[211008847,"D307","EC RZESZOW","SEDZISZOW MALOPOLSKI","PL"]
[211008848,"D308","POPP FAHRZEUGBAU GMBH","SENFTENBERG","DE"]
[211008849,"D309","VOLVO POLSKA O/CENTRUM SERWISOWE","SIEDLCE","PL"]
[211009895,"D310","Sodimavi Pannes","PANNES","FR"]
[211009896,"D311","Sodimavi Tours","ST PIERRE DES CORPS","FR"]
[211008852,"D312","FRITZ BRAUN FAHRZEUGBAU GMBH&CO KG","SIGMARINGEN","DE"]
[211008853,"D313","VOLVO POLSKA O/CENTRUM SERW. KIELCE","SITKOWA NOWINY","PL"]
[211008854,"D314","VOLVO TRUCK CENTER","SKAWINA","PL"]
[211008855,"D315","SJS SP.Z.O.O. SP.K.","SLUBICE","PL"]
[211008856,"D316","MARKWORT KG","SOEST","DE"]
[211008857,"D317","VOLVO MASZYNY BUDOWLANE POLSKA","Skawina","PL"]
[211008858,"D318","TIROPATRANS NUTZFAHRZEUG V&S GMBH","SPEYER","DE"]
[211008859,"D319","NUTZFAHRZEUGE NEUBRANDENBURG GMBH","SPONHOLZ OT WARLIN","DE"]
[211008860,"D320","HANS NAGEL GMBH","STADE","DE"]
[211008861,"D321","WESLE KFZ BETRIEB GMBH","STEINHAGEN","DE"]
[211008862,"D322","ALFRED ANGERER KG","STEPHANSPOSCHING PLZ","DE"]
[211008863,"D323","NFC MAHLER GMBH","STUTENSEE-FRIEDRICHSTAL","DE"]
[211008864,"D324","MIEDTANK AUTOPARK GMBH","STUTTGART","DE"]
[211008865,"D325","VOLVO POLSKA O/CENTR.SERW. SUWALKI","SUWALKI","PL"]
[211008866,"D326","GAB-TRANS JOZEF GABER","SUWALKI","PL"]
[211008867,"D327","VGTC LUBLIN","SWIDNIK","PL"]
[211008868,"D328","Volvo Maszyny Budowlane Polska","Młochów","PL"]
[211008869,"D329","VOLVO POLSKA SP. Z.O.O.","SWIETOCHLOWICE","PL"]
[211008870,"D330","SJS SP.Z.O.O. SP.K.","SYCEWICE","PL"]
[211008871,"D331","VOLVO MASZYNY BUDOWLANE POLSKA SP.","SZCZECIN","PL"]
[211008872,"D332","MARCO MARINE SP. Z O.O.","SZCZECIN","PL"]
[211008873,"D333","SJS SP.Z.O.O. SP.K.","SZCZECIN","PL"]
[211008874,"D334","VOLVO MASZYNY BUDOWLANE POLSKA SP.","SZCZECINEK","PL"]
[211008875,"D335","NIJHOF WASSINK SP.ZOO.","TARNOWO PODGORNE","PL"]
[211009897,"D336","Sodimavi Alençon","DAMIGNY","FR"]
[211008877,"D337","VOLVO MASZYNY BUDOWLANE POLSKA SP.","TORUN","PL"]
[211008878,"D338","KLW GMBH","TRIER","DE"]
[211008879,"D339","OTT LKW-SERVICE GMBH","TUBINGEN-BUHL","DE"]
[211008880,"D340","EURO-BIAL SP.J.","TYKOCIN","PL"]
[211008881,"D341","VOLVO TRUCK CENTER STUTTGART","ULM","DE"]
[211008882,"D342","HEISEL & HEINER TH. JENDE GMBH & CO","UNNA","DE"]
[211008883,"D343","VON ASCHWEGE UND TONJES GMBH","UPLENGEN-JUEBBERDE","DE"]
[211008884,"D344","VOLVO MASZYNY BUDOWLANE POLSKA SP.","WALRZYCH","PL"]
[211008885,"D345","BRUMMI CENTER WASSERBURG GMBH","WASSERBURG","DE"]
[211008886,"D346","MAREP GMBH VEHLOW","VEHLOW","DE"]
[211008887,"D347","FICHTWALD GMBH LANDM & REPA","WEHRHAIN","DE"]
[211008888,"D348","MOTOREN BAUER GMBH & CO KG","WEILHEIM","DE"]
[211008889,"D349","DIETRICH GMBH","WENDEN","DE"]
[211008890,"D350","VOLVO TRUCK CENTER DRESDEN","WIEDEMAR","DE"]
[211009898,"D351","Sodimavi Caen","MONDEVILLE CEDEX","FR"]
[211008892,"D352","WOLFGANG KREMER","WIERNSHEIM/PINAC","DE"]
[211008893,"D353","VOLVO TRUCK CENTER OST GMBH","WILDAU","DE"]
[211008894,"D354","ALFRED ANGERER KG","WINDORF","DE"]
[211008895,"D355","ALFONS GRUBER E.K.","WINHORING","DE"]
[211008896,"D356","DIESEL-NONN GMBH CO. KG","VOHL-DORFITTER","DE"]
[211008897,"D357","NUTZFAHRZEUGE WORTH GMBH","WORTH AD DONAU","DE"]
[211008898,"D358","GERD DZIEWAS GMBH","WUPPERTAL","DE"]
[211008899,"D359","EMA-HOCHSCHULZ s.c.","Zelistrzewo","PL"]
[211008900,"D360","SJS SP.Z.O.O. SP.K.","ZIELONA GORA","PL"]
[211008901,"D361","Bischoff Baumaschinen GmbH","Mellingen","DE"]
[211009899,"D362","Sodimavi Chartres","GELLAINVILLE","FR"]
[211008903,"D363","Raben Transeuropean Germa","Duisburg","DE"]
[211008939,"D364","SMT Belgium","Vilvoorde","BE"]
[211009083,"D365","TT-Thermo King Sp. z  o.o.","TYKOCIN","PL"]
[211009125,"D366","VOLVO SARAJEVO","Sarajevo","BA"]
[211009126,"D367","VTC SOFIA","Sofia","BG"]
[211009127,"D368","VTC BURGAS","Burgas","BG"]
[211009128,"D369","VTC PLOVDIV","Plovdiv","BG"]
[211009129,"D370","VTC VARNA","Varna","BG"]
[211009130,"D371","VTC V.TARNOVO","Kilifarevo","BG"]
[211009131,"D372","VOLVO TRUCK CZECH S R O","Cestlice","CZ"]
[211009132,"D373","VTCZ NYRANY","Nyrany","CZ"]
[211009133,"D374","VOLVO TRUCK BRNO","Brno","CZ"]
[211009134,"D375","VOLVO TRUCK CZECH, HRADEC KRAL","Hradec","CZ"]
[211009135,"D376","VOLVO TRUCK CZECH USTI N.LAB.","Usti","CZ"]
[211009136,"D377","VOLVO TRUCK CZECH,BUDEJOVICE","Ceske","CZ"]
[211009137,"D378","VOLVO TRUCK CZECH, HAVIROV","Havirov","CZ"]
[211009138,"D379","VOLVO TRUCK CZECH, OTROKOVICE","Otrokovice","CZ"]
[211009139,"D380","VOLVO TRUCK CZECH, LODENICE","Lodenice","CZ"]
[211009140,"D381","VOLVO TRUCK CZECH HUMPOLEC","Humpolec","CZ"]
[211009141,"D382","VOLVO TRUCK CZECH OLOMOUC","Olomouc","CZ"]
[211009142,"D383","VOLVO TRUCK CZECH - TURNOV","Turnov","CZ"]
[211009143,"D384","VOLVO TRUCK CZECH - OSTRAVA","Ostrava","CZ"]
[211009144,"D385","VOLVO TRUCK CZECH BRNO/POPUVKY","Popuvky u Brna","CZ"]
[211009145,"D386","VOLVO TRUCK PRAHA","Cestlice","CZ"]
[211009146,"D387","VOLVO GROUP CENTER STRAKONICE","Strakonice","CZ"]
[211009147,"D388","VOLVO GROUP CENTER PRAHA-SEVER","Klecany","CZ"]
[211009148,"D389","VTC ZAGREB","Zagreb-Lucko","HR"]
[211009149,"D390","VTC SPLIT","Klis","HR"]
[211009150,"D391","VTC DJAKOVO","Djakovo","HR"]
[211009151,"D392","VTC CAKOVEC","Cakovec","HR"]
[211009152,"D393","TRANS E.A.S.T. ZMINU","Zminij","HR"]
[211009153,"D394","VOLVO HUNGARIA KFT","Budapest","HU"]
[211009154,"D395","VOLVO HUNGARIA - LEBENY","Lebeny","HU"]
[211009155,"D396","VOLVO HUNGARIA - SZEGED","Szeged","HU"]
[211009156,"D397","VOLVO HUNGARIA - POLGAR","Polgar","HU"]
[211009157,"D398","VOLVO HUNGARIA - NAGYKANIZSA","Nagykanizsa","HU"]
[211009158,"D399","VOLVO HUNGARIA PECS","Pecs","HU"]
[211009159,"D400","VOLVO HUNGARIA - BIATORBAGY","Biatorbagy","HU"]
[211009160,"D401","VOLVO ROMANIA BUCHAREST","Bolintin","RO"]
[211009161,"D402","VOLVO ROMANIA CLUJ","Gilau","RO"]
[211009162,"D403","VOLVO ROMANIA BACAU","Sarata","RO"]
[211009163,"D404","VOLVO ROMANIA ORADEA","Oradea","RO"]
[211009164,"D405","VOLVO ROMANIA CONSTANTA","Constanta","RO"]
[211009165,"D406","VOLVO ROMANIA BUZAU","Vadu","RO"]
[211009166,"D407","VOLVO ROMANIA PITESTI","Bascov","RO"]
[211009167,"D408","VOLVO ROMANIA BRASOV","Ghimbav","RO"]
[211009168,"D409","VOLVO ROMANIA SRL-TIMISOARA","Izvin","RO"]
[211009169,"D410","VTC LJUBLJANA","Ljubljana","SI"]
[211009170,"D411","RT LJUBLJANA","Ljubljana","SI"]
[211009171,"D412","VTC MARIBOR","Pesnica","SI"]
[211009172,"D413","VTC DIVACA","Divaca","SI"]
[211009173,"D414","VOLVO TRUCK SENEC","Senec","SK"]
[211009174,"D415","VOLVO TRUCK ZILINA","Strecno","SK"]
[211009175,"D416","VOLVO TRUCK TOPOLCANY","Topolcany","SK"]
[211009176,"D417","VOLVO TRUCK PRESOV","Petrovany","SK"]
[211009177,"D418","VOLVO TRUCK ZVOLEN","Budca","SK"]
[211009178,"D419","VOLVO TRUCK NOVE ZAMKY","Nove","SK"]
[211009179,"D420","VOLVO TRUCK POPRAD","Poprad","SK"]
[211009180,"D421","Volvo Group Tribuswinkel","Tribuswinkel","AT"]
[211009181,"D422","Volvo Group Korneuburg","Korneuburg","AT"]
[211009182,"D423","Volvo Group Premstaetten","Premstaetten","AT"]
[211009183,"D424","Volvo Group Weisskirchen","Weisskirchen","AT"]
[211009184,"D425","Volvo Group Thaur","Thaur","AT"]
[211009185,"D426","Truck Center Kemeten","Kemeten","AT"]
[211009186,"D427","Aichlseder Truck","Arnoldstein","AT"]
[211009187,"D428","Aichlseder Truck","Ebenthal","AT"]
[211009188,"D429","Berger Truck","Woergl","AT"]
[211009189,"D430","Bremsen-Eder","Salzburg","AT"]
[211009190,"D431","Wagner Anton","Stift Ardagger","AT"]
[211009195,"D432","ASCENDUM BAUMASCH. OSTERR. GMBH","LIEBOCH BEI GRAZ","AT"]
[211009196,"D433","ASCENDUM BAUMASCH. OSTERR. GMBH","GUMPOLDSKIRCHEN","AT"]
[211009197,"D434","ASCENDUM BAUMASCH. OSTERR. GMBH","Volders","AT"]
[211009198,"D435","ASCENDUM BAUMASCH. OSTERR. GMBH","VILLACH","AT"]
[211009199,"D436","ASCENDUM BAUMASCH.OSTERR.GMBH","ST. MARIEN","AT"]
[211009200,"D437","SIGMA BULGARIA JSC","SOFIA","BG"]
[211009201,"D438","ASCENDUM GRADEVINSKI STROJEVI","Lucko/Zagreb","HR"]
[211009202,"D439","Ascendum Stavebni Stroje Czech Sro","Lodenice","CZ"]
[211009203,"D440","Ascendum Stavebni stroje Czech s.r.","HAVIROV-PROSTREDNI SUCHA","CZ"]
[211009204,"D441","Ascendum Stavebni Stroje Czech S.R.","Ceske Budejovice","CZ"]
[211009205,"D442","Ascendum Stavebni stroje Czech","OLOMOUC","CZ"]
[211009206,"D443","Ascendum Stavebni stroje Czech","BRNO","CZ"]
[211009207,"D444","Ascendum Stavebni stroje Czech","NYRANY","CZ"]
[211009208,"D445","Ascendum Stavebni stroje Czech","LIBICE NAD CIDLINOU","CZ"]
[211009209,"D446","ASCENDUM EPITOGEPEK HUNGARIA","Budapest","HU"]
[211009210,"D447","ASCENDUM MACHINERY SRL","BUCHAREST","RO"]
[211009211,"D448","ASCENDUM STAVEBNE STROJE SLOVENSKO","Bratislava","SK"]
[211009212,"D449","ASCENDUM STAVEBNE STROJE SLOVENSKO","PETROVANY","SK"]
[211009213,"D450","ASCENDUM BAUMASCH. OSTERR. GMBH","Bergheim/Salzburg","AT"]
[211009248,"D451","VCE Dealers Albania","","AL"]
[211009249,"D452","Volvo Trucks Dealers Albania","","AL"]
[211009250,"D453","VCE Dealers Austria","","AT"]
[211009251,"D454","Volvo Trucks Dealers Austria","","AT"]
[211009252,"D455","VCE Dealers Belarus","","BY"]
[211009253,"D456","Volvo Trucks Dealers Belarus","","BY"]
[211009254,"D457","VCE Dealers Belgium","","BE"]
[211009255,"D458","Volvo Penta Dealers Belgium","","BE"]
[211009256,"D459","Volvo Trucks Dealers Belgium","","BE"]
[211009257,"D460","Volvo Trucks Dealers Bosnia","","BA"]
[211009258,"D461","VCE Dealers Bulgaria","","BG"]
[211009259,"D462","Black Sea Yacht Service Ltd.","VARNA                    ","BG"]
[211009260,"D463","Volvo Trucks Dealers Bulgaria","","BG"]
[211009261,"D464","VCE Dealers Croatia","","HR"]
[211009262,"D465","Brodogradiliste CESAR d.o.o.","Rijeka","HR"]
[211009263,"D466","Volvo Trucks Dealers Croatia","","HR"]
[211009264,"D467","VCE Dealers Czech Republic","","CZ"]
[211009265,"D468","Ascendum Stavebni Stroje Czech s.r.o.","PLZEN                    ","CZ"]
[211009266,"D469","Volvo Trucks Dealers Czech Republic","","CZ"]
[211009267,"D470","VCE Dealers Denmark","","DK"]
[211009268,"D471","Volvo Penta Dealers Denmark","","DK"]
[211009269,"D472","Volvo Trucks Dealers Denmark","","DK"]
[211009270,"D473","VCE Dealers Estonia","","EE"]
[211009271,"D474","Volvo Penta Dealers Estonia","","EE"]
[211009272,"D475","Volvo Trucks Dealers Estonia","","EE"]
[211009273,"D476","VCE Dealers Finland","","FI"]
[211009274,"D477","Volvo Penta Dealers Finland","","FI"]
[211009275,"D478","Volvo Trucks Dealers Finland","","FI"]
[211009276,"D479","VCE Dealers France","","FR"]
[211009277,"D480","Volvo Penta Dealers France","","FR"]
[211009278,"D481","Volvo Trucks Dealers France","","FR"]
[211009279,"D482","VCE Dealers Germany","","DE"]
[211009280,"D483","Volvo Penta Dealers Germany","","DE"]
[211009281,"D484","Volvo Trucks Dealers Germany","","DE"]
[211009282,"D485","Renault Dealers Great Britain","","GB"]
[211009283,"D486","VCE Dealers Great Britain","","GB"]
[211009284,"D487","Volvo Penta Dealers Great Britain","","GB"]
[211009285,"D488","Volvo Trucks Dealers Great Britain","","GB"]
[211009286,"D489","VCE Dealers Hungary","","HU"]
[211009287,"D490","Volvo Trucks Dealers Hungary","","HU"]
[211009288,"D491","VCE Dealers Iceland","","IS"]
[211009289,"D492","Volvo Penta Dealers Iceland","","IS"]
[211009290,"D493","Volvo Trucks Dealers Iceland","","IS"]
[211009291,"D494","VCE Dealers Ireland","","IE"]
[211009292,"D495","Volvo Penta Dealers Ireland","","IE"]
[211009293,"D496","Volvo Trucks Dealers Ireland","","IE"]
[211009294,"D497","VCE Dealers Italy","","IT"]
[211009295,"D498","Volvo Penta Dealers Italy","","IT"]
[211009296,"D499","Volvo Trucks Dealers Italy","","IT"]
[211009297,"D500","VCE Dealers Latvia","","LV"]
[211009298,"D501","Volvo Trucks Dealers Latvia","","LV"]
[211009299,"D502","VCE Dealers Lithuania","","LT"]
[211009300,"D503","Volvo Trucks Dealers Lithuania","","LT"]
[211009301,"D504","VCE Dealers Luxembourg","","LU"]
[211009302,"D505","Volvo Trucks Dealers Luxembourg","","LU"]
[211009303,"D506","Volvo Trucks Dealers Macedonia","","MK"]
[211009304,"D507","Volvo Penta Dealers Malta","","MT"]
[211009305,"D508","Volvo Trucks Dealers Moldava","","MD"]
[211009306,"D509","VCE Dealers Montenegro","","ME"]
[null,"D510","Engine Repair Solution d.o.o.","BIJELA                   ","ME"]
[211009308,"D511","Volvo Trucks Dealers Montenegro","","ME"]
[211009309,"D512","VCE Dealers Netherlands","","NL"]
[211009310,"D513","Volvo Penta Dealers Netherlands","","NL"]
[211009311,"D514","Volvo Trucks Dealers Netherlands","","NL"]
[211009312,"D515","VCE Dealers Norway","","NO"]
[211009313,"D516","Volvo Trucks Dealers Spain","","ES"]
[211009314,"D517","Volvo Penta Dealers Norway","","NO"]
[211009315,"D518","Volvo Trucks Dealers Norway","","NO"]
[211009316,"D519","Eurocomplex Trucks","Liszki","PL"]
[211009317,"D520","VCE Dealers Poland","","PL"]
[211009318,"D521","MAJSTER  WOJCIECH LUBECKI","SZCZECIN                 ","PL"]
[211009319,"D522","Volvo Trucks Dealers Poland","","PL"]
[211009320,"D523","Volvo Dealers Portugal","","PT"]
[211009321,"D524","VCE Dealers Romania","","RO"]
[211009322,"D525","SC RELOC S","CRAIOVA                  ","RO"]
[211009323,"D526","Volvo Trucks Dealers Romania","","RO"]
[211009324,"D527","Volvo Trucks Dealers Serbia","","RS"]
[211009325,"D528","VCE Dealers Slovakia","","SK"]
[211009326,"D529","AS BOATS D.O.O.","FRAM                     ","SI"]
[211009327,"D530","Volvo Trucks Dealers Slovenia","","SI"]
[211009328,"D531","Volvo Trucks Dealers Slovakia","","SK"]
[211009329,"D532","Volvo Penta Dealers Spain","","ES"]
[211009900,"D533","Sodimavi Evreux","FAUVILLE","FR"]
[211009330,"D534","Volvo Trucks Dealers Sweden","","SE"]
[211009331,"D535","Volvo Penta Dealers Sweden","","SE"]
[211009332,"D536","VCE Dealers Sweden","","SE"]
[211009333,"D537","Volvo Trucks Dealers Switzerland","","CH"]
[211009334,"D538","Volvo Penta Dealers Switzerland","","CH"]
[211009335,"D539","VCE Dealers Switzerland","","CH"]
[211009336,"D540","Langbauer-Motoren e.U.","FELDKIRCHEN              ","AT"]
[211009337,"D541","Volvo Dealers Turkey","","TR"]
[211009338,"D542","Volvo Penta Dealers Slovakia","","SK"]
[211009339,"D543","Volvo Penta Dealers Iceland","","IS"]
[211009340,"D544","Volvo Trucks Dealers Russia","","RU"]
[211009341,"D545","VCE Dealers Russia","","RU"]
[211009342,"D546","VCE Dealers Turkey","","TR"]
[211009343,"D547","Volvo Trucks Dealers Ukraine","","UA"]
[211009344,"D548","VCE Dealers Ukraine","","UA"]
[211009345,"D549","Volvo Trucks Dealers Cyprus","","CY"]
[211009346,"D550","Renault Dealers Albania","","AL"]
[211009347,"D551","Renault Dealers Austria","","AT"]
[211009348,"D552","Renault Dealers Belarus","","BY"]
[211009349,"D553","Renault Dealers Belgium","","BE"]
[211009350,"D554","Renault Dealers Bosnia","","BA"]
[211009351,"D555","Renault Dealers Bulgaria","","BG"]
[211009352,"D556","Renault Dealers Croatia","","HR"]
[211009353,"D557","Renault Dealers Czech Republic","","CZ"]
[211009354,"D558","Renault Dealers Denmark","","DK"]
[211009355,"D559","Renault Dealers Estonia","","EE"]
[211009356,"D560","Renault Dealers Finland","","FI"]
[211009357,"D561","Renault Dealers France","","FR"]
[211009358,"D562","Renault Dealers Germany","","DE"]
[211009359,"D563","HAGONEXT Kft","SZIGETSZENTMIKLOS        ","HU"]
[211009360,"D564","Renault Dealers Hungary","","HU"]
[211009361,"D565","Renault Dealers Iceland","","IS"]
[211009362,"D566","Renault Dealers Ireland","","IE"]
[211009363,"D567","Renault Dealers Italy","","IT"]
[211009364,"D568","Renault Dealers Latvia","","LV"]
[211009365,"D569","Renault Dealers Lithuania","","LT"]
[211009366,"D570","Renault Dealers Luxembourg","","LU"]
[211009367,"D571","Renault Dealers Macedonia","","MK"]
[211009368,"D572","Renault Dealers Moldava","","MD"]
[211009369,"D573","Renault Dealers Netherlands","","NL"]
[211009370,"D574","Renault Dealers Norway","","NO"]
[211009901,"D575","V.T.C. OLoudeac","LOUDEAC CEDEX","FR"]
[211009902,"D576","V.T.C.O Plérin","PLERIN CEDEX","FR"]
[211009373,"D577","Renault Dealers Romania","","RO"]
[211009374,"D578","Renault Dealers Serbia","","RS"]
[211009375,"D579","Renault Dealers Slovenia","","SI"]
[211009376,"D580","Renault Dealers Spain","","ES"]
[211009903,"D581","V.T.C.O Quimper","SAINT EVARZEC","FR"]
[211009378,"D582","Renault Dealers Sweden","","SE"]
[211009379,"D583","Renault Dealers Switzerland","","CH"]
[211009904,"D584","V.T.C.O St Herblain","ST-HERBLAIN CEDEX","FR"]
[211009905,"D585","V.T.C.O Hennebont","HENNEBONT","FR"]
[211009382,"D586","Renault Dealers Russia","","RU"]
[211009383,"D587","Renault Dealers Ukraine","","UA"]
[211009384,"D588","Renault Dealers Cyprus","","CY"]
[211009386,"D589","VCE Dealers Spain","","ES"]
[211009216,"D590","Duing d.o.o.","VISKOVO","HR"]
[211009217,"D591","NAUTIKA CENTAR NAVA - CROAZIA","SPLIT","HR"]
[211009218,"D592","SENY LTD","Varna","BG"]
[211009219,"D593","Verde Motors Srl","Brasov","RO"]
[211009220,"D594","MarIndTec Suisse SA","ESTAVAYER-LE LAC","CH"]
[211009221,"D595","Nautic Service Tragovina D.O.O.","KOPER","SI"]
[211009222,"D596","Irish Commercials","Santry","IE"]
[211009223,"D597","Irish Commercials","Naas, Co.Kildare","IE"]
[211009224,"D598","McCarthy Commercials Ltd.","Kilkenny","IE"]
[211009225,"D599","McDonnell Commercials Ltd.","Monaghan","IE"]
[211009226,"D600","McCarthy Commercials Ltd.","Limerick","IE"]
[211009227,"D601","MURPHY COMMERCIALS (GALWAY)","GALWAY","IE"]
[211009228,"D602","Irish Commercials","Oranmore, Galway","IE"]
[211009229,"D603","Setanta Vehicles","Dublin","IE"]
[211009230,"D604","PAT O DONNELL & CO LTD","DUBLIN","IE"]
[211009231,"D605","McCarthy Commercials Ltd.","County Cork","IE"]
[211009232,"D606","Engine Repair Solution d.o.o.","Bijela","ME"]
[211009233,"D607","Prime Technologies Ltd.","Sofia","BG"]
[211009098,"D608","BREITSAMETER KFZ","KUEHBACH","DE"]
[211009461,"D609","SMT Netherlands BV 1","Emmeloord","NL"]
[211009462,"D610","SMT Netherlands BV 2","NIEUWKUIJK","NL"]
[211009463,"D611","Carmi S.P.A. Oleomeccanica","CASTEL BOLOGNESE","IT"]
[211009464,"D612","FEDERIGI GIANCARLO S.R.L.","VIAREGGIO","IT"]
[211009465,"D613","Fimarsud S.r.l. (CT)","SAN GIOVANNI LA PUNTA","IT"]
[211009466,"D614","Ing. Ruggero Vio S.r.l.","VENEZIA","IT"]
[211009467,"D615","MARINMOTORS DI CASSA MATTEO & C. SN","MANFREDONIA","IT"]
[211009468,"D616","NORDOVEST MOTORI","CESANO BOSCONE","IT"]
[211009469,"D617","SVEZIA MOTORI","POZZUOLI","IT"]
[211009470,"D618","VELA SRL","FIUMICINO","IT"]
[211009471,"D619","MARINDTEC SUISSE SA","ESTAVAYER-LE-LAC","CH"]
[211009472,"D620","VOLVO GROUP AG  DAELLIKON","DAELLIKON","CH"]
[211009473,"D621","VOLVO GROUP AG  EGERKINGEN","EGERKINGEN","CH"]
[211009474,"D622","VOLVO GROUP AG","MUENCHENBUCHSEE","CH"]
[211009475,"D623","VOLVO GROUP AG","NIEDERUZWIL","CH"]
[211009476,"D624","VOLVO GROUP (SCHWEIZ) AG","EMMENBRUECKE","CH"]
[211009477,"D625","NEF NUTZFAHRZEUGE AG","FRENKENDORF","CH"]
[211009478,"D626","VOLVO GROUP (SUISSE) SA","ACLENS","CH"]
[211009479,"D627","MARTI NUTZFAHRZEUGE AG","REIDEN","CH"]
[211009480,"D628","VOLVO GROUP (SUISSE) SA","CORNAUX","CH"]
[211009481,"D629","BIEFFE GARAGE SA","CADENAZZO","CH"]
[211009482,"D630","THOMANN NUTZFAHRZEUGE AG","CHUR","CH"]
[211009483,"D631","VI VéHICULES INDUSTRIELS S.A.","SAXON","CH"]
[211009484,"D632","B & W UTILITAIRES SA","GIVISIEZ","CH"]
[211009485,"D633","THOMANN NUTZFAHRZEUGE AG","SCHMERIKON","CH"]
[211009486,"D634","NUFAREP GMBH","BERINGEN","CH"]
[211009487,"D635","BERNMOBIL STÄDT. VERKEHRSBETRIEBE","BERN","CH"]
[211009488,"D636","GALATI CENTRE POIDS LOURDS SA","VERNIER","CH"]
[211009489,"D637","TRUCK CENTER VALAIS AG","SALGESCH","CH"]
[211009490,"D638","BAS Tilburg","TILBURG","NL"]
[211009491,"D639","BAS Veghel","VEGHEL","NL"]
[211009492,"D640","BAS Veldhoven","VELDHOVEN","NL"]
[211009493,"D641","BAS Nijmegen","NIJMEGEN","NL"]
[211009494,"D642","Bluekens Breda","BREDA","NL"]
[211009495,"D643","Bluekens Oosterhout","OOSTERHOUT","NL"]
[211009496,"D644","Bluekens Roosendaal","ROOSENDAAL","NL"]
[211009497,"D645","Bluekens Goes","GOES","NL"]
[211009498,"D646","Bluekens Middelharnis","MIDDELHARNIS","NL"]
[211009499,"D647","Harbers Barneveld","BARNEVELD","NL"]
[211009500,"D648","Harbers Apeldoorn","APELDOORN","NL"]
[211009501,"D649","Harbers Veenendaal","VEENENDAAL","NL"]
[211009502,"D650","Harbers Harderwijk","HARDERWIJK","NL"]
[211009503,"D651","Harbers Duiven","DUIVEN","NL"]
[211009504,"D652","v/d Linden van Sprankhuizen Zwaag","ZWAAG","NL"]
[211009505,"D653","v/d Linden van Sprankhuizen Beverwi","BEVERWIJK","NL"]
[211009506,"D654","v/d Linden van Sprankhuizen B.O.L.","BROEK OP LANGEDIJK","NL"]
[211009507,"D655","NEBIM Venlo","VENLO","NL"]
[211009508,"D656","NEBIM Elsloo","ELSLOO","NL"]
[211009509,"D657","NEBIM Weert","WEERT","NL"]
[211009510,"D658","NIJWA Groep B.V. Groningen","GRONINGEN","NL"]
[211009511,"D659","NIJWA Groep B.V. Beilen","Beilen","NL"]
[211009512,"D660","NIJWA Groep B.V. (Hengelo) Borne","BORNE","NL"]
[211009513,"D661","NIJWA Groep B.V. Rijssen","RIJSSEN","NL"]
[211009514,"D662","NIJWA Groep B.V. Veendam","VEENDAM","NL"]
[211009515,"D663","NIJWA Groep B.V. Veenoord","VEENOORD","NL"]
[211009516,"D664","NIJWA Groep B.V. Zwolle","ZWOLLE","NL"]
[211009517,"D665","Paashuis Lichtenvoorde","LICHTENVOORDE","NL"]
[211009518,"D666","Paashuis Doetinchem","DOETINCHEM","NL"]
[211009519,"D667","Van Dijk Utrecht","UTRECHT","NL"]
[211009520,"D668","Van Dijk Culemborg","CULEMBORG","NL"]
[211009521,"D669","Van Dijk  Woerden","WOERDEN","NL"]
[211009522,"D670","VGTC Amsterdam","AMSTERDAM","NL"]
[211009523,"D671","VGTC Almere","ALMERE","NL"]
[211009524,"D672","VGTC Rijnsburg","RIJNSBURG","NL"]
[211009525,"D673","VGTC Berkel en Rodenrijs","BERKEL EN RODENRIJS","NL"]
[211009526,"D674","VGTC Maasdijk","MAASDIJK","NL"]
[211009527,"D675","VGTC Aalsmeer","AALSMEER","NL"]
[211009528,"D676","VGTC Gorinchem","GORINCHEM","NL"]
[211009529,"D677","VGTC Zoetermeer","ZOETERMEER","NL"]
[211009530,"D678","VGTC Alphen a/d/ Rijn","ALPHEN a/d Rijn","NL"]
[211009531,"D679","VGTC Alblasserdam","ALBLASSERDAM","NL"]
[211009532,"D680","VGTC Rotterdam","ROTTERDAM","NL"]
[211009533,"D681","Lvs Bitgum","BITGUM","NL"]
[211009534,"D682","Lvs Heerenveen","HEERENVEEN","NL"]
[211009535,"D683","VGTC Hulst","HULST","NL"]
[211009536,"D684","BASSANO DIESEL SRL","BASSANO DEL GRAPPA","IT"]
[211009537,"D685","A.V.I. SRL","SAN VITO","IT"]
[211009706,"D686","VOLVO TRUCK CENTER1","ZINGONIA","IT"]
[211009538,"D687","CAVIDUE S.P.A.","FOMBIO","IT"]
[211009539,"D688","O.M.L OFFICINE MECCANICHE LONGOBARD","SAN VALENTINO TORIO","IT"]
[211009540,"D689","VOLVO TRUCK CENTER SPA - VTC VE","CAZZAGO DI PIANIGA","IT"]
[211009541,"D690","ERRE TRUCK SRL","RENDE","IT"]
[211009542,"D691","CO.VE.I SRL","MISTERBIANCO CT","IT"]
[211009543,"D692","OFFICINA ETRURIA TRUCK S.N.C","BADIA AL PINO","IT"]
[211009544,"D693","VOLVO ITALIA SPA VTC N/O","MAGLIANO ALPI","IT"]
[211009545,"D694","F.C.A. SPA","ROMA","IT"]
[211009546,"D695","VIP-ONE SRL","SPILAMBERTO","IT"]
[211009547,"D696","VOLVO ITALIA SPA VTCENTER VR","SOMMACAMPAGNA","IT"]
[211009548,"D697","OFFICINA ARCA","CASTIONS DI STRADA","IT"]
[211009549,"D698","TRUCK SERVICE DI ROSSI P&C SNC","CESENA","IT"]
[211009550,"D699","OFFICINA VOLMEC","CASTEGNATO","IT"]
[211009551,"D700","FIMI SPA","PORTO D'ASCOLI","IT"]
[211009552,"D701","VOLVO ITALIA SPA - FILIALE FO","FAGNANO OLONA","IT"]
[211009553,"D702","TANZI PAOLO","PARMA","IT"]
[211009707,"D703","VOLVO TRUCK CENTER2","MEZZO LOMBARDO","IT"]
[211009554,"D704","ACCASTELLO AUTORIPARAZIONI SRL","TRANA","IT"]
[211009555,"D705","VOLVO ITALIA SPA - VTC N/O","TORTONA (AL)","IT"]
[211009556,"D706","VOLMEC SNC FIL.MONTICHIARI","MONTICHIARI","IT"]
[211009557,"D707","FRATELLI GARBIN SRL","QUARTO D'ALTINO","IT"]
[211009558,"D708","COVELLI TRUCK SUD SRL","CORATO","IT"]
[211009559,"D709","CAVIDUE S.R.L. FILIALE DI PARMA","PARMA","IT"]
[211009560,"D710","FCA FILIALE DI FROSINONE","FROSINONE","IT"]
[211009561,"D711","VETTORATO SRL","S.PIETRO VIMINARIO","IT"]
[211009562,"D712","CAVIDUE S.P.A.","CASTEGGIO PV","IT"]
[211009563,"D713","M.P. SRL","SOLETO LE","IT"]
[211009564,"D714","GASPARATO C & F. SAS","VILLORBA","IT"]
[211009565,"D715","VTC GENOVA","GENOVA","IT"]
[211009566,"D716","OFF. MECC. LIVELLO","PESCARA","IT"]
[211009567,"D717","ITALCAR S.R.L.","POLLA SA","IT"]
[211009568,"D718","IDEALCAR","PAOLISI","IT"]
[211009569,"D719","BIESSE SERVICES S.N.C.","BASTIA UMBRA","IT"]
[211009570,"D720","CO.VE.I SRL","PACE DEL MELA","IT"]
[211009571,"D721","EUROCAR SERVICE S.N.C.","CERCOLA","IT"]
[211009572,"D722","CAMION SERVICE S.R.L.","VILLA SAN GIOVANNI","IT"]
[211009573,"D723","CO VE.I. SRL","RAGUSA RG","IT"]
[211009574,"D724","OFFICINA EUROPA SERVICE","MATERA","IT"]
[211009575,"D725","CO.VE.I FIL. TERMINI IMERESE (PA)","TERMINI IMERESE","IT"]
[211009576,"D726","OFFICINA F.LLI DI PALO SDF","BARI","IT"]
[211009577,"D727","VIP-ONE SRL","AVENZA","IT"]
[211009578,"D728","OFFICINA ORA SNC","FORLI","IT"]
[211009579,"D729","OFFICINA MECCANICA 3M S.N.C.","MONTECASSIANO","IT"]
[211009580,"D730","MORENO FRANCO","GUARENE","IT"]
[211009581,"D731","TRUCK SERVICE SRL","CALENZANO","IT"]
[211009582,"D732","CABOR DI BESTETTI M.& C.S.N.C","CONCOREZZO","IT"]
[211009583,"D733","VOLVO ITALIA SPA - VTCENTER CN","BUSCA","IT"]
[211009584,"D734","DIGENNARO FRANCESCO OFF MECCANICA","GRAVINA","IT"]
[211009585,"D735","TRUCK SERVICE SRL","STAGNO","IT"]
[211009586,"D736","CENTRO DIESEL S.N.C DI AMBROSINI &C","FANO","IT"]
[211009587,"D737","OFFICINA BOTTIGLIERI","GIFFONI VALLE PIANA","IT"]
[211009588,"D738","GB TRUCK DI GRAMMATICO FRANCESCO&C","XITTA","IT"]
[211009589,"D739","MA.DE.BO. SNC","BORGO SAN MICHELE","IT"]
[211009590,"D740","GLOBAL TRUCK SRL","MASSAFRA","IT"]
[211009591,"D741","AUTODELTA SRL","ASSEMINI","IT"]
[211009592,"D742","OFF. MECC. L'ADRIATICA","TERMOLI","IT"]
[211009593,"D743","NOVARA CAMION SRL","S.PIETRO MOSEZZO","IT"]
[211009594,"D744","SEVEN TRUCKS S.R.L.","OSSONA","IT"]
[211009595,"D745","OFFICINA EURO DIESEL SRL","CHIARAVALLE","IT"]
[211009596,"D746","VOLVO GROUP RETAIL IT SRL-SET","SETTIMO TORINESE","IT"]
[211009597,"D747","MECCANICA VALTELLINESE SNC","PIATEDA","IT"]
[211009598,"D748","SCUDIERO GABRIELE SAS","NICHELINO","IT"]
[211009599,"D749","IANNUCCI & PROIA S.N.C.","CEPRANO","IT"]
[211009600,"D750","NUVOLARI S.P.A.","PORTO MANTOVANO","IT"]
[211009601,"D751","BRIANZADIESEL SRL","INVERIGO","IT"]
[211009602,"D752","VICENZI GIULIO","CAREMA","IT"]
[211009603,"D753","OFFICINA BANDERA SAS","GADESCO-PIEVE DELMONA","IT"]
[211009604,"D754","VOLVO GROUP RETAIL IT SRL-MN","PORTO MANTOVANO","IT"]
[211009605,"D755","OF SERIANA TRUCK DI PULCINI","VILLA DI SERIO","IT"]
[211009606,"D756","ORA SAS","METAPONTO MT","IT"]
[211009607,"D757","VEICOLI IND PADANA FIL DI AVENZA","CARRARA","IT"]
[211009608,"D758","PANEZI DAVIS","NARNI SCALO","IT"]
[211009609,"D759","OFFICINA PELLATI FELICE S.N.C.","PORTO TORRES","IT"]
[211009610,"D760","TRUCK & BUS CENTER SRL","VARNA","IT"]
[211009611,"D761","AUTOF. BERNARDINI DI G.& C.","CHIUSI - LOC.POGGIO OLIVO","IT"]
[211009612,"D762","MESAROLI","TREVENZUOLO","IT"]
[211009613,"D763","AUTOFFICINA DE CESERO SAS","PONTE NELLE ALPI BL","IT"]
[211009614,"D764","ME.SI S.R.L.","CARINI","IT"]
[211009615,"D765","VOLVO GROUP RETAIL IT SRL-PD","SAN PIETRO VIMINARIO","IT"]
[211009616,"D766","V.V.I. SERV. ASSISTENZA CENTR.","ZINGONIA (BERGAMO)","IT"]
[211009617,"D767","EUROSERVICE DI BOETI FRANCESCO","POLLEIN","IT"]
[211009618,"D768","EURO.PA.CARRI S.R.L.","CATANZARO","IT"]
[211009619,"D769","O.R.M.A. VEICOLI IND. S.R.L","PERUGIA","IT"]
[211009620,"D770","3D Service","Carrara","IT"]
[211009621,"D771","ABRAMO MASON S.R.L.","RIESE PIO X -TV-","IT"]
[211009622,"D772","Aerotecnica SPA","Calenzano","IT"]
[211009623,"D773","Bettiga Attrezzature Edili Srl","Colico","IT"]
[211009624,"D774","Campanini Luca","Lenignano di Collecchio","IT"]
[211009625,"D775","Care Sas di Balduzzi Paolo & C","Pavia","IT"]
[211009626,"D776","Carmi","Castel Bolognese","IT"]
[211009627,"D777","Cervetti Srl","Grosseto","IT"]
[211009628,"D778","Comai S.P.A","BRA (CN)","IT"]
[211009629,"D779","CO.Mar. SAS di Ramazzotti & C","Senigallia","IT"]
[211009630,"D780","D'Avino SRL","MARIGLIANO","IT"]
[211009631,"D781","FOREDIL S.R.L.","SARMEOLA DI RUBANO (PD)","IT"]
[211009632,"D782","Franceschino Gianni Mach. Movimento","Majano","IT"]
[211009633,"D783","Gavarini Locazioni SRL","Ponte San Giovanni","IT"]
[211009634,"D784","G.M. Noleggi SRL /Fermo Deposito TN","Trento","IT"]
[211009635,"D785","Grilli Paolo Officina Mobile","Pomarance","IT"]
[211009636,"D786","La Nordica Macchine Snc","Caraffa di Catanzaro","IT"]
[211009637,"D787","MA.DE.BO Srl","Borgo San Michele","IT"]
[211009638,"D788","Mac3","Bardolino","IT"]
[211009639,"D789","O.ME.CO Spa","Roma","IT"]
[211009640,"D790","O.M.I. Tre Srl","Treviso","IT"]
[211009641,"D791","ROSELLI F.LLI S.N.C","NUGOLA","IT"]
[211009642,"D792","Soveri Srl","Assemini","IT"]
[211009643,"D793","Tecma Service","Salorno","IT"]
[211009644,"D794","TONELLO FRATELLI S.R.L.","MOTTA DI LIVENZA","IT"]
[211009650,"D795","Zanon Tractor","Torre de Roveri","IT"]
[211009651,"D796","V & V Srl","Custonaci","IT"]
[211009652,"D797","VAMOT SERVICE SRL","CERANO","IT"]
[211009653,"D798","Volvo CE Italia SPA","Carpiano","IT"]
[211009654,"D799","Volvo CE Italia S:P:A: Filiale Roma","Monterotondo Scalo","IT"]
[211009655,"D800","Zanon Srl","Rodengo Saiano","IT"]
[211009656,"D801","ROBERT AEBI AG","Regensdorf","CH"]
[211009657,"D802","HAISMA","HARLINGEN","NL"]
[211009658,"D803","Marine Service Loosdrecht","LOOSDRECHT","NL"]
[211009659,"D804","Middelzee Motoren","SNEEK","NL"]
[211009660,"D805","MULDER MOTOREN","RIDDERKERK-BOLNES","NL"]
[211009661,"D806","Terlouw Rotterdam BV","ROTTERDAM","NL"]
[211009662,"D807","VAN DIJKE WATERSPORT","BROUWERSHAVEN","NL"]
[211009663,"D808","VEER EN BRINKS","ZWARTSLUIS","NL"]
[211009664,"D809","TRUCK SERVICE - Sassari","SASSARI","IT"]
[211009665,"D810","O.R.A.D. S.R.L.","SAN LAZZARO DI SAVENA","IT"]
[211009666,"D811","VALIANI VEICOLI INDUSTRIALI","SANTA CROCE SULL ARNO","IT"]
[211009649,"D812","G Englmayer Spedition Gmbh","Leopoldorf/Wien","AT"]
[211009670,"D813","Galliker Transport Ag","Altishofen","CH"]
[211009695,"D814","Van Den Haak B.V.","Geldermalsen","NL"]
[211010071,"D815","Velltrans","PERAFITA","PT"]
[211009716,"D817","SARACAKIS BROS S.A. THESS/NIKI","THESSALONIKI - KATERINI","GR"]
[211009704,"D818","SARACAKIS BROTHERS SA","ATHENS","GR"]
[211009719,"D819","Volvo Group Truck Center-Sibiu","Sibiu","RO"]
[211009726,"D820","Lagermax Car Transport GmbH","Strasswalchen","AT"]
[211009826,"D821","Cat Lc France Sas","Gennevilliers","FR"]
[211009906,"D822","V.T.C.O Rennes","CESSON-SEVIGNE CEDEX","FR"]
[211009907,"D823","V.T.C.O Landivisiau","LANDIVISIAU CEDEX","FR"]
[211009908,"D824","V.T.C.O Miniac","MINIAC-MORVAN","FR"]
[211009909,"D825","V.T.C.O Vannes","SAINT AVE","FR"]
[211009910,"D826","V.T.C.O Carquefou","CARQUEFOU CEDEX","FR"]
[211009911,"D827","V.T.C.S-O Toulouse","BRUGUIERES","FR"]
[211009912,"D828","V.T.C.S-O Bordeaux","BRUGES","FR"]
[211009913,"D829","V.T.C.S-O Perpignan","PERPIGNAN","FR"]
[211009914,"D830","PLSA Bayonne Arrouze","BENESSE-MAREMNE","FR"]
[211009915,"D831","PLSA St Sever Arrouze","AURICE","FR"]
[211009916,"D832","Arrouze Tarbes","IBOS","FR"]
[211009917,"D833","Arrouze Pau","SERRES-CASTET","FR"]
[211009918,"D834","Auto Truck Service Gascogne","AUCH","FR"]
[211009919,"D835","Charentes Truck La Rochelle","PERIGNY CEDEX","FR"]
[211009920,"D836","Charentes Truck Angoul?me","CHAMPNIERS","FR"]
[211009921,"D837","Charentes Truck Périgueux","NOTRE DAME DE SANILHAC","FR"]
[211009922,"D838","Guilhot","MARTRES-TOLOSANE","FR"]
[211009923,"D839","LETT","MONTAUBAN","FR"]
[211009924,"D840","MECANIC 2000","BARBEZIEUX SAINT HILAIRE","FR"]
[211009925,"D841","Garage Puel","RODEZ","FR"]
[211009926,"D842","Garage ROUZAU","CASTELNAUDARY","FR"]
[211009927,"D843","Selva Agen","BON ENCONTRE","FR"]
[211009928,"D844","Selva Marmande","SAMAZAN","FR"]
[211009929,"D845","VTCSE CAVAILLON","CAVAILLON","FR"]
[211009930,"D846","VTCSE CHAMBERY","LA MOTTE-SERVOLEX","FR"]
[211009931,"D847","VTCSE CHAPONNAY","CHAPONNAY","FR"]
[211009932,"D848","VTCSE FLASSANS","FLASSANS SUR ISSOLE","FR"]
[211009933,"D849","VTCSE GRENOBLE","VEUREY-VOROIZE","FR"]
[211009934,"D850","VTCSE SORGUES","VEDENE CEDEX","FR"]
[211009935,"D851","VTCSE ST ETIENNE","ANDREZIEUX BOUTHEON","FR"]
[211009936,"D852","VTCSE ST VICTORET","SAINT VICTORET","FR"]
[211009937,"D853","VTCSE VALENCE","PORTES-LES-VALENCE CEDEX","FR"]
[211009938,"D854","Alès trucks","ST MARTIN DE VALGALGUES","FR"]
[211009939,"D855","Béziers Trucks","VENDRES","FR"]
[211009940,"D856","Nîmes Trucks","MARGUERITTES","FR"]
[211009941,"D857","Montpellier trucks","SAINT JEAN DE VEDAS","FR"]
[211009942,"D858","Saint Martin trucks","Saint-Martin-de-Crau","FR"]
[211010038,"D859","AZUR Trucks AZUR","Le BROC","FR"]
[211010039,"D860","CALDERONE","GAP","FR"]
[211009943,"D861","GARAGE DE LA COLLONGE","ARNAS","FR"]
[211009944,"D862","GARAGE MAILLARD","ROANNE","FR"]
[211009945,"D863","PRINGY  Poids Lourds","PRINGY","FR"]
[211009946,"D864","GARAGE ROCHET","SOUZY","FR"]
[211009947,"D865","SNVIC","LUCCIANA","FR"]
[211009948,"D866","Gge Vrignault","BRESSUIRE","FR"]
[211009949,"D867","Brochard Bourges","BOURGES","FR"]
[211009950,"D868","Brochard Clermont-Fd","CLERMONT-FERRAND","FR"]
[211009951,"D869","Brochard Ch#teauroux","CHATEAUROUX","FR"]
[211009952,"D870","Brochard Limoges","LE VIGEN (LIMOGES)","FR"]
[211009953,"D871","Brochard Brive","USSAC","FR"]
[211009954,"D872","Brochard Nevers","VARENNES VAUZELLES","FR"]
[211009955,"D873","SVI Mulhouse","SAUSHEIM","FR"]
[211009956,"D874","SVI Strasbourg","REICHSTETT","FR"]
[211009957,"D875","Theobald Yutz","YUTZ CEDEX","FR"]
[211009958,"D876","Theobald Ennery","ENNERY","FR"]
[211009959,"D877","Theobald Sarreguemines","SARREGUEMINES CEDEX","FR"]
[211009960,"D878","Theobald Ludres","LUDRES CEDEX","FR"]
[211009961,"D879","TheobaldSt Nabord","SAINT NABORD","FR"]
[211009962,"D880","Garage Leonate","SCHERWILLER","FR"]
[211009963,"D881","Garage Serieys","DOMPIERRE-LES-ORMES","FR"]
[211010040,"D882","Bassigny PL Bourg","VIRIAT","FR"]
[211009964,"D883","Bassigny PL Sevrey","SEVREY","FR"]
[211009965,"D884","Bassigny PL Auxerre","APPOIGNY","FR"]
[211009966,"D885","Bassigny PL Troyes","LAVAU","FR"]
[211009967,"D886","Bassigny PL Dijon","DIJON CEDEX","FR"]
[211009968,"D887","Bassigny PL Lons Le Saunier","PERRIGNY","FR"]
[211009969,"D888","Bassigny PL St Vit","SAINT VIT","FR"]
[211009970,"D889","Bassigny PL St Dizier","ST DIZIER - MARNAVAL","FR"]
[211009971,"D890","Bassigny PL Vesoul","CHARMOILLE","FR"]
[211009972,"D891","Bassigny PL Puits des Mezes","LE PUITS DES MEZES","FR"]
[211009973,"D892","Seguin GCB Fougères","LA SELLE EN LUITRE","FR"]
[211009974,"D893","Seguin GCB Vitré","BREAL-SOUS-VITRE","FR"]
[211009975,"D894","Seguin Le Mans","LE MANS","FR"]
[211009976,"D895","Seguin Laval","LAVAL","FR"]
[211009977,"D896","Seguin Niort","NIORT","FR"]
[211009978,"D897","Seguin Poitiers","POITIERS","FR"]
[211009979,"D898","Seguin La Roche","LA ROCHE SUR YON","FR"]
[211009980,"D899","Seguin Mortagne","MORTAGNE SUR SEVRE","FR"]
[211009981,"D900","Seguin Angers","ST SYLVAIN D'ANJOU","FR"]
[211009982,"D901","LJPL Lingreville","LINGREVILLE","FR"]
[211009983,"D902","V.T.C.N Le Havre","ROGERVILLE","FR"]
[211009984,"D903","V.T.C.N Rouen","ROUEN CEDEX","FR"]
[211009985,"D904","V.T.C.N Roissy","ROISSY CHARLES-DE-GAULLE CEDEX","FR"]
[211009986,"D905","V.T.C.N Reims","REIMS CEDEX 2","FR"]
[211009987,"D906","V.T.C.N Massy","MASSY","FR"]
[211009988,"D907","V.T.C.N Compiegne","LE MEUX","FR"]
[211009989,"D908","V.T.C.N Somain","SOMAIN","FR"]
[211009990,"D909","V.T.C.N Arques","ARQUES (SAINT-OMER)","FR"]
[211009991,"D910","V.T.C.N Bethune","RUITZ","FR"]
[211009992,"D911","V.T.C.N Lesquin","LESQUIN","FR"]
[211010041,"D912","V.T.C.N St Quentin","SAINT QUENTIN CEDEX","FR"]
[211009993,"D913","V.T.C.N Arras","TILLOY LES MOFFLAINES","FR"]
[211009994,"D914","Manier","LES ATTAQUES","FR"]
[211009995,"D915","Somevi","POINCY","FR"]
[211009996,"D916","SPVI TRAPPES","TRAPPES","FR"]
[211009997,"D917","Garage FEL AURILLAC","ARPAJON SUR CERE","FR"]
[211009998,"D918","Garage Guinchard","PONTARLIER","FR"]
[211009999,"D919","BGMS NABUCET","ROISSY-EN-FRANCE","FR"]
[211010000,"D920","VALOGNES Poids Lourds","VALOGNES","FR"]
[211010001,"D921","NAUDIN PIERRE & FILS","CORDESSE","FR"]
[211010042,"D922","CMVI NANTUA","ST MARTIN DU FRESNE","FR"]
[211010002,"D923","DB MOTEURS","DUNKERQUE","FR"]
[211010003,"D924","DISMAR","CANET EN ROUSSILLON","FR"]
[211010004,"D925","ETS LE POCHER","MELLAC QUIMPERLE","FR"]
[211010005,"D926","GWEN MARINE SERVICE","LES SABLES D'OLONNE","FR"]
[211010006,"D927","M I DIFFUSION CENTER Sarl","GUJAN MESTRAS","FR"]
[211010007,"D928","MARINE DISTRIBUTION SA","LES ISSAMBRES","FR"]
[211010043,"D929","MARINE MOTEURS COTE D'AZUR","MANDELIEU","FR"]
[211010008,"D930","MECA BATEAUX DISTRIBUTION","TOULON","FR"]
[211010009,"D931","S  M  M I","MARSEILLE","FR"]
[211010010,"D932","S F M N I","ANDRESY","FR"]
[211010011,"D933","SRA","NANTES CEDEX 04","FR"]
[211010012,"D934","AUTO-SUECO - LDA","PORTO","PT"]
[211010013,"D935","ANDRES VIZOSO, S.A.","LUGO","ES"]
[211010044,"D936","APSM ALICANTE, S.L.","ALICANTE","ES"]
[211010045,"D937","CAMBER MARINE, S.L.","BALEARES","ES"]
[211010014,"D938","COMERC. NAUTICAS YATEMAR, S.A.","GETXO.   (VIZCAYA)","ES"]
[211010015,"D939","ELIAS BLANCO, S.L.","ALGECIRAS","ES"]
[211010016,"D940","KRUG NAVAL, S.A.L.","VIGO PONTEVEDRA","ES"]
[211010017,"D941","NAUTIC CENTER, S.A.","GERONA","ES"]
[211010018,"D942","NAUTIC MOTOR VALENCIA, S.L.","VALENCIA","ES"]
[211010046,"D943","NAUTICA GINES ALONSO, S.L.","ALMERIA","ES"]
[211010047,"D944","NAUTICA VIAMAR, S.A.","IBIZA","ES"]
[211010019,"D945","TALLERES CORNET, S.L.","TARRAGONA","ES"]
[211010020,"D946","POTENCIA MARINA, S.L.","LAS PALMAS","ES"]
[211009879,"D947","TALLERES   DEGAYPE, S.L.MURCIA","Miranda (Cartagena)","ES"]
[211009851,"D948","MUNJA D.O.O.","Beograd","RS"]
[211010076,"D950","Dealer Grand Paris","TRAPPES CEDEX","FR"]
[211010077,"D951","KLEBER MALECOT","Neuville aux Bois","FR"]
[211010078,"D952","VCE TRAPPES","TRAPPES CEDEX","FR"]
[211010079,"D953","KLEBER SORIGNY","SORIGNY","FR"]
[211010085,"D954","KLEBER BOURGES","BOURGES","FR"]
[211010086,"D955","KLEBER NUITS ST GEORGES","NUITS ST GEORGES","FR"]
[211010087,"D956","PAYANT CHASSIEU","CHASSIEU","FR"]
[211010088,"D957","PAYANT DOMENE","DOMENE","FR"]
[211010089,"D958","PAYANT EVIRES","EVIRES","FR"]
[211010090,"D959","PAYANT PORTES LES VALENCE","PORTES LES VALENCE","FR"]
[211010091,"D960","PAYANT PACA","AIX EN PROVENCE","FR"]
[211010092,"D961","CIMME SODIMAT SECLIN","SECLIN CEDEX","FR"]
[211010139,"D962","CIMME SODIMAT SOISSONS","SOISSONS","FR"]
[211010093,"D963","CIMME SODIMAT LA RUE ST PIERRE","LA RUE ST PIERRE","FR"]
[211010094,"D964","CIMME SODIMAT LONGUEAU","LONGUEAU","FR"]
[211010095,"D965","SOFEMAT BRIEC DE L'ODET","BRIEC DE L'ODET","FR"]
[211010096,"D966","SOFEMAT RENNES","RENNES CEDEX","FR"]
[211010097,"D967","SOFEMAT PANAZOL","PANAZOL","FR"]
[211010098,"D968","SOFEMAT NIORT","NIORT","FR"]
[211010099,"D969","SOFEMAT ST HERBLAIN","ST HERBLAIN","FR"]
[211010100,"D970","SOFEMAT NORMANDIE","IFS","FR"]
[211010101,"D971","CIMME SODIMAT LE MANS","LE MANS","FR"]
[211010102,"D972","SOFEMAT ANCENIS","ANCENIS","FR"]
[211010103,"D973","SOFEMAT LA ROCHE SUR YON","LA ROCHE SUR YON","FR"]
[211010104,"D974","SOMATEC ATTONS","ATTON","FR"]
[211010105,"D975","SOMATEC DETTWILLER","DETTWILLER","FR"]
[211010106,"D976","V2V VILLENEUVE","VILLENEUVE","FR"]
[211010107,"D977","V2V MONT DE MARSAN","MONT DE MARSAN","FR"]
[211010108,"D978","V2V PERPIGNAN","PERPIGNAN","FR"]
[211010109,"D979","V2V PAU LESCAR","PAU LESCAR","FR"]
[211010110,"D980","V2V GIGEAN","GIGEAN","FR"]
[211010111,"D981","V2V ST MEDARD","ST MEDARD D'EYRANS","FR"]
[211010112,"D982","V2V BAYONNE","BAYONNE","FR"]
[211010113,"D983","ASCENDUM LEIRIA","LEIRIA","PT"]
[211010114,"D984","ASCENDUM Porto","LAVRA","PT"]
[211010115,"D985","ASCENDUM SÃO JOÃO DA TALHA","SÃO JOÃO DA TALHA","PT"]
[211010116,"D986","ASCENDUM FARO","LOULÉ","PT"]
[211010117,"D987","ASCENDUM MAQUINARIA, SAU.","SAN FERNANDO","ES"]
[211010145,"D988","LOIZAGA S.A.","VITORIA","ES"]
[211010118,"D989","EXMAIN, S.A.","CORUNO LLANERA","ES"]
[211010146,"D990","DRIVE BALEAR, S.L.","PALMA DE MALLORCA","ES"]
[211010147,"D991","BURGOS MAQUIOBRAS, S.L.","SALDAÑA DE BURGOS  ","ES"]
[211010119,"D992","VALMOPSUR, S.L.","CORDOBA","ES"]
[211010120,"D993","TALLERES J. ROSADO S.L.","PALOS DE LA FRONTERA","ES"]
[211010121,"D994","ASCENDUM GRANADA","ATARFE","ES"]
[211010122,"D995","AUTOINDUSTRIA DE CARTAGENA","CARTAGENA","ES"]
[211010123,"D996","MANASA PAMPLONA","ORCOYEN NAVARRA","ES"]
[211010124,"D997","Valmopsur Sevilla","ALCALÁ DE GUADAIRA","ES"]
[211010125,"D998","MAQUIN Y RECAMOS DE LEV.S.L","RIBARROJA DEL TURIA","ES"]
[211010126,"D999","ASCENDUM VALLADOLID","VALLADOLID","ES"]
[211010127,"E001","LEJARZA, S.A.","GALLARTA","ES"]
[211010128,"E002","COMAR LA PUEBLA-ALFIDéN","LA PUEBLA DE ALFIDéN","ES"]
[211010129,"E003","JAEN TALLERES MAQUI-DIESEL S.COOP.","BAEZA","ES"]
[211010083,"E004","ORENSE LUIS FIDALGO REAL","SOBRADELO","ES"]
[211010084,"E005","EXMAIN, S.A","ONZONILLA","ES"]
[211010130,"E006","MANASA URNIETA","URNIETA","ES"]
[211010131,"E007","ASCENDUM BARCELONA","BARCELONA","ES"]
[211010132,"E008","Auto−Industria de Almería","VIATOR ALMERÍA","ES"]
[211010133,"E009","MANASA VIANA","VIANA","ES"]
[211010134,"E010","ASCENDUM GALICIA","SANTIAGO DE COMPOSTELA","ES"]
[211010135,"E011","FLUIDMECAICA SUR, S.L.","CHICLANA DE LA FRONTERA","ES"]
[211010136,"E012","SERVIMOP SERVEI I VENTA DE MAQ.SL","ALCOLETGE","ES"]
[211010173,"E013","Volvo Group (Schweiz) AG","Winterthur","CH"]
[211010185,"E014","BAS GROEP B.V. (BAS PARTS)","VEGHEL","NL"]
[211010186,"E015","B.A.S. CARROSSERIE AFDELING","Veghel","NL"]
[211010188,"E016","Auto Sueco Portugal - Bragança","Bragança","PT"]
[211010189,"E017","Auto Sueco Portugal - Braga","Braga","PT"]
[211010190,"E018","Auto Sueco Portugal - Guimarães","Guimarães","PT"]
[211010191,"E019","Auto Sueco Portugal - Maia","Maia","PT"]
[211010192,"E020","Auto Sueco Portugal - Lisboa","Sacavém","PT"]
[211010193,"E021","Auto Sueco Portugal - Setúbal","Águas de Moura","PT"]
[211010194,"E022","Auto Sueco Portugal - Santarém","Santarém","PT"]
[211010195,"E023","Auto Sueco Portugal - Torres Vedras","Torres Vedras","PT"]
[211010196,"E024","Eduardo Coelho Lda.","Arouca","PT"]
[211010197,"E025","Pontautos - Comércio de Automóveis Lda.","Faro","PT"]
[211010198,"E026","Mendes Gomes & Cª Lda.","Caniço - Funchal","PT"]
[211010199,"E027","Varela & Cª Lda.","Ponta Delgada","PT"]
[211010200,"E028","Ascendum Camiões, Unipessoal Lda. -","Albergaria-a-Velha","PT"]
[211010201,"E029","Ascendum Camiões, Unipessoal Lda. -","Leiria","PT"]
[211010202,"E030","Ascendum Camiões, Unipessoal Lda. -","Coimbra","PT"]
[211010203,"E031","Ascendum Camiões, Unipessoal Lda. -","Viseu","PT"]
[211010204,"E032","Centro de Colisão e Serviços","Vila Nova Gaia","PT"]
[211010216,"E033","GHM Truck Service GmbH","Villach","AT"]
[211010217,"E034","GHM Truck Service GmbH","Ebenthal","AT"]
[211010209,"E035","Wagner Anton","St. Pölten","AT"]
[211010230,"E036","Wagner Anton","Zeltweg","AT"]
[211010218,"E037","Johann Eggenberger","Schrems","AT"]
[211010219,"E038","Schnötzlinger KFZ-Service GmbH","Frankenburg","AT"]
[211010220,"E039","Alfred Egger GmbH","Niedernsill","AT"]
[211010221,"E040","RGO Lagerhaus GmbH","Lienz","AT"]
[211010222,"E041","Petschl Werkstättten","Perg","AT"]
[211010223,"E042","Nufa Nutzfahrzeuge u. Baumaschinen","Rankweil","AT"]
[211010224,"E043","Samhaber Truck-Center GmbH","Grieskirchen","AT"]
[211010225,"E044","Grad Transport GmbH","Pasching","AT"]
[211010226,"E045","VOLVO Hungária kft. (WABERERS","Budapest","HU"]
[211010227,"E046","VOLVO Hungária kft. (WABERERS","Mosonmagyaróvár","HU"]
[211010228,"E047","VARGA & TARSA KFT.","KESZTHEL","HU"]
[211010229,"E048","Truck Center Hollenstedt GmbH & Co.","Hollenstedt","DE"]
[211010258,"E049","Ceska lodni doprava - Charter,s. r. o.","PRAHA","CZ"]
[211010247,"E050","Marine s.r.o.","NOVE MESTO NAD METUJI","CZ"]
[211010248,"E051","MOERTH MARINE","FELDKIRCHEN","AT"]
[211010249,"E052","Bootswerft Hartmann GmbH & Co. KG","HARD/VORARLBERG","AT"]
[211010260,"E053","Meyer Bootswerft GmbH","AGGSBACH","AT"]
[211010261,"E054","Yachtservice Dall","TRAUN","AT"]
[211010246,"E055","Utne Transport","Sarpsborg","NO"]
[211005185,"E357","MAXI Haulage","Warwick","GB"]
[211900032,"R999","Replacement Account",null,"SE"]
[211900000,"Y001","Volvo Packaging Bangalore (IN)","Narasarapura Hobli","IN"]
[211900001,"Y002","Volvo Packaging Shanghai (CN)","Pudong","CN"]
[211900002,"Y003","Volvo Packaging Gent (BE)","Gent","BE"]
[211900003,"Y004","Volvo Packaging Gothenburg (SE)","Göteborg","SE"]
[211900004,"Y005","Volvo Packaging Hallsberg (SE)","Hallsberg","SE"]
[211900005,"Y006","Volvo Packaging Arvika (SE)","Arvika","SE"]
[211900006,"Y007","Volvo Packaging Borås (SE)","BORÅS","SE"]
[211900007,"Y008","Volvo Packaging Braås (SE)","Braås","SE"]
[211900008,"Y010","Volvo Packaging Dublin (US)","Pulaski","US"]
[211900009,"Y011","Volvo Packaging Eskilstuna (SE)","Eskilstuna","SE"]
[211900010,"Y012","Volvo Packaging Curitiba (BR)","CURITIBA-PR","BR"]
[211900011,"Y013","Volvo Packaging London (US)","London","US"]
[211900012,"Y014","Volvo Packaging Lyon (FR)","Chassieu","FR"]
[211900013,"Y015","Volvo Packaging Madrid (ES)","Alcala De Henares","ES"]
[211900015,"Y018","Volvo Packaging St. Truiden (BE)","St Truiden","BE"]
[211900016,"Y019","Volvo Packaging Stratford (GB)","Stratford Upon Avon","GB"]
[211900017,"Y020","Volvo Packaging Tultitlan (MX)","Tultitlan","MX"]
[211900018,"Y021","Volvo Packaging Umeå (SE)","Umeå","SE"]
[211900019,"Y022","Volvo Packaging Vara (SE)","VARA","SE"]
[211900020,"Y025","Volvo Packaging Wroclaw (PL)","Dlugoleka","PL"]
[211900021,"Y026","Volvo Packaging Bologna (IT)","FAENZA","IT"]
[211900022,"Y027","Volvo Packaging Pederneiras (BR)","Pederneiras","BR"]
[211900023,"Y028","Volvo Packaging Trier (DE)","Trier","DE"]
[211900025,"Y032","Volvo Packaging Byhalia (US)","BYHALIA, MS","US"]
[211900026,"Y033","Volvo Packaging Durban (ZA)","DURBAN","ZA"]
[211900027,"Y034","Volvo Packaging Saitama (JP)","SAITAMA","JP"]
[211900028,"Y035","Volvo Packaging Goderich (CA)","GODERICH, ON","CA"]
[211900029,"Y036","Volvo Packaging Kyungnam (KR)","KYUNGNAM","KR"]
[211900030,"Y037","Volvo Packaging Allentown (US)","ALLENTOWN, PA","US"]
[211900031,"Y038","Volvo Packaging Ryd (SE)","RYD","SE"]
[211900024,"Y047","Volvo Packaging Hagerstown (US)","HAGERSTOWN, MD","US"]
[null,"Y053","Volvo Packaging Curitiba (BR)","CURITIBA-PR","BR"]
[211002302,null,"SMC Colombier","COLOMBIER","FR"]