{"text_format":"1","workbook":"xlsx","n_sheets":8,"sheets":["Instruction","Input","Tool auto","Tool semi-auto","Tool manual","INPUT QLIK PI","INPUT QLIK DEMAND","Types"],"not_rendered":{"charts":0,"images":9,"macros":1,"external_links":0,"defined_names":4,"comments":0,"pivot_tables":0},"unopened":[],"bounds":{"document_bytes":16777216,"sheet_cells":100000,"rows_first":2000,"rows_last":500,"rows_between":2000,"halvings":0,"cell_chars":16384,"cell_head_chars":4096},"cells_cut":0,"cells_raw":0,"read":"whole","date_system":"1900"}

{"sheet":"Instruction","index":0,"n_rows":85,"n_cols":6,"rows_kept":85,"cut":false,"hidden":false,"merged":[[84,3,85,3],[84,5,85,5],[29,3,30,3],[29,5,30,5],[3,3,4,3],[3,5,4,5],[40,3,41,3],[40,5,41,5],[67,3,68,3],[67,5,68,5]]}
[null,"Manual"]
[]
[]
[null,null,1,"Enter the quantity of parts demanded per year & the quantity of parts per THU. One part number at a time.",2,"Enter the types & quantity of V-EMB used in the THU"]
[]
[null,null,null," "]
[]
[]
[]
[]
[]
[]
[]
[]
[]
[]
[]
[]
[]
[null,"Auto",null,"Automatic input of part demand"]
[]
[]
[null,null,1,null,2]
[null,null,null,"Export the \"Component Level\" table to excel from the qlik app linked below. Remember to filter on the correct supplier number (OC Parma) & MU.",null,"Clear the table in the INPUT QLIK PI sheet and paste the exported data in cell A2 of sheet \"INPUT QLIK PI\". (Exclude headers)"]
[null,null,null,"PackIT Advanced Search "]
[]
[]
[]
[]
[null,null,3,"Export the \"Part Quantity - summation\" table to excel with applicable date interval from the qlik app linked below. Remeber to filter on correct FC ID (ship from parma) & MU",4,"Paste the exported data in cell A2 \"INPUT QLIK DEMAND\". (Exclude headers)"]
[]
[null,null,null,"DELFOR Part Demand"]
[]
[]
[]
[]
[]
[]
[]
[]
[null,null,5,"Refresh the output.",null,"Do a sanity check of the output provided."]
[]
[]
[]
[]
[]
[]
[]
[]
[]
[]
[]
[]
[]
[]
[]
[]
[null,"Semi Auto ",null," Manual input of part demand"]
[]
[]
[null,null,1,null,2]
[null,null,null,"Export the \"Component Level\" table to excel from the qlik app linked below. Remember to filter on the correct supplier number (OC Parma) & MU.",null,"Clear the table in the INPUT QLIK sheet and paste the exported data in cell A2. (Exclude headers)"]
[null,null,null,"PackIT Advanced Search "]
[]
[]
[]
[]
[null,null,3,"Refresh the input. (part number table)","4.","Enter the quantity of parts demanded per year for each Part No."]
[]
[]
[]
[]
[]
[]
[]
[]
[]
[]
[]
[]
[]
[]
[]
[]
[null,null,5,"Refresh the output.","6.","Do a sanity check of the output provided."]

{"sheet":"Input","index":1,"n_rows":1000,"n_cols":2,"rows_kept":1000,"cut":false,"hidden":true,"merged":[]}
["Part No","Qty parts per year"]
[{"$f":"'Tool auto'!#REF!","v":{"$error":"#REF!"}},{"$f":"'Tool auto'!#REF!","v":{"$error":"#REF!"}}]
[{"$f":"'Tool auto'!#REF!","v":{"$error":"#REF!"}},{"$f":"'Tool auto'!#REF!","v":{"$error":"#REF!"}}]
[{"$f":"'Tool auto'!#REF!","v":{"$error":"#REF!"}},{"$f":"'Tool auto'!#REF!","v":{"$error":"#REF!"}}]
[{"$f":"'Tool auto'!#REF!","v":{"$error":"#REF!"}},{"$f":"'Tool auto'!#REF!","v":{"$error":"#REF!"}}]
[{"$f":"'Tool auto'!#REF!","v":{"$error":"#REF!"}},{"$f":"'Tool auto'!#REF!","v":{"$error":"#REF!"}}]
[{"$f":"'Tool auto'!#REF!","v":{"$error":"#REF!"}},{"$f":"'Tool auto'!#REF!","v":{"$error":"#REF!"}}]
[{"$f":"'Tool auto'!#REF!","v":{"$error":"#REF!"}},{"$f":"'Tool auto'!#REF!","v":{"$error":"#REF!"}}]
[{"$f":"'Tool auto'!#REF!","v":{"$error":"#REF!"}},{"$f":"'Tool auto'!#REF!","v":{"$error":"#REF!"}}]
[{"$f":"'Tool auto'!#REF!","v":{"$error":"#REF!"}},{"$f":"'Tool auto'!#REF!","v":{"$error":"#REF!"}}]
[{"$f":"'Tool auto'!#REF!","v":{"$error":"#REF!"}},{"$f":"'Tool auto'!#REF!","v":{"$error":"#REF!"}}]
[{"$f":"'Tool auto'!#REF!","v":{"$error":"#REF!"}},{"$f":"'Tool auto'!#REF!","v":{"$error":"#REF!"}}]
[{"$f":"'Tool auto'!#REF!","v":{"$error":"#REF!"}},{"$f":"'Tool auto'!#REF!","v":{"$error":"#REF!"}}]
[{"$f":"'Tool auto'!#REF!","v":{"$error":"#REF!"}},{"$f":"'Tool auto'!#REF!","v":{"$error":"#REF!"}}]
[{"$f":"'Tool auto'!#REF!","v":{"$error":"#REF!"}},{"$f":"'Tool auto'!#REF!","v":{"$error":"#REF!"}}]
[{"$f":"'Tool auto'!#REF!","v":{"$error":"#REF!"}},{"$f":"'Tool auto'!#REF!","v":{"$error":"#REF!"}}]
[{"$f":"'Tool auto'!#REF!","v":{"$error":"#REF!"}},{"$f":"'Tool auto'!#REF!","v":{"$error":"#REF!"}}]
[{"$f":"'Tool auto'!#REF!","v":{"$error":"#REF!"}},{"$f":"'Tool auto'!#REF!","v":{"$error":"#REF!"}}]
[{"$f":"'Tool auto'!#REF!","v":{"$error":"#REF!"}},{"$f":"'Tool auto'!#REF!","v":{"$error":"#REF!"}}]
[{"$f":"'Tool auto'!#REF!","v":{"$error":"#REF!"}},{"$f":"'Tool auto'!#REF!","v":{"$error":"#REF!"}}]
[{"$f":"'Tool auto'!#REF!","v":{"$error":"#REF!"}},{"$f":"'Tool auto'!#REF!","v":{"$error":"#REF!"}}]
[{"$f":"'Tool auto'!#REF!","v":{"$error":"#REF!"}},{"$f":"'Tool auto'!#REF!","v":{"$error":"#REF!"}}]
[{"$f":"'Tool auto'!#REF!","v":{"$error":"#REF!"}},{"$f":"'Tool auto'!#REF!","v":{"$error":"#REF!"}}]
[{"$f":"'Tool auto'!#REF!","v":{"$error":"#REF!"}},{"$f":"'Tool auto'!#REF!","v":{"$error":"#REF!"}}]
[{"$f":"'Tool auto'!#REF!","v":{"$error":"#REF!"}},{"$f":"'Tool auto'!#REF!","v":{"$error":"#REF!"}}]
[{"$f":"'Tool auto'!#REF!","v":{"$error":"#REF!"}},{"$f":"'Tool auto'!#REF!","v":{"$error":"#REF!"}}]
[{"$f":"'Tool auto'!#REF!","v":{"$error":"#REF!"}},{"$f":"'Tool auto'!#REF!","v":{"$error":"#REF!"}}]
[{"$f":"'Tool auto'!#REF!","v":{"$error":"#REF!"}},{"$f":"'Tool auto'!#REF!","v":{"$error":"#REF!"}}]
[{"$f":"'Tool auto'!#REF!","v":{"$error":"#REF!"}},{"$f":"'Tool auto'!#REF!","v":{"$error":"#REF!"}}]
[{"$f":"'Tool auto'!#REF!","v":{"$error":"#REF!"}},{"$f":"'Tool auto'!#REF!","v":{"$error":"#REF!"}}]
[{"$f":"'Tool auto'!#REF!","v":{"$error":"#REF!"}},{"$f":"'Tool auto'!#REF!","v":{"$error":"#REF!"}}]
[{"$f":"'Tool auto'!#REF!","v":{"$error":"#REF!"}},{"$f":"'Tool auto'!#REF!","v":{"$error":"#REF!"}}]
[{"$f":"'Tool auto'!#REF!","v":{"$error":"#REF!"}},{"$f":"'Tool auto'!#REF!","v":{"$error":"#REF!"}}]
[{"$f":"'Tool auto'!#REF!","v":{"$error":"#REF!"}},{"$f":"'Tool auto'!#REF!","v":{"$error":"#REF!"}}]
[{"$f":"'Tool auto'!#REF!","v":{"$error":"#REF!"}},{"$f":"'Tool auto'!#REF!","v":{"$error":"#REF!"}}]
[{"$f":"'Tool auto'!#REF!","v":{"$error":"#REF!"}},{"$f":"'Tool auto'!#REF!","v":{"$error":"#REF!"}}]
[{"$f":"'Tool auto'!#REF!","v":{"$error":"#REF!"}},{"$f":"'Tool auto'!#REF!","v":{"$error":"#REF!"}}]
[{"$f":"'Tool auto'!#REF!","v":{"$error":"#REF!"}},{"$f":"'Tool auto'!#REF!","v":{"$error":"#REF!"}}]
[{"$f":"'Tool auto'!#REF!","v":{"$error":"#REF!"}},{"$f":"'Tool auto'!#REF!","v":{"$error":"#REF!"}}]
[{"$f":"'Tool auto'!#REF!","v":{"$error":"#REF!"}},{"$f":"'Tool auto'!#REF!","v":{"$error":"#REF!"}}]
[{"$f":"'Tool auto'!#REF!","v":{"$error":"#REF!"}},{"$f":"'Tool auto'!#REF!","v":{"$error":"#REF!"}}]
[{"$f":"'Tool auto'!#REF!","v":{"$error":"#REF!"}},{"$f":"'Tool auto'!#REF!","v":{"$error":"#REF!"}}]
[{"$f":"'Tool auto'!#REF!","v":{"$error":"#REF!"}},{"$f":"'Tool auto'!#REF!","v":{"$error":"#REF!"}}]
[{"$f":"'Tool auto'!#REF!","v":{"$error":"#REF!"}},{"$f":"'Tool auto'!#REF!","v":{"$error":"#REF!"}}]
[{"$f":"'Tool auto'!#REF!","v":{"$error":"#REF!"}},{"$f":"'Tool auto'!#REF!","v":{"$error":"#REF!"}}]
[{"$f":"'Tool auto'!#REF!","v":{"$error":"#REF!"}},{"$f":"'Tool auto'!#REF!","v":{"$error":"#REF!"}}]
[{"$f":"'Tool auto'!#REF!","v":{"$error":"#REF!"}},{"$f":"'Tool auto'!#REF!","v":{"$error":"#REF!"}}]
[{"$f":"'Tool auto'!#REF!","v":{"$error":"#REF!"}},{"$f":"'Tool auto'!#REF!","v":{"$error":"#REF!"}}]
[{"$f":"'Tool auto'!#REF!","v":{"$error":"#REF!"}},{"$f":"'Tool auto'!#REF!","v":{"$error":"#REF!"}}]
[{"$f":"'Tool auto'!#REF!","v":{"$error":"#REF!"}},{"$f":"'Tool auto'!#REF!","v":{"$error":"#REF!"}}]
[{"$f":"'Tool auto'!#REF!","v":{"$error":"#REF!"}},{"$f":"'Tool auto'!#REF!","v":{"$error":"#REF!"}}]
[{"$f":"'Tool auto'!#REF!","v":{"$error":"#REF!"}},{"$f":"'Tool auto'!#REF!","v":{"$error":"#REF!"}}]
[{"$f":"'Tool auto'!#REF!","v":{"$error":"#REF!"}},{"$f":"'Tool auto'!#REF!","v":{"$error":"#REF!"}}]
[{"$f":"'Tool auto'!#REF!","v":{"$error":"#REF!"}},{"$f":"'Tool auto'!#REF!","v":{"$error":"#REF!"}}]
[{"$f":"'Tool auto'!#REF!","v":{"$error":"#REF!"}},{"$f":"'Tool auto'!#REF!","v":{"$error":"#REF!"}}]
[{"$f":"'Tool auto'!#REF!","v":{"$error":"#REF!"}},{"$f":"'Tool auto'!#REF!","v":{"$error":"#REF!"}}]
[{"$f":"'Tool auto'!#REF!","v":{"$error":"#REF!"}},{"$f":"'Tool auto'!#REF!","v":{"$error":"#REF!"}}]
[{"$f":"'Tool auto'!#REF!","v":{"$error":"#REF!"}},{"$f":"'Tool auto'!#REF!","v":{"$error":"#REF!"}}]
[{"$f":"'Tool auto'!#REF!","v":{"$error":"#REF!"}},{"$f":"'Tool auto'!#REF!","v":{"$error":"#REF!"}}]
[{"$f":"'Tool auto'!#REF!","v":{"$error":"#REF!"}},{"$f":"'Tool auto'!#REF!","v":{"$error":"#REF!"}}]
[{"$f":"'Tool auto'!#REF!","v":{"$error":"#REF!"}},{"$f":"'Tool auto'!#REF!","v":{"$error":"#REF!"}}]
[{"$f":"'Tool auto'!#REF!","v":{"$error":"#REF!"}},{"$f":"'Tool auto'!#REF!","v":{"$error":"#REF!"}}]
[{"$f":"'Tool auto'!#REF!","v":{"$error":"#REF!"}},{"$f":"'Tool auto'!#REF!","v":{"$error":"#REF!"}}]
[{"$f":"'Tool auto'!#REF!","v":{"$error":"#REF!"}},{"$f":"'Tool auto'!#REF!","v":{"$error":"#REF!"}}]
[{"$f":"'Tool auto'!#REF!","v":{"$error":"#REF!"}},{"$f":"'Tool auto'!#REF!","v":{"$error":"#REF!"}}]
[{"$f":"'Tool auto'!#REF!","v":{"$error":"#REF!"}},{"$f":"'Tool auto'!#REF!","v":{"$error":"#REF!"}}]
[{"$f":"'Tool auto'!#REF!","v":{"$error":"#REF!"}},{"$f":"'Tool auto'!#REF!","v":{"$error":"#REF!"}}]
[{"$f":"'Tool auto'!#REF!","v":{"$error":"#REF!"}},{"$f":"'Tool auto'!#REF!","v":{"$error":"#REF!"}}]
[{"$f":"'Tool auto'!#REF!","v":{"$error":"#REF!"}},{"$f":"'Tool auto'!#REF!","v":{"$error":"#REF!"}}]
[{"$f":"'Tool auto'!#REF!","v":{"$error":"#REF!"}},{"$f":"'Tool auto'!#REF!","v":{"$error":"#REF!"}}]
[{"$f":"'Tool auto'!#REF!","v":{"$error":"#REF!"}},{"$f":"'Tool auto'!#REF!","v":{"$error":"#REF!"}}]
[{"$f":"'Tool auto'!#REF!","v":{"$error":"#REF!"}},{"$f":"'Tool auto'!#REF!","v":{"$error":"#REF!"}}]
[{"$f":"'Tool auto'!#REF!","v":{"$error":"#REF!"}},{"$f":"'Tool auto'!#REF!","v":{"$error":"#REF!"}}]
[{"$f":"'Tool auto'!#REF!","v":{"$error":"#REF!"}},{"$f":"'Tool auto'!#REF!","v":{"$error":"#REF!"}}]
[{"$f":"'Tool auto'!#REF!","v":{"$error":"#REF!"}},{"$f":"'Tool auto'!#REF!","v":{"$error":"#REF!"}}]
[{"$f":"'Tool auto'!#REF!","v":{"$error":"#REF!"}},{"$f":"'Tool auto'!#REF!","v":{"$error":"#REF!"}}]
[{"$f":"'Tool auto'!D13","v":0},{"$f":"'Tool auto'!#REF!","v":{"$error":"#REF!"}}]
[{"$f":"'Tool auto'!D14","v":0},{"$f":"'Tool auto'!#REF!","v":{"$error":"#REF!"}}]
[{"$f":"'Tool auto'!D15","v":0},{"$f":"'Tool auto'!#REF!","v":{"$error":"#REF!"}}]
[{"$f":"'Tool auto'!D16","v":0},{"$f":"'Tool auto'!#REF!","v":{"$error":"#REF!"}}]
[{"$f":"'Tool auto'!D17","v":0},{"$f":"'Tool auto'!#REF!","v":{"$error":"#REF!"}}]
[{"$f":"'Tool auto'!D18","v":0},{"$f":"'Tool auto'!#REF!","v":{"$error":"#REF!"}}]
[{"$f":"'Tool auto'!D19","v":0},{"$f":"'Tool auto'!#REF!","v":{"$error":"#REF!"}}]
[{"$f":"'Tool auto'!D20","v":0},{"$f":"'Tool auto'!#REF!","v":{"$error":"#REF!"}}]
[{"$f":"'Tool auto'!D21","v":0},{"$f":"'Tool auto'!#REF!","v":{"$error":"#REF!"}}]
[{"$f":"'Tool auto'!D22","v":0},{"$f":"'Tool auto'!#REF!","v":{"$error":"#REF!"}}]
[{"$f":"'Tool auto'!D23","v":0},{"$f":"'Tool auto'!#REF!","v":{"$error":"#REF!"}}]
[{"$f":"'Tool auto'!D24","v":0},{"$f":"'Tool auto'!#REF!","v":{"$error":"#REF!"}}]
[{"$f":"'Tool auto'!D25","v":0},{"$f":"'Tool auto'!#REF!","v":{"$error":"#REF!"}}]
[{"$f":"'Tool auto'!D26","v":0},{"$f":"'Tool auto'!#REF!","v":{"$error":"#REF!"}}]
[{"$f":"'Tool auto'!D27","v":0},{"$f":"'Tool auto'!#REF!","v":{"$error":"#REF!"}}]
[{"$f":"'Tool auto'!D28","v":0},{"$f":"'Tool auto'!#REF!","v":{"$error":"#REF!"}}]
[{"$f":"'Tool auto'!D29","v":0},{"$f":"'Tool auto'!#REF!","v":{"$error":"#REF!"}}]
[{"$f":"'Tool auto'!D30","v":0},{"$f":"'Tool auto'!#REF!","v":{"$error":"#REF!"}}]
[{"$f":"'Tool auto'!D31","v":0},{"$f":"'Tool auto'!#REF!","v":{"$error":"#REF!"}}]
[{"$f":"'Tool auto'!D32","v":0},{"$f":"'Tool auto'!#REF!","v":{"$error":"#REF!"}}]
[{"$f":"'Tool auto'!D33","v":0},{"$f":"'Tool auto'!#REF!","v":{"$error":"#REF!"}}]
[{"$f":"'Tool auto'!D34","v":0},{"$f":"'Tool auto'!#REF!","v":{"$error":"#REF!"}}]
[{"$f":"'Tool auto'!D35","v":0},{"$f":"'Tool auto'!#REF!","v":{"$error":"#REF!"}}]
[{"$f":"'Tool auto'!D36","v":0},{"$f":"'Tool auto'!#REF!","v":{"$error":"#REF!"}}]
[{"$f":"'Tool auto'!D37","v":0},{"$f":"'Tool auto'!#REF!","v":{"$error":"#REF!"}}]
[{"$f":"'Tool auto'!D38","v":0},{"$f":"'Tool auto'!#REF!","v":{"$error":"#REF!"}}]
[{"$f":"'Tool auto'!D39","v":0},{"$f":"'Tool auto'!#REF!","v":{"$error":"#REF!"}}]
[{"$f":"'Tool auto'!D40","v":0},{"$f":"'Tool auto'!#REF!","v":{"$error":"#REF!"}}]
[{"$f":"'Tool auto'!D41","v":0},{"$f":"'Tool auto'!#REF!","v":{"$error":"#REF!"}}]
[{"$f":"'Tool auto'!D42","v":0},{"$f":"'Tool auto'!#REF!","v":{"$error":"#REF!"}}]
[{"$f":"'Tool auto'!D43","v":0},{"$f":"'Tool auto'!#REF!","v":{"$error":"#REF!"}}]
[{"$f":"'Tool auto'!D44","v":0},{"$f":"'Tool auto'!#REF!","v":{"$error":"#REF!"}}]
[{"$f":"'Tool auto'!D45","v":0},{"$f":"'Tool auto'!#REF!","v":{"$error":"#REF!"}}]
[{"$f":"'Tool auto'!D46","v":0},{"$f":"'Tool auto'!#REF!","v":{"$error":"#REF!"}}]
[{"$f":"'Tool auto'!D47","v":0},{"$f":"'Tool auto'!#REF!","v":{"$error":"#REF!"}}]
[{"$f":"'Tool auto'!D48","v":0},{"$f":"'Tool auto'!#REF!","v":{"$error":"#REF!"}}]
[{"$f":"'Tool auto'!D49","v":0},{"$f":"'Tool auto'!#REF!","v":{"$error":"#REF!"}}]
[{"$f":"'Tool auto'!D50","v":0},{"$f":"'Tool auto'!#REF!","v":{"$error":"#REF!"}}]
[{"$f":"'Tool auto'!D51","v":0},{"$f":"'Tool auto'!#REF!","v":{"$error":"#REF!"}}]
[{"$f":"'Tool auto'!D52","v":0},{"$f":"'Tool auto'!#REF!","v":{"$error":"#REF!"}}]
[{"$f":"'Tool auto'!D53","v":0},{"$f":"'Tool auto'!#REF!","v":{"$error":"#REF!"}}]
[{"$f":"'Tool auto'!D54","v":0},{"$f":"'Tool auto'!#REF!","v":{"$error":"#REF!"}}]
[{"$f":"'Tool auto'!D55","v":0},{"$f":"'Tool auto'!#REF!","v":{"$error":"#REF!"}}]
[{"$f":"'Tool auto'!D56","v":0},{"$f":"'Tool auto'!#REF!","v":{"$error":"#REF!"}}]
[{"$f":"'Tool auto'!D57","v":0},{"$f":"'Tool auto'!#REF!","v":{"$error":"#REF!"}}]
[{"$f":"'Tool auto'!D58","v":0},{"$f":"'Tool auto'!#REF!","v":{"$error":"#REF!"}}]
[{"$f":"'Tool auto'!D59","v":0},{"$f":"'Tool auto'!#REF!","v":{"$error":"#REF!"}}]
[{"$f":"'Tool auto'!D60","v":0},{"$f":"'Tool auto'!#REF!","v":{"$error":"#REF!"}}]
[{"$f":"'Tool auto'!D61","v":0},{"$f":"'Tool auto'!#REF!","v":{"$error":"#REF!"}}]
[{"$f":"'Tool auto'!D62","v":0},{"$f":"'Tool auto'!#REF!","v":{"$error":"#REF!"}}]
[{"$f":"'Tool auto'!D63","v":0},{"$f":"'Tool auto'!#REF!","v":{"$error":"#REF!"}}]
[{"$f":"'Tool auto'!D64","v":0},{"$f":"'Tool auto'!#REF!","v":{"$error":"#REF!"}}]
[{"$f":"'Tool auto'!D65","v":0},{"$f":"'Tool auto'!#REF!","v":{"$error":"#REF!"}}]
[{"$f":"'Tool auto'!D66","v":0},{"$f":"'Tool auto'!#REF!","v":{"$error":"#REF!"}}]
[{"$f":"'Tool auto'!D67","v":0},{"$f":"'Tool auto'!#REF!","v":{"$error":"#REF!"}}]
[{"$f":"'Tool auto'!D68","v":0},{"$f":"'Tool auto'!#REF!","v":{"$error":"#REF!"}}]
[{"$f":"'Tool auto'!D69","v":0},{"$f":"'Tool auto'!#REF!","v":{"$error":"#REF!"}}]
[{"$f":"'Tool auto'!D70","v":0},{"$f":"'Tool auto'!#REF!","v":{"$error":"#REF!"}}]
[{"$f":"'Tool auto'!D71","v":0},{"$f":"'Tool auto'!#REF!","v":{"$error":"#REF!"}}]
[{"$f":"'Tool auto'!D72","v":0},{"$f":"'Tool auto'!#REF!","v":{"$error":"#REF!"}}]
[{"$f":"'Tool auto'!D73","v":0},{"$f":"'Tool auto'!#REF!","v":{"$error":"#REF!"}}]
[{"$f":"'Tool auto'!D74","v":0},{"$f":"'Tool auto'!#REF!","v":{"$error":"#REF!"}}]
[{"$f":"'Tool auto'!D75","v":0},{"$f":"'Tool auto'!#REF!","v":{"$error":"#REF!"}}]
[{"$f":"'Tool auto'!D76","v":0},{"$f":"'Tool auto'!#REF!","v":{"$error":"#REF!"}}]
[{"$f":"'Tool auto'!D77","v":0},{"$f":"'Tool auto'!#REF!","v":{"$error":"#REF!"}}]
[{"$f":"'Tool auto'!D78","v":0},{"$f":"'Tool auto'!#REF!","v":{"$error":"#REF!"}}]
[{"$f":"'Tool auto'!D79","v":0},{"$f":"'Tool auto'!#REF!","v":{"$error":"#REF!"}}]
[{"$f":"'Tool auto'!D80","v":0},{"$f":"'Tool auto'!#REF!","v":{"$error":"#REF!"}}]
[{"$f":"'Tool auto'!D81","v":0},{"$f":"'Tool auto'!#REF!","v":{"$error":"#REF!"}}]
[{"$f":"'Tool auto'!D82","v":0},{"$f":"'Tool auto'!#REF!","v":{"$error":"#REF!"}}]
[{"$f":"'Tool auto'!D83","v":0},{"$f":"'Tool auto'!#REF!","v":{"$error":"#REF!"}}]
[{"$f":"'Tool auto'!D84","v":0},{"$f":"'Tool auto'!#REF!","v":{"$error":"#REF!"}}]
[{"$f":"'Tool auto'!D85","v":0},{"$f":"'Tool auto'!#REF!","v":{"$error":"#REF!"}}]
[{"$f":"'Tool auto'!D86","v":0},{"$f":"'Tool auto'!#REF!","v":{"$error":"#REF!"}}]
[{"$f":"'Tool auto'!D87","v":0},{"$f":"'Tool auto'!#REF!","v":{"$error":"#REF!"}}]
[{"$f":"'Tool auto'!D88","v":0},{"$f":"'Tool auto'!#REF!","v":{"$error":"#REF!"}}]
[{"$f":"'Tool auto'!D89","v":0},{"$f":"'Tool auto'!#REF!","v":{"$error":"#REF!"}}]
[{"$f":"'Tool auto'!D90","v":0},{"$f":"'Tool auto'!#REF!","v":{"$error":"#REF!"}}]
[{"$f":"'Tool auto'!D91","v":0},{"$f":"'Tool auto'!#REF!","v":{"$error":"#REF!"}}]
[{"$f":"'Tool auto'!D92","v":0},{"$f":"'Tool auto'!#REF!","v":{"$error":"#REF!"}}]
[{"$f":"'Tool auto'!D93","v":0},{"$f":"'Tool auto'!#REF!","v":{"$error":"#REF!"}}]
[{"$f":"'Tool auto'!D94","v":0},{"$f":"'Tool auto'!#REF!","v":{"$error":"#REF!"}}]
[{"$f":"'Tool auto'!D95","v":0},{"$f":"'Tool auto'!#REF!","v":{"$error":"#REF!"}}]
[{"$f":"'Tool auto'!D96","v":0},{"$f":"'Tool auto'!#REF!","v":{"$error":"#REF!"}}]
[{"$f":"'Tool auto'!D97","v":0},{"$f":"'Tool auto'!#REF!","v":{"$error":"#REF!"}}]
[{"$f":"'Tool auto'!D98","v":0},{"$f":"'Tool auto'!#REF!","v":{"$error":"#REF!"}}]
[{"$f":"'Tool auto'!D99","v":0},{"$f":"'Tool auto'!#REF!","v":{"$error":"#REF!"}}]
[{"$f":"'Tool auto'!D100","v":0},{"$f":"'Tool auto'!#REF!","v":{"$error":"#REF!"}}]
[{"$f":"'Tool auto'!D101","v":0},{"$f":"'Tool auto'!#REF!","v":{"$error":"#REF!"}}]
[{"$f":"'Tool auto'!D102","v":0},{"$f":"'Tool auto'!#REF!","v":{"$error":"#REF!"}}]
[{"$f":"'Tool auto'!D103","v":0},{"$f":"'Tool auto'!#REF!","v":{"$error":"#REF!"}}]
[{"$f":"'Tool auto'!D104","v":0},{"$f":"'Tool auto'!#REF!","v":{"$error":"#REF!"}}]
[{"$f":"'Tool auto'!D105","v":0},{"$f":"'Tool auto'!#REF!","v":{"$error":"#REF!"}}]
[{"$f":"'Tool auto'!D106","v":0},{"$f":"'Tool auto'!#REF!","v":{"$error":"#REF!"}}]
[{"$f":"'Tool auto'!D107","v":0},{"$f":"'Tool auto'!#REF!","v":{"$error":"#REF!"}}]
[{"$f":"'Tool auto'!D108","v":0},{"$f":"'Tool auto'!#REF!","v":{"$error":"#REF!"}}]
[{"$f":"'Tool auto'!D109","v":0},{"$f":"'Tool auto'!#REF!","v":{"$error":"#REF!"}}]
[{"$f":"'Tool auto'!D110","v":0},{"$f":"'Tool auto'!#REF!","v":{"$error":"#REF!"}}]
[{"$f":"'Tool auto'!D111","v":0},{"$f":"'Tool auto'!#REF!","v":{"$error":"#REF!"}}]
[{"$f":"'Tool auto'!D112","v":0},{"$f":"'Tool auto'!#REF!","v":{"$error":"#REF!"}}]
[{"$f":"'Tool auto'!D113","v":0},{"$f":"'Tool auto'!#REF!","v":{"$error":"#REF!"}}]
[{"$f":"'Tool auto'!D114","v":0},{"$f":"'Tool auto'!#REF!","v":{"$error":"#REF!"}}]
[{"$f":"'Tool auto'!D115","v":0},{"$f":"'Tool auto'!#REF!","v":{"$error":"#REF!"}}]
[{"$f":"'Tool auto'!D116","v":0},{"$f":"'Tool auto'!#REF!","v":{"$error":"#REF!"}}]
[{"$f":"'Tool auto'!D117","v":0},{"$f":"'Tool auto'!#REF!","v":{"$error":"#REF!"}}]
[{"$f":"'Tool auto'!D118","v":0},{"$f":"'Tool auto'!#REF!","v":{"$error":"#REF!"}}]
[{"$f":"'Tool auto'!D119","v":0},{"$f":"'Tool auto'!#REF!","v":{"$error":"#REF!"}}]
[{"$f":"'Tool auto'!D120","v":0},{"$f":"'Tool auto'!#REF!","v":{"$error":"#REF!"}}]
[{"$f":"'Tool auto'!D121","v":0},{"$f":"'Tool auto'!#REF!","v":{"$error":"#REF!"}}]
[{"$f":"'Tool auto'!D122","v":0},{"$f":"'Tool auto'!#REF!","v":{"$error":"#REF!"}}]
[{"$f":"'Tool auto'!D123","v":0},{"$f":"'Tool auto'!#REF!","v":{"$error":"#REF!"}}]
[{"$f":"'Tool auto'!D124","v":0},{"$f":"'Tool auto'!#REF!","v":{"$error":"#REF!"}}]
[{"$f":"'Tool auto'!D125","v":0},{"$f":"'Tool auto'!#REF!","v":{"$error":"#REF!"}}]
[{"$f":"'Tool auto'!D126","v":0},{"$f":"'Tool auto'!#REF!","v":{"$error":"#REF!"}}]
[{"$f":"'Tool auto'!D127","v":0},{"$f":"'Tool auto'!#REF!","v":{"$error":"#REF!"}}]
[{"$f":"'Tool auto'!D128","v":0},{"$f":"'Tool auto'!#REF!","v":{"$error":"#REF!"}}]
[{"$f":"'Tool auto'!D129","v":0},{"$f":"'Tool auto'!#REF!","v":{"$error":"#REF!"}}]
[{"$f":"'Tool auto'!D130","v":0},{"$f":"'Tool auto'!#REF!","v":{"$error":"#REF!"}}]
[{"$f":"'Tool auto'!D131","v":0},{"$f":"'Tool auto'!#REF!","v":{"$error":"#REF!"}}]
[{"$f":"'Tool auto'!D132","v":0},{"$f":"'Tool auto'!#REF!","v":{"$error":"#REF!"}}]
[{"$f":"'Tool auto'!D133","v":0},{"$f":"'Tool auto'!#REF!","v":{"$error":"#REF!"}}]
[{"$f":"'Tool auto'!D134","v":0},{"$f":"'Tool auto'!#REF!","v":{"$error":"#REF!"}}]
[{"$f":"'Tool auto'!D135","v":0},{"$f":"'Tool auto'!#REF!","v":{"$error":"#REF!"}}]
[{"$f":"'Tool auto'!D136","v":0},{"$f":"'Tool auto'!#REF!","v":{"$error":"#REF!"}}]
[{"$f":"'Tool auto'!D137","v":0},{"$f":"'Tool auto'!#REF!","v":{"$error":"#REF!"}}]
[{"$f":"'Tool auto'!D138","v":0},{"$f":"'Tool auto'!#REF!","v":{"$error":"#REF!"}}]
[{"$f":"'Tool auto'!D139","v":0},{"$f":"'Tool auto'!#REF!","v":{"$error":"#REF!"}}]
[{"$f":"'Tool auto'!D140","v":0},{"$f":"'Tool auto'!#REF!","v":{"$error":"#REF!"}}]
[{"$f":"'Tool auto'!D141","v":0},{"$f":"'Tool auto'!#REF!","v":{"$error":"#REF!"}}]
[{"$f":"'Tool auto'!D142","v":0},{"$f":"'Tool auto'!#REF!","v":{"$error":"#REF!"}}]
[{"$f":"'Tool auto'!D143","v":0},{"$f":"'Tool auto'!#REF!","v":{"$error":"#REF!"}}]
[{"$f":"'Tool auto'!D144","v":0},{"$f":"'Tool auto'!#REF!","v":{"$error":"#REF!"}}]
[{"$f":"'Tool auto'!D145","v":0},{"$f":"'Tool auto'!#REF!","v":{"$error":"#REF!"}}]
[{"$f":"'Tool auto'!D146","v":0},{"$f":"'Tool auto'!#REF!","v":{"$error":"#REF!"}}]
[{"$f":"'Tool auto'!D147","v":0},{"$f":"'Tool auto'!#REF!","v":{"$error":"#REF!"}}]
[{"$f":"'Tool auto'!D148","v":0},{"$f":"'Tool auto'!#REF!","v":{"$error":"#REF!"}}]
[{"$f":"'Tool auto'!D149","v":0},{"$f":"'Tool auto'!#REF!","v":{"$error":"#REF!"}}]
[{"$f":"'Tool auto'!D150","v":0},{"$f":"'Tool auto'!#REF!","v":{"$error":"#REF!"}}]
[{"$f":"'Tool auto'!D151","v":0},{"$f":"'Tool auto'!#REF!","v":{"$error":"#REF!"}}]
[{"$f":"'Tool auto'!D152","v":0},{"$f":"'Tool auto'!#REF!","v":{"$error":"#REF!"}}]
[{"$f":"'Tool auto'!D153","v":0},{"$f":"'Tool auto'!#REF!","v":{"$error":"#REF!"}}]
[{"$f":"'Tool auto'!D154","v":0},{"$f":"'Tool auto'!#REF!","v":{"$error":"#REF!"}}]
[{"$f":"'Tool auto'!D155","v":0},{"$f":"'Tool auto'!#REF!","v":{"$error":"#REF!"}}]
[{"$f":"'Tool auto'!D156","v":0},{"$f":"'Tool auto'!#REF!","v":{"$error":"#REF!"}}]
[{"$f":"'Tool auto'!D157","v":0},{"$f":"'Tool auto'!#REF!","v":{"$error":"#REF!"}}]
[{"$f":"'Tool auto'!D158","v":0},{"$f":"'Tool auto'!#REF!","v":{"$error":"#REF!"}}]
[{"$f":"'Tool auto'!D159","v":0},{"$f":"'Tool auto'!#REF!","v":{"$error":"#REF!"}}]
[{"$f":"'Tool auto'!D160","v":0},{"$f":"'Tool auto'!#REF!","v":{"$error":"#REF!"}}]
[{"$f":"'Tool auto'!D161","v":0},{"$f":"'Tool auto'!#REF!","v":{"$error":"#REF!"}}]
[{"$f":"'Tool auto'!D162","v":0},{"$f":"'Tool auto'!#REF!","v":{"$error":"#REF!"}}]
[{"$f":"'Tool auto'!D163","v":0},{"$f":"'Tool auto'!#REF!","v":{"$error":"#REF!"}}]
[{"$f":"'Tool auto'!D164","v":0},{"$f":"'Tool auto'!#REF!","v":{"$error":"#REF!"}}]
[{"$f":"'Tool auto'!D165","v":0},{"$f":"'Tool auto'!#REF!","v":{"$error":"#REF!"}}]
[{"$f":"'Tool auto'!D166","v":0},{"$f":"'Tool auto'!#REF!","v":{"$error":"#REF!"}}]
[{"$f":"'Tool auto'!D167","v":0},{"$f":"'Tool auto'!#REF!","v":{"$error":"#REF!"}}]
[{"$f":"'Tool auto'!D168","v":0},{"$f":"'Tool auto'!#REF!","v":{"$error":"#REF!"}}]
[{"$f":"'Tool auto'!D169","v":0},{"$f":"'Tool auto'!#REF!","v":{"$error":"#REF!"}}]
[{"$f":"'Tool auto'!D170","v":0},{"$f":"'Tool auto'!#REF!","v":{"$error":"#REF!"}}]
[{"$f":"'Tool auto'!D171","v":0},{"$f":"'Tool auto'!#REF!","v":{"$error":"#REF!"}}]
[{"$f":"'Tool auto'!D172","v":0},{"$f":"'Tool auto'!#REF!","v":{"$error":"#REF!"}}]
[{"$f":"'Tool auto'!D173","v":0},{"$f":"'Tool auto'!#REF!","v":{"$error":"#REF!"}}]
[{"$f":"'Tool auto'!D174","v":0},{"$f":"'Tool auto'!#REF!","v":{"$error":"#REF!"}}]
[{"$f":"'Tool auto'!D175","v":0},{"$f":"'Tool auto'!#REF!","v":{"$error":"#REF!"}}]
[{"$f":"'Tool auto'!D176","v":0},{"$f":"'Tool auto'!#REF!","v":{"$error":"#REF!"}}]
[{"$f":"'Tool auto'!D177","v":0},{"$f":"'Tool auto'!#REF!","v":{"$error":"#REF!"}}]
[{"$f":"'Tool auto'!D178","v":0},{"$f":"'Tool auto'!#REF!","v":{"$error":"#REF!"}}]
[{"$f":"'Tool auto'!D179","v":0},{"$f":"'Tool auto'!#REF!","v":{"$error":"#REF!"}}]
[{"$f":"'Tool auto'!D180","v":0},{"$f":"'Tool auto'!#REF!","v":{"$error":"#REF!"}}]
[{"$f":"'Tool auto'!D181","v":0},{"$f":"'Tool auto'!#REF!","v":{"$error":"#REF!"}}]
[{"$f":"'Tool auto'!D182","v":0},{"$f":"'Tool auto'!#REF!","v":{"$error":"#REF!"}}]
[{"$f":"'Tool auto'!D183","v":0},{"$f":"'Tool auto'!#REF!","v":{"$error":"#REF!"}}]
[{"$f":"'Tool auto'!D184","v":0},{"$f":"'Tool auto'!#REF!","v":{"$error":"#REF!"}}]
[{"$f":"'Tool auto'!D185","v":0},{"$f":"'Tool auto'!#REF!","v":{"$error":"#REF!"}}]
[{"$f":"'Tool auto'!D186","v":0},{"$f":"'Tool auto'!#REF!","v":{"$error":"#REF!"}}]
[{"$f":"'Tool auto'!D187","v":0},{"$f":"'Tool auto'!#REF!","v":{"$error":"#REF!"}}]
[{"$f":"'Tool auto'!D188","v":0},{"$f":"'Tool auto'!#REF!","v":{"$error":"#REF!"}}]
[{"$f":"'Tool auto'!D189","v":0},{"$f":"'Tool auto'!#REF!","v":{"$error":"#REF!"}}]
[{"$f":"'Tool auto'!D190","v":0},{"$f":"'Tool auto'!#REF!","v":{"$error":"#REF!"}}]
[{"$f":"'Tool auto'!D191","v":0},{"$f":"'Tool auto'!#REF!","v":{"$error":"#REF!"}}]
[{"$f":"'Tool auto'!D192","v":0},{"$f":"'Tool auto'!#REF!","v":{"$error":"#REF!"}}]
[{"$f":"'Tool auto'!D193","v":0},{"$f":"'Tool auto'!#REF!","v":{"$error":"#REF!"}}]
[{"$f":"'Tool auto'!D194","v":0},{"$f":"'Tool auto'!#REF!","v":{"$error":"#REF!"}}]
[{"$f":"'Tool auto'!D195","v":0},{"$f":"'Tool auto'!#REF!","v":{"$error":"#REF!"}}]
[{"$f":"'Tool auto'!D196","v":0},{"$f":"'Tool auto'!#REF!","v":{"$error":"#REF!"}}]
[{"$f":"'Tool auto'!D197","v":0},{"$f":"'Tool auto'!#REF!","v":{"$error":"#REF!"}}]
[{"$f":"'Tool auto'!D198","v":0},{"$f":"'Tool auto'!#REF!","v":{"$error":"#REF!"}}]
[{"$f":"'Tool auto'!D199","v":0},{"$f":"'Tool auto'!#REF!","v":{"$error":"#REF!"}}]
[{"$f":"'Tool auto'!D200","v":0},{"$f":"'Tool auto'!#REF!","v":{"$error":"#REF!"}}]
[{"$f":"'Tool auto'!D201","v":0},{"$f":"'Tool auto'!#REF!","v":{"$error":"#REF!"}}]
[{"$f":"'Tool auto'!D202","v":0},{"$f":"'Tool auto'!#REF!","v":{"$error":"#REF!"}}]
[{"$f":"'Tool auto'!D203","v":0},{"$f":"'Tool auto'!#REF!","v":{"$error":"#REF!"}}]
[{"$f":"'Tool auto'!D204","v":0},{"$f":"'Tool auto'!#REF!","v":{"$error":"#REF!"}}]
[{"$f":"'Tool auto'!D205","v":0},{"$f":"'Tool auto'!#REF!","v":{"$error":"#REF!"}}]
[{"$f":"'Tool auto'!D206","v":0},{"$f":"'Tool auto'!#REF!","v":{"$error":"#REF!"}}]
[{"$f":"'Tool auto'!D207","v":0},{"$f":"'Tool auto'!#REF!","v":{"$error":"#REF!"}}]
[{"$f":"'Tool auto'!D208","v":0},{"$f":"'Tool auto'!#REF!","v":{"$error":"#REF!"}}]
[{"$f":"'Tool auto'!D209","v":0},{"$f":"'Tool auto'!#REF!","v":{"$error":"#REF!"}}]
[{"$f":"'Tool auto'!D210","v":0},{"$f":"'Tool auto'!#REF!","v":{"$error":"#REF!"}}]
[{"$f":"'Tool auto'!D211","v":0},{"$f":"'Tool auto'!#REF!","v":{"$error":"#REF!"}}]
[{"$f":"'Tool auto'!D212","v":0},{"$f":"'Tool auto'!#REF!","v":{"$error":"#REF!"}}]
[{"$f":"'Tool auto'!D213","v":0},{"$f":"'Tool auto'!#REF!","v":{"$error":"#REF!"}}]
[{"$f":"'Tool auto'!D214","v":0},{"$f":"'Tool auto'!#REF!","v":{"$error":"#REF!"}}]
[{"$f":"'Tool auto'!D215","v":0},{"$f":"'Tool auto'!#REF!","v":{"$error":"#REF!"}}]
[{"$f":"'Tool auto'!D216","v":0},{"$f":"'Tool auto'!#REF!","v":{"$error":"#REF!"}}]
[{"$f":"'Tool auto'!D217","v":0},{"$f":"'Tool auto'!#REF!","v":{"$error":"#REF!"}}]
[{"$f":"'Tool auto'!D218","v":0},{"$f":"'Tool auto'!#REF!","v":{"$error":"#REF!"}}]
[{"$f":"'Tool auto'!D219","v":0},{"$f":"'Tool auto'!#REF!","v":{"$error":"#REF!"}}]
[{"$f":"'Tool auto'!D220","v":0},{"$f":"'Tool auto'!#REF!","v":{"$error":"#REF!"}}]
[{"$f":"'Tool auto'!D221","v":0},{"$f":"'Tool auto'!#REF!","v":{"$error":"#REF!"}}]
[{"$f":"'Tool auto'!D222","v":0},{"$f":"'Tool auto'!#REF!","v":{"$error":"#REF!"}}]
[{"$f":"'Tool auto'!D223","v":0},{"$f":"'Tool auto'!#REF!","v":{"$error":"#REF!"}}]
[{"$f":"'Tool auto'!D224","v":0},{"$f":"'Tool auto'!#REF!","v":{"$error":"#REF!"}}]
[{"$f":"'Tool auto'!D225","v":0},{"$f":"'Tool auto'!#REF!","v":{"$error":"#REF!"}}]
[{"$f":"'Tool auto'!D226","v":0},{"$f":"'Tool auto'!#REF!","v":{"$error":"#REF!"}}]
[{"$f":"'Tool auto'!D227","v":0},{"$f":"'Tool auto'!#REF!","v":{"$error":"#REF!"}}]
[{"$f":"'Tool auto'!D228","v":0},{"$f":"'Tool auto'!#REF!","v":{"$error":"#REF!"}}]
[{"$f":"'Tool auto'!D229","v":0},{"$f":"'Tool auto'!#REF!","v":{"$error":"#REF!"}}]
[{"$f":"'Tool auto'!D230","v":0},{"$f":"'Tool auto'!#REF!","v":{"$error":"#REF!"}}]
[{"$f":"'Tool auto'!D231","v":0},{"$f":"'Tool auto'!#REF!","v":{"$error":"#REF!"}}]
[{"$f":"'Tool auto'!D232","v":0},{"$f":"'Tool auto'!#REF!","v":{"$error":"#REF!"}}]
[{"$f":"'Tool auto'!D233","v":0},{"$f":"'Tool auto'!#REF!","v":{"$error":"#REF!"}}]
[{"$f":"'Tool auto'!D234","v":0},{"$f":"'Tool auto'!#REF!","v":{"$error":"#REF!"}}]
[{"$f":"'Tool auto'!D235","v":0},{"$f":"'Tool auto'!#REF!","v":{"$error":"#REF!"}}]
[{"$f":"'Tool auto'!D236","v":0},{"$f":"'Tool auto'!#REF!","v":{"$error":"#REF!"}}]
[{"$f":"'Tool auto'!D237","v":0},{"$f":"'Tool auto'!#REF!","v":{"$error":"#REF!"}}]
[{"$f":"'Tool auto'!D238","v":0},{"$f":"'Tool auto'!#REF!","v":{"$error":"#REF!"}}]
[{"$f":"'Tool auto'!D239","v":0},{"$f":"'Tool auto'!#REF!","v":{"$error":"#REF!"}}]
[{"$f":"'Tool auto'!D240","v":0},{"$f":"'Tool auto'!#REF!","v":{"$error":"#REF!"}}]
[{"$f":"'Tool auto'!D241","v":0},{"$f":"'Tool auto'!#REF!","v":{"$error":"#REF!"}}]
[{"$f":"'Tool auto'!D242","v":0},{"$f":"'Tool auto'!#REF!","v":{"$error":"#REF!"}}]
[{"$f":"'Tool auto'!D243","v":0},{"$f":"'Tool auto'!#REF!","v":{"$error":"#REF!"}}]
[{"$f":"'Tool auto'!D244","v":0},{"$f":"'Tool auto'!#REF!","v":{"$error":"#REF!"}}]
[{"$f":"'Tool auto'!D245","v":0},{"$f":"'Tool auto'!#REF!","v":{"$error":"#REF!"}}]
[{"$f":"'Tool auto'!D246","v":0},{"$f":"'Tool auto'!#REF!","v":{"$error":"#REF!"}}]
[{"$f":"'Tool auto'!D247","v":0},{"$f":"'Tool auto'!#REF!","v":{"$error":"#REF!"}}]
[{"$f":"'Tool auto'!D248","v":0},{"$f":"'Tool auto'!#REF!","v":{"$error":"#REF!"}}]
[{"$f":"'Tool auto'!D249","v":0},{"$f":"'Tool auto'!#REF!","v":{"$error":"#REF!"}}]
[{"$f":"'Tool auto'!D250","v":0},{"$f":"'Tool auto'!#REF!","v":{"$error":"#REF!"}}]
[{"$f":"'Tool auto'!D251","v":0},{"$f":"'Tool auto'!#REF!","v":{"$error":"#REF!"}}]
[{"$f":"'Tool auto'!D252","v":0},{"$f":"'Tool auto'!#REF!","v":{"$error":"#REF!"}}]
[{"$f":"'Tool auto'!D253","v":0},{"$f":"'Tool auto'!#REF!","v":{"$error":"#REF!"}}]
[{"$f":"'Tool auto'!D254","v":0},{"$f":"'Tool auto'!#REF!","v":{"$error":"#REF!"}}]
[{"$f":"'Tool auto'!D255","v":0},{"$f":"'Tool auto'!#REF!","v":{"$error":"#REF!"}}]
[{"$f":"'Tool auto'!D256","v":0},{"$f":"'Tool auto'!#REF!","v":{"$error":"#REF!"}}]
[{"$f":"'Tool auto'!D257","v":0},{"$f":"'Tool auto'!#REF!","v":{"$error":"#REF!"}}]
[{"$f":"'Tool auto'!D258","v":0},{"$f":"'Tool auto'!#REF!","v":{"$error":"#REF!"}}]
[{"$f":"'Tool auto'!D259","v":0},{"$f":"'Tool auto'!#REF!","v":{"$error":"#REF!"}}]
[{"$f":"'Tool auto'!D260","v":0},{"$f":"'Tool auto'!#REF!","v":{"$error":"#REF!"}}]
[{"$f":"'Tool auto'!D261","v":0},{"$f":"'Tool auto'!#REF!","v":{"$error":"#REF!"}}]
[{"$f":"'Tool auto'!D262","v":0},{"$f":"'Tool auto'!#REF!","v":{"$error":"#REF!"}}]
[{"$f":"'Tool auto'!D263","v":0},{"$f":"'Tool auto'!#REF!","v":{"$error":"#REF!"}}]
[{"$f":"'Tool auto'!D264","v":0},{"$f":"'Tool auto'!#REF!","v":{"$error":"#REF!"}}]
[{"$f":"'Tool auto'!D265","v":0},{"$f":"'Tool auto'!#REF!","v":{"$error":"#REF!"}}]
[{"$f":"'Tool auto'!D266","v":0},{"$f":"'Tool auto'!#REF!","v":{"$error":"#REF!"}}]
[{"$f":"'Tool auto'!D267","v":0},{"$f":"'Tool auto'!#REF!","v":{"$error":"#REF!"}}]
[{"$f":"'Tool auto'!D268","v":0},{"$f":"'Tool auto'!#REF!","v":{"$error":"#REF!"}}]
[{"$f":"'Tool auto'!D269","v":0},{"$f":"'Tool auto'!#REF!","v":{"$error":"#REF!"}}]
[{"$f":"'Tool auto'!D270","v":0},{"$f":"'Tool auto'!#REF!","v":{"$error":"#REF!"}}]
[{"$f":"'Tool auto'!D271","v":0},{"$f":"'Tool auto'!#REF!","v":{"$error":"#REF!"}}]
[{"$f":"'Tool auto'!D272","v":0},{"$f":"'Tool auto'!#REF!","v":{"$error":"#REF!"}}]
[{"$f":"'Tool auto'!D273","v":0},{"$f":"'Tool auto'!#REF!","v":{"$error":"#REF!"}}]
[{"$f":"'Tool auto'!D274","v":0},{"$f":"'Tool auto'!#REF!","v":{"$error":"#REF!"}}]
[{"$f":"'Tool auto'!D275","v":0},{"$f":"'Tool auto'!#REF!","v":{"$error":"#REF!"}}]
[{"$f":"'Tool auto'!D276","v":0},{"$f":"'Tool auto'!#REF!","v":{"$error":"#REF!"}}]
[{"$f":"'Tool auto'!D277","v":0},{"$f":"'Tool auto'!#REF!","v":{"$error":"#REF!"}}]
[{"$f":"'Tool auto'!D278","v":0},{"$f":"'Tool auto'!#REF!","v":{"$error":"#REF!"}}]
[{"$f":"'Tool auto'!D279","v":0},{"$f":"'Tool auto'!#REF!","v":{"$error":"#REF!"}}]
[{"$f":"'Tool auto'!D280","v":0},{"$f":"'Tool auto'!#REF!","v":{"$error":"#REF!"}}]
[{"$f":"'Tool auto'!D281","v":0},{"$f":"'Tool auto'!#REF!","v":{"$error":"#REF!"}}]
[{"$f":"'Tool auto'!D282","v":0},{"$f":"'Tool auto'!#REF!","v":{"$error":"#REF!"}}]
[{"$f":"'Tool auto'!D283","v":0},{"$f":"'Tool auto'!#REF!","v":{"$error":"#REF!"}}]
[{"$f":"'Tool auto'!D284","v":0},{"$f":"'Tool auto'!#REF!","v":{"$error":"#REF!"}}]
[{"$f":"'Tool auto'!D285","v":0},{"$f":"'Tool auto'!#REF!","v":{"$error":"#REF!"}}]
[{"$f":"'Tool auto'!D286","v":0},{"$f":"'Tool auto'!#REF!","v":{"$error":"#REF!"}}]
[{"$f":"'Tool auto'!D287","v":0},{"$f":"'Tool auto'!#REF!","v":{"$error":"#REF!"}}]
[{"$f":"'Tool auto'!D288","v":0},{"$f":"'Tool auto'!#REF!","v":{"$error":"#REF!"}}]
[{"$f":"'Tool auto'!D289","v":0},{"$f":"'Tool auto'!#REF!","v":{"$error":"#REF!"}}]
[{"$f":"'Tool auto'!D290","v":0},{"$f":"'Tool auto'!#REF!","v":{"$error":"#REF!"}}]
[{"$f":"'Tool auto'!D291","v":0},{"$f":"'Tool auto'!#REF!","v":{"$error":"#REF!"}}]
[{"$f":"'Tool auto'!D292","v":0},{"$f":"'Tool auto'!#REF!","v":{"$error":"#REF!"}}]
[{"$f":"'Tool auto'!D293","v":0},{"$f":"'Tool auto'!#REF!","v":{"$error":"#REF!"}}]
[{"$f":"'Tool auto'!D294","v":0},{"$f":"'Tool auto'!#REF!","v":{"$error":"#REF!"}}]
[{"$f":"'Tool auto'!D295","v":0},{"$f":"'Tool auto'!#REF!","v":{"$error":"#REF!"}}]
[{"$f":"'Tool auto'!D296","v":0},{"$f":"'Tool auto'!#REF!","v":{"$error":"#REF!"}}]
[{"$f":"'Tool auto'!D297","v":0},{"$f":"'Tool auto'!#REF!","v":{"$error":"#REF!"}}]
[{"$f":"'Tool auto'!D298","v":0},{"$f":"'Tool auto'!#REF!","v":{"$error":"#REF!"}}]
[{"$f":"'Tool auto'!D299","v":0},{"$f":"'Tool auto'!#REF!","v":{"$error":"#REF!"}}]
[{"$f":"'Tool auto'!D300","v":0},{"$f":"'Tool auto'!#REF!","v":{"$error":"#REF!"}}]
[{"$f":"'Tool auto'!D301","v":0},{"$f":"'Tool auto'!#REF!","v":{"$error":"#REF!"}}]
[{"$f":"'Tool auto'!D302","v":0},{"$f":"'Tool auto'!#REF!","v":{"$error":"#REF!"}}]
[{"$f":"'Tool auto'!D303","v":0},{"$f":"'Tool auto'!#REF!","v":{"$error":"#REF!"}}]
[{"$f":"'Tool auto'!D304","v":0},{"$f":"'Tool auto'!#REF!","v":{"$error":"#REF!"}}]
[{"$f":"'Tool auto'!D305","v":0},{"$f":"'Tool auto'!#REF!","v":{"$error":"#REF!"}}]
[{"$f":"'Tool auto'!D306","v":0},{"$f":"'Tool auto'!#REF!","v":{"$error":"#REF!"}}]
[{"$f":"'Tool auto'!D307","v":0},{"$f":"'Tool auto'!#REF!","v":{"$error":"#REF!"}}]
[{"$f":"'Tool auto'!D308","v":0},{"$f":"'Tool auto'!#REF!","v":{"$error":"#REF!"}}]
[{"$f":"'Tool auto'!D309","v":0},{"$f":"'Tool auto'!#REF!","v":{"$error":"#REF!"}}]
[{"$f":"'Tool auto'!D310","v":0},{"$f":"'Tool auto'!#REF!","v":{"$error":"#REF!"}}]
[{"$f":"'Tool auto'!D311","v":0},{"$f":"'Tool auto'!#REF!","v":{"$error":"#REF!"}}]
[{"$f":"'Tool auto'!D312","v":0},{"$f":"'Tool auto'!#REF!","v":{"$error":"#REF!"}}]
[{"$f":"'Tool auto'!D313","v":0},{"$f":"'Tool auto'!#REF!","v":{"$error":"#REF!"}}]
[{"$f":"'Tool auto'!D314","v":0},{"$f":"'Tool auto'!#REF!","v":{"$error":"#REF!"}}]
[{"$f":"'Tool auto'!D315","v":0},{"$f":"'Tool auto'!#REF!","v":{"$error":"#REF!"}}]
[{"$f":"'Tool auto'!D316","v":0},{"$f":"'Tool auto'!#REF!","v":{"$error":"#REF!"}}]
[{"$f":"'Tool auto'!D317","v":0},{"$f":"'Tool auto'!#REF!","v":{"$error":"#REF!"}}]
[{"$f":"'Tool auto'!D318","v":0},{"$f":"'Tool auto'!#REF!","v":{"$error":"#REF!"}}]
[{"$f":"'Tool auto'!D319","v":0},{"$f":"'Tool auto'!#REF!","v":{"$error":"#REF!"}}]
[{"$f":"'Tool auto'!D320","v":0},{"$f":"'Tool auto'!#REF!","v":{"$error":"#REF!"}}]
[{"$f":"'Tool auto'!D321","v":0},{"$f":"'Tool auto'!#REF!","v":{"$error":"#REF!"}}]
[{"$f":"'Tool auto'!D322","v":0},{"$f":"'Tool auto'!#REF!","v":{"$error":"#REF!"}}]
[{"$f":"'Tool auto'!D323","v":0},{"$f":"'Tool auto'!#REF!","v":{"$error":"#REF!"}}]
[{"$f":"'Tool auto'!D324","v":0},{"$f":"'Tool auto'!#REF!","v":{"$error":"#REF!"}}]
[{"$f":"'Tool auto'!D325","v":0},{"$f":"'Tool auto'!#REF!","v":{"$error":"#REF!"}}]
[{"$f":"'Tool auto'!D326","v":0},{"$f":"'Tool auto'!#REF!","v":{"$error":"#REF!"}}]
[{"$f":"'Tool auto'!D327","v":0},{"$f":"'Tool auto'!#REF!","v":{"$error":"#REF!"}}]
[{"$f":"'Tool auto'!D328","v":0},{"$f":"'Tool auto'!#REF!","v":{"$error":"#REF!"}}]
[{"$f":"'Tool auto'!D329","v":0},{"$f":"'Tool auto'!#REF!","v":{"$error":"#REF!"}}]
[{"$f":"'Tool auto'!D330","v":0},{"$f":"'Tool auto'!#REF!","v":{"$error":"#REF!"}}]
[{"$f":"'Tool auto'!D331","v":0},{"$f":"'Tool auto'!#REF!","v":{"$error":"#REF!"}}]
[{"$f":"'Tool auto'!D332","v":0},{"$f":"'Tool auto'!#REF!","v":{"$error":"#REF!"}}]
[{"$f":"'Tool auto'!D333","v":0},{"$f":"'Tool auto'!#REF!","v":{"$error":"#REF!"}}]
[{"$f":"'Tool auto'!D334","v":0},{"$f":"'Tool auto'!#REF!","v":{"$error":"#REF!"}}]
[{"$f":"'Tool auto'!D335","v":0},{"$f":"'Tool auto'!#REF!","v":{"$error":"#REF!"}}]
[{"$f":"'Tool auto'!D336","v":0},{"$f":"'Tool auto'!#REF!","v":{"$error":"#REF!"}}]
[{"$f":"'Tool auto'!D337","v":0},{"$f":"'Tool auto'!#REF!","v":{"$error":"#REF!"}}]
[{"$f":"'Tool auto'!D338","v":0},{"$f":"'Tool auto'!#REF!","v":{"$error":"#REF!"}}]
[{"$f":"'Tool auto'!D339","v":0},{"$f":"'Tool auto'!#REF!","v":{"$error":"#REF!"}}]
[{"$f":"'Tool auto'!D340","v":0},{"$f":"'Tool auto'!#REF!","v":{"$error":"#REF!"}}]
[{"$f":"'Tool auto'!D341","v":0},{"$f":"'Tool auto'!#REF!","v":{"$error":"#REF!"}}]
[{"$f":"'Tool auto'!D342","v":0},{"$f":"'Tool auto'!#REF!","v":{"$error":"#REF!"}}]
[{"$f":"'Tool auto'!D343","v":0},{"$f":"'Tool auto'!#REF!","v":{"$error":"#REF!"}}]
[{"$f":"'Tool auto'!D344","v":0},{"$f":"'Tool auto'!#REF!","v":{"$error":"#REF!"}}]
[{"$f":"'Tool auto'!D345","v":0},{"$f":"'Tool auto'!#REF!","v":{"$error":"#REF!"}}]
[{"$f":"'Tool auto'!D346","v":0},{"$f":"'Tool auto'!#REF!","v":{"$error":"#REF!"}}]
[{"$f":"'Tool auto'!D347","v":0},{"$f":"'Tool auto'!#REF!","v":{"$error":"#REF!"}}]
[{"$f":"'Tool auto'!D348","v":0},{"$f":"'Tool auto'!#REF!","v":{"$error":"#REF!"}}]
[{"$f":"'Tool auto'!D349","v":0},{"$f":"'Tool auto'!#REF!","v":{"$error":"#REF!"}}]
[{"$f":"'Tool auto'!D350","v":0},{"$f":"'Tool auto'!#REF!","v":{"$error":"#REF!"}}]
[{"$f":"'Tool auto'!D351","v":0},{"$f":"'Tool auto'!#REF!","v":{"$error":"#REF!"}}]
[{"$f":"'Tool auto'!D352","v":0},{"$f":"'Tool auto'!#REF!","v":{"$error":"#REF!"}}]
[{"$f":"'Tool auto'!D353","v":0},{"$f":"'Tool auto'!#REF!","v":{"$error":"#REF!"}}]
[{"$f":"'Tool auto'!D354","v":0},{"$f":"'Tool auto'!#REF!","v":{"$error":"#REF!"}}]
[{"$f":"'Tool auto'!D355","v":0},{"$f":"'Tool auto'!#REF!","v":{"$error":"#REF!"}}]
[{"$f":"'Tool auto'!D356","v":0},{"$f":"'Tool auto'!#REF!","v":{"$error":"#REF!"}}]
[{"$f":"'Tool auto'!D357","v":0},{"$f":"'Tool auto'!#REF!","v":{"$error":"#REF!"}}]
[{"$f":"'Tool auto'!D358","v":0},{"$f":"'Tool auto'!#REF!","v":{"$error":"#REF!"}}]
[{"$f":"'Tool auto'!D359","v":0},{"$f":"'Tool auto'!#REF!","v":{"$error":"#REF!"}}]
[{"$f":"'Tool auto'!D360","v":0},{"$f":"'Tool auto'!#REF!","v":{"$error":"#REF!"}}]
[{"$f":"'Tool auto'!D361","v":0},{"$f":"'Tool auto'!#REF!","v":{"$error":"#REF!"}}]
[{"$f":"'Tool auto'!D362","v":0},{"$f":"'Tool auto'!#REF!","v":{"$error":"#REF!"}}]
[{"$f":"'Tool auto'!D363","v":0},{"$f":"'Tool auto'!#REF!","v":{"$error":"#REF!"}}]
[{"$f":"'Tool auto'!D364","v":0},{"$f":"'Tool auto'!#REF!","v":{"$error":"#REF!"}}]
[{"$f":"'Tool auto'!D365","v":0},{"$f":"'Tool auto'!#REF!","v":{"$error":"#REF!"}}]
[{"$f":"'Tool auto'!D366","v":0},{"$f":"'Tool auto'!#REF!","v":{"$error":"#REF!"}}]
[{"$f":"'Tool auto'!D367","v":0},{"$f":"'Tool auto'!#REF!","v":{"$error":"#REF!"}}]
[{"$f":"'Tool auto'!D368","v":0},{"$f":"'Tool auto'!#REF!","v":{"$error":"#REF!"}}]
[{"$f":"'Tool auto'!D369","v":0},{"$f":"'Tool auto'!#REF!","v":{"$error":"#REF!"}}]
[{"$f":"'Tool auto'!D370","v":0},{"$f":"'Tool auto'!#REF!","v":{"$error":"#REF!"}}]
[{"$f":"'Tool auto'!D371","v":0},{"$f":"'Tool auto'!#REF!","v":{"$error":"#REF!"}}]
[{"$f":"'Tool auto'!D372","v":0},{"$f":"'Tool auto'!#REF!","v":{"$error":"#REF!"}}]
[{"$f":"'Tool auto'!D373","v":0},{"$f":"'Tool auto'!#REF!","v":{"$error":"#REF!"}}]
[{"$f":"'Tool auto'!D374","v":0},{"$f":"'Tool auto'!#REF!","v":{"$error":"#REF!"}}]
[{"$f":"'Tool auto'!D375","v":0},{"$f":"'Tool auto'!#REF!","v":{"$error":"#REF!"}}]
[{"$f":"'Tool auto'!D376","v":0},{"$f":"'Tool auto'!#REF!","v":{"$error":"#REF!"}}]
[{"$f":"'Tool auto'!D377","v":0},{"$f":"'Tool auto'!#REF!","v":{"$error":"#REF!"}}]
[{"$f":"'Tool auto'!D378","v":0},{"$f":"'Tool auto'!#REF!","v":{"$error":"#REF!"}}]
[{"$f":"'Tool auto'!D379","v":0},{"$f":"'Tool auto'!#REF!","v":{"$error":"#REF!"}}]
[{"$f":"'Tool auto'!D380","v":0},{"$f":"'Tool auto'!#REF!","v":{"$error":"#REF!"}}]
[{"$f":"'Tool auto'!D381","v":0},{"$f":"'Tool auto'!#REF!","v":{"$error":"#REF!"}}]
[{"$f":"'Tool auto'!D382","v":0},{"$f":"'Tool auto'!#REF!","v":{"$error":"#REF!"}}]
[{"$f":"'Tool auto'!D383","v":0},{"$f":"'Tool auto'!#REF!","v":{"$error":"#REF!"}}]
[{"$f":"'Tool auto'!D384","v":0},{"$f":"'Tool auto'!#REF!","v":{"$error":"#REF!"}}]
[{"$f":"'Tool auto'!D385","v":0},{"$f":"'Tool auto'!#REF!","v":{"$error":"#REF!"}}]
[{"$f":"'Tool auto'!D386","v":0},{"$f":"'Tool auto'!#REF!","v":{"$error":"#REF!"}}]
[{"$f":"'Tool auto'!D387","v":0},{"$f":"'Tool auto'!#REF!","v":{"$error":"#REF!"}}]
[{"$f":"'Tool auto'!D388","v":0},{"$f":"'Tool auto'!#REF!","v":{"$error":"#REF!"}}]
[{"$f":"'Tool auto'!D389","v":0},{"$f":"'Tool auto'!#REF!","v":{"$error":"#REF!"}}]
[{"$f":"'Tool auto'!D390","v":0},{"$f":"'Tool auto'!#REF!","v":{"$error":"#REF!"}}]
[{"$f":"'Tool auto'!D391","v":0},{"$f":"'Tool auto'!#REF!","v":{"$error":"#REF!"}}]
[{"$f":"'Tool auto'!D392","v":0},{"$f":"'Tool auto'!#REF!","v":{"$error":"#REF!"}}]
[{"$f":"'Tool auto'!D393","v":0},{"$f":"'Tool auto'!#REF!","v":{"$error":"#REF!"}}]
[{"$f":"'Tool auto'!D394","v":0},{"$f":"'Tool auto'!#REF!","v":{"$error":"#REF!"}}]
[{"$f":"'Tool auto'!D395","v":0},{"$f":"'Tool auto'!#REF!","v":{"$error":"#REF!"}}]
[{"$f":"'Tool auto'!D396","v":0},{"$f":"'Tool auto'!#REF!","v":{"$error":"#REF!"}}]
[{"$f":"'Tool auto'!D397","v":0},{"$f":"'Tool auto'!#REF!","v":{"$error":"#REF!"}}]
[{"$f":"'Tool auto'!D398","v":0},{"$f":"'Tool auto'!#REF!","v":{"$error":"#REF!"}}]
[{"$f":"'Tool auto'!D399","v":0},{"$f":"'Tool auto'!#REF!","v":{"$error":"#REF!"}}]
[{"$f":"'Tool auto'!D400","v":0},{"$f":"'Tool auto'!#REF!","v":{"$error":"#REF!"}}]
[{"$f":"'Tool auto'!D401","v":0},{"$f":"'Tool auto'!#REF!","v":{"$error":"#REF!"}}]
[{"$f":"'Tool auto'!D402","v":0},{"$f":"'Tool auto'!#REF!","v":{"$error":"#REF!"}}]
[{"$f":"'Tool auto'!D403","v":0},{"$f":"'Tool auto'!#REF!","v":{"$error":"#REF!"}}]
[{"$f":"'Tool auto'!D404","v":0},{"$f":"'Tool auto'!#REF!","v":{"$error":"#REF!"}}]
[{"$f":"'Tool auto'!D405","v":0},{"$f":"'Tool auto'!#REF!","v":{"$error":"#REF!"}}]
[{"$f":"'Tool auto'!D406","v":0},{"$f":"'Tool auto'!#REF!","v":{"$error":"#REF!"}}]
[{"$f":"'Tool auto'!D407","v":0},{"$f":"'Tool auto'!#REF!","v":{"$error":"#REF!"}}]
[{"$f":"'Tool auto'!D408","v":0},{"$f":"'Tool auto'!#REF!","v":{"$error":"#REF!"}}]
[{"$f":"'Tool auto'!D409","v":0},{"$f":"'Tool auto'!#REF!","v":{"$error":"#REF!"}}]
[{"$f":"'Tool auto'!D410","v":0},{"$f":"'Tool auto'!#REF!","v":{"$error":"#REF!"}}]
[{"$f":"'Tool auto'!D411","v":0},{"$f":"'Tool auto'!#REF!","v":{"$error":"#REF!"}}]
[{"$f":"'Tool auto'!D412","v":0},{"$f":"'Tool auto'!#REF!","v":{"$error":"#REF!"}}]
[{"$f":"'Tool auto'!D413","v":0},{"$f":"'Tool auto'!#REF!","v":{"$error":"#REF!"}}]
[{"$f":"'Tool auto'!D414","v":0},{"$f":"'Tool auto'!#REF!","v":{"$error":"#REF!"}}]
[{"$f":"'Tool auto'!D415","v":0},{"$f":"'Tool auto'!#REF!","v":{"$error":"#REF!"}}]
[{"$f":"'Tool auto'!D416","v":0},{"$f":"'Tool auto'!#REF!","v":{"$error":"#REF!"}}]
[{"$f":"'Tool auto'!D417","v":0},{"$f":"'Tool auto'!#REF!","v":{"$error":"#REF!"}}]
[{"$f":"'Tool auto'!D418","v":0},{"$f":"'Tool auto'!#REF!","v":{"$error":"#REF!"}}]
[{"$f":"'Tool auto'!D419","v":0},{"$f":"'Tool auto'!#REF!","v":{"$error":"#REF!"}}]
[{"$f":"'Tool auto'!D420","v":0},{"$f":"'Tool auto'!#REF!","v":{"$error":"#REF!"}}]
[{"$f":"'Tool auto'!D421","v":0},{"$f":"'Tool auto'!#REF!","v":{"$error":"#REF!"}}]
[{"$f":"'Tool auto'!D422","v":0},{"$f":"'Tool auto'!#REF!","v":{"$error":"#REF!"}}]
[{"$f":"'Tool auto'!D423","v":0},{"$f":"'Tool auto'!#REF!","v":{"$error":"#REF!"}}]
[{"$f":"'Tool auto'!D424","v":0},{"$f":"'Tool auto'!#REF!","v":{"$error":"#REF!"}}]
[{"$f":"'Tool auto'!D425","v":0},{"$f":"'Tool auto'!#REF!","v":{"$error":"#REF!"}}]
[{"$f":"'Tool auto'!D426","v":0},{"$f":"'Tool auto'!#REF!","v":{"$error":"#REF!"}}]
[{"$f":"'Tool auto'!D427","v":0},{"$f":"'Tool auto'!#REF!","v":{"$error":"#REF!"}}]
[{"$f":"'Tool auto'!D428","v":0},{"$f":"'Tool auto'!#REF!","v":{"$error":"#REF!"}}]
[{"$f":"'Tool auto'!D429","v":0},{"$f":"'Tool auto'!#REF!","v":{"$error":"#REF!"}}]
[{"$f":"'Tool auto'!D430","v":0},{"$f":"'Tool auto'!#REF!","v":{"$error":"#REF!"}}]
[{"$f":"'Tool auto'!D431","v":0},{"$f":"'Tool auto'!#REF!","v":{"$error":"#REF!"}}]
[{"$f":"'Tool auto'!D432","v":0},{"$f":"'Tool auto'!#REF!","v":{"$error":"#REF!"}}]
[{"$f":"'Tool auto'!D433","v":0},{"$f":"'Tool auto'!#REF!","v":{"$error":"#REF!"}}]
[{"$f":"'Tool auto'!D434","v":0},{"$f":"'Tool auto'!#REF!","v":{"$error":"#REF!"}}]
[{"$f":"'Tool auto'!D435","v":0},{"$f":"'Tool auto'!#REF!","v":{"$error":"#REF!"}}]
[{"$f":"'Tool auto'!D436","v":0},{"$f":"'Tool auto'!#REF!","v":{"$error":"#REF!"}}]
[{"$f":"'Tool auto'!D437","v":0},{"$f":"'Tool auto'!#REF!","v":{"$error":"#REF!"}}]
[{"$f":"'Tool auto'!D438","v":0},{"$f":"'Tool auto'!#REF!","v":{"$error":"#REF!"}}]
[{"$f":"'Tool auto'!D439","v":0},{"$f":"'Tool auto'!#REF!","v":{"$error":"#REF!"}}]
[{"$f":"'Tool auto'!D440","v":0},{"$f":"'Tool auto'!#REF!","v":{"$error":"#REF!"}}]
[{"$f":"'Tool auto'!D441","v":0},{"$f":"'Tool auto'!#REF!","v":{"$error":"#REF!"}}]
[{"$f":"'Tool auto'!D442","v":0},{"$f":"'Tool auto'!#REF!","v":{"$error":"#REF!"}}]
[{"$f":"'Tool auto'!D443","v":0},{"$f":"'Tool auto'!#REF!","v":{"$error":"#REF!"}}]
[{"$f":"'Tool auto'!D444","v":0},{"$f":"'Tool auto'!#REF!","v":{"$error":"#REF!"}}]
[{"$f":"'Tool auto'!D445","v":0},{"$f":"'Tool auto'!#REF!","v":{"$error":"#REF!"}}]
[{"$f":"'Tool auto'!D446","v":0},{"$f":"'Tool auto'!#REF!","v":{"$error":"#REF!"}}]
[{"$f":"'Tool auto'!D447","v":0},{"$f":"'Tool auto'!#REF!","v":{"$error":"#REF!"}}]
[{"$f":"'Tool auto'!D448","v":0},{"$f":"'Tool auto'!#REF!","v":{"$error":"#REF!"}}]
[{"$f":"'Tool auto'!D449","v":0},{"$f":"'Tool auto'!#REF!","v":{"$error":"#REF!"}}]
[{"$f":"'Tool auto'!D450","v":0},{"$f":"'Tool auto'!#REF!","v":{"$error":"#REF!"}}]
[{"$f":"'Tool auto'!D451","v":0},{"$f":"'Tool auto'!#REF!","v":{"$error":"#REF!"}}]
[{"$f":"'Tool auto'!D452","v":0},{"$f":"'Tool auto'!#REF!","v":{"$error":"#REF!"}}]
[{"$f":"'Tool auto'!D453","v":0},{"$f":"'Tool auto'!#REF!","v":{"$error":"#REF!"}}]
[{"$f":"'Tool auto'!D454","v":0},{"$f":"'Tool auto'!#REF!","v":{"$error":"#REF!"}}]
[{"$f":"'Tool auto'!D455","v":0},{"$f":"'Tool auto'!#REF!","v":{"$error":"#REF!"}}]
[{"$f":"'Tool auto'!D456","v":0},{"$f":"'Tool auto'!#REF!","v":{"$error":"#REF!"}}]
[{"$f":"'Tool auto'!D457","v":0},{"$f":"'Tool auto'!#REF!","v":{"$error":"#REF!"}}]
[{"$f":"'Tool auto'!D458","v":0},{"$f":"'Tool auto'!#REF!","v":{"$error":"#REF!"}}]
[{"$f":"'Tool auto'!D459","v":0},{"$f":"'Tool auto'!#REF!","v":{"$error":"#REF!"}}]
[{"$f":"'Tool auto'!D460","v":0},{"$f":"'Tool auto'!#REF!","v":{"$error":"#REF!"}}]
[{"$f":"'Tool auto'!D461","v":0},{"$f":"'Tool auto'!#REF!","v":{"$error":"#REF!"}}]
[{"$f":"'Tool auto'!D462","v":0},{"$f":"'Tool auto'!#REF!","v":{"$error":"#REF!"}}]
[{"$f":"'Tool auto'!D463","v":0},{"$f":"'Tool auto'!#REF!","v":{"$error":"#REF!"}}]
[{"$f":"'Tool auto'!D464","v":0},{"$f":"'Tool auto'!#REF!","v":{"$error":"#REF!"}}]
[{"$f":"'Tool auto'!D465","v":0},{"$f":"'Tool auto'!#REF!","v":{"$error":"#REF!"}}]
[{"$f":"'Tool auto'!D466","v":0},{"$f":"'Tool auto'!#REF!","v":{"$error":"#REF!"}}]
[{"$f":"'Tool auto'!D467","v":0},{"$f":"'Tool auto'!#REF!","v":{"$error":"#REF!"}}]
[{"$f":"'Tool auto'!D468","v":0},{"$f":"'Tool auto'!#REF!","v":{"$error":"#REF!"}}]
[{"$f":"'Tool auto'!D469","v":0},{"$f":"'Tool auto'!#REF!","v":{"$error":"#REF!"}}]
[{"$f":"'Tool auto'!D470","v":0},{"$f":"'Tool auto'!#REF!","v":{"$error":"#REF!"}}]
[{"$f":"'Tool auto'!D471","v":0},{"$f":"'Tool auto'!#REF!","v":{"$error":"#REF!"}}]
[{"$f":"'Tool auto'!D472","v":0},{"$f":"'Tool auto'!#REF!","v":{"$error":"#REF!"}}]
[{"$f":"'Tool auto'!D473","v":0},{"$f":"'Tool auto'!#REF!","v":{"$error":"#REF!"}}]
[{"$f":"'Tool auto'!D474","v":0},{"$f":"'Tool auto'!#REF!","v":{"$error":"#REF!"}}]
[{"$f":"'Tool auto'!D475","v":0},{"$f":"'Tool auto'!#REF!","v":{"$error":"#REF!"}}]
[{"$f":"'Tool auto'!D476","v":0},{"$f":"'Tool auto'!#REF!","v":{"$error":"#REF!"}}]
[{"$f":"'Tool auto'!D477","v":0},{"$f":"'Tool auto'!#REF!","v":{"$error":"#REF!"}}]
[{"$f":"'Tool auto'!D478","v":0},{"$f":"'Tool auto'!#REF!","v":{"$error":"#REF!"}}]
[{"$f":"'Tool auto'!D479","v":0},{"$f":"'Tool auto'!#REF!","v":{"$error":"#REF!"}}]
[{"$f":"'Tool auto'!D480","v":0},{"$f":"'Tool auto'!#REF!","v":{"$error":"#REF!"}}]
[{"$f":"'Tool auto'!D481","v":0},{"$f":"'Tool auto'!#REF!","v":{"$error":"#REF!"}}]
[{"$f":"'Tool auto'!D482","v":0},{"$f":"'Tool auto'!#REF!","v":{"$error":"#REF!"}}]
[{"$f":"'Tool auto'!D483","v":0},{"$f":"'Tool auto'!#REF!","v":{"$error":"#REF!"}}]
[{"$f":"'Tool auto'!D484","v":0},{"$f":"'Tool auto'!#REF!","v":{"$error":"#REF!"}}]
[{"$f":"'Tool auto'!D485","v":0},{"$f":"'Tool auto'!#REF!","v":{"$error":"#REF!"}}]
[{"$f":"'Tool auto'!D486","v":0},{"$f":"'Tool auto'!#REF!","v":{"$error":"#REF!"}}]
[{"$f":"'Tool auto'!D487","v":0},{"$f":"'Tool auto'!#REF!","v":{"$error":"#REF!"}}]
[{"$f":"'Tool auto'!D488","v":0},{"$f":"'Tool auto'!#REF!","v":{"$error":"#REF!"}}]
[{"$f":"'Tool auto'!D489","v":0},{"$f":"'Tool auto'!#REF!","v":{"$error":"#REF!"}}]
[{"$f":"'Tool auto'!D490","v":0},{"$f":"'Tool auto'!#REF!","v":{"$error":"#REF!"}}]
[{"$f":"'Tool auto'!D491","v":0},{"$f":"'Tool auto'!#REF!","v":{"$error":"#REF!"}}]
[{"$f":"'Tool auto'!D492","v":0},{"$f":"'Tool auto'!#REF!","v":{"$error":"#REF!"}}]
[{"$f":"'Tool auto'!D493","v":0},{"$f":"'Tool auto'!#REF!","v":{"$error":"#REF!"}}]
[{"$f":"'Tool auto'!D494","v":0},{"$f":"'Tool auto'!#REF!","v":{"$error":"#REF!"}}]
[{"$f":"'Tool auto'!D495","v":0},{"$f":"'Tool auto'!#REF!","v":{"$error":"#REF!"}}]
[{"$f":"'Tool auto'!D496","v":0},{"$f":"'Tool auto'!#REF!","v":{"$error":"#REF!"}}]
[{"$f":"'Tool auto'!D497","v":0},{"$f":"'Tool auto'!#REF!","v":{"$error":"#REF!"}}]
[{"$f":"'Tool auto'!D498","v":0},{"$f":"'Tool auto'!#REF!","v":{"$error":"#REF!"}}]
[{"$f":"'Tool auto'!D499","v":0},{"$f":"'Tool auto'!#REF!","v":{"$error":"#REF!"}}]
[{"$f":"'Tool auto'!D500","v":0},{"$f":"'Tool auto'!#REF!","v":{"$error":"#REF!"}}]
[{"$f":"'Tool auto'!D501","v":0},{"$f":"'Tool auto'!#REF!","v":{"$error":"#REF!"}}]
[{"$f":"'Tool auto'!D502","v":0},{"$f":"'Tool auto'!#REF!","v":{"$error":"#REF!"}}]
[{"$f":"'Tool auto'!D503","v":0},{"$f":"'Tool auto'!#REF!","v":{"$error":"#REF!"}}]
[{"$f":"'Tool auto'!D504","v":0},{"$f":"'Tool auto'!#REF!","v":{"$error":"#REF!"}}]
[{"$f":"'Tool auto'!D505","v":0},{"$f":"'Tool auto'!#REF!","v":{"$error":"#REF!"}}]
[{"$f":"'Tool auto'!D506","v":0},{"$f":"'Tool auto'!#REF!","v":{"$error":"#REF!"}}]
[{"$f":"'Tool auto'!D507","v":0},{"$f":"'Tool auto'!#REF!","v":{"$error":"#REF!"}}]
[{"$f":"'Tool auto'!D508","v":0},{"$f":"'Tool auto'!#REF!","v":{"$error":"#REF!"}}]
[{"$f":"'Tool auto'!D509","v":0},{"$f":"'Tool auto'!#REF!","v":{"$error":"#REF!"}}]
[{"$f":"'Tool auto'!D510","v":0},{"$f":"'Tool auto'!#REF!","v":{"$error":"#REF!"}}]
[{"$f":"'Tool auto'!D511","v":0},{"$f":"'Tool auto'!#REF!","v":{"$error":"#REF!"}}]
[{"$f":"'Tool auto'!D512","v":0},{"$f":"'Tool auto'!#REF!","v":{"$error":"#REF!"}}]
[{"$f":"'Tool auto'!D513","v":0},{"$f":"'Tool auto'!#REF!","v":{"$error":"#REF!"}}]
[{"$f":"'Tool auto'!D514","v":0},{"$f":"'Tool auto'!#REF!","v":{"$error":"#REF!"}}]
[{"$f":"'Tool auto'!D515","v":0},{"$f":"'Tool auto'!#REF!","v":{"$error":"#REF!"}}]
[{"$f":"'Tool auto'!D516","v":0},{"$f":"'Tool auto'!#REF!","v":{"$error":"#REF!"}}]
[{"$f":"'Tool auto'!D517","v":0},{"$f":"'Tool auto'!#REF!","v":{"$error":"#REF!"}}]
[{"$f":"'Tool auto'!D518","v":0},{"$f":"'Tool auto'!#REF!","v":{"$error":"#REF!"}}]
[{"$f":"'Tool auto'!D519","v":0},{"$f":"'Tool auto'!#REF!","v":{"$error":"#REF!"}}]
[{"$f":"'Tool auto'!D520","v":0},{"$f":"'Tool auto'!#REF!","v":{"$error":"#REF!"}}]
[{"$f":"'Tool auto'!D521","v":0},{"$f":"'Tool auto'!#REF!","v":{"$error":"#REF!"}}]
[{"$f":"'Tool auto'!D522","v":0},{"$f":"'Tool auto'!#REF!","v":{"$error":"#REF!"}}]
[{"$f":"'Tool auto'!D523","v":0},{"$f":"'Tool auto'!#REF!","v":{"$error":"#REF!"}}]
[{"$f":"'Tool auto'!D524","v":0},{"$f":"'Tool auto'!#REF!","v":{"$error":"#REF!"}}]
[{"$f":"'Tool auto'!D525","v":0},{"$f":"'Tool auto'!#REF!","v":{"$error":"#REF!"}}]
[{"$f":"'Tool auto'!D526","v":0},{"$f":"'Tool auto'!#REF!","v":{"$error":"#REF!"}}]
[{"$f":"'Tool auto'!D527","v":0},{"$f":"'Tool auto'!#REF!","v":{"$error":"#REF!"}}]
[{"$f":"'Tool auto'!D528","v":0},{"$f":"'Tool auto'!#REF!","v":{"$error":"#REF!"}}]
[{"$f":"'Tool auto'!D529","v":0},{"$f":"'Tool auto'!#REF!","v":{"$error":"#REF!"}}]
[{"$f":"'Tool auto'!D530","v":0},{"$f":"'Tool auto'!#REF!","v":{"$error":"#REF!"}}]
[{"$f":"'Tool auto'!D531","v":0},{"$f":"'Tool auto'!#REF!","v":{"$error":"#REF!"}}]
[{"$f":"'Tool auto'!D532","v":0},{"$f":"'Tool auto'!#REF!","v":{"$error":"#REF!"}}]
[{"$f":"'Tool auto'!D533","v":0},{"$f":"'Tool auto'!#REF!","v":{"$error":"#REF!"}}]
[{"$f":"'Tool auto'!D534","v":0},{"$f":"'Tool auto'!#REF!","v":{"$error":"#REF!"}}]
[{"$f":"'Tool auto'!D535","v":0},{"$f":"'Tool auto'!#REF!","v":{"$error":"#REF!"}}]
[{"$f":"'Tool auto'!D536","v":0},{"$f":"'Tool auto'!#REF!","v":{"$error":"#REF!"}}]
[{"$f":"'Tool auto'!D537","v":0},{"$f":"'Tool auto'!#REF!","v":{"$error":"#REF!"}}]
[{"$f":"'Tool auto'!D538","v":0},{"$f":"'Tool auto'!#REF!","v":{"$error":"#REF!"}}]
[{"$f":"'Tool auto'!D539","v":0},{"$f":"'Tool auto'!#REF!","v":{"$error":"#REF!"}}]
[{"$f":"'Tool auto'!D540","v":0},{"$f":"'Tool auto'!#REF!","v":{"$error":"#REF!"}}]
[{"$f":"'Tool auto'!D541","v":0},{"$f":"'Tool auto'!#REF!","v":{"$error":"#REF!"}}]
[{"$f":"'Tool auto'!D542","v":0},{"$f":"'Tool auto'!#REF!","v":{"$error":"#REF!"}}]
[{"$f":"'Tool auto'!D543","v":0},{"$f":"'Tool auto'!#REF!","v":{"$error":"#REF!"}}]
[{"$f":"'Tool auto'!D544","v":0},{"$f":"'Tool auto'!#REF!","v":{"$error":"#REF!"}}]
[{"$f":"'Tool auto'!D545","v":0},{"$f":"'Tool auto'!#REF!","v":{"$error":"#REF!"}}]
[{"$f":"'Tool auto'!D546","v":0},{"$f":"'Tool auto'!#REF!","v":{"$error":"#REF!"}}]
[{"$f":"'Tool auto'!D547","v":0},{"$f":"'Tool auto'!#REF!","v":{"$error":"#REF!"}}]
[{"$f":"'Tool auto'!D548","v":0},{"$f":"'Tool auto'!#REF!","v":{"$error":"#REF!"}}]
[{"$f":"'Tool auto'!D549","v":0},{"$f":"'Tool auto'!#REF!","v":{"$error":"#REF!"}}]
[{"$f":"'Tool auto'!D550","v":0},{"$f":"'Tool auto'!#REF!","v":{"$error":"#REF!"}}]
[{"$f":"'Tool auto'!D551","v":0},{"$f":"'Tool auto'!#REF!","v":{"$error":"#REF!"}}]
[{"$f":"'Tool auto'!D552","v":0},{"$f":"'Tool auto'!#REF!","v":{"$error":"#REF!"}}]
[{"$f":"'Tool auto'!D553","v":0},{"$f":"'Tool auto'!#REF!","v":{"$error":"#REF!"}}]
[{"$f":"'Tool auto'!D554","v":0},{"$f":"'Tool auto'!#REF!","v":{"$error":"#REF!"}}]
[{"$f":"'Tool auto'!D555","v":0},{"$f":"'Tool auto'!#REF!","v":{"$error":"#REF!"}}]
[{"$f":"'Tool auto'!D556","v":0},{"$f":"'Tool auto'!#REF!","v":{"$error":"#REF!"}}]
[{"$f":"'Tool auto'!D557","v":0},{"$f":"'Tool auto'!#REF!","v":{"$error":"#REF!"}}]
[{"$f":"'Tool auto'!D558","v":0},{"$f":"'Tool auto'!#REF!","v":{"$error":"#REF!"}}]
[{"$f":"'Tool auto'!D559","v":0},{"$f":"'Tool auto'!#REF!","v":{"$error":"#REF!"}}]
[{"$f":"'Tool auto'!D560","v":0},{"$f":"'Tool auto'!#REF!","v":{"$error":"#REF!"}}]
[{"$f":"'Tool auto'!D561","v":0},{"$f":"'Tool auto'!#REF!","v":{"$error":"#REF!"}}]
[{"$f":"'Tool auto'!D562","v":0},{"$f":"'Tool auto'!#REF!","v":{"$error":"#REF!"}}]
[{"$f":"'Tool auto'!D563","v":0},{"$f":"'Tool auto'!#REF!","v":{"$error":"#REF!"}}]
[{"$f":"'Tool auto'!D564","v":0},{"$f":"'Tool auto'!#REF!","v":{"$error":"#REF!"}}]
[{"$f":"'Tool auto'!D565","v":0},{"$f":"'Tool auto'!#REF!","v":{"$error":"#REF!"}}]
[{"$f":"'Tool auto'!D566","v":0},{"$f":"'Tool auto'!#REF!","v":{"$error":"#REF!"}}]
[{"$f":"'Tool auto'!D567","v":0},{"$f":"'Tool auto'!#REF!","v":{"$error":"#REF!"}}]
[{"$f":"'Tool auto'!D568","v":0},{"$f":"'Tool auto'!#REF!","v":{"$error":"#REF!"}}]
[{"$f":"'Tool auto'!D569","v":0},{"$f":"'Tool auto'!#REF!","v":{"$error":"#REF!"}}]
[{"$f":"'Tool auto'!D570","v":0},{"$f":"'Tool auto'!#REF!","v":{"$error":"#REF!"}}]
[{"$f":"'Tool auto'!D571","v":0},{"$f":"'Tool auto'!#REF!","v":{"$error":"#REF!"}}]
[{"$f":"'Tool auto'!D572","v":0},{"$f":"'Tool auto'!#REF!","v":{"$error":"#REF!"}}]
[{"$f":"'Tool auto'!D573","v":0},{"$f":"'Tool auto'!#REF!","v":{"$error":"#REF!"}}]
[{"$f":"'Tool auto'!D574","v":0},{"$f":"'Tool auto'!#REF!","v":{"$error":"#REF!"}}]
[{"$f":"'Tool auto'!D575","v":0},{"$f":"'Tool auto'!#REF!","v":{"$error":"#REF!"}}]
[{"$f":"'Tool auto'!D576","v":0},{"$f":"'Tool auto'!#REF!","v":{"$error":"#REF!"}}]
[{"$f":"'Tool auto'!D577","v":0},{"$f":"'Tool auto'!#REF!","v":{"$error":"#REF!"}}]
[{"$f":"'Tool auto'!D578","v":0},{"$f":"'Tool auto'!#REF!","v":{"$error":"#REF!"}}]
[{"$f":"'Tool auto'!D579","v":0},{"$f":"'Tool auto'!#REF!","v":{"$error":"#REF!"}}]
[{"$f":"'Tool auto'!D580","v":0},{"$f":"'Tool auto'!#REF!","v":{"$error":"#REF!"}}]
[{"$f":"'Tool auto'!D581","v":0},{"$f":"'Tool auto'!#REF!","v":{"$error":"#REF!"}}]
[{"$f":"'Tool auto'!D582","v":0},{"$f":"'Tool auto'!#REF!","v":{"$error":"#REF!"}}]
[{"$f":"'Tool auto'!D583","v":0},{"$f":"'Tool auto'!#REF!","v":{"$error":"#REF!"}}]
[{"$f":"'Tool auto'!D584","v":0},{"$f":"'Tool auto'!#REF!","v":{"$error":"#REF!"}}]
[{"$f":"'Tool auto'!D585","v":0},{"$f":"'Tool auto'!#REF!","v":{"$error":"#REF!"}}]
[{"$f":"'Tool auto'!D586","v":0},{"$f":"'Tool auto'!#REF!","v":{"$error":"#REF!"}}]
[{"$f":"'Tool auto'!D587","v":0},{"$f":"'Tool auto'!#REF!","v":{"$error":"#REF!"}}]
[{"$f":"'Tool auto'!D588","v":0},{"$f":"'Tool auto'!#REF!","v":{"$error":"#REF!"}}]
[{"$f":"'Tool auto'!D589","v":0},{"$f":"'Tool auto'!#REF!","v":{"$error":"#REF!"}}]
[{"$f":"'Tool auto'!D590","v":0},{"$f":"'Tool auto'!#REF!","v":{"$error":"#REF!"}}]
[{"$f":"'Tool auto'!D591","v":0},{"$f":"'Tool auto'!#REF!","v":{"$error":"#REF!"}}]
[{"$f":"'Tool auto'!D592","v":0},{"$f":"'Tool auto'!#REF!","v":{"$error":"#REF!"}}]
[{"$f":"'Tool auto'!D593","v":0},{"$f":"'Tool auto'!#REF!","v":{"$error":"#REF!"}}]
[{"$f":"'Tool auto'!D594","v":0},{"$f":"'Tool auto'!#REF!","v":{"$error":"#REF!"}}]
[{"$f":"'Tool auto'!D595","v":0},{"$f":"'Tool auto'!#REF!","v":{"$error":"#REF!"}}]
[{"$f":"'Tool auto'!D596","v":0},{"$f":"'Tool auto'!#REF!","v":{"$error":"#REF!"}}]
[{"$f":"'Tool auto'!D597","v":0},{"$f":"'Tool auto'!#REF!","v":{"$error":"#REF!"}}]
[{"$f":"'Tool auto'!D598","v":0},{"$f":"'Tool auto'!#REF!","v":{"$error":"#REF!"}}]
[{"$f":"'Tool auto'!D599","v":0},{"$f":"'Tool auto'!#REF!","v":{"$error":"#REF!"}}]
[{"$f":"'Tool auto'!D600","v":0},{"$f":"'Tool auto'!#REF!","v":{"$error":"#REF!"}}]
[{"$f":"'Tool auto'!D601","v":0},{"$f":"'Tool auto'!#REF!","v":{"$error":"#REF!"}}]
[{"$f":"'Tool auto'!D602","v":0},{"$f":"'Tool auto'!#REF!","v":{"$error":"#REF!"}}]
[{"$f":"'Tool auto'!D603","v":0},{"$f":"'Tool auto'!#REF!","v":{"$error":"#REF!"}}]
[{"$f":"'Tool auto'!D604","v":0},{"$f":"'Tool auto'!#REF!","v":{"$error":"#REF!"}}]
[{"$f":"'Tool auto'!D605","v":0},{"$f":"'Tool auto'!#REF!","v":{"$error":"#REF!"}}]
[{"$f":"'Tool auto'!D606","v":0},{"$f":"'Tool auto'!#REF!","v":{"$error":"#REF!"}}]
[{"$f":"'Tool auto'!D607","v":0},{"$f":"'Tool auto'!#REF!","v":{"$error":"#REF!"}}]
[{"$f":"'Tool auto'!D608","v":0},{"$f":"'Tool auto'!#REF!","v":{"$error":"#REF!"}}]
[{"$f":"'Tool auto'!D609","v":0},{"$f":"'Tool auto'!#REF!","v":{"$error":"#REF!"}}]
[{"$f":"'Tool auto'!D610","v":0},{"$f":"'Tool auto'!#REF!","v":{"$error":"#REF!"}}]
[{"$f":"'Tool auto'!D611","v":0},{"$f":"'Tool auto'!#REF!","v":{"$error":"#REF!"}}]
[{"$f":"'Tool auto'!D612","v":0},{"$f":"'Tool auto'!#REF!","v":{"$error":"#REF!"}}]
[{"$f":"'Tool auto'!D613","v":0},{"$f":"'Tool auto'!#REF!","v":{"$error":"#REF!"}}]
[{"$f":"'Tool auto'!D614","v":0},{"$f":"'Tool auto'!#REF!","v":{"$error":"#REF!"}}]
[{"$f":"'Tool auto'!D615","v":0},{"$f":"'Tool auto'!#REF!","v":{"$error":"#REF!"}}]
[{"$f":"'Tool auto'!D616","v":0},{"$f":"'Tool auto'!#REF!","v":{"$error":"#REF!"}}]
[{"$f":"'Tool auto'!D617","v":0},{"$f":"'Tool auto'!#REF!","v":{"$error":"#REF!"}}]
[{"$f":"'Tool auto'!D618","v":0},{"$f":"'Tool auto'!#REF!","v":{"$error":"#REF!"}}]
[{"$f":"'Tool auto'!D619","v":0},{"$f":"'Tool auto'!#REF!","v":{"$error":"#REF!"}}]
[{"$f":"'Tool auto'!D620","v":0},{"$f":"'Tool auto'!#REF!","v":{"$error":"#REF!"}}]
[{"$f":"'Tool auto'!D621","v":0},{"$f":"'Tool auto'!#REF!","v":{"$error":"#REF!"}}]
[{"$f":"'Tool auto'!D622","v":0},{"$f":"'Tool auto'!#REF!","v":{"$error":"#REF!"}}]
[{"$f":"'Tool auto'!D623","v":0},{"$f":"'Tool auto'!#REF!","v":{"$error":"#REF!"}}]
[{"$f":"'Tool auto'!D624","v":0},{"$f":"'Tool auto'!#REF!","v":{"$error":"#REF!"}}]
[{"$f":"'Tool auto'!D625","v":0},{"$f":"'Tool auto'!#REF!","v":{"$error":"#REF!"}}]
[{"$f":"'Tool auto'!D626","v":0},{"$f":"'Tool auto'!#REF!","v":{"$error":"#REF!"}}]
[{"$f":"'Tool auto'!D627","v":0},{"$f":"'Tool auto'!#REF!","v":{"$error":"#REF!"}}]
[{"$f":"'Tool auto'!D628","v":0},{"$f":"'Tool auto'!#REF!","v":{"$error":"#REF!"}}]
[{"$f":"'Tool auto'!D629","v":0},{"$f":"'Tool auto'!#REF!","v":{"$error":"#REF!"}}]
[{"$f":"'Tool auto'!D630","v":0},{"$f":"'Tool auto'!#REF!","v":{"$error":"#REF!"}}]
[{"$f":"'Tool auto'!D631","v":0},{"$f":"'Tool auto'!#REF!","v":{"$error":"#REF!"}}]
[{"$f":"'Tool auto'!D632","v":0},{"$f":"'Tool auto'!#REF!","v":{"$error":"#REF!"}}]
[{"$f":"'Tool auto'!D633","v":0},{"$f":"'Tool auto'!#REF!","v":{"$error":"#REF!"}}]
[{"$f":"'Tool auto'!D634","v":0},{"$f":"'Tool auto'!#REF!","v":{"$error":"#REF!"}}]
[{"$f":"'Tool auto'!D635","v":0},{"$f":"'Tool auto'!#REF!","v":{"$error":"#REF!"}}]
[{"$f":"'Tool auto'!D636","v":0},{"$f":"'Tool auto'!#REF!","v":{"$error":"#REF!"}}]
[{"$f":"'Tool auto'!D637","v":0},{"$f":"'Tool auto'!#REF!","v":{"$error":"#REF!"}}]
[{"$f":"'Tool auto'!D638","v":0},{"$f":"'Tool auto'!#REF!","v":{"$error":"#REF!"}}]
[{"$f":"'Tool auto'!D639","v":0},{"$f":"'Tool auto'!#REF!","v":{"$error":"#REF!"}}]
[{"$f":"'Tool auto'!D640","v":0},{"$f":"'Tool auto'!#REF!","v":{"$error":"#REF!"}}]
[{"$f":"'Tool auto'!D641","v":0},{"$f":"'Tool auto'!#REF!","v":{"$error":"#REF!"}}]
[{"$f":"'Tool auto'!D642","v":0},{"$f":"'Tool auto'!#REF!","v":{"$error":"#REF!"}}]
[{"$f":"'Tool auto'!D643","v":0},{"$f":"'Tool auto'!#REF!","v":{"$error":"#REF!"}}]
[{"$f":"'Tool auto'!D644","v":0},{"$f":"'Tool auto'!#REF!","v":{"$error":"#REF!"}}]
[{"$f":"'Tool auto'!D645","v":0},{"$f":"'Tool auto'!#REF!","v":{"$error":"#REF!"}}]
[{"$f":"'Tool auto'!D646","v":0},{"$f":"'Tool auto'!#REF!","v":{"$error":"#REF!"}}]
[{"$f":"'Tool auto'!D647","v":0},{"$f":"'Tool auto'!#REF!","v":{"$error":"#REF!"}}]
[{"$f":"'Tool auto'!D648","v":0},{"$f":"'Tool auto'!#REF!","v":{"$error":"#REF!"}}]
[{"$f":"'Tool auto'!D649","v":0},{"$f":"'Tool auto'!#REF!","v":{"$error":"#REF!"}}]
[{"$f":"'Tool auto'!D650","v":0},{"$f":"'Tool auto'!#REF!","v":{"$error":"#REF!"}}]
[{"$f":"'Tool auto'!D651","v":0},{"$f":"'Tool auto'!#REF!","v":{"$error":"#REF!"}}]
[{"$f":"'Tool auto'!D652","v":0},{"$f":"'Tool auto'!#REF!","v":{"$error":"#REF!"}}]
[{"$f":"'Tool auto'!D653","v":0},{"$f":"'Tool auto'!#REF!","v":{"$error":"#REF!"}}]
[{"$f":"'Tool auto'!D654","v":0},{"$f":"'Tool auto'!#REF!","v":{"$error":"#REF!"}}]
[{"$f":"'Tool auto'!D655","v":0},{"$f":"'Tool auto'!#REF!","v":{"$error":"#REF!"}}]
[{"$f":"'Tool auto'!D656","v":0},{"$f":"'Tool auto'!#REF!","v":{"$error":"#REF!"}}]
[{"$f":"'Tool auto'!D657","v":0},{"$f":"'Tool auto'!#REF!","v":{"$error":"#REF!"}}]
[{"$f":"'Tool auto'!D658","v":0},{"$f":"'Tool auto'!#REF!","v":{"$error":"#REF!"}}]
[{"$f":"'Tool auto'!D659","v":0},{"$f":"'Tool auto'!#REF!","v":{"$error":"#REF!"}}]
[{"$f":"'Tool auto'!D660","v":0},{"$f":"'Tool auto'!#REF!","v":{"$error":"#REF!"}}]
[{"$f":"'Tool auto'!D661","v":0},{"$f":"'Tool auto'!#REF!","v":{"$error":"#REF!"}}]
[{"$f":"'Tool auto'!D662","v":0},{"$f":"'Tool auto'!#REF!","v":{"$error":"#REF!"}}]
[{"$f":"'Tool auto'!D663","v":0},{"$f":"'Tool auto'!#REF!","v":{"$error":"#REF!"}}]
[{"$f":"'Tool auto'!D664","v":0},{"$f":"'Tool auto'!#REF!","v":{"$error":"#REF!"}}]
[{"$f":"'Tool auto'!D665","v":0},{"$f":"'Tool auto'!#REF!","v":{"$error":"#REF!"}}]
[{"$f":"'Tool auto'!D666","v":0},{"$f":"'Tool auto'!#REF!","v":{"$error":"#REF!"}}]
[{"$f":"'Tool auto'!D667","v":0},{"$f":"'Tool auto'!#REF!","v":{"$error":"#REF!"}}]
[{"$f":"'Tool auto'!D668","v":0},{"$f":"'Tool auto'!#REF!","v":{"$error":"#REF!"}}]
[{"$f":"'Tool auto'!D669","v":0},{"$f":"'Tool auto'!#REF!","v":{"$error":"#REF!"}}]
[{"$f":"'Tool auto'!D670","v":0},{"$f":"'Tool auto'!#REF!","v":{"$error":"#REF!"}}]
[{"$f":"'Tool auto'!D671","v":0},{"$f":"'Tool auto'!#REF!","v":{"$error":"#REF!"}}]
[{"$f":"'Tool auto'!D672","v":0},{"$f":"'Tool auto'!#REF!","v":{"$error":"#REF!"}}]
[{"$f":"'Tool auto'!D673","v":0},{"$f":"'Tool auto'!#REF!","v":{"$error":"#REF!"}}]
[{"$f":"'Tool auto'!D674","v":0},{"$f":"'Tool auto'!#REF!","v":{"$error":"#REF!"}}]
[{"$f":"'Tool auto'!D675","v":0},{"$f":"'Tool auto'!#REF!","v":{"$error":"#REF!"}}]
[{"$f":"'Tool auto'!D676","v":0},{"$f":"'Tool auto'!#REF!","v":{"$error":"#REF!"}}]
[{"$f":"'Tool auto'!D677","v":0},{"$f":"'Tool auto'!#REF!","v":{"$error":"#REF!"}}]
[{"$f":"'Tool auto'!D678","v":0},{"$f":"'Tool auto'!#REF!","v":{"$error":"#REF!"}}]
[{"$f":"'Tool auto'!D679","v":0},{"$f":"'Tool auto'!#REF!","v":{"$error":"#REF!"}}]
[{"$f":"'Tool auto'!D680","v":0},{"$f":"'Tool auto'!#REF!","v":{"$error":"#REF!"}}]
[{"$f":"'Tool auto'!D681","v":0},{"$f":"'Tool auto'!#REF!","v":{"$error":"#REF!"}}]
[{"$f":"'Tool auto'!D682","v":0},{"$f":"'Tool auto'!#REF!","v":{"$error":"#REF!"}}]
[{"$f":"'Tool auto'!D683","v":0},{"$f":"'Tool auto'!#REF!","v":{"$error":"#REF!"}}]
[{"$f":"'Tool auto'!D684","v":0},{"$f":"'Tool auto'!#REF!","v":{"$error":"#REF!"}}]
[{"$f":"'Tool auto'!D685","v":0},{"$f":"'Tool auto'!#REF!","v":{"$error":"#REF!"}}]
[{"$f":"'Tool auto'!D686","v":0},{"$f":"'Tool auto'!#REF!","v":{"$error":"#REF!"}}]
[{"$f":"'Tool auto'!D687","v":0},{"$f":"'Tool auto'!#REF!","v":{"$error":"#REF!"}}]
[{"$f":"'Tool auto'!D688","v":0},{"$f":"'Tool auto'!#REF!","v":{"$error":"#REF!"}}]
[{"$f":"'Tool auto'!D689","v":0},{"$f":"'Tool auto'!#REF!","v":{"$error":"#REF!"}}]
[{"$f":"'Tool auto'!D690","v":0},{"$f":"'Tool auto'!#REF!","v":{"$error":"#REF!"}}]
[{"$f":"'Tool auto'!D691","v":0},{"$f":"'Tool auto'!#REF!","v":{"$error":"#REF!"}}]
[{"$f":"'Tool auto'!D692","v":0},{"$f":"'Tool auto'!#REF!","v":{"$error":"#REF!"}}]
[{"$f":"'Tool auto'!D693","v":0},{"$f":"'Tool auto'!#REF!","v":{"$error":"#REF!"}}]
[{"$f":"'Tool auto'!D694","v":0},{"$f":"'Tool auto'!#REF!","v":{"$error":"#REF!"}}]
[{"$f":"'Tool auto'!D695","v":0},{"$f":"'Tool auto'!#REF!","v":{"$error":"#REF!"}}]
[{"$f":"'Tool auto'!D696","v":0},{"$f":"'Tool auto'!#REF!","v":{"$error":"#REF!"}}]
[{"$f":"'Tool auto'!D697","v":0},{"$f":"'Tool auto'!#REF!","v":{"$error":"#REF!"}}]
[{"$f":"'Tool auto'!D698","v":0},{"$f":"'Tool auto'!#REF!","v":{"$error":"#REF!"}}]
[{"$f":"'Tool auto'!D699","v":0},{"$f":"'Tool auto'!#REF!","v":{"$error":"#REF!"}}]
[{"$f":"'Tool auto'!D700","v":0},{"$f":"'Tool auto'!#REF!","v":{"$error":"#REF!"}}]
[{"$f":"'Tool auto'!D701","v":0},{"$f":"'Tool auto'!#REF!","v":{"$error":"#REF!"}}]
[{"$f":"'Tool auto'!D702","v":0},{"$f":"'Tool auto'!#REF!","v":{"$error":"#REF!"}}]
[{"$f":"'Tool auto'!D703","v":0},{"$f":"'Tool auto'!#REF!","v":{"$error":"#REF!"}}]
[{"$f":"'Tool auto'!D704","v":0},{"$f":"'Tool auto'!#REF!","v":{"$error":"#REF!"}}]
[{"$f":"'Tool auto'!D705","v":0},{"$f":"'Tool auto'!#REF!","v":{"$error":"#REF!"}}]
[{"$f":"'Tool auto'!D706","v":0},{"$f":"'Tool auto'!#REF!","v":{"$error":"#REF!"}}]
[{"$f":"'Tool auto'!D707","v":0},{"$f":"'Tool auto'!#REF!","v":{"$error":"#REF!"}}]
[{"$f":"'Tool auto'!D708","v":0},{"$f":"'Tool auto'!#REF!","v":{"$error":"#REF!"}}]
[{"$f":"'Tool auto'!D709","v":0},{"$f":"'Tool auto'!#REF!","v":{"$error":"#REF!"}}]
[{"$f":"'Tool auto'!D710","v":0},{"$f":"'Tool auto'!#REF!","v":{"$error":"#REF!"}}]
[{"$f":"'Tool auto'!D711","v":0},{"$f":"'Tool auto'!#REF!","v":{"$error":"#REF!"}}]
[{"$f":"'Tool auto'!D712","v":0},{"$f":"'Tool auto'!#REF!","v":{"$error":"#REF!"}}]
[{"$f":"'Tool auto'!D713","v":0},{"$f":"'Tool auto'!#REF!","v":{"$error":"#REF!"}}]
[{"$f":"'Tool auto'!D714","v":0},{"$f":"'Tool auto'!#REF!","v":{"$error":"#REF!"}}]
[{"$f":"'Tool auto'!D715","v":0},{"$f":"'Tool auto'!#REF!","v":{"$error":"#REF!"}}]
[{"$f":"'Tool auto'!D716","v":0},{"$f":"'Tool auto'!#REF!","v":{"$error":"#REF!"}}]
[{"$f":"'Tool auto'!D717","v":0},{"$f":"'Tool auto'!#REF!","v":{"$error":"#REF!"}}]
[{"$f":"'Tool auto'!D718","v":0},{"$f":"'Tool auto'!#REF!","v":{"$error":"#REF!"}}]
[{"$f":"'Tool auto'!D719","v":0},{"$f":"'Tool auto'!#REF!","v":{"$error":"#REF!"}}]
[{"$f":"'Tool auto'!D720","v":0},{"$f":"'Tool auto'!#REF!","v":{"$error":"#REF!"}}]
[{"$f":"'Tool auto'!D721","v":0},{"$f":"'Tool auto'!#REF!","v":{"$error":"#REF!"}}]
[{"$f":"'Tool auto'!D722","v":0},{"$f":"'Tool auto'!#REF!","v":{"$error":"#REF!"}}]
[{"$f":"'Tool auto'!D723","v":0},{"$f":"'Tool auto'!#REF!","v":{"$error":"#REF!"}}]
[{"$f":"'Tool auto'!D724","v":0},{"$f":"'Tool auto'!#REF!","v":{"$error":"#REF!"}}]
[{"$f":"'Tool auto'!D725","v":0},{"$f":"'Tool auto'!#REF!","v":{"$error":"#REF!"}}]
[{"$f":"'Tool auto'!D726","v":0},{"$f":"'Tool auto'!#REF!","v":{"$error":"#REF!"}}]
[{"$f":"'Tool auto'!D727","v":0},{"$f":"'Tool auto'!#REF!","v":{"$error":"#REF!"}}]
[{"$f":"'Tool auto'!D728","v":0},{"$f":"'Tool auto'!#REF!","v":{"$error":"#REF!"}}]
[{"$f":"'Tool auto'!D729","v":0},{"$f":"'Tool auto'!#REF!","v":{"$error":"#REF!"}}]
[{"$f":"'Tool auto'!D730","v":0},{"$f":"'Tool auto'!#REF!","v":{"$error":"#REF!"}}]
[{"$f":"'Tool auto'!D731","v":0},{"$f":"'Tool auto'!#REF!","v":{"$error":"#REF!"}}]
[{"$f":"'Tool auto'!D732","v":0},{"$f":"'Tool auto'!#REF!","v":{"$error":"#REF!"}}]
[{"$f":"'Tool auto'!D733","v":0},{"$f":"'Tool auto'!#REF!","v":{"$error":"#REF!"}}]
[{"$f":"'Tool auto'!D734","v":0},{"$f":"'Tool auto'!#REF!","v":{"$error":"#REF!"}}]
[{"$f":"'Tool auto'!D735","v":0},{"$f":"'Tool auto'!#REF!","v":{"$error":"#REF!"}}]
[{"$f":"'Tool auto'!D736","v":0},{"$f":"'Tool auto'!#REF!","v":{"$error":"#REF!"}}]
[{"$f":"'Tool auto'!D737","v":0},{"$f":"'Tool auto'!#REF!","v":{"$error":"#REF!"}}]
[{"$f":"'Tool auto'!D738","v":0},{"$f":"'Tool auto'!#REF!","v":{"$error":"#REF!"}}]
[{"$f":"'Tool auto'!D739","v":0},{"$f":"'Tool auto'!#REF!","v":{"$error":"#REF!"}}]
[{"$f":"'Tool auto'!D740","v":0},{"$f":"'Tool auto'!#REF!","v":{"$error":"#REF!"}}]
[{"$f":"'Tool auto'!D741","v":0},{"$f":"'Tool auto'!#REF!","v":{"$error":"#REF!"}}]
[{"$f":"'Tool auto'!D742","v":0},{"$f":"'Tool auto'!#REF!","v":{"$error":"#REF!"}}]
[{"$f":"'Tool auto'!D743","v":0},{"$f":"'Tool auto'!#REF!","v":{"$error":"#REF!"}}]
[{"$f":"'Tool auto'!D744","v":0},{"$f":"'Tool auto'!#REF!","v":{"$error":"#REF!"}}]
[{"$f":"'Tool auto'!D745","v":0},{"$f":"'Tool auto'!#REF!","v":{"$error":"#REF!"}}]
[{"$f":"'Tool auto'!D746","v":0},{"$f":"'Tool auto'!#REF!","v":{"$error":"#REF!"}}]
[{"$f":"'Tool auto'!D747","v":0},{"$f":"'Tool auto'!#REF!","v":{"$error":"#REF!"}}]
[{"$f":"'Tool auto'!D748","v":0},{"$f":"'Tool auto'!#REF!","v":{"$error":"#REF!"}}]
[{"$f":"'Tool auto'!D749","v":0},{"$f":"'Tool auto'!#REF!","v":{"$error":"#REF!"}}]
[{"$f":"'Tool auto'!D750","v":0},{"$f":"'Tool auto'!#REF!","v":{"$error":"#REF!"}}]
[{"$f":"'Tool auto'!D751","v":0},{"$f":"'Tool auto'!#REF!","v":{"$error":"#REF!"}}]
[{"$f":"'Tool auto'!D752","v":0},{"$f":"'Tool auto'!#REF!","v":{"$error":"#REF!"}}]
[{"$f":"'Tool auto'!D753","v":0},{"$f":"'Tool auto'!#REF!","v":{"$error":"#REF!"}}]
[{"$f":"'Tool auto'!D754","v":0},{"$f":"'Tool auto'!#REF!","v":{"$error":"#REF!"}}]
[{"$f":"'Tool auto'!D755","v":0},{"$f":"'Tool auto'!#REF!","v":{"$error":"#REF!"}}]
[{"$f":"'Tool auto'!D756","v":0},{"$f":"'Tool auto'!#REF!","v":{"$error":"#REF!"}}]
[{"$f":"'Tool auto'!D757","v":0},{"$f":"'Tool auto'!#REF!","v":{"$error":"#REF!"}}]
[{"$f":"'Tool auto'!D758","v":0},{"$f":"'Tool auto'!#REF!","v":{"$error":"#REF!"}}]
[{"$f":"'Tool auto'!D759","v":0},{"$f":"'Tool auto'!#REF!","v":{"$error":"#REF!"}}]
[{"$f":"'Tool auto'!D760","v":0},{"$f":"'Tool auto'!#REF!","v":{"$error":"#REF!"}}]
[{"$f":"'Tool auto'!D761","v":0},{"$f":"'Tool auto'!#REF!","v":{"$error":"#REF!"}}]
[{"$f":"'Tool auto'!D762","v":0},{"$f":"'Tool auto'!#REF!","v":{"$error":"#REF!"}}]
[{"$f":"'Tool auto'!D763","v":0},{"$f":"'Tool auto'!#REF!","v":{"$error":"#REF!"}}]
[{"$f":"'Tool auto'!D764","v":0},{"$f":"'Tool auto'!#REF!","v":{"$error":"#REF!"}}]
[{"$f":"'Tool auto'!D765","v":0},{"$f":"'Tool auto'!#REF!","v":{"$error":"#REF!"}}]
[{"$f":"'Tool auto'!D766","v":0},{"$f":"'Tool auto'!#REF!","v":{"$error":"#REF!"}}]
[{"$f":"'Tool auto'!D767","v":0},{"$f":"'Tool auto'!#REF!","v":{"$error":"#REF!"}}]
[{"$f":"'Tool auto'!D768","v":0},{"$f":"'Tool auto'!#REF!","v":{"$error":"#REF!"}}]
[{"$f":"'Tool auto'!D769","v":0},{"$f":"'Tool auto'!#REF!","v":{"$error":"#REF!"}}]
[{"$f":"'Tool auto'!D770","v":0},{"$f":"'Tool auto'!#REF!","v":{"$error":"#REF!"}}]
[{"$f":"'Tool auto'!D771","v":0},{"$f":"'Tool auto'!#REF!","v":{"$error":"#REF!"}}]
[{"$f":"'Tool auto'!D772","v":0},{"$f":"'Tool auto'!#REF!","v":{"$error":"#REF!"}}]
[{"$f":"'Tool auto'!D773","v":0},{"$f":"'Tool auto'!#REF!","v":{"$error":"#REF!"}}]
[{"$f":"'Tool auto'!D774","v":0},{"$f":"'Tool auto'!#REF!","v":{"$error":"#REF!"}}]
[{"$f":"'Tool auto'!D775","v":0},{"$f":"'Tool auto'!#REF!","v":{"$error":"#REF!"}}]
[{"$f":"'Tool auto'!D776","v":0},{"$f":"'Tool auto'!#REF!","v":{"$error":"#REF!"}}]
[{"$f":"'Tool auto'!D777","v":0},{"$f":"'Tool auto'!#REF!","v":{"$error":"#REF!"}}]
[{"$f":"'Tool auto'!D778","v":0},{"$f":"'Tool auto'!#REF!","v":{"$error":"#REF!"}}]
[{"$f":"'Tool auto'!D779","v":0},{"$f":"'Tool auto'!#REF!","v":{"$error":"#REF!"}}]
[{"$f":"'Tool auto'!D780","v":0},{"$f":"'Tool auto'!#REF!","v":{"$error":"#REF!"}}]
[{"$f":"'Tool auto'!D781","v":0},{"$f":"'Tool auto'!#REF!","v":{"$error":"#REF!"}}]
[{"$f":"'Tool auto'!D782","v":0},{"$f":"'Tool auto'!#REF!","v":{"$error":"#REF!"}}]
[{"$f":"'Tool auto'!D783","v":0},{"$f":"'Tool auto'!#REF!","v":{"$error":"#REF!"}}]
[{"$f":"'Tool auto'!D784","v":0},{"$f":"'Tool auto'!#REF!","v":{"$error":"#REF!"}}]
[{"$f":"'Tool auto'!D785","v":0},{"$f":"'Tool auto'!#REF!","v":{"$error":"#REF!"}}]
[{"$f":"'Tool auto'!D786","v":0},{"$f":"'Tool auto'!#REF!","v":{"$error":"#REF!"}}]
[{"$f":"'Tool auto'!D787","v":0},{"$f":"'Tool auto'!#REF!","v":{"$error":"#REF!"}}]
[{"$f":"'Tool auto'!D788","v":0},{"$f":"'Tool auto'!#REF!","v":{"$error":"#REF!"}}]
[{"$f":"'Tool auto'!D789","v":0},{"$f":"'Tool auto'!#REF!","v":{"$error":"#REF!"}}]
[{"$f":"'Tool auto'!D790","v":0},{"$f":"'Tool auto'!#REF!","v":{"$error":"#REF!"}}]
[{"$f":"'Tool auto'!D791","v":0},{"$f":"'Tool auto'!#REF!","v":{"$error":"#REF!"}}]
[{"$f":"'Tool auto'!D792","v":0},{"$f":"'Tool auto'!#REF!","v":{"$error":"#REF!"}}]
[{"$f":"'Tool auto'!D793","v":0},{"$f":"'Tool auto'!#REF!","v":{"$error":"#REF!"}}]
[{"$f":"'Tool auto'!D794","v":0},{"$f":"'Tool auto'!#REF!","v":{"$error":"#REF!"}}]
[{"$f":"'Tool auto'!D795","v":0},{"$f":"'Tool auto'!#REF!","v":{"$error":"#REF!"}}]
[{"$f":"'Tool auto'!D796","v":0},{"$f":"'Tool auto'!#REF!","v":{"$error":"#REF!"}}]
[{"$f":"'Tool auto'!D797","v":0},{"$f":"'Tool auto'!#REF!","v":{"$error":"#REF!"}}]
[{"$f":"'Tool auto'!D798","v":0},{"$f":"'Tool auto'!#REF!","v":{"$error":"#REF!"}}]
[{"$f":"'Tool auto'!D799","v":0},{"$f":"'Tool auto'!#REF!","v":{"$error":"#REF!"}}]
[{"$f":"'Tool auto'!D800","v":0},{"$f":"'Tool auto'!#REF!","v":{"$error":"#REF!"}}]
[{"$f":"'Tool auto'!D801","v":0},{"$f":"'Tool auto'!#REF!","v":{"$error":"#REF!"}}]
[{"$f":"'Tool auto'!D802","v":0},{"$f":"'Tool auto'!#REF!","v":{"$error":"#REF!"}}]
[{"$f":"'Tool auto'!D803","v":0},{"$f":"'Tool auto'!#REF!","v":{"$error":"#REF!"}}]
[{"$f":"'Tool auto'!D804","v":0},{"$f":"'Tool auto'!#REF!","v":{"$error":"#REF!"}}]
[{"$f":"'Tool auto'!D805","v":0},{"$f":"'Tool auto'!#REF!","v":{"$error":"#REF!"}}]
[{"$f":"'Tool auto'!D806","v":0},{"$f":"'Tool auto'!#REF!","v":{"$error":"#REF!"}}]
[{"$f":"'Tool auto'!D807","v":0},{"$f":"'Tool auto'!#REF!","v":{"$error":"#REF!"}}]
[{"$f":"'Tool auto'!D808","v":0},{"$f":"'Tool auto'!#REF!","v":{"$error":"#REF!"}}]
[{"$f":"'Tool auto'!D809","v":0},{"$f":"'Tool auto'!#REF!","v":{"$error":"#REF!"}}]
[{"$f":"'Tool auto'!D810","v":0},{"$f":"'Tool auto'!#REF!","v":{"$error":"#REF!"}}]
[{"$f":"'Tool auto'!D811","v":0},{"$f":"'Tool auto'!#REF!","v":{"$error":"#REF!"}}]
[{"$f":"'Tool auto'!D812","v":0},{"$f":"'Tool auto'!#REF!","v":{"$error":"#REF!"}}]
[{"$f":"'Tool auto'!D813","v":0},{"$f":"'Tool auto'!#REF!","v":{"$error":"#REF!"}}]
[{"$f":"'Tool auto'!D814","v":0},{"$f":"'Tool auto'!#REF!","v":{"$error":"#REF!"}}]
[{"$f":"'Tool auto'!D815","v":0},{"$f":"'Tool auto'!#REF!","v":{"$error":"#REF!"}}]
[{"$f":"'Tool auto'!D816","v":0},{"$f":"'Tool auto'!#REF!","v":{"$error":"#REF!"}}]
[{"$f":"'Tool auto'!D817","v":0},{"$f":"'Tool auto'!#REF!","v":{"$error":"#REF!"}}]
[{"$f":"'Tool auto'!D818","v":0},{"$f":"'Tool auto'!#REF!","v":{"$error":"#REF!"}}]
[{"$f":"'Tool auto'!D819","v":0},{"$f":"'Tool auto'!#REF!","v":{"$error":"#REF!"}}]
[{"$f":"'Tool auto'!D820","v":0},{"$f":"'Tool auto'!#REF!","v":{"$error":"#REF!"}}]
[{"$f":"'Tool auto'!D821","v":0},{"$f":"'Tool auto'!#REF!","v":{"$error":"#REF!"}}]
[{"$f":"'Tool auto'!D822","v":0},{"$f":"'Tool auto'!#REF!","v":{"$error":"#REF!"}}]
[{"$f":"'Tool auto'!D823","v":0},{"$f":"'Tool auto'!#REF!","v":{"$error":"#REF!"}}]
[{"$f":"'Tool auto'!D824","v":0},{"$f":"'Tool auto'!#REF!","v":{"$error":"#REF!"}}]
[{"$f":"'Tool auto'!D825","v":0},{"$f":"'Tool auto'!#REF!","v":{"$error":"#REF!"}}]
[{"$f":"'Tool auto'!D826","v":0},{"$f":"'Tool auto'!#REF!","v":{"$error":"#REF!"}}]
[{"$f":"'Tool auto'!D827","v":0},{"$f":"'Tool auto'!#REF!","v":{"$error":"#REF!"}}]
[{"$f":"'Tool auto'!D828","v":0},{"$f":"'Tool auto'!#REF!","v":{"$error":"#REF!"}}]
[{"$f":"'Tool auto'!D829","v":0},{"$f":"'Tool auto'!#REF!","v":{"$error":"#REF!"}}]
[{"$f":"'Tool auto'!D830","v":0},{"$f":"'Tool auto'!#REF!","v":{"$error":"#REF!"}}]
[{"$f":"'Tool auto'!D831","v":0},{"$f":"'Tool auto'!#REF!","v":{"$error":"#REF!"}}]
[{"$f":"'Tool auto'!D832","v":0},{"$f":"'Tool auto'!#REF!","v":{"$error":"#REF!"}}]
[{"$f":"'Tool auto'!D833","v":0},{"$f":"'Tool auto'!#REF!","v":{"$error":"#REF!"}}]
[{"$f":"'Tool auto'!D834","v":0},{"$f":"'Tool auto'!#REF!","v":{"$error":"#REF!"}}]
[{"$f":"'Tool auto'!D835","v":0},{"$f":"'Tool auto'!#REF!","v":{"$error":"#REF!"}}]
[{"$f":"'Tool auto'!D836","v":0},{"$f":"'Tool auto'!#REF!","v":{"$error":"#REF!"}}]
[{"$f":"'Tool auto'!D837","v":0},{"$f":"'Tool auto'!#REF!","v":{"$error":"#REF!"}}]
[{"$f":"'Tool auto'!D838","v":0},{"$f":"'Tool auto'!#REF!","v":{"$error":"#REF!"}}]
[{"$f":"'Tool auto'!D839","v":0},{"$f":"'Tool auto'!#REF!","v":{"$error":"#REF!"}}]
[{"$f":"'Tool auto'!D840","v":0},{"$f":"'Tool auto'!#REF!","v":{"$error":"#REF!"}}]
[{"$f":"'Tool auto'!D841","v":0},{"$f":"'Tool auto'!#REF!","v":{"$error":"#REF!"}}]
[{"$f":"'Tool auto'!D842","v":0},{"$f":"'Tool auto'!#REF!","v":{"$error":"#REF!"}}]
[{"$f":"'Tool auto'!D843","v":0},{"$f":"'Tool auto'!#REF!","v":{"$error":"#REF!"}}]
[{"$f":"'Tool auto'!D844","v":0},{"$f":"'Tool auto'!#REF!","v":{"$error":"#REF!"}}]
[{"$f":"'Tool auto'!D845","v":0},{"$f":"'Tool auto'!#REF!","v":{"$error":"#REF!"}}]
[{"$f":"'Tool auto'!D846","v":0},{"$f":"'Tool auto'!#REF!","v":{"$error":"#REF!"}}]
[{"$f":"'Tool auto'!D847","v":0},{"$f":"'Tool auto'!#REF!","v":{"$error":"#REF!"}}]
[{"$f":"'Tool auto'!D848","v":0},{"$f":"'Tool auto'!#REF!","v":{"$error":"#REF!"}}]
[{"$f":"'Tool auto'!D849","v":0},{"$f":"'Tool auto'!#REF!","v":{"$error":"#REF!"}}]
[{"$f":"'Tool auto'!D850","v":0},{"$f":"'Tool auto'!#REF!","v":{"$error":"#REF!"}}]
[{"$f":"'Tool auto'!D851","v":0},{"$f":"'Tool auto'!#REF!","v":{"$error":"#REF!"}}]
[{"$f":"'Tool auto'!D852","v":0},{"$f":"'Tool auto'!#REF!","v":{"$error":"#REF!"}}]
[{"$f":"'Tool auto'!D853","v":0},{"$f":"'Tool auto'!#REF!","v":{"$error":"#REF!"}}]
[{"$f":"'Tool auto'!D854","v":0},{"$f":"'Tool auto'!#REF!","v":{"$error":"#REF!"}}]
[{"$f":"'Tool auto'!D855","v":0},{"$f":"'Tool auto'!#REF!","v":{"$error":"#REF!"}}]
[{"$f":"'Tool auto'!D856","v":0},{"$f":"'Tool auto'!#REF!","v":{"$error":"#REF!"}}]
[{"$f":"'Tool auto'!D857","v":0},{"$f":"'Tool auto'!#REF!","v":{"$error":"#REF!"}}]
[{"$f":"'Tool auto'!D858","v":0},{"$f":"'Tool auto'!#REF!","v":{"$error":"#REF!"}}]
[{"$f":"'Tool auto'!D859","v":0},{"$f":"'Tool auto'!#REF!","v":{"$error":"#REF!"}}]
[{"$f":"'Tool auto'!D860","v":0},{"$f":"'Tool auto'!#REF!","v":{"$error":"#REF!"}}]
[{"$f":"'Tool auto'!D861","v":0},{"$f":"'Tool auto'!#REF!","v":{"$error":"#REF!"}}]
[{"$f":"'Tool auto'!D862","v":0},{"$f":"'Tool auto'!#REF!","v":{"$error":"#REF!"}}]
[{"$f":"'Tool auto'!D863","v":0},{"$f":"'Tool auto'!#REF!","v":{"$error":"#REF!"}}]
[{"$f":"'Tool auto'!D864","v":0},{"$f":"'Tool auto'!#REF!","v":{"$error":"#REF!"}}]
[{"$f":"'Tool auto'!D865","v":0},{"$f":"'Tool auto'!#REF!","v":{"$error":"#REF!"}}]
[{"$f":"'Tool auto'!D866","v":0},{"$f":"'Tool auto'!#REF!","v":{"$error":"#REF!"}}]
[{"$f":"'Tool auto'!D867","v":0},{"$f":"'Tool auto'!#REF!","v":{"$error":"#REF!"}}]
[{"$f":"'Tool auto'!D868","v":0},{"$f":"'Tool auto'!#REF!","v":{"$error":"#REF!"}}]
[{"$f":"'Tool auto'!D869","v":0},{"$f":"'Tool auto'!#REF!","v":{"$error":"#REF!"}}]
[{"$f":"'Tool auto'!D870","v":0},{"$f":"'Tool auto'!#REF!","v":{"$error":"#REF!"}}]
[{"$f":"'Tool auto'!D871","v":0},{"$f":"'Tool auto'!#REF!","v":{"$error":"#REF!"}}]
[{"$f":"'Tool auto'!D872","v":0},{"$f":"'Tool auto'!#REF!","v":{"$error":"#REF!"}}]
[{"$f":"'Tool auto'!D873","v":0},{"$f":"'Tool auto'!#REF!","v":{"$error":"#REF!"}}]
[{"$f":"'Tool auto'!D874","v":0},{"$f":"'Tool auto'!#REF!","v":{"$error":"#REF!"}}]
[{"$f":"'Tool auto'!D875","v":0},{"$f":"'Tool auto'!#REF!","v":{"$error":"#REF!"}}]
[{"$f":"'Tool auto'!D876","v":0},{"$f":"'Tool auto'!#REF!","v":{"$error":"#REF!"}}]
[{"$f":"'Tool auto'!D877","v":0},{"$f":"'Tool auto'!#REF!","v":{"$error":"#REF!"}}]
[{"$f":"'Tool auto'!D878","v":0},{"$f":"'Tool auto'!#REF!","v":{"$error":"#REF!"}}]
[{"$f":"'Tool auto'!D879","v":0},{"$f":"'Tool auto'!#REF!","v":{"$error":"#REF!"}}]
[{"$f":"'Tool auto'!D880","v":0},{"$f":"'Tool auto'!#REF!","v":{"$error":"#REF!"}}]
[{"$f":"'Tool auto'!D881","v":0},{"$f":"'Tool auto'!#REF!","v":{"$error":"#REF!"}}]
[{"$f":"'Tool auto'!D882","v":0},{"$f":"'Tool auto'!#REF!","v":{"$error":"#REF!"}}]
[{"$f":"'Tool auto'!D883","v":0},{"$f":"'Tool auto'!#REF!","v":{"$error":"#REF!"}}]
[{"$f":"'Tool auto'!D884","v":0},{"$f":"'Tool auto'!#REF!","v":{"$error":"#REF!"}}]
[{"$f":"'Tool auto'!D885","v":0},{"$f":"'Tool auto'!#REF!","v":{"$error":"#REF!"}}]
[{"$f":"'Tool auto'!D886","v":0},{"$f":"'Tool auto'!#REF!","v":{"$error":"#REF!"}}]
[{"$f":"'Tool auto'!D887","v":0},{"$f":"'Tool auto'!#REF!","v":{"$error":"#REF!"}}]
[{"$f":"'Tool auto'!D888","v":0},{"$f":"'Tool auto'!#REF!","v":{"$error":"#REF!"}}]
[{"$f":"'Tool auto'!D889","v":0},{"$f":"'Tool auto'!#REF!","v":{"$error":"#REF!"}}]
[{"$f":"'Tool auto'!D890","v":0},{"$f":"'Tool auto'!#REF!","v":{"$error":"#REF!"}}]
[{"$f":"'Tool auto'!D891","v":0},{"$f":"'Tool auto'!#REF!","v":{"$error":"#REF!"}}]
[{"$f":"'Tool auto'!D892","v":0},{"$f":"'Tool auto'!#REF!","v":{"$error":"#REF!"}}]
[{"$f":"'Tool auto'!D893","v":0},{"$f":"'Tool auto'!#REF!","v":{"$error":"#REF!"}}]
[{"$f":"'Tool auto'!D894","v":0},{"$f":"'Tool auto'!#REF!","v":{"$error":"#REF!"}}]
[{"$f":"'Tool auto'!D895","v":0},{"$f":"'Tool auto'!#REF!","v":{"$error":"#REF!"}}]
[{"$f":"'Tool auto'!D896","v":0},{"$f":"'Tool auto'!#REF!","v":{"$error":"#REF!"}}]
[{"$f":"'Tool auto'!D897","v":0},{"$f":"'Tool auto'!#REF!","v":{"$error":"#REF!"}}]
[{"$f":"'Tool auto'!D898","v":0},{"$f":"'Tool auto'!#REF!","v":{"$error":"#REF!"}}]
[{"$f":"'Tool auto'!D899","v":0},{"$f":"'Tool auto'!#REF!","v":{"$error":"#REF!"}}]
[{"$f":"'Tool auto'!D900","v":0},{"$f":"'Tool auto'!#REF!","v":{"$error":"#REF!"}}]
[{"$f":"'Tool auto'!D901","v":0},{"$f":"'Tool auto'!#REF!","v":{"$error":"#REF!"}}]
[{"$f":"'Tool auto'!D902","v":0},{"$f":"'Tool auto'!#REF!","v":{"$error":"#REF!"}}]
[{"$f":"'Tool auto'!D903","v":0},{"$f":"'Tool auto'!#REF!","v":{"$error":"#REF!"}}]
[{"$f":"'Tool auto'!D904","v":0},{"$f":"'Tool auto'!#REF!","v":{"$error":"#REF!"}}]
[{"$f":"'Tool auto'!D905","v":0},{"$f":"'Tool auto'!#REF!","v":{"$error":"#REF!"}}]
[{"$f":"'Tool auto'!D906","v":0},{"$f":"'Tool auto'!#REF!","v":{"$error":"#REF!"}}]
[{"$f":"'Tool auto'!D907","v":0},{"$f":"'Tool auto'!#REF!","v":{"$error":"#REF!"}}]
[{"$f":"'Tool auto'!D908","v":0},{"$f":"'Tool auto'!#REF!","v":{"$error":"#REF!"}}]
[{"$f":"'Tool auto'!D909","v":0},{"$f":"'Tool auto'!#REF!","v":{"$error":"#REF!"}}]
[{"$f":"'Tool auto'!D910","v":0},{"$f":"'Tool auto'!#REF!","v":{"$error":"#REF!"}}]
[{"$f":"'Tool auto'!D911","v":0},{"$f":"'Tool auto'!#REF!","v":{"$error":"#REF!"}}]
[{"$f":"'Tool auto'!D912","v":0},{"$f":"'Tool auto'!#REF!","v":{"$error":"#REF!"}}]
[{"$f":"'Tool auto'!D913","v":0},{"$f":"'Tool auto'!#REF!","v":{"$error":"#REF!"}}]
[{"$f":"'Tool auto'!D914","v":0},{"$f":"'Tool auto'!#REF!","v":{"$error":"#REF!"}}]
[{"$f":"'Tool auto'!D915","v":0},{"$f":"'Tool auto'!#REF!","v":{"$error":"#REF!"}}]
[{"$f":"'Tool auto'!D916","v":0},{"$f":"'Tool auto'!#REF!","v":{"$error":"#REF!"}}]
[{"$f":"'Tool auto'!D917","v":0},{"$f":"'Tool auto'!#REF!","v":{"$error":"#REF!"}}]
[{"$f":"'Tool auto'!D918","v":0},{"$f":"'Tool auto'!#REF!","v":{"$error":"#REF!"}}]
[{"$f":"'Tool auto'!D919","v":0},{"$f":"'Tool auto'!#REF!","v":{"$error":"#REF!"}}]
[{"$f":"'Tool auto'!D920","v":0},{"$f":"'Tool auto'!#REF!","v":{"$error":"#REF!"}}]
[{"$f":"'Tool auto'!D921","v":0},{"$f":"'Tool auto'!#REF!","v":{"$error":"#REF!"}}]
[{"$f":"'Tool auto'!D922","v":0},{"$f":"'Tool auto'!#REF!","v":{"$error":"#REF!"}}]
[{"$f":"'Tool auto'!D923","v":0},{"$f":"'Tool auto'!#REF!","v":{"$error":"#REF!"}}]
[{"$f":"'Tool auto'!D924","v":0},{"$f":"'Tool auto'!#REF!","v":{"$error":"#REF!"}}]
[{"$f":"'Tool auto'!D925","v":0},{"$f":"'Tool auto'!#REF!","v":{"$error":"#REF!"}}]
[{"$f":"'Tool auto'!D926","v":0},{"$f":"'Tool auto'!#REF!","v":{"$error":"#REF!"}}]
[{"$f":"'Tool auto'!D927","v":0},{"$f":"'Tool auto'!#REF!","v":{"$error":"#REF!"}}]
[{"$f":"'Tool auto'!D928","v":0},{"$f":"'Tool auto'!#REF!","v":{"$error":"#REF!"}}]
[{"$f":"'Tool auto'!D929","v":0},{"$f":"'Tool auto'!#REF!","v":{"$error":"#REF!"}}]
[{"$f":"'Tool auto'!D930","v":0},{"$f":"'Tool auto'!#REF!","v":{"$error":"#REF!"}}]
[{"$f":"'Tool auto'!D931","v":0},{"$f":"'Tool auto'!#REF!","v":{"$error":"#REF!"}}]
[{"$f":"'Tool auto'!D932","v":0},{"$f":"'Tool auto'!#REF!","v":{"$error":"#REF!"}}]
[{"$f":"'Tool auto'!D933","v":0},{"$f":"'Tool auto'!#REF!","v":{"$error":"#REF!"}}]
[{"$f":"'Tool auto'!D934","v":0},{"$f":"'Tool auto'!#REF!","v":{"$error":"#REF!"}}]
[{"$f":"'Tool auto'!D935","v":0},{"$f":"'Tool auto'!#REF!","v":{"$error":"#REF!"}}]
[{"$f":"'Tool auto'!D936","v":0},{"$f":"'Tool auto'!#REF!","v":{"$error":"#REF!"}}]

{"sheet":"Tool auto","index":2,"n_rows":13,"n_cols":10,"rows_kept":13,"cut":false,"hidden":false,"merged":[[5,9,10,9],[5,4,10,4]]}
[]
[]
[]
[]
[]
[null,null,null,null,"Input (1000 unique Part No limit)",null,null,null,null,"Output"]
[]
[]
[]
[]
[]
[null,null,null,"Part No","Qty parts per year",null,null,null,"V-EMB Type","Yearly quantity per Type"]
[null,null,null,null,0]

{"sheet":"Tool semi-auto","index":3,"n_rows":12,"n_cols":10,"rows_kept":12,"cut":false,"hidden":false,"merged":[[5,4,10,4],[5,9,10,9]]}
[]
[]
[]
[]
[]
[null,null,null,null,"Input (1000 unique Part No limit)",null,null,null,null,"Output"]
[]
[]
[]
[]
[]
[null,null,null,"Part No","Qty parts per year",null,null,null,"V-EMB Type","Yearly quantity per Type"]

{"sheet":"Tool manual","index":4,"n_rows":23,"n_cols":9,"rows_kept":23,"cut":false,"hidden":false,"merged":[[12,2,12,3],[6,7,6,8],[0,7,5,8],[0,2,2,3]]}
[null,null,"Input ",null,null,null,null,"Output"]
[]
[]
[]
[]
[]
[null,null,"Qty parts per year","Qty parts per THU",null,null,null,"Yearly qty per type"]
[null,null,10000,10,null,null,null,"V-EMB type","Qty per type"]
[null,null,null,null,null,null,null,{"$f":"IF(C15=\"\",\"\",C15)","v":"1"},{"$f":"IF(D15=\"\",\"\",D15*$C$8/$D$8)","v":1000}]
[null,null,null,null,null,null,null,"21",{"$f":"IF(D16=\"\",\"\",D16*$C$8/$D$8)","v":3000}]
[null,null,null,null,null,null,null,"61",1000]
[null,null,null,null,null,null,null,"71",1000]
[null,null,"THU structure (manual)",null,null,null,null,"",""]
[null,null,"V-EMB type","Qty per THU",null,null,null,"",""]
[null,null,"1",1,null,null,null,"",""]
[null,null,"21",3,null,null,null,"",""]
[null,null,"61",1,null,null,null,"",""]
[null,null,"71",1,null,null,null,"",""]
[null,null,null,null,null,null,null,"",""]
[null,null,null,null,null,null,null,"",""]
[null,null,null,null,null,null,null,"",{"$f":"IF(D27=\"\",\"\",D27*$C$8/$D$8)","v":""}]
[null,null,null,null,null,null,null,"",""]
[null,null,null,null,null,null,null,"",{"$f":"IF(D29=\"\",\"\",D29*$C$8/$D$8)","v":""}]

{"sheet":"INPUT QLIK PI","index":5,"n_rows":1,"n_cols":11,"rows_kept":1,"cut":false,"hidden":false,"merged":[]}
["Part No","Alias","Material Number","PI No.","Material Description","Product Hiearchy","Qty/Layer","No. Of layers","SubHU Flag","Outer Packaging","Part Qty"]

{"sheet":"INPUT QLIK DEMAND","index":6,"n_rows":1,"n_cols":162,"rows_kept":1,"cut":false,"hidden":false,"merged":[]}
["Part (GTOOL)","Demand Date (DELFOR)","Totals","-","1","2","3","4","5","6","7","8","9","10","11","12","13","14","15","16","17","18","19","20","21","22","23","24","25","26","27","28","29","30","31","32","33","34","35","36","37","38","39","40","41","42","43","44","45","46","47","48","49","50","51","52","53","54","55","56","57","58","59","60","61","62","63","64","65","66","67","68","69","70","71","72","73","74","75","76","77","78","79","80","81","82","83","84","85","86","87","88","89","90","91","92","93","94","95","96","97","98","99","100","101","102","103","104","105","106","107","108","109","110","111","112","113","114","115","116","117","118","119","120","121","122","123","124","125","126","127","128","129","130","131","132","133","134","135","136","137","138","139","140","141","142","143","144","145","146","147","148","149","150","151","152","153","154","155","156","157","158"]

{"sheet":"Types","index":7,"n_rows":677,"n_cols":3,"rows_kept":677,"cut":false,"hidden":true,"merged":[]}
["MaterialId-MARA","OldMaterial","MaterialDescription-MARA"]
["9900000001","1","PALLET OF WOOD, TYPE L"]
["9900000002","2","PALLET OF WOOD, TYPE K"]
["9900000005","5","PALLET OF WOOD, TYPE F"]
["9900000006","6","PALLET OF WOOD, TYPE G"]
["9900000009","9","PALLET OF WOOD, TYPE H"]
["9900000021","21","FRAME OF WOOD, TYPE L"]
["9900000022","22","FRAME OF WOOD, TYPE K"]
["9900000025","25","FRAME OF WOOD, TYPE F"]
["9900000026","26","FRAME OF WOOD, TYPE G"]
["9900000029","29","FRAME OF WOOD, TYPE H"]
["9900000031","31","SPACER OF PLYWOOD, L OUTER"]
["9900000041","41","SPACER OF PLYWOOD, L INNER"]
["9900000045","45","SPACER OF PLYWOOD, F INNER"]
["9900000056","56","SPACER OF WOOD FIBRE, G OUTER"]
["9900000061","61","SPACER OF WOOD FIBRE, L INNER"]
["9900000062","62","SPACER OF WOOD FIBRE, K INNER"]
["9900000065","65","SPACER OF WOOD FIBRE, F INNER"]
["9900000066","66","SPACER OF WOOD FIBRE, G INNER"]
["9900000069","69","SPACER OF WOOD FIBRE, H INNER"]
["9900000071","71","LID OF PLYWOOD, TYPE L"]
["9900000072","72","LID OF PLYWOOD, TYPE K"]
["9900000075","75","LID OF PLYWOOD, TYPE F"]
["9900000076","76","LID OF PLYWOOD, TYPE G"]
["9900000079","79","LID OF PLYWOOD, TYPE H"]
["9900000081","81","SPACER OF PLASTIC, L INNER"]
["9900000082","82","SPACER OF PLASTIC, K INNER"]
["9900000091","91","LID OF PLASTIC"]
["9900000092","92","LID OF PLASTIC"]
["9900000105","105","FIXING SPACER OF PLASTIC"]
["9900000107","107","PALLET OF WOOD"]
["9900000116","116","SPACER OF PLASTIC"]
["9900000121","121","SPEC.VT.Spacer of Plastic.Cab"]
["9900000141","141","STD.PALLET OF PLASTIC"]
["9900000142","142","STD.SLEEVE OF PLASTIC"]
["9900000143","143","STD.LID OF PLASTIC"]
["9900000190","190","STD.PALLET OF PLASTIC"]
["9900000191","191","STD.LID OF PLASTIC"]
["9900000215","215","SPEC.PTP.RACK OF STEEL.ENGINE"]
["9900000236","236","LID OF PLYWOOD"]
["9900000270","270","SPEC.PTP.SPACER OF WOOD.GCU"]
["9900000284","284","RACK OF STEEL"]
["9900000285","285","RACK OF STEEL"]
["9900000288","288","FIXING SPACER OF STEEL/ALU"]
["9900000291","291","PLASTIC CONTAINER FSC"]
["9900000292","292","PLASTIC CONTAINER FLC"]
["9900000293","293","PLASTIC CONTAINER FHC"]
["9900000296","296","DUST COVER VOLVO FXC"]
["9900000297","297","SPACER OF CORR.BOARD/TEXTILE"]
["9900000387","387","SPEC.PTP.RACK OF STEEL.ENGINE"]
["9900000399","399","SPACER OF PLASTIC / FOAM"]
["9900000400","400","COMBITAINER"]
["9900000402","402","PALLET OF WOOD"]
["9900000419","419","COMBITAINER"]
["9900000460","460","BOX OF PLASTIC (ESD)"]
["9900000461","461","LID OF PLASTIC (ESD)"]
["9900000462","462","STD.ESD BOX"]
["9900000463","463","STD.ESD BOX"]
["9900000464","464","STD.Sleeve of plastic.ESD PALLET"]
["9900000465","465","STD.Pallet of plastic.ESD SLEEVE"]
["9900000466","466","STD.Lid of plastic.ESD BOX.L3/L4"]
["9900000467","467","STD.Sleeve of plastic"]
["9900000468","468","STD.Pallet of plastic"]
["9900000469","469","STD.Lid of plastic"]
["9900000500","500","BOX OF PLASTIC"]
["9900000575","575","Batten of Wood"]
["9900000576","576","BATTEN OF WOOD"]
["9900000577","577","SPEC.CVA.BATTEN OF WOOD.CROSS MEMBER"]
["9900000586","586","SPEC.UD.RACK OF STEEL.CAB"]
["9900000595","595","BATTENS OF WOOD"]
["9900000600","600","BOX OF PLASTIC"]
["9900000662","662","SPEC.PTP.FIXING SPACER PLASTIC.CON ROD"]
["9900000670","670","LID OF PLYWOOD"]
["9900000701","701","PALLET OF WOOD"]
["9900000702","702","FRAME OF WOOD"]
["9900000706","706","LID OF PLYWOOD"]
["9900000724","724","PALLET OF WOOD"]
["9900000725","725","FRAME OF WOOD"]
["9900000726","726","LID OF PLYWOOD  ( 2 PARTS )"]
["9900000729","729","SPACER OF WOOD"]
["9900000750","750","BOX OF PLASTIC"]
["9900000751","751","LID OF PLASTIC"]
["9900000757","757","BOX OF PLASTIC"]
["9900000780","780","BOX OF PLASTIC"]
["9900000781","781","LID OF PLASTIC"]
["9900000785","785","SPACER OF PLASTIC/FOAM"]
["9900000787","787","BOX OF PLASTIC"]
["9900000798","798","SPACER OF PLASTIC"]
["9900000800","800","BOX OF PLASTIC"]
["9900000801","801","LID OF PLASTIC"]
["9900000814","814","COMBITAINER"]
["9900000836","836","PALLET OF STEEL"]
["9900000840","840","BOX OF PLASTIC"]
["9900000841","841","LID OF PLASTIC FOR EMB 840"]
["9900000890","890","SPEC.PTP.Spacer of Plastic.Crankshaft"]
["9900001107","1107","SPEC.PTP.FIXING SPACER PLASTIC.BEARING H"]
["9900001109","1109","SPEC.CVA.RACK OF STEEL.FRONT AXLE"]
["9900001113","1113","SPEC.CVA.RACK OF STEEL.CAB"]
["9900001114","1114","SPEC.CVA.RACK OF STEEL.CAB"]
["9900001120","1120","SPEC.CVA.Support of steel.Cab"]
["9900001121","1121","SPEC.CVA.Support of steel.Cab"]
["9900001124","1124","SPEC.PTP.FIXING SPACER PLASTIC.BEARING H"]
["9900001171","1171","LID OF PLASTIC, TYPE L"]
["9900001415","1415","SPEC.CVA.RACK OF STEEL.CAB"]
["9900001420","1420","SPEC.CVA.RACK OF STEEL.FRONT LID"]
["9900001424","1424","SPEC.PTP.COMBITAINER"]
["9900001425","1425","SPEC.CVA.PLASTIC POCKET SLEEVE.LOW GRILL"]
["9900001427","1427","SPEC.PTP.FIXING SPACER PLASTIC.HUB"]
["9900001463","1463","SPACER OF WOOD"]
["9900001464","1464","SPACER OF WOOD"]
["9900001477","1477","SPEC.PTP.FIXING SPACER PLASTIC.CYLINDER"]
["9900001479","1479","SPEC.RACK OF STEEL.REAR AXLE"]
["9900001480","1480","SPEC.RACK OF STEEL.FRONT AXLE"]
["9900001481","1481","FIXING SPACER OF PLASTIC"]
["9900001489","1489","SPEC.CVA.INSERT OF METAL. ROOF SPOILER"]
["9900001490","1490","SPEC.CVA.INSERT OF METAL. ROOF SPOILER"]
["9900001520","1520","SPEC.PTP.SPACER OF WOOD.GEARBOX"]
["9900001522","1522","SPEC.PTP.BATTEN OF WOOD.COUNTERSHAFT"]
["9900001523","1523","SPEC.PTP.BATTEN OF WOOD.COUNTERSHAFT"]
["9900001550","1550","SPEC.PTP.SPACER OF PLASTIC.GCU"]
["9900001551","1551","LID OF PLASTIC"]
["9900001555","1555","SPEC.PTP.FIXING SPACER OF WOOD.GEARBOX"]
["9900001558","1558","SPEC.PTP.FIXING SPACER OF PLASTIC"]
["9900001559","1559","SPEC.PTP.LOCKING CLIP OF STEEL"]
["9900001560","1560","SPEC.PTP.FIXING SPACER OF PLYWOOD"]
["9900001565","1565","SPEC.PTP.FIXING SPACER PLASTIC.REV SHAFT"]
["9900001566","1566","SPEC.PTP.FIXING SPACER PLASTIC.REV SHAFT"]
["9900001567","1567","SPEC.PTP.FIXING SPACER PLASTIC.SENSOR WH"]
["9900001569","1569","SPEC.PTP.FIXING SPACER OF PLASTIC"]
["9900001570","1570","SPEC.PTP.Batten of Wood. Gearbox"]
["9900001571","1571","SPEC.PTP.BOX OF PLASTIC.RETARDER"]
["9900001572","1572","SPEC.PTP.BOX OF PLASTIC.RETARDER"]
["9900001574","1574","SPEC.PTP.FIXING SPACER OF WOOD.GEAR BOX"]
["9900001575","1575","SPEC.PTP.PALLET OF WOOD.GEAR BOX"]
["9900001577","1577","SPEC.PTP.RACK OF STEEL.CYLINDER HEAD D11"]
["9900001582","1582","SPEC.PTP.FIXING SPACER PLASTIC.BEAR HOUS"]
["9900001584","1584","SPEC.PTP.BATTEN OF WOOD. BASE HOUSING"]
["9900001585","1585","SPEC.PTP.RACK OF STEEL.CYLINDER HEAD D13"]
["9900001601","1601","SPEC.CVA.PALLET BOX OF WOOD.WINDSHIELD"]
["9900001605","1605","SPEC.CVA.FIXING SPACER PLASTIC.ROOFHATCH"]
["9900001606","1606","SPEC.CVA.PALLET BOX OF WOOD.SIDE WINDOW"]
["9900001610","1610","SPEC.CVA.RACK OF STEEL.ROOF SPOILER"]
["9900001613","1613","SPEC.CVA.RACK OF STEEL.COOLER"]
["9900001621","1621","SPEC.CVA.RACK OF STEEL.STABILIZER BAR"]
["9900001625","1625","SPEC.CVA.RACK OF STEEL.ROOF SPOILER"]
["9900001630","1630","SPEC.CVA.RACK OF STEEL.FUP"]
["9900001652","1652","SPEC.FIXING SPACER OF PLASTIC.HUB GEAR"]
["9900001654","1654","BATTEN OF WOOD"]
["9900001698","1698","SPEC.PTP.FIXING SPACER PLASTIC.OIL PAN"]
["9900001715","1715","SPEC.MERITOR.BRACKET STEEL.PSS DUAL TAG"]
["9900001716","1716","SPEC.MERITOR.BRACKET OF STEEL.FRONT AXLE"]
["9900001719","1719","SPEC.SUPPORT OF STEEL.PUSHER AXLE"]
["9900001720","1720","SPEC.Meritor.Bracket Steel"]
["9900001721","1721","SPEC.Meritor.Bracket Steel"]
["9900001722","1722","SPEC.MERITOR.BRACKET PUSHER AXLE"]
["9900001723","1723","SPEC.MERITOR.BRACKET PUSHER AXLE"]
["9900001740","1740","SPEC.CVA.RACK OF STEEL.D1 AXLE"]
["9900001819","1819","SPEC.CoE.Frontpanel down"]
["9900001820","1820","SPEC.CoE.Frontpanel down"]
["9900001821","1821","SPEC.CoE.Frontpanel Middle"]
["9900001822","1822","SPEC.CoE. corner panel left middle"]
["9900001823","1823","SPEC.CoE. corner panel right middle"]
["9900001878","1878","SPEC.CVA.RACK OF STEEL.FUEL TANK"]
["9900001882","1882","SPEC.CVA.INSERT OF PLASTIC.PEDALS RHD"]
["9900001883","1883","SPEC.CVA.INSERT OF PLASTIC.PEDALS LHD"]
["9900002020","2020","SPEC.CVA.RACK OF STEEL.FUEL TANK"]
["9900002021","2021","SPEC.RT.SUPPORT OF PLASTIC.FUEL TANK"]
["9900002184","2184","PALLET BOX OF PLYWOOD"]
["9900002185","2185","SPEC.CVA.PALLET OF PLASTIC.CLIMATE UNIT"]
["9900002186","2186","SPEC.CVA.Plastic spacer.Steering column"]
["9900002187","2187","SPEC.CVA.FIXING SPACER PLASTIC.BLACKOFF"]
["9900002195","2195","SPEC.CVA.SPACER.SLEEVE.HEAD FOG LAMP"]
["9900002196","2196","SPEC.CVA.PALLET SLEEVE.HEAD FOG LAMP"]
["9900002197","2197","SPEC.CVA.SLEEVE.HEAD FOG LAMP"]
["9900002198","2198","SPEC.CVA.LID SLEEVE.HEAD FOG LAMP"]
["9900002199","2199","SPEC.CVA.SLEEVE INSERT.HEAD FOG LAMP"]
["9900002200","2200","SPEC.PTP.RACK OF STEEL.ENGINE"]
["9900002201","2201","SPEC.PTP.RACK OF STEEL.MDE"]
["9900002202","2202","SPEC.PTP.RACK OF PLASTIC.LONG BLOCK"]
["9900002203","2203","RACK OF STEEL"]
["9900002210","2210","SPEC.CVA.RACK OF STEEL.ROOF SPOILER"]
["9900002211","2211","SPEC.CVA.RACK OF STEEL.AIR FILTER"]
["9900002215","2215","SPEC.PTP.PALLET.LB"]
["9900002216","2216","SPEC.PTP.PLASTIC SLEEVE.LB"]
["9900002217","2217","SPEC.PTP.TRAY.LB5"]
["9900002218","2218","SPEC.PTP.TOP BLISTER.LB5"]
["9900002219","2219","SPEC.PTP.LID.LB"]
["9900002220","2220","SPEC.PTP.TRAY.LB8"]
["9900002221","2221","SPEC.PTP.TOP BLISTER.LB8"]
["9900002792","2792","SPEC.PTP.INSERT OF PLASTIC.GCU"]
["9900002793","2793","SPEC.PTP.LID OF PLASTIC.GCU"]
["9900002799","2799","SPEC.CVA.CONTAINER PLYWOOD.FRONT SHELF"]
["9900002800","2800","SPEC.RT.SPACER OF PLASTIC.SIDE MEMBERS"]
["9900002801","2801","SPEC.PTP.SUPPORT OF STEEL.LEFT.ENGINE"]
["9900002802","2802","SPEC.PTP.SUPPORT OF STEEL.RIGHT.ENGINE"]
["9900002814","2814","SPEC.VTC.SPACER OF PLASTIC.CORNER PANEL"]
["9900002815","2815","SPEC.VTC.SPACER OF PLASTIC.CORNER PANEL"]
["9900002816","2816","SPEC.VTC.SPACER OF PLASTIC.CORNER PANEL"]
["9900002817","2817","SPEC.VTC.SPACER OF PLASTIC.CORNER PANEL"]
["9900003099","3099","SPEC.CVA.RACK OF STEEL.SMALL MODULES"]
["9900003100","3100","SPEC.CVA.RACK OF STEEL.LARGE MODULES"]
["9900003101","3101","SPEC.CVA.COMBITAINER OF METAL.BATTERY PA"]
["9900003581","3581","SPEC.CVA.INSERT OF PLASTIC.CMS DISPLAY"]
["9900003706","3706","TEST.LID OF PLASTIC.TYPE E"]
["9900004019","4019","SPEC.PTP.Hanger Steel/Textile.Low Gear H"]
["9900004020","4020","SPEC.PTP.FIXING SPACER STEEL/TEXTILE."]
["9900004021","4021","SPEC.SPACER OF PLASTIC.DISC BRAKE"]
["9900004022","4022","SPEC.SPACER OF PLASTIC.DRUM BRAKE"]
["9900004024","4024","SPEC.COE.HANGER OF STEEL.SEELINGS"]
["9900004450","4450","SPEC.PTP.FIXING SPACER PLASTIC.GEARBOX"]
["9900004451","4451","FIXING SPACER OF PLASTIC"]
["9900004453","4453","FIXING SPACER OF PLASTIC"]
["9900004454","4454","FIXING SPACER OF PLASTIC"]
["9900004455","4455","FIXING SPACER OF PLASTIC"]
["9900004457","4457","FIXING SPACER OF PLASTIC"]
["9900004459","4459","SPEC.PTP.FIXING SPACER OF PLASTIC"]
["9900004460","4460","SPEC.PTP.RACK OF STEEL.RETARDER"]
["9900004462","4462","SPEC.PTP.RACK OF STEEL.GEARBOX"]
["9900004464","4464","SPEC.PTP.FIXING SPACER PLASTIC.CONVERTER"]
["9900004465","4465","SPEC.PTP.FIXING SPACER OF WOOD.GEAR BOX"]
["9900004466","4466","SPEC.PTP.FIXING SPACER OF PLASTIC.MOTOR"]
["9900004467","4467","SPEC.PTP.FIXING SPACER OF PLASTIC.MOTOR"]
["9900004469","4469","SPEC.PTP.FIXING SPACER PLASTIC.CONVERTER"]
["9900004935","4935","SPEC.PTP.FIXING SPACER OF PLASTIC"]
["9900004946","4946","SPEC.PTP.FIXING SPACER OF PLASTIC.VALVE"]
["9900004947","4947","SPEC.PTP.FIXING SPACER OF PLASTIC.GCU"]
["9900004948","4948","SPEC.PTP.FIXING SPACER PLASTIC.CYLINDER"]
["9900006000","6000","SPEC.PTP.Rack of steel.Electrical engine"]
["9900006016","6016","SPEC.PTP.SPACER WOOD.RANGE GEAR HOUSING"]
["9900006017","6017","SPEC.PTP.PLASTIC SPACER.LOWER GEARHOUSE"]
["9900006018","6018","SPEC.PTP.SPACER PLASTIC.UPPER GEARHOUS"]
["9900006019","6019","SPEC.PTP.SPACER OF PLASTIC.HOUSING EXTEN"]
["9900006021","6021","SPEC.PTP.FIXING SPACER OF PLASTIC"]
["9900006193","6193","FIXING SPACER OF PLASTIC"]
["9900006194","6194","SPEC.FIXING SPACER OF PLASTIC.AXLE"]
["9900008006","8006","SPEC.PTP.SUPPORT OF STEEL.ENGINE"]
["9900008007","8007","SPEC.PTP.SUPPORT OF STEEL.ENGINE"]
["9900008010","8010","SPEC.PTP.SUPPORT OF STEEL.ENGINE"]
["9900008011","8011","SPEC.PTP.Support of Steel.Engine Penta 8"]
["9900008014","8014","SUPPORT OF STEEL"]
["9900008015","8015","SPEC.PTP.SUPPORT OF STEEL.ENGINE"]
["9900008016","8016","SPEC.PTP.SUPPORT OF STEEL.ENGINE"]
["9900008017","8017","SPEC.PTP.SUPPORT OF STEEL.ENGINE"]
["9900008018","8018","SPEC.PTP.SUPPORT OF STEEL.ENGINE"]
["9900008019","8019","SPEC.PTP.SUPPORT OF STEEL.ENGINE"]
["9900008020","8020","SPEC.PTP.SUPPORT OF STEEL.ENGINE"]
["9900008021","8021","SPEC.PTP.SUPPORT OF STEEL.ENGINE"]
["9900008026","8026","SPEC.PTP.SUPPORT OF STEEL.ENGINE"]
["9900008029","8029","SPEC.PTP.SUPPORT OF STEEL.ENGINE"]
["9900008050","8050","SPEC.PTP.SUPPORT OF STEEL.ENGINE"]
["9900008051","8051","SPEC.PTP.SUPPORT OF STEEL.ENGINE"]
["9900008058","8058","SUPPORT OF STEEL"]
["9900008059","8059","SPEC.PTP.SUPPORT OF STEEL.ENGINE"]
["9900008060","8060","SPEC.PTP.SUPPORT OF STEEL.ENGINE"]
["9900008062","8062","SPEC.PTP.SUPPORT OF STEEL.ENGINE"]
["9900008063","8063","SPEC.PTP.SUPPORT OF STEEL.ENGINE"]
["9900008065","8065","SPEC.PTP.SUPPORT OF STEEL.ENGINE"]
["9900008066","8066","SPEC.PTP.SUPPORT OF STEEL.ENGINE"]
["9900008071","8071","SUPPORT OF STEEL"]
["9900008077","8077","SPEC.PTP.SUPPORT OF STEEL.ENGINE"]
["9900008078","8078","SPEC.PTP.SUPPORT OF STEEL.ENGINE"]
["9900008079","8079","SPEC.PTP.SUPPORT OF STEEL.ENGINE"]
["9900008080","8080","SPEC.PTP.SUPPORT OF STEEL.ENGINE"]
["9900008081","8081","SUPPORT OF STEEL"]
["9900008083","8083","SPEC.PTP.SUPPORT OF STEEL.ENGINE"]
["9900008084","8084","SPEC.PTP.SUPPORT OF STEEL.ENGINE"]
["9900008085","8085","SPEC.PTP.SUPPORT OF STEEL.ENGINE"]
["9900008086","8086","SPEC.PTP.SUPPORT OF STEEL.ENGINE"]
["9900008150","8150","SPEC.PTP.SUPPORT OF STEEL.ENGINE"]
["9900008151","8151","SPEC.PTP.SUPPORT OF STEEL.ENGINE"]
["9900008152","8152","SPEC.PTP.SUPPORT OF STEEL.ENGINE"]
["9900008153","8153","SPEC.PTP.SUPPORT OF STEEL.ENGINE"]
["9900008154","8154","SPEC.PTP.SUPPORT OF STEEL.ENGINE"]
["9900008160","8160","SPEC.PTP.SUPPORT OF STEEL.ENGINE"]
["9900008161","8161","SPEC.PTP.SUPPORT OF STEEL.ENGINE"]
["9900008162","8162","SPEC.PTP.SUPPORT OF STEEL.ENGINE"]
["9900008170","8170","SPEC.PTP.SUPPORT OF STEEL.ENGINE"]
["9900008171","8171","SPEC.PTP.SUPPORT OF STEEL.ENGINE"]
["9900008174","8174","SPEC.PTP.SUPPORT OF STEEL.ENGINE"]
["9900008175","8175","SPEC.PTP.SUPPORT OF STEEL.ENGINE"]
["9900008176","8176","SPEC.PTP.SUPPORT OF STEEL.ENGINE"]
["9900008177","8177","SPEC.PTP.SUPPORT OF STEEL.ENGINE"]
["9900008178","8178","SPEC.PTP.SUPPORT OF STEEL.ENGINE"]
["9900008179","8179","SPEC.PTP.SUPPORT OF STEEL.ENGINE"]
["9900008180","8180","SPEC.PTP.SUPPORT OF STEEL.ENGINE"]
["9900008181","8181","SPEC.PTP.SUPPORT OF STEEL.ENGINE"]
["9900008182","8182","SPEC.PTP.SUPPORT OF STEEL.ENGINE"]
["9900008183","8183","SPEC.PTP.SUPPORT OF STEEL.ENGINE"]
["9900008184","8184","SPEC.PTP.SUPPORT OF STEEL.ENGINE"]
["9900008185","8185","SPEC.PTP.SUPPORT OF STEEL.ENGINE"]
["9900008186","8186","SPEC.PTP.SUPPORT OF STEEL.ENGINE"]
["9900008190","8190","SPEC.MERITOR.STEEL BRACKET.BUS B8L HOOK"]
["9900008191","8191","SPEC.MERITOR.STEEL BRACKET.BUS B8L"]
["9900008192","8192","SPEC.PTP.Bracket of steel.13L Engine"]
["9900008193","8193","SPEC.PTP.Support of steel.16L engine"]
["9900008194","8194","SPEC.PTP.Support of steel.16L engine"]
["9900008200","8200","SPEC.PTP.SUPPORT OF STEEL.ENGINE"]
["9900008201","8201","SPEC.PTP.SUPPORT OF STEEL.ENGINE"]
["9900008203","8203","SPEC.PTP.SUPPORT OF STEEL.ENGINE"]
["9900008204","8204","SPEC.PTP.SUPPORT OF STEEL.ENGINE"]
["9900008205","8205","SPEC.PTP.SUPPORT OF STEEL.ENGINE"]
["9900008206","8206","SPEC.PTP.SUPPORT OF STEEL.ENGINE"]
["9900008207","8207","SPEC.PTP.SUPPORT OF STEEL.ENGINE"]
["9900008223","8223","SPEC.PTP.SUPPORT OF STEEL.FRONT RIGHT.MD"]
["9900008224","8224","SPEC.PTP.SUPPORT OF STEEL.FRONT LEFT.MDE"]
["9900009122","9122","Plastic block K-pallet"]
["9900009202","9202","SPEC.Rack of Metal.LNG Gas tank M/L"]
["9900009203","9203","SPEC.PTP.SUPPORT OF STEEL.LNG"]
["9900009204","9204","SPEC.Rack of Metal.LNG Gas tank XL"]
["9900009211","9211","SPEC.CVA.FIXING SPACER OF PLASTIC"]
["9900009212","9212","SPEC.CVA.FIXING SPACER OF PLASTIC"]
["9900009213","9213","FIXING SPACER OF PLASTIC"]
["9900009240","9240","SPEC.CONTAINER OF PLYWOOD .BATTERY"]
["9900009241","9241","SPEC.PALLET OF WOOD.BATTERY"]
["9900009242","9242","SPEC.LID OF WOOD.BATTERY"]
["9900009250","9250","SPEC.CVA.RACK OF STEEL.VCE D1"]
["9900009251","9251","SPEC.CVA.RACK OF STEEL.VCE D2"]
["9900009252","9252","SPEC.CVA.Base console Right.VCE D1 Axle"]
["9900009253","9253","SPEC.CVA.Base console Left.VCE D1 Axle"]
["9900009254","9254","SPEC.CVA.Centrum support.VCE D1 Axle"]
["9900009280","9280","SPEC.CVA.PALLET BOX OF WOOD.REARGLASS"]
["9900009294","9294","CONTAINER OF STEEL"]
["9900009296","9296","SUPPORT OF MINERAL WOOL"]
["9900010001","10001","Bundle of PALLET OF WOOD, TYPE L"]
["9900010002","10002","Bundle of PALLET OF WOOD, TYPE K"]
["9900010005","10005","Bundle of PALLET OF WOOD, TYPE F"]
["9900010006","10006","Bundle of PALLET OF WOOD, TYPE G"]
["9900010009","10009","Bundle of PALLET OF WOOD, TYPE H"]
["9900010021","10021","Bundle of FRAME OF WOOD, TYPE L"]
["9900010022","10022","Bundle of FRAME OF WOOD, TYPE K"]
["9900010025","10025","Bundle of FRAME OF WOOD, TYPE F"]
["9900010026","10026","Bundle of FRAME OF WOOD, TYPE G"]
["9900010029","10029","Bundle of FRAME OF WOOD, TYPE H"]
["9900010031","10031","Bundle of SPACER OF PLYWOOD, L OUTER"]
["9900010041","10041","Bundle of SPACER OF PLYWOOD, L INNER"]
["9900010045","10045","Bundle of SPACER OF PLYWOOD, F INNER"]
["9900010056","10056","Bundle of SPACER OF WOOD FIBRE, G OUTER"]
["9900010061","10061","Bundle of SPACER OF WOOD FIBRE, L INNER"]
["9900010062","10062","Bundle of SPACER OF WOOD FIBRE, K INNER"]
["9900010065","10065","Bundle of SPACER OF WOOD FIBRE, F INNER"]
["9900010066","10066","Bundle of SPACER OF WOOD FIBRE, G INNER"]
["9900010069","10069","Bundle of SPACER OF WOOD FIBRE, H INNER"]
["9900010071","10071","Bundle of LID OF PLYWOOD, TYPE L"]
["9900010072","10072","Bundle of LID OF PLYWOOD, TYPE K"]
["9900010075","10075","Bundle of LID OF PLYWOOD, TYPE F"]
["9900010076","10076","Bundle of LID OF PLYWOOD, TYPE G"]
["9900010079","10079","Bundle of LID OF PLYWOOD, TYPE H"]
["9900010081","10081","Bundle of SPACER OF PLASTIC, L INNER"]
["9900010082","10082","Bundle of SPACER OF PLASTIC, K INNER"]
["9900010091","10091","Bundle of LID OF PLASTIC"]
["9900010092","10092","Bundle of LID OF PLASTIC"]
["9900010105","10105","Bundle of FIXING SPACER OF PLASTIC"]
["9900010107","10107","Bundle of PALLET OF WOOD"]
["9900010116","10116","Bundle of SPACER OF PLASTIC"]
["9900010121","10121","Bundle of SPEC.VT.Spacer of Plastic.Cab"]
["9900010141","10141","Bundle of STD.SLEEVE PALLET"]
["9900010142","10142","Bundle of STD.SLEEVE OF PLASTIC"]
["9900010143","10143","Bundle of STD.LID OF PLASTIC"]
["9900010190","10190","Bundle of STD.PALLET OF PLASTIC"]
["9900010191","10191","Bundle of LID OF PLASTIC"]
["9900010215","10215","BUNDLE OF SPEC.PTP.RACK OF STEEL.ENGINE"]
["9900010236","10236","Bundle of LID OF PLYWOOD"]
["9900010270","10270","BUNDLE OF SPEC.PTP.SPACER OF WOOD.GCU"]
["9900010285","10285","Bundle of RACK OF STEEL"]
["9900010288","10288","Bundle of FIXING SPACER OF STEEL/ALU"]
["9900010291","10291","Bundle of PLASTIC CONTAINER FSC"]
["9900010292","10292","Bundle of PLASTIC CONTAINER FLC"]
["9900010293","10293","Bundle of PLASTIC CONTAINER FHC"]
["9900010296","10296","Bundle of DUST COVER VOLVO FXC"]
["9900010297","10297","Bundle of SPACER OF CORR.BOARD/TEXTILE"]
["9900010387","10387","BUNDLE OF SPEC.PTP.RACK OF STEEL.ENGINE"]
["9900010399","10399","Bundle of SPACER OF PLASTIC / FOAM"]
["9900010400","10400","Bundle of COMBITAINER"]
["9900010402","10402","Bundle of PALLET OF WOOD"]
["9900010419","10419","Bundle of COMBITAINER"]
["9900010460","10460","Bundle of BOX OF PLASTIC (ESD)"]
["9900010462","10462","Bundle of STD.ESD BOX"]
["9900010464","10464","Bundle of STD.ESD SLEEVE PALLET"]
["9900010465","10465","Bundle of STD.ESD SLEEVE PALLET"]
["9900010468","10468","Bundle of STD.SLEEVE PALLET"]
["9900010500","10500","Bundle of BOX OF PLASTIC"]
["9900010575","10575","Bundle of BATTENS OF WOOD"]
["9900010576","10576","Bundle of BATTEN OF WOOD"]
["9900010577","10577","Bundle of SPEC.CVA.BATTEN OF WOOD.CROSS"]
["9900010586","10586","SPEC.UD.RACK OF STEEL.CAB"]
["9900010595","10595","bundle of BATTENS OF WOOD"]
["9900010600","10600","Bundle of BOX OF PLASTIC"]
["9900010662","10662","BUNDLE OF SPEC.PTP.FIXING SPACER PLASTIC"]
["9900010670","10670","Bundle of LID OF PLYWOOD"]
["9900010701","10701","Bundle of PALLET OF WOOD"]
["9900010702","10702","Bundle of FRAME OF WOOD"]
["9900010706","10706","Bundle of LID OF PLYWOOD"]
["9900010724","10724","Bundle of PALLET OF WOOD"]
["9900010725","10725","Bundle of FRAME OF WOOD"]
["9900010726","10726","Bundle of LID OF PLYWOOD  ( 2 PARTS )"]
["9900010729","10729","Bundle of SPACER OF WOOD"]
["9900010750","10750","Bundle of BOX OF PLASTIC"]
["9900010757","10757","Bundle of BOX OF PLASTIC"]
["9900010780","10780","Bundle of BOX OF PLASTIC"]
["9900010785","10785","Bundle of SPACER OF PLASTIC/FOAM"]
["9900010787","10787","Bundle of BOX OF PLASTIC"]
["9900010798","10798","Bundle of SPACER OF PLASTIC"]
["9900010800","10800","Bundle of BOX OF PLASTIC"]
["9900010814","10814","Bundle of COMBITAINER"]
["9900010836","10836","Bundle of PALLET OF STEEL"]
["9900010840","10840","Bundle of BOX OF PLASTIC"]
["9900010890","10890","Bundle of SPEC.PTP.Spacer of Plastic.Cra"]
["9900011107","11107","BUNDLE OF SPEC.PTP.FIXING SPACER PLASTIC"]
["9900011113","11113","BUNDLE OF SPEC.CVA.RACK OF STEEL.CAB"]
["9900011114","11114","BUNDLE OF SPEC.CVA.RACK OF STEEL.CAB"]
["9900011120","11120","Bundle of SPEC.CVA.Support of steel.Cab"]
["9900011121","11121","Bundle of SPEC.CVA.Support of steel.Cab"]
["9900011124","11124","BUNDLE OF SPEC.PTP.FIXING SPACER PLASTIC"]
["9900011171","11171","Bundle of LID OF PLASTIC, TYPE L"]
["9900011415","11415","BUNDLE OF SPEC.CVA.RACK OF STEEL.CAB"]
["9900011420","11420","Bundle of SPEC.CVA.RACK OF STEEL.FRONT L"]
["9900011424","11424","BUNDLE OF SPEC.PTP.COMBITAINER"]
["9900011425","11425","Bundle of SPEC.CVA.POCKET SLEEVE.LOW GRI"]
["9900011427","11427","BUNDLE OF SPEC.PTP.FIXING SPACER PLASTIC"]
["9900011463","11463","Bundle of SPACER OF WOOD"]
["9900011464","11464","Bundle of SPACER OF WOOD"]
["9900011477","11477","BUNDLE OF SPEC.PTP.FIXING SPACER PLASTIC"]
["9900011479","11479","BUNDLE OF SPEC.RACK OF STEEL.REAR AXLE"]
["9900011480","11480","BUNDLE OF SPEC.RACK OF STEEL.FRONT AXLE"]
["9900011481","11481","Bundle of FIXING SPACER OF PLASTIC"]
["9900011489","11489","BUNDLE OF SPEC.CVA.INSERT METAL. ROOF SP"]
["9900011490","11490","BUNDLE OF SPEC.CVA.INSERT METAL.ROOF SPO"]
["9900011520","11520","Bundle of SPEC.PTP.SPACER OF WOOD.GEARBO"]
["9900011522","11522","BUNDLE OF SPEC.PTP.BATTEN OF WOOD"]
["9900011523","11523","BUNDLE OF SPEC.PTP.BATTEN OF WOOD"]
["9900011550","11550","BUNDLE OF SPEC.PTP.SPACER OF PLASTIC.GCU"]
["9900011551","11551","Bundle of LID OF PLASTIC"]
["9900011555","11555","BUNDLE OF SPEC.PTP.FIXING SPACER OF WOOD"]
["9900011558","11558","BUNDLE OF SPEC.PTP.FIXING SPACER PLASTIC"]
["9900011559","11559","BUNDLE OF SPEC.PTP.LOCKING CLIP OF STEEL"]
["9900011560","11560","BUNDLE OF SPEC.PTP.FIXING SPACER PLYWOOD"]
["9900011563","11563","Bundle of BOX OF PLYWOOD"]
["9900011564","11564","Bundle of BOX OF PLYWOOD"]
["9900011565","11565","BUNDLE OF SPEC.PTP.FIXING SPACER PLASTIC"]
["9900011566","11566","BUNDLE OF SPEC.PTP.FIXING SPACER PLASTIC"]
["9900011567","11567","BUNDLE OF SPEC.PTP.FIXING SPACER PLASTIC"]
["9900011569","11569","BUNDLE OF SPEC.PTP.FIXING SPACER PLASTIC"]
["9900011570","11570","Bundle of SPEC.PTP.Batten of Wood. Gearb"]
["9900011571","11571","BUNDLE OF SPEC.PTP.BOX PLASTIC.RETARDER"]
["9900011572","11572","BUNDLE OF SPEC.PTP.BOX PLASTIC.RETARDER"]
["9900011574","11574","BUNDLE OF SPEC.PTP.FIXING SPACER WOOD"]
["9900011575","11575","BUNDLE OF SPEC.PTP.PALLET WOOD.GEARBOX"]
["9900011577","11577","BUNDLE OF SPEC.PTP.RACK OF STEEL.CYLINDE"]
["9900011582","11582","BUNDLE OF SPEC.PTP.FIXING SPACER PLASTIC"]
["9900011584","11584","Bundle of SPEC.PTP.BATTEN OF WOOD. BASE"]
["9900011585","11585","BUNDLE OF SPEC.PTP.RACK OF STEEL.CYLINDE"]
["9900011601","11601","BUNDLE OF SPEC.CVA.PALLET BOX WOOD.WIND"]
["9900011605","11605","BUNDLE OF SPEC.CVA.FIXING SPACER PLASTIC"]
["9900011606","11606","BUNDLE OF SPEC.CVA.PALLET BOX WOOD.WIND"]
["9900011610","11610","BUNDLE OF SPEC.CVA.RACK OF STEEL.ROOF SP"]
["9900011613","11613","BUNDLE OF SPEC.CVA.RACK OF STEEL.COOLER"]
["9900011620","11620","Bundle of RACK OF STEEL"]
["9900011621","11621","BUNDLE OF SPEC.CVA.RACK OF STEEL.STABILI"]
["9900011625","11625","BUNDLE OF SPEC.CVA.RACK OF STEEL.ROOF SP"]
["9900011630","11630","BUNDLE OF SPEC.CVA.RACK OF STEEL.FUP"]
["9900011652","11652","BUNDLE OF SPEC.FIXING SPACER PLASTIC.HUB"]
["9900011654","11654","Bundle of BATTEN OF WOOD"]
["9900011698","11698","Bundle of SPEC.PTP.FIXING SPACER PLASTIC"]
["9900011705","11705","Bundle of SUPPORT OF STEEL - LEFT"]
["9900011706","11706","Bundle of SUPPORT OF STEEL - RIGHT"]
["9900011715","11715","Bundle of SPEC.MERITOR.BRACKET STEEL.PSS"]
["9900011716","11716","Bundle of SPEC.MERITOR.BRACKET STEEL.FRO"]
["9900011719","11719","BUNDLE OF SPEC.SUPPORT OF STEEL.PUSHER A"]
["9900011720","11720","Bundle of SPEC.Meritor.Bracket steel"]
["9900011721","11721","Bundle of SPEC.Meritor.Bracket steel"]
["9900011722","11722","Bundle of SPEC.MERITOR.BRACKET PUSHER AX"]
["9900011723","11723","Bundle of SPEC.MERITOR.BRACKET PUSHER AX"]
["9900011740","11740","BUNDLE OF SPEC.CVA.RACK OF STEEL.D1 AXLE"]
["9900011878","11878","BUNDLE OF SPEC.CVA.RACK OF STEEL"]
["9900011882","11882","Bundle of SPEC.CVA.INSERT OF PLASTIC.PED"]
["9900011883","11883","Bundle of SPEC.CVA.INSERT OF PLASTIC.PED"]
["9900012020","12020","Bundle of SPEC.CVA.RACK OF STEEL.FUEL TA"]
["9900012021","12021","Bundle of SPEC.RT.SUPPORT OF PLASTIC.FUE"]
["9900012184","12184","Bundle of PALLET BOX OF PLYWOOD"]
["9900012185","12185","BUNDLE OF SPEC.CVA.PALLET PLASTIC.CLIMAT"]
["9900012186","12186","Bundle of SPEC.CVA.Plast spac.Steer colu"]
["9900012187","12187","Bundle of SPEC.CVA.FIXING SPACER PLASTIC"]
["9900012199","12199","BUNDLE OF SPEC.CVA.SLEEVE PACK.HEAD FOG"]
["9900012200","12200","BUNDLE OF SPEC.PTP.RACK OF STEEL.ENGINE"]
["9900012201","12201","BUNDLE OF SPEC.PTP.RACK OF STEEL.ENGINE"]
["9900012202","12202","BUNDLE OF SPEC.PTP.RACK OF PLASTIC"]
["9900012203","12203","Bundle of RACK OF STEEL"]
["9900012210","12210","Bundle of SPEC.CVA.RACK OF STEEL.Roof Sp"]
["9900012211","12211","Bundle of SPEC.CVA.RACK OF STEEL.AIRFIL"]
["9900012215","12215","Bundle of SPEC.PTP.PALLET.LB"]
["9900012216","12216","Bundle of SPEC.PTP.PLASTIC SLEEVE.LB"]
["9900012217","12217","Bundle of SPEC.PTP.TRAY.LB5"]
["9900012218","12218","Bundle of SPEC.PTP.TOP BLISTER.LB5"]
["9900012219","12219","Bundle of SPEC.PTP.LID.LB"]
["9900012220","12220","Bundle of SPEC.PTP.TRAY.LB8"]
["9900012221","12221","Bundle of SPEC.PTP.TOP BLISTER.LB8"]
["9900012792","12792","Bundle of SPEC.PTP.INSERT OF PLASTIC.GCU"]
["9900012793","12793","Bundle of  SPEC.PTP.LID OF PLASTIC.GCU"]
["9900012799","12799","Bundle of SPEC.CVA.CONTAINER PLYWOOD.FRO"]
["9900012800","12800","Bundle of SPEC.RT.SPACER OF PLASTIC.SIDE"]
["9900012801","12801","Bundle of SPEC.PTP.SUPPORT OF STEEL.LEFT"]
["9900012802","12802","Bundle of SPEC.PTP.SUPPORT STEEL.RIGHT"]
["9900012814","12814","Bundle of SPEC.VTC.SPACER OF PLASTIC.COR"]
["9900012815","12815","Bundle of SPEC.VTC.SPACER OF PLASTIC.COR"]
["9900012816","12816","Bundle of SPEC.VTC.SPACER OF PLASTIC.COR"]
["9900012817","12817","Bundle of SPEC.VTC.SPACER OF PLASTIC.COR"]
["9900013099","13099","Bundle of SPEC.CVA.RACK OF STEEL.SMALL M"]
["9900013100","13100","Bundle of SPEC.CVA.RACK OF STEEL.LARGE M"]
["9900013101","13101","Bundle of SPEC.CVA.COMBITAINER OF METAL."]
["9900013581","13581","Bundle of SPEC.CVA.INSERT OF PLASTIC.CMS"]
["9900013706","13706","Bundle of TEST.LID OF PLASTIC.TYPE E"]
["9900013871","13871","Bundle of RACK OF STEEL"]
["9900013872","13872","Bundle of RACK OF STEEL"]
["9900014019","14019","Bundle of SPEC.PTP.Hanger Steel/Textile"]
["9900014020","14020","BUNDLE OF SPEC.PTP.FIXING SPACER STEEL/T"]
["9900014021","14021","BUNDLE OF SPEC.SPACER PLASTIC.DISC BRAKE"]
["9900014022","14022","BUNDLE OF SPEC.SPACER PLASTIC.DRUM BRAKE"]
["9900014024","14024","Bundle of SPEC.COE.HANGER OF STEEL.SEELI"]
["9900014450","14450","BUNDLE OF SPEC.PTP.FIXING SPACER PLASTIC"]
["9900014451","14451","Bundle of FIXING SPACER OF PLASTIC"]
["9900014452","14452","Bundle of FIXING SPACER OF PLASTIC"]
["9900014453","14453","Bundle of FIXING SPACER OF PLASTIC"]
["9900014454","14454","Bundle of FIXING SPACER OF PLASTIC"]
["9900014455","14455","Bundle of FIXING SPACER OF PLASTIC"]
["9900014457","14457","Bundle of FIXING SPACER OF PLASTIC"]
["9900014459","14459","BUNDLE OF.SPEC.PTP.FIXING SPACER PLASTIC"]
["9900014460","14460","BUNDLE OF SPEC.PTP.RACK OF STEEL.RETARDE"]
["9900014462","14462","BUNDLE OF SPEC.PTP.RACK OF STEEL.GEARBOX"]
["9900014464","14464","BUNDLE OF SPEC.PTP.FIXING SPACER PLASTIC"]
["9900014465","14465","BUNDLE OF SPEC.PTP.FIXING SPACER OF WOOD"]
["9900014466","14466","BUNDLE OF SPEC.PTP.FIXING SPACER PLASTIC"]
["9900014467","14467","BUNDLE OF SPEC.PTP.FIXING SPACER PLASTIC"]
["9900014469","14469","BUNDLE OF SPEC.PTP.FIXING SPACER PLASTIC"]
["9900014935","14935","BUNDLE OF SPEC.PTP.FIXING SPACER PLASTIC"]
["9900014946","14946","BUNDLE OF SPEC.PTP.FIXING SPACER PLASTIC"]
["9900014947","14947","BUNDLE OF SPEC.PTP.FIXING SPACER PLASTIC"]
["9900014948","14948","BUNDLE OF SPEC.PTP.FIXING SPACER PLASTIC"]
["9900016000","16000","Bundle of SPEC.PTP.Rack of steel.Electri"]
["9900016016","16016","BUNDLE SPEC.PTP.SPACER WOOD.RNG GEAR HOU"]
["9900016017","16017","Bundle of SPEC.PTP.PLASTIC SPACER.LOWER"]
["9900016018","16018","BUNDLE SPEC.PTP.SPACER PLASTIC.UP G-HOUS"]
["9900016019","16019","Bundle of SPEC.PTP.SPACER PLASTIC.HOUSIN"]
["9900016021","16021","Bundle of SPEC.PTP.FIXING SPACER OF PLAS"]
["9900016193","16193","Bundle of FIXING SPACER OF PLASTIC"]
["9900016194","16194","BUNDLE OF SPEC.FIXING SPACER OF PLASTIC"]
["9900018006","18006","BUNDLE OF SPEC.PTP.SUPPORT OF STEEL."]
["9900018007","18007","BUNDLE OF SPEC.PTP.SUPPORT OF STEEL"]
["9900018010","18010","BUNDLE OF SPEC.PTP.SUPPORT OF STEEL"]
["9900018011","18011","Bundle of SPEC.PTP.Support of Steel.Engi"]
["9900018014","18014","Bundle of SUPPORT OF STEEL"]
["9900018015","18015","BUNDLE OF SPEC.PTP.SUPPORT OF STEEL"]
["9900018016","18016","BUNDLE OF SPEC.PTP.SUPPORT OF STEEL"]
["9900018017","18017","BUNDLE OF SPEC.PTP.SUPPORT OF STEEL"]
["9900018018","18018","BUNDLE OF SPEC.PTP.SUPPORT OF STEEL"]
["9900018019","18019","BUNDLE OF SPEC.PTP.SUPPORT OF STEEL"]
["9900018020","18020","BUNDLE OF SPEC.PTP.SUPPORT OF STEEL"]
["9900018021","18021","BUNDLE OF SPEC.PTP.SUPPORT OF STEEL"]
["9900018025","18025","Bundle of SUPPORT OF STEEL"]
["9900018026","18026","BUNDLE OF SPEC.PTP.SUPPORT OF STEEL"]
["9900018028","18028","Bundle of SUPPORT OF STEEL"]
["9900018029","18029","BUNDLE OF SPEC.PTP.SUPPORT OF STEEL"]
["9900018050","18050","BUNDLE OF SPEC.PTP.SUPPORT OF STEEL"]
["9900018051","18051","BUNDLE OF SPEC.PTP.SUPPORT OF STEEL"]
["9900018059","18059","BUNDLE OF SPEC.PTP.SUPPORT OF STEEL"]
["9900018060","18060","BUNDLE OF SPEC.PTP.SUPPORT OF STEEL"]
["9900018062","18062","BUNDLE OF SPEC.PTP.SUPPORT OF STEEL"]
["9900018063","18063","BUNDLE OF SPEC.PTP.SUPPORT OF STEEL"]
["9900018065","18065","BUNDLE OF SPEC.PTP.SUPPORT OF STEEL"]
["9900018066","18066","BUNDLE OF SPEC.PTP.SUPPORT OF STEEL"]
["9900018067","18067","Bundle of SUPPORT OF STEEL"]
["9900018068","18068","Bundle of SUPPORT OF STEEL"]
["9900018071","18071","Bundle of SUPPORT OF STEEL"]
["9900018077","18077","BUNDLE OF SPEC.PTP.SUPPORT OF STEEL"]
["9900018078","18078","BUNDLE OF SPEC.PTP.SUPPORT OF STEEL"]
["9900018079","18079","BUNDLE OF SPEC.PTP.SUPPORT OF STEEL"]
["9900018080","18080","BUNDLE OF SPEC.PTP.SUPPORT OF STEEL"]
["9900018081","18081","Bundle of SUPPORT OF STEEL"]
["9900018082","18082","Bundle of SUPPORT OF STEEL"]
["9900018083","18083","BUNDLE OF SPEC.PTP.SUPPORT OF STEEL"]
["9900018084","18084","BUNDLE OF SPEC.PTP.SUPPORT OF STEEL"]
["9900018085","18085","BUNDLE OF SPEC.PTP.SUPPORT OF STEEL"]
["9900018086","18086","BUNDLE OF SPEC.PTP.SUPPORT OF STEEL"]
["9900018150","18150","BUNDLE OF SPEC.PTP.SUPPORT OF STEEL"]
["9900018151","18151","BUNDLE OF SPEC.PTP.SUPPORT OF STEEL"]
["9900018152","18152","BUNDLE OF SPEC.PTP.SUPPORT OF STEEL"]
["9900018153","18153","BUNDLE OF SPEC.PTP.SUPPORT OF STEEL"]
["9900018154","18154","BUNDLE OF SPEC.PTP.SUPPORT OF STEEL"]
["9900018160","18160","BUNDLE OF SPEC.PTP.SUPPORT OF STEEL"]
["9900018161","18161","BUNDLE OF SPEC.PTP.SUPPORT OF STEEL"]
["9900018162","18162","BUNDLE OF SPEC.PTP.SUPPORT OF STEEL"]
["9900018170","18170","BUNDLE OF SPEC.PTP.SUPPORT OF STEEL"]
["9900018171","18171","BUNDLE OF SPEC.PTP.SUPPORT OF STEEL"]
["9900018174","18174","BUNDLE OF SPEC.PTP.SUPPORT OF STEEL"]
["9900018175","18175","BUNDLE OF SPEC.PTP.SUPPORT OF STEEL"]
["9900018176","18176","BUNDLE OF SPEC.PTP.SUPPORT OF STEEL"]
["9900018177","18177","BUNDLE OF SPEC.PTP.SUPPORT OF STEEL"]
["9900018178","18178","BUNDLE OF SPEC.PTP.SUPPORT OF STEEL"]
["9900018179","18179","BUNDLE OF SPEC.PTP.SUPPORT OF STEEL"]
["9900018180","18180","BUNDLE OF SPEC.PTP.SUPPORT OF STEEL"]
["9900018181","18181","BUNDLE OF SPEC.PTP.SUPPORT OF STEEL"]
["9900018182","18182","BUNDLE OF SPEC.PTP.SUPPORT OF STEEL"]
["9900018183","18183","BUNDLE OF SPEC.PTP.SUPPORT OF STEEL"]
["9900018184","18184","BUNDLE OF SPEC.PTP.SUPPORT OF STEEL"]
["9900018185","18185","BUNDLE OF SPEC.PTP.SUPPORT OF STEEL"]
["9900018186","18186","BUNDLE OF SPEC.PTP.SUPPORT OF STEEL"]
["9900018188","18188","Bundle of SUPPORT OF STEEL"]
["9900018189","18189","Bundle of SUPPORT OF STEEL"]
["9900018190","18190","Bundle of SPEC.MERITOR.STEEL BRACKET.BUS"]
["9900018191","18191","Bundle of SPEC.MERITOR.STEEL BRACKET.BUS"]
["9900018192","18192","Bundle of SPEC.PTP.Bracket of steel.13L"]
["9900018193","18193","Bundle of SPEC.PTP.Support of steel.16L"]
["9900018194","18194","Bundle of SPEC.PTP.Support of steel.16L"]
["9900018200","18200","BUNDLE OF SPEC.PTP.SUPPORT OF STEEL"]
["9900018201","18201","BUNDLE OF SPEC.PTP.SUPPORT OF STEEL"]
["9900018203","18203","BUNDLE OF SPEC.PTP.SUPPORT OF STEEL"]
["9900018204","18204","BUNDLE OF SPEC.PTP.SUPPORT OF STEEL"]
["9900018205","18205","BUNDLE OF SPEC.PTP.SUPPORT OF STEEL"]
["9900018206","18206","BUNDLE OF SPEC.PTP.SUPPORT OF STEEL"]
["9900018207","18207","BUNDLE OF SPEC.PTP.SUPPORT OF STEEL"]
["9900018223","18223","Bundle of SPEC.PTP.SUPPORT OF STEEL.FRON"]
["9900018224","18224","Bundle of SPEC.PTP.SUPPORT OF STEEL.FRON"]
["9900019101","19101","Bundle of ANTE PIN"]
["9900019102","19102","Bundle of KALLE PIN"]
["9900019103","19103","Bundle of L-DECK BOARD"]
["9900019104","19104","Bundle of L-RUNNER 22MM"]
["9900019105","19105","Bundle of L-RUNNER 32MM"]
["9900019106","19106","Bundle of L-DECK BOARD W. KALLE PIN"]
["9900019107","19107","Bundle of K-DECK BOARD"]
["9900019108","19108","Bundle of K-RUNNER 22MM"]
["9900019109","19109","Bundle of K-RUNNER 32MM"]
["9900019110","19110","Bundle of F-RUNNER 22MM & DECK BOARD"]
["9900019111","19111","Bundle of F-RUNNER 32MM"]
["9900019112","19112","Bundle of G-RUNNER 22MM & DECK BOARD"]
["9900019113","19113","Bundle of G-RUNNER 32MM"]
["9900019114","19114","Bundle of H-RUNNER 22MM & DECK BOARD"]
["9900019115","19115","Bundle of H-RUNNER 32MM"]
["9900019116","19116","Bundle of 701-RUNNER 22MM & DECK BOARD"]
["9900019117","19117","Bundle of 701-RUNNER 32MM"]
["9900019118","19118","Bundle of 724-RUNNER 22MM & DECK BOARD"]
["9900019119","19119","Bundle of 724-RUNNER 32MM"]
["9900019120","19120","Bundle of 1575-RUNNER"]
["9900019122","19122","Bundle of Plastic block K-pallet"]
["9900019202","19202","Bundle of SPEC.Rack of Metal.LNG Gastank"]
["9900019203","19203","BUNDLE OF SPEC.PTP.SUPPORT OF STEEL.LNG"]
["9900019204","19204","Bundle of SPEC.Rack of Metal.LNG Gas tan"]
["9900019211","19211","BUNDLE OF SPEC.CVA.FIXING SPACER PLASTIC"]
["9900019212","19212","Bundle of FIXING SPACER OF PLASTIC"]
["9900019213","19213","Bundle of FIXING SPACER OF PLASTIC"]
["9900019240","19240","Bundle of SPEC.CONTAINER OF PLYWOOD .BAT"]
["9900019250","19250","Bundle of SPEC.CVA.Rack of Steel.VCE D1"]
["9900019251","19251","Bundle of SPEC.CVA.Rack of Steel.VCE D2"]
["9900019252","19252","Bundle of SPEC.CVA.Base console Right.VC"]
["9900019253","19253","Bundle of SPEC.CVA.Base console Left.VCE"]
["9900019254","19254","Bundle of SPEC.CVA.Centrum support.VCE D"]
["9900019280","19280","Bundle of SPEC.CVA.PALLET BOX OF WOOD.RE"]
["9900019294","19294","Bundle of CONTAINER OF STEEL"]
["9900019296","19296","Bundle of SUPPORT OF MINERAL WOOL"]
["9900020141","20141","Kit of STD SLEEVE PALLET"]
["9900020142","20142","Kit of TEST.SLEEVE PALLET"]
["9900020190","20190","Kit of STD.PALLET OF PLASTIC"]
["9900020460","20460","KIT of BOX OF PLASTIC (ESD)"]
["9900020462","20462","Kit of STD.ESD BOX"]
["9900020464","20464","Kit of STD.ESD SLEEVE PALLET"]
["9900020465","20465","Kit of STD.ESD SLEEVE PALLET"]
["9900020468","20468","Kit of STD.SLEEVE PALLET"]
["9900020500","20500","KIT of BOX OF PLASTIC"]
["9900020750","20750","KIT of BOX OF PLASTIC"]
["9900020757","20757","KIT of BOX OF PLASTIC"]
["9900020780","20780","KIT of BOX OF PLASTIC"]
["9900020787","20787","KIT of BOX OF PLASTIC"]
["9900020800","20800","KIT of BOX OF PLASTIC"]
["9900020840","20840","KIT of BOX OF PLASTIC"]
["9900022199","22199","Kit of SPEC.CVA.SLEEVE PACK.HEADFOG LAMP"]
["9900022814","22814","Kit of SPEC.VTC.SPACER OF PLASTIC.CORNER"]
["9900022816","22816","Kit of SPEC.VTC.SPACER OF PLASTIC.CORNER"]
["9900029211","29211","Kit of SPEC.CVA.Black_off_center"]
["9900029240","29240","Kit of SPEC.CONTAINER OF PLYWOOD.BATTERY"]